BEGIN:VCALENDAR
VERSION:2.0
PRODID:-//UM//UM*Events//EN
CALSCALE:GREGORIAN
BEGIN:VTIMEZONE
TZID:America/Detroit
TZURL:http://tzurl.org/zoneinfo/America/Detroit
X-LIC-LOCATION:America/Detroit
BEGIN:DAYLIGHT
TZOFFSETFROM:-0500
TZOFFSETTO:-0400
TZNAME:EDT
DTSTART:20070311T020000
RRULE:FREQ=YEARLY;BYMONTH=3;BYDAY=2SU
END:DAYLIGHT
BEGIN:STANDARD
TZOFFSETFROM:-0400
TZOFFSETTO:-0500
TZNAME:EST
DTSTART:20071104T020000
RRULE:FREQ=YEARLY;BYMONTH=11;BYDAY=1SU
END:STANDARD
END:VTIMEZONE
BEGIN:VEVENT
DTSTAMP:20220501T180005
DTSTART;TZID=America/Detroit:20220502T000000
DTEND;TZID=America/Detroit:20220502T000000
SUMMARY:Sporting Event:Cream City Classic
DESCRIPTION:MCSA Fleet Race Dingy Regatta
UID:94661-21783905@events.umich.edu
URL:https://events.umich.edu/event/94661
CLASS:PUBLIC
STATUS:CONFIRMED
CATEGORIES:
LOCATION:Milwaukee Yacht Club, Milwaukee, WI
CONTACT:
END:VEVENT
BEGIN:VEVENT
DTSTAMP:20220501T120005
DTSTART;TZID=America/Detroit:20220502T000000
DTEND;TZID=America/Detroit:20220502T170000
SUMMARY:Other:Great Lakes D-1 College Men's Regionals
DESCRIPTION:National championships qualification event for the Great Lakes region.
UID:94677-21783503@events.umich.edu
URL:https://events.umich.edu/event/94677
CLASS:PUBLIC
STATUS:CONFIRMED
CATEGORIES:
LOCATION:The Plex North
CONTACT:
END:VEVENT
BEGIN:VEVENT
DTSTAMP:20220501T180004
DTSTART;TZID=America/Detroit:20220502T000000
DTEND;TZID=America/Detroit:20220502T190000
SUMMARY:Other:Great Lakes D-I College Women's Regionals
DESCRIPTION:Indiana Part 2
UID:94652-21783901@events.umich.edu
URL:https://events.umich.edu/event/94652
CLASS:PUBLIC
STATUS:CONFIRMED
CATEGORIES:
LOCATION:The Plex North
CONTACT:
END:VEVENT
BEGIN:VEVENT
DTSTAMP:20230324T120005
DTSTART;TZID=America/Detroit:20220502T000000
DTEND;TZID=America/Detroit:20220502T235959
SUMMARY:Community Service:Homework Help at The Children's Center
DESCRIPTION:The Homework Help program offers children assistance with their homework assignments. Children are encouraged to bring homework and are paired with a volunteer to assist them. This program is a critical service in helping children thrive. Volunteers give children the tools they need to be successful in school.Virtual and in-person volunteer opportunities are available. If you would like to volunteer\, please start the enrollment process by creating an account on the Children Center's Volunteer Site found HERE. After your account is created\, the Children's Center will reach out to you within 2 business days to answer any questions and discuss the next steps.In accordance with the CMS Vaccine Mandate\, those volunteering in-person at the Children’s Center are required to be fully vaccinated and must provide proof of full vaccination upon request.
UID:93885-21787807@events.umich.edu
URL:https://events.umich.edu/event/93885
CLASS:PUBLIC
STATUS:CONFIRMED
CATEGORIES:
LOCATION:The Children&#039;s Center 
CONTACT:
END:VEVENT
BEGIN:VEVENT
DTSTAMP:20211129T152100
DTSTART;TZID=America/Detroit:20220502T070000
DTEND;TZID=America/Detroit:20220502T235900
SUMMARY:Careers / Jobs:UROP 2022-2023 Rising Sophomore Applications Open
DESCRIPTION:The Undergraduate Research Opportunity Program is now accepting applications for students who will be rising sophomores during the 2022-2023 academic year.\n\nLearn more and apply today at http://myumi.ch/uropsophomore\n\nRising Sophomore Applications are being accepted on a rolling basis.
UID:89571-21664275@events.umich.edu
URL:https://events.umich.edu/event/89571
CLASS:PUBLIC
STATUS:CONFIRMED
CATEGORIES:AEM Featured,Applications,Engineering,Environment,first-generation,Humanities,Interdisciplinary,Life Science,Professional Development,Public Health,Recruiting,Research,research data,Social Sciences,Sophomore,Undergraduate,Undergraduate Students,Urop
LOCATION:Off Campus Location
CONTACT:
END:VEVENT
BEGIN:VEVENT
DTSTAMP:20220215T154124
DTSTART;TZID=America/Detroit:20220502T080000
DTEND;TZID=America/Detroit:20220502T230000
SUMMARY:Careers / Jobs:Apply to Changing Gears
DESCRIPTION:Changing Gears (CG) is a UROP program designed primarily for community college transfer students who will be attending the University of Michigan\, but also serves students transferring from 4 year institutions. Students in the CG Program become a part of an ongoing faculty-driven research\, scholarly or creative project in their field of interest. Students learn valuable academic skills\, applying these skills to their research project\, academics\, and future career opportunities\, while receiving academic credit or compensation for their efforts in research work.\n\nApplications are accepted on a rolling basis.\nLearn more about Changing Gears at: myumi.ch/uropcg
UID:92406-21690931@events.umich.edu
URL:https://events.umich.edu/event/92406
CLASS:PUBLIC
STATUS:CONFIRMED
CATEGORIES:AEM Featured,Applications,first-generation,Free,Interdisciplinary,Networking,Research,research data,Social Impact,The College Of Literature\, Science\, And The Arts,Transfer Students,Undergraduate,Undergraduate Students,Urop
LOCATION:Off Campus Location
CONTACT:
END:VEVENT
BEGIN:VEVENT
DTSTAMP:20220419T113622
DTSTART;TZID=America/Detroit:20220502T080000
DTEND;TZID=America/Detroit:20220502T190000
SUMMARY:Exhibition:Mail Art: Postcards from the Pandemic
DESCRIPTION:View postcards from the pandemic. When the U-M Library and the Ann Arbor District Library asked community members to submit handmade postcards — mail art — in 2020 to capture the emotions and experiences of the Ann Arbor and U-M community during challenging pandemic times\, creative pieces of art started arriving at the library. About the submissions: https://myumi.ch/pdbeW\n\nStop by the Hatcher Library to view these physical artifacts that reflect how people were coping during the unexpected Covid-19 shutdown.
UID:94707-21761614@events.umich.edu
URL:https://events.umich.edu/event/94707
CLASS:PUBLIC
STATUS:CONFIRMED
CATEGORIES:Art,Free,Library
LOCATION:Hatcher Graduate Library - North Lobby (just off the Diag)
CONTACT:
END:VEVENT
BEGIN:VEVENT
DTSTAMP:20220516T161143
DTSTART;TZID=America/Detroit:20220502T080000
DTEND;TZID=America/Detroit:20220502T190000
SUMMARY:Exhibition:Map ≠ Territory: Distortion and Power in Cartography
DESCRIPTION:More than strict representations of the world we inhabit\, maps are social constructions that embody the interests of their creators. Map ≠ Territory deconstructs maps that have been used to subjugate\, appropriate\, and oppress\, as well as the maps that counter that power through emancipation and advocacy. The exhibit critically engages with materials that span from the colonial era to modern-day Detroit.\n\nThe exhibit is available in the Clark Library (second floor Hatcher) during Hatcher Library hours. Please verify hours on the library's website: https://www.lib.umich.edu
UID:90765-21673593@events.umich.edu
URL:https://events.umich.edu/event/90765
CLASS:PUBLIC
STATUS:CONFIRMED
CATEGORIES:Library,Maps
LOCATION:Hatcher Graduate Library - Clark Library, 2nd Floor
CONTACT:
END:VEVENT
BEGIN:VEVENT
DTSTAMP:20220507T120004
DTSTART;TZID=America/Detroit:20220502T080000
DTEND;TZID=America/Detroit:20220502T235959
SUMMARY:Sporting Event:Nationals Practice
DESCRIPTION:Practice Training held in Chicago for teams that qualified for nationals
UID:94670-21788135@events.umich.edu
URL:https://events.umich.edu/event/94670
CLASS:PUBLIC
STATUS:CONFIRMED
CATEGORIES:
LOCATION:Chicago, IL
CONTACT:
END:VEVENT
BEGIN:VEVENT
DTSTAMP:20220208T115329
DTSTART;TZID=America/Detroit:20220502T080000
DTEND;TZID=America/Detroit:20220502T170000
SUMMARY:Workshop / Seminar:NextProf Science
DESCRIPTION:The NextProf Science Workshop is designed to encourage talented scientists and mathematicians with a demonstrated commitment to diversity to consider academia — an exciting and rewarding career. We will help you develop strategies to strengthen your ability to pursue an academic career.\n\nAt NextProf Science\, you will learn:\n\n- how the faculty search process works\n- how to build successful research programs\n- how to form a teaching and mentoring philosophy\n- why a network is important
UID:92111-21686887@events.umich.edu
URL:https://events.umich.edu/event/92111
CLASS:PUBLIC
STATUS:CONFIRMED
CATEGORIES:Environment,Science,Virtual,Workshop
LOCATION:Off Campus Location
CONTACT:
END:VEVENT
BEGIN:VEVENT
DTSTAMP:20211209T162254
DTSTART;TZID=America/Detroit:20220502T080000
DTEND;TZID=America/Detroit:20220502T170000
SUMMARY:Workshop / Seminar:NextProf Science Workshop
DESCRIPTION:About 50 advanced graduate students and postdoctoral scholars with an interest in diversity will meet virtually to network and get tips on how to take the next step to a faculty position. Hosted by College of LSA Natural Science Division and coordinated by the Advance Program at UM.\n\nThe workshop runs from May 2 to May 5.
UID:89943-21666546@events.umich.edu
URL:https://events.umich.edu/event/89943
CLASS:PUBLIC
STATUS:CONFIRMED
CATEGORIES:Free
LOCATION:Off Campus Location
CONTACT:
END:VEVENT
BEGIN:VEVENT
DTSTAMP:20220502T122639
DTSTART;TZID=America/Detroit:20220502T080000
DTEND;TZID=America/Detroit:20220502T230000
SUMMARY:Careers / Jobs:UROP First-Year Application Open
DESCRIPTION:Our \"Traditional UROP Program\" has been our flagship program running over 30 years. This Academic Year program\, in which students participate for both Fall and Winter Terms\, is designed for University of Michigan first and second year undergraduate students enrolled on the Ann Arbor campus who are seeking a first time research experience. Student research assistants work alongside a faculty member\, research scientist or professional practitioner on an ongoing or new research project.\n\nLearn more and apply at: myumi.ch/uropyearone\n\nApplications being accepted on a rolling basis.
UID:83923-21785156@events.umich.edu
URL:https://events.umich.edu/event/83923
CLASS:PUBLIC
STATUS:CONFIRMED
CATEGORIES:AEM Featured,Applications,first-generation,Free,Interdisciplinary,Networking,Research,Undergraduate,Undergraduate Students,Urop
LOCATION:
CONTACT:
END:VEVENT
BEGIN:VEVENT
DTSTAMP:20220117T095807
DTSTART;TZID=America/Detroit:20220502T080000
DTEND;TZID=America/Detroit:20220502T230000
SUMMARY:Careers / Jobs:UROP Research Scholars Program Application Open
DESCRIPTION:The UROP Research Scholars Program is designed for students who want to expand on their first year UROP experience and participate in UROP for a second year at an advanced level. In this program\, students build upon the knowledge gained in a first undergraduate research experience to further explore the connections between research\, a liberal arts education\, and communicating skills to advance their future professional goals. Students are expected to explore various written and oral possibilities for communicating their research process\, identifying the limits set by the discipline and the opportunities that lie beyond.\n\nApplications for the 2022-2023 academic year cohort open February 14th.\nPriority Deadline for the applications is March 18th\n\nLearn more at: myumi.ch/uroprs
UID:91080-21676515@events.umich.edu
URL:https://events.umich.edu/event/91080
CLASS:PUBLIC
STATUS:CONFIRMED
CATEGORIES:AEM Featured,Applications,Fellowship,first-generation,Interdisciplinary,Networking,Research,research data,Sophomore,The College Of Literature\, Science\, And The Arts,Undergraduate,Undergraduate Students,Urop
LOCATION:Off Campus Location
CONTACT:
END:VEVENT
BEGIN:VEVENT
DTSTAMP:20220204T165932
DTSTART;TZID=America/Detroit:20220502T090000
DTEND;TZID=America/Detroit:20220502T180000
SUMMARY:Exhibition:Greek Manuscripts at the University of Michigan Library: A Celebration
DESCRIPTION:Splendors of the religious and artistic endeavors of Byzantine manuscript makers are on display in this exhibit of highlights from the Greek manuscript collection at the University of Michigan Library Special Collections Research Center. The collection — 110 codices (bound manuscripts) and fragments written in Greek from the fourth to the nineteenth centuries C.E. — is the largest such collection in the Western Hemisphere and provides unique insights into this era of achievement in textual transmission\, calligraphy\, illumination\, and bookbinding. The exhibit will be open during Audubon Room hours.\n\nA digital version of the exhibit will be available in the Audubon Room and online\, and allows visitors to explore other pages of the manuscripts on display and other manuscripts from the collection.\n\nThis exhibit celebrates two recent publications based on the collection: \n\n* Catalogue of Greek Manuscripts at the University of Michigan\, Ann Arbor. Vol. 1.\, by Nadezhda Kavrus-Hoffmann (Ann Arbor: University of Michigan Press\, 2021)\n\n* Tradition and Individuality: Bindings from the University of Michigan Greek Manuscript Collection\, by Julia Miller (Ann Arbor: The Legacy Press\, 2021)
UID:92000-21684899@events.umich.edu
URL:https://events.umich.edu/event/92000
CLASS:PUBLIC
STATUS:CONFIRMED
CATEGORIES:Classical Studies,Exhibition,Library
LOCATION:Hatcher Graduate Library - Audubon Room, 1st floor
CONTACT:
END:VEVENT
BEGIN:VEVENT
DTSTAMP:20220517T063032
DTSTART;TZID=America/Detroit:20220502T090000
DTEND;TZID=America/Detroit:20220502T180000
SUMMARY:Careers / Jobs:Mercy Health Lorain Market Student Nurse Extern Hiring Event
DESCRIPTION:Mercy Health is excited to invite current nursing students whohave completed one clinical rotation to our virtual hiring event on Monday\, May 2nd!  Everyone that works at Mercy Health is called to make a difference with their career – join us at our hiring event to learn how you can make a difference! Please complete the sign up below to pre-register for the event! \n \nCurrent Nursing Students (w/ 1 completed clinical rotation):\nMeet and interview with hospital leaders from Mercy Health. Attendees could receive \"on-the-spot\" job offers! Discover a career where you canbe you!\n \nWe know your schedules may be busy so we are offering three time slots to meet 1:1 with nursing leaders.  Each interview will last 25-minutes:\n \n9:00am - 11:00am\n1:00pm - 3:00pm\n4:00pm - 6:00pm\n \nOnce you RSVP\, a member of the Talent Acquisition team will contact you directlyto discuss next steps.
UID:94869-21778934@events.umich.edu
URL:https://events.umich.edu/event/94869
CLASS:PUBLIC
STATUS:CONFIRMED
CATEGORIES:
LOCATION:
CONTACT:
END:VEVENT
BEGIN:VEVENT
DTSTAMP:20220419T130930
DTSTART;TZID=America/Detroit:20220502T120000
DTEND;TZID=America/Detroit:20220502T130000
SUMMARY:Presentation:LSA Transfer Information Session
DESCRIPTION:Join the LSA Student Recruitment Team for our weekly virtual sessions where we will discuss LSA requirements\, transfer credit\, pre-transfer academic advising\, LSA opportunities and other transfer tidbits. Each session includes a Q & A featuring the Transfer Student Ambassadors. For any questions about this session\, please email us at LSATransferCenter@umich.edu.\n\nRegistration is required.
UID:92923-21698074@events.umich.edu
URL:https://events.umich.edu/event/92923
CLASS:PUBLIC
STATUS:CONFIRMED
CATEGORIES:Prospective Undergraduate Students,Transfer Students
LOCATION:Off Campus Location
CONTACT:
END:VEVENT
BEGIN:VEVENT
DTSTAMP:20220419T083424
DTSTART;TZID=America/Detroit:20220502T120000
DTEND;TZID=America/Detroit:20220502T130000
SUMMARY:Workshop / Seminar:LSA/Ross MDDP Info Sessions
DESCRIPTION:If you are interested in applying for the Multiple Dependent Degree Program (MDDP) between LSA and the Ross School of Business\, attending an MDDP information session is the first step in the process. This is the final info session until August 2022 and will take place at 12:00 noon EDT. https://umich.zoom.us/j/98866092343
UID:90301-21761598@events.umich.edu
URL:https://events.umich.edu/event/90301
CLASS:PUBLIC
STATUS:CONFIRMED
CATEGORIES:Business,Business By Lsa,Mddp
LOCATION:
CONTACT:
END:VEVENT
BEGIN:VEVENT
DTSTAMP:20220502T122639
DTSTART;TZID=America/Detroit:20220502T120000
DTEND;TZID=America/Detroit:20220502T130000
SUMMARY:Careers / Jobs:UROP First-Year Application Open
DESCRIPTION:Our \"Traditional UROP Program\" has been our flagship program running over 30 years. This Academic Year program\, in which students participate for both Fall and Winter Terms\, is designed for University of Michigan first and second year undergraduate students enrolled on the Ann Arbor campus who are seeking a first time research experience. Student research assistants work alongside a faculty member\, research scientist or professional practitioner on an ongoing or new research project.\n\nLearn more and apply at: myumi.ch/uropyearone\n\nApplications being accepted on a rolling basis.
UID:83923-21785248@events.umich.edu
URL:https://events.umich.edu/event/83923
CLASS:PUBLIC
STATUS:CONFIRMED
CATEGORIES:AEM Featured,Applications,first-generation,Free,Interdisciplinary,Networking,Research,Undergraduate,Undergraduate Students,Urop
LOCATION:Off Campus Location
CONTACT:
END:VEVENT
BEGIN:VEVENT
DTSTAMP:20220420T160059
DTSTART;TZID=America/Detroit:20220502T140000
DTEND;TZID=America/Detroit:20220502T150000
SUMMARY:Workshop / Seminar:EEB Special Seminar: Phylogenomic tracking of SARS-CoV-2 and emerging coronavirus zoonoses
DESCRIPTION:In this talk Dr. Mavian will present the genomic Real-time High-throughput genomic epidemiology monitoring system that has been developed at University of Florida to track spread\, evolution and emergence of new variants in Florida\, in collaboration with University of Central Florida and of Miami\, and in Haiti in collaboration with GHESKIO. Dr. Mavian will also show the investigations of novel zoonotic coronaviruses that emerged in Haiti and that highlights coronaviruses’ potential for rapid evolution and frequent recombination\, leading to periodic emergence of strains capable of crossing species barriers into human populations.
UID:94686-21759835@events.umich.edu
URL:https://events.umich.edu/event/94686
CLASS:PUBLIC
STATUS:CONFIRMED
CATEGORIES:AEM Featured,Biology,Biosciences,Bsbsigns,science
LOCATION:Biological Sciences Building - Hybrid: BSB 1010 &amp; Virtual via zoom, see department email for link.
CONTACT:
END:VEVENT
BEGIN:VEVENT
DTSTAMP:20220429T181524
DTSTART;TZID=America/Detroit:20220502T140000
DTEND;TZID=America/Detroit:20220502T153000
SUMMARY:Livestream / Virtual:Step into a Student Staff Position: Rackham Jobs for Summer and Fall
DESCRIPTION:Rackham has many Graduate Student Staff Assistant (GSSA) job opportunities available in the summer and fall of 2022. Positions are available related to a range of areas\, from diversity\, equity\, and inclusion (DEI) to alumni relations and fundraising. If you are interested in a range of work areas in higher education and would like to develop your skills in the design and implementation of programs for students\, faculty\, and alumni\, these Rackham job opportunities may be of interest to you! Join the Rackham staff who are hiring and supervising GSSAs for an information session to learn more about these opportunities and ask questions.\nRegistration is required at https://myumi.ch/1n46n.\nWe want to ensure full and equitable participation in our events. If an accommodation would promote your full participation in this event\, please follow the registration link to indicate your accommodation requirements. Please let us know as soon as possible in order to have adequate time\, preferably one week\, to arrange for your requested accommodations or an effective alternative.
UID:94893-21780613@events.umich.edu
URL:https://events.umich.edu/event/94893
CLASS:PUBLIC
STATUS:CONFIRMED
CATEGORIES:Graduate Students
LOCATION:Off Campus Location
CONTACT:
END:VEVENT
BEGIN:VEVENT
DTSTAMP:20220401T123123
DTSTART;TZID=America/Detroit:20220502T163000
DTEND;TZID=America/Detroit:20220502T173000
SUMMARY:Careers / Jobs:Brooke Charter Schools Resume & Interview Tips Virtual Info Session
DESCRIPTION:Ready to start your job search in the education field?\n\nJoinBrooke Charter Schools to hear firsthand from our recruitment team about best practices for applying and interviewing for jobs in the education field. You'll also have the opportunity to ask questions\, improve your own resume\, and learn more about Brooke Charter Schools and our Associate Teacher Program for aspiring educators!
UID:93583-21705929@events.umich.edu
URL:https://events.umich.edu/event/93583
CLASS:PUBLIC
STATUS:CONFIRMED
CATEGORIES:
LOCATION:
CONTACT:
END:VEVENT
BEGIN:VEVENT
DTSTAMP:20220517T123043
DTSTART;TZID=America/Detroit:20220502T163000
DTEND;TZID=America/Detroit:20220502T173000
SUMMARY:Careers / Jobs:Brooke Charter Schools Resume & Interview Tips Virtual Info Session
DESCRIPTION:Ready to start your job search in the education field?\n\nJoinBrooke Charter Schools to hear firsthand from our recruitment team about best practices for applying and interviewing for jobs in the education field. You'll also have the opportunity to ask questions\, improve your own resume\, and learn more about Brooke Charter Schools and our Associate Teacher Program for aspiring educators!\n\n
UID:94288-21728830@events.umich.edu
URL:https://events.umich.edu/event/94288
CLASS:PUBLIC
STATUS:CONFIRMED
CATEGORIES:
LOCATION:
CONTACT:
END:VEVENT
BEGIN:VEVENT
DTSTAMP:20220517T123050
DTSTART;TZID=America/Detroit:20220502T170000
DTEND;TZID=America/Detroit:20220502T183000
SUMMARY:Careers / Jobs:Inventing for Life: Biologics Process R&D opportunities at Merck
DESCRIPTION:Join us on Monday\, May 2 from 5PM-6:30PM EDT to learn more about the exciting opportunities currently available within our Biologics Process Research & Development organization. The event will begin with an info session followed by a panel discussion and Q&A. We encourage you to join us to learn about these key opportunities for a challenging and rewarding career in the pharmaceutical industry!\n\nThe Biologics Process Research& Development (BPRD) organization within Merck's Research Laboratories isresponsible for developing the drug substance manufacturing processes forour company's biologics pipeline\, including cell line\, bioreactor process development and optimization\, media design\, chromatographic and filtration separation development as well as computational modeling and data science. We work in highly collaborative cross-functional teams with colleagues in Discovery\, Pre-clinical\, Early Development\, and our Commercial Manufacturing organizations with a goal to rapidly develop robust\, innovative drug substance processes to enable toxicology studies\, clinical studies\, and ultimately commercial supplies.  We also innovate to drive technology development and to influence the field\, with examples including investments in continuous production\, data-rich experimentation\, as well as green and sustainable processing.\n\nMembers of BPRD are expected to applyrigorous scientific principles and state-of-the-art tools to solve challenging problems focused on developing the best process to deliver life-changing medicines to patients worldwide.  As an organization\, we are committed to providing a diverse and inclusive environment\, recognizing that this allows us to unlock the full potential of our talented staff.\n\nCheck out the 3 open positions (links below) for entry-level PhDs that Merck's Biologics' Process R&D organization is currently hiring for: \n\nhttps://jobs.merck.com/us/en/job/R149199/Senior-Scientist \n\nhttps://jobs.merck.com/us/en/job/R172868/Senior-Scientist-Bioprocess \n\nhttps://jobs.merck.com/us/en/job/R173068/Bio-Process-Senior-Scientist
UID:94689-21760266@events.umich.edu
URL:https://events.umich.edu/event/94689
CLASS:PUBLIC
STATUS:CONFIRMED
CATEGORIES:
LOCATION:
CONTACT:
END:VEVENT
BEGIN:VEVENT
DTSTAMP:20220517T183044
DTSTART;TZID=America/Detroit:20220502T200000
DTEND;TZID=America/Detroit:20220502T213000
SUMMARY:Careers / Jobs:McKinsey Information Session: Inside the McKinsey Team Room
DESCRIPTION:Tired of the same old information sessions? So are we! Instead\, we invite you to take a peek inside a McKinsey team room to see how ourbusiness analysts\, associates\, data scientists\, software-cloud engineers\, agile coaches\, data engineers\, product managers\, designers\, and digital marketers work together to help our clients\, some of the world’smost innovative and influential organizations\, perform at their best.\n\nWatch a real McKinsey team share about a project they recently completed.From the ideation to implementation stages\, they'll offer a front row seat into the dynamics of the McKinsey team room and how we create lasting impact for our clients.
UID:93479-21704809@events.umich.edu
URL:https://events.umich.edu/event/93479
CLASS:PUBLIC
STATUS:CONFIRMED
CATEGORIES:
LOCATION:
CONTACT:
END:VEVENT
END:VCALENDAR