BEGIN:VCALENDAR
VERSION:2.0
PRODID:-//UM//UM*Events//EN
CALSCALE:GREGORIAN
BEGIN:VTIMEZONE
TZID:America/Detroit
TZURL:http://tzurl.org/zoneinfo/America/Detroit
X-LIC-LOCATION:America/Detroit
BEGIN:DAYLIGHT
TZOFFSETFROM:-0500
TZOFFSETTO:-0400
TZNAME:EDT
DTSTART:20070311T020000
RRULE:FREQ=YEARLY;BYMONTH=3;BYDAY=2SU
END:DAYLIGHT
BEGIN:STANDARD
TZOFFSETFROM:-0400
TZOFFSETTO:-0500
TZNAME:EST
DTSTART:20071104T020000
RRULE:FREQ=YEARLY;BYMONTH=11;BYDAY=1SU
END:STANDARD
END:VTIMEZONE
BEGIN:VEVENT
DTSTAMP:20230324T120005
DTSTART;TZID=America/Detroit:20220507T000000
DTEND;TZID=America/Detroit:20220507T235959
SUMMARY:Community Service:Homework Help at The Children's Center
DESCRIPTION:The Homework Help program offers children assistance with their homework assignments. Children are encouraged to bring homework and are paired with a volunteer to assist them. This program is a critical service in helping children thrive. Volunteers give children the tools they need to be successful in school.Virtual and in-person volunteer opportunities are available. If you would like to volunteer\, please start the enrollment process by creating an account on the Children Center's Volunteer Site found HERE. After your account is created\, the Children's Center will reach out to you within 2 business days to answer any questions and discuss the next steps.In accordance with the CMS Vaccine Mandate\, those volunteering in-person at the Children’s Center are required to be fully vaccinated and must provide proof of full vaccination upon request.
UID:93885-21787812@events.umich.edu
URL:https://events.umich.edu/event/93885
CLASS:PUBLIC
STATUS:CONFIRMED
CATEGORIES:
LOCATION:The Children&#039;s Center 
CONTACT:
END:VEVENT
BEGIN:VEVENT
DTSTAMP:20220507T120004
DTSTART;TZID=America/Detroit:20220507T000000
DTEND;TZID=America/Detroit:20220507T235959
SUMMARY:Sporting Event:Nationals Practice
DESCRIPTION:Practice Training held in Chicago for teams that qualified for nationals
UID:94670-21788140@events.umich.edu
URL:https://events.umich.edu/event/94670
CLASS:PUBLIC
STATUS:CONFIRMED
CATEGORIES:
LOCATION:Chicago, IL
CONTACT:
END:VEVENT
BEGIN:VEVENT
DTSTAMP:20220509T060005
DTSTART;TZID=America/Detroit:20220507T000000
DTEND;TZID=America/Detroit:20220507T235959
SUMMARY:Other:NIRC
DESCRIPTION:Rowing Regatta in Worcester\, MA
UID:94797-21788157@events.umich.edu
URL:https://events.umich.edu/event/94797
CLASS:PUBLIC
STATUS:CONFIRMED
CATEGORIES:
LOCATION:Worcester, MA
CONTACT:
END:VEVENT
BEGIN:VEVENT
DTSTAMP:20220508T180005
DTSTART;TZID=America/Detroit:20220507T000000
DTEND;TZID=America/Detroit:20220507T235959
SUMMARY:Sporting Event:NU Spring 
DESCRIPTION:MCSA Fleet Race Dingy Regatta
UID:94837-21788161@events.umich.edu
URL:https://events.umich.edu/event/94837
CLASS:PUBLIC
STATUS:CONFIRMED
CATEGORIES:
LOCATION:Northwestern University, Evanston, Illinois
CONTACT:
END:VEVENT
BEGIN:VEVENT
DTSTAMP:20211129T152100
DTSTART;TZID=America/Detroit:20220507T070000
DTEND;TZID=America/Detroit:20220507T235900
SUMMARY:Careers / Jobs:UROP 2022-2023 Rising Sophomore Applications Open
DESCRIPTION:The Undergraduate Research Opportunity Program is now accepting applications for students who will be rising sophomores during the 2022-2023 academic year.\n\nLearn more and apply today at http://myumi.ch/uropsophomore\n\nRising Sophomore Applications are being accepted on a rolling basis.
UID:89571-21664280@events.umich.edu
URL:https://events.umich.edu/event/89571
CLASS:PUBLIC
STATUS:CONFIRMED
CATEGORIES:Recruiting,Urop,Undergraduate Students,Undergraduate,Sophomore,Social Sciences,research data,Research,Public Health,Professional Development,Life Science,Interdisciplinary,Humanities,first-generation,Environment,Engineering,Applications,AEM Featured
LOCATION:Off Campus Location
CONTACT:
END:VEVENT
BEGIN:VEVENT
DTSTAMP:20220215T154124
DTSTART;TZID=America/Detroit:20220507T080000
DTEND;TZID=America/Detroit:20220507T230000
SUMMARY:Careers / Jobs:Apply to Changing Gears
DESCRIPTION:Changing Gears (CG) is a UROP program designed primarily for community college transfer students who will be attending the University of Michigan\, but also serves students transferring from 4 year institutions. Students in the CG Program become a part of an ongoing faculty-driven research\, scholarly or creative project in their field of interest. Students learn valuable academic skills\, applying these skills to their research project\, academics\, and future career opportunities\, while receiving academic credit or compensation for their efforts in research work.\n\nApplications are accepted on a rolling basis.\nLearn more about Changing Gears at: myumi.ch/uropcg
UID:92406-21690936@events.umich.edu
URL:https://events.umich.edu/event/92406
CLASS:PUBLIC
STATUS:CONFIRMED
CATEGORIES:Applications,AEM Featured,Urop,Undergraduate Students,Undergraduate,Transfer Students,first-generation,Free,Interdisciplinary,Networking,Research,research data,Social Impact,The College Of Literature\, Science\, And The Arts
LOCATION:Off Campus Location
CONTACT:
END:VEVENT
BEGIN:VEVENT
DTSTAMP:20220516T161143
DTSTART;TZID=America/Detroit:20220507T080000
DTEND;TZID=America/Detroit:20220507T190000
SUMMARY:Exhibition:Map ≠ Territory: Distortion and Power in Cartography
DESCRIPTION:More than strict representations of the world we inhabit\, maps are social constructions that embody the interests of their creators. Map ≠ Territory deconstructs maps that have been used to subjugate\, appropriate\, and oppress\, as well as the maps that counter that power through emancipation and advocacy. The exhibit critically engages with materials that span from the colonial era to modern-day Detroit.\n\nThe exhibit is available in the Clark Library (second floor Hatcher) during Hatcher Library hours. Please verify hours on the library's website: https://www.lib.umich.edu
UID:90765-21673598@events.umich.edu
URL:https://events.umich.edu/event/90765
CLASS:PUBLIC
STATUS:CONFIRMED
CATEGORIES:Maps,Library
LOCATION:Hatcher Graduate Library - Clark Library, 2nd Floor
CONTACT:
END:VEVENT
BEGIN:VEVENT
DTSTAMP:20220502T122639
DTSTART;TZID=America/Detroit:20220507T080000
DTEND;TZID=America/Detroit:20220507T230000
SUMMARY:Careers / Jobs:UROP First-Year Application Open
DESCRIPTION:Our \"Traditional UROP Program\" has been our flagship program running over 30 years. This Academic Year program\, in which students participate for both Fall and Winter Terms\, is designed for University of Michigan first and second year undergraduate students enrolled on the Ann Arbor campus who are seeking a first time research experience. Student research assistants work alongside a faculty member\, research scientist or professional practitioner on an ongoing or new research project.\n\nLearn more and apply at: myumi.ch/uropyearone\n\nApplications being accepted on a rolling basis.
UID:83923-21785161@events.umich.edu
URL:https://events.umich.edu/event/83923
CLASS:PUBLIC
STATUS:CONFIRMED
CATEGORIES:Interdisciplinary,Urop,Undergraduate Students,Undergraduate,Research,Networking,Free,AEM Featured,Applications,first-generation
LOCATION:
CONTACT:
END:VEVENT
BEGIN:VEVENT
DTSTAMP:20220117T095807
DTSTART;TZID=America/Detroit:20220507T080000
DTEND;TZID=America/Detroit:20220507T230000
SUMMARY:Careers / Jobs:UROP Research Scholars Program Application Open
DESCRIPTION:The UROP Research Scholars Program is designed for students who want to expand on their first year UROP experience and participate in UROP for a second year at an advanced level. In this program\, students build upon the knowledge gained in a first undergraduate research experience to further explore the connections between research\, a liberal arts education\, and communicating skills to advance their future professional goals. Students are expected to explore various written and oral possibilities for communicating their research process\, identifying the limits set by the discipline and the opportunities that lie beyond.\n\nApplications for the 2022-2023 academic year cohort open February 14th.\nPriority Deadline for the applications is March 18th\n\nLearn more at: myumi.ch/uroprs
UID:91080-21676520@events.umich.edu
URL:https://events.umich.edu/event/91080
CLASS:PUBLIC
STATUS:CONFIRMED
CATEGORIES:AEM Featured,Applications,Urop,Fellowship,first-generation,Interdisciplinary,Networking,Research,Undergraduate Students,Undergraduate,The College Of Literature\, Science\, And The Arts,Sophomore,research data
LOCATION:Off Campus Location
CONTACT:
END:VEVENT
BEGIN:VEVENT
DTSTAMP:20220204T165932
DTSTART;TZID=America/Detroit:20220507T090000
DTEND;TZID=America/Detroit:20220507T180000
SUMMARY:Exhibition:Greek Manuscripts at the University of Michigan Library: A Celebration
DESCRIPTION:Splendors of the religious and artistic endeavors of Byzantine manuscript makers are on display in this exhibit of highlights from the Greek manuscript collection at the University of Michigan Library Special Collections Research Center. The collection — 110 codices (bound manuscripts) and fragments written in Greek from the fourth to the nineteenth centuries C.E. — is the largest such collection in the Western Hemisphere and provides unique insights into this era of achievement in textual transmission\, calligraphy\, illumination\, and bookbinding. The exhibit will be open during Audubon Room hours.\n\nA digital version of the exhibit will be available in the Audubon Room and online\, and allows visitors to explore other pages of the manuscripts on display and other manuscripts from the collection.\n\nThis exhibit celebrates two recent publications based on the collection: \n\n* Catalogue of Greek Manuscripts at the University of Michigan\, Ann Arbor. Vol. 1.\, by Nadezhda Kavrus-Hoffmann (Ann Arbor: University of Michigan Press\, 2021)\n\n* Tradition and Individuality: Bindings from the University of Michigan Greek Manuscript Collection\, by Julia Miller (Ann Arbor: The Legacy Press\, 2021)
UID:92000-21684904@events.umich.edu
URL:https://events.umich.edu/event/92000
CLASS:PUBLIC
STATUS:CONFIRMED
CATEGORIES:Exhibition,Classical Studies,Library
LOCATION:Hatcher Graduate Library - Audubon Room, 1st floor
CONTACT:
END:VEVENT
BEGIN:VEVENT
DTSTAMP:20220419T113622
DTSTART;TZID=America/Detroit:20220507T100000
DTEND;TZID=America/Detroit:20220507T180000
SUMMARY:Exhibition:Mail Art: Postcards from the Pandemic
DESCRIPTION:View postcards from the pandemic. When the U-M Library and the Ann Arbor District Library asked community members to submit handmade postcards — mail art — in 2020 to capture the emotions and experiences of the Ann Arbor and U-M community during challenging pandemic times\, creative pieces of art started arriving at the library. About the submissions: https://myumi.ch/pdbeW\n\nStop by the Hatcher Library to view these physical artifacts that reflect how people were coping during the unexpected Covid-19 shutdown.
UID:94707-21761619@events.umich.edu
URL:https://events.umich.edu/event/94707
CLASS:PUBLIC
STATUS:CONFIRMED
CATEGORIES:Art,Free,Library
LOCATION:Hatcher Graduate Library - North Lobby (just off the Diag)
CONTACT:
END:VEVENT
BEGIN:VEVENT
DTSTAMP:20220507T121527
DTSTART;TZID=America/Detroit:20220507T100000
SUMMARY:Sporting Event:Men's Track & Field vs Len Paddock Open
DESCRIPTION:Men's Track & Field vs Len Paddock Open
UID:94816-21775113@events.umich.edu
URL:https://events.umich.edu/event/94816
CLASS:PUBLIC
STATUS:CONFIRMED
CATEGORIES:Athletics
LOCATION:Off Campus Location
CONTACT:
END:VEVENT
BEGIN:VEVENT
DTSTAMP:20220507T121527
DTSTART;TZID=America/Detroit:20220507T100000
SUMMARY:Sporting Event:Women's Track & Field vs Len Paddock Open
DESCRIPTION:Women's Track & Field vs Len Paddock Open
UID:94817-21775114@events.umich.edu
URL:https://events.umich.edu/event/94817
CLASS:PUBLIC
STATUS:CONFIRMED
CATEGORIES:Athletics
LOCATION:Off Campus Location
CONTACT:
END:VEVENT
BEGIN:VEVENT
DTSTAMP:20220505T091353
DTSTART;TZID=America/Detroit:20220507T110000
DTEND;TZID=America/Detroit:20220507T140000
SUMMARY:Conference / Symposium:6th Annual Gender Consciousness Project Symposium
DESCRIPTION:The Gender Consciousness Project (GCP) is a community-based learning program in which UM undergraduates study the intersectional impact of race and gender on adolescent girls of color while serving as mentors to girls’ leadership groups in local public high schools with significant Black and Brown student populations.
UID:94991-21788224@events.umich.edu
URL:https://events.umich.edu/event/94991
CLASS:PUBLIC
STATUS:CONFIRMED
CATEGORIES:Activism,african and african american studies,African Diaspora,Community Engagement,Community-based Learning,Feminism,women's studies
LOCATION:Palmer Commons - Great Lakes Room
CONTACT:
END:VEVENT
BEGIN:VEVENT
DTSTAMP:20220406T105221
DTSTART;TZID=America/Detroit:20220507T123000
DTEND;TZID=America/Detroit:20220507T131500
SUMMARY:Presentation:Sky Tonight
DESCRIPTION:A live presentation on what to find in the sky tonight and for the coming few weeks. This presentation includes how to find the cardinal directions on your own by finding the north star\, current and upcoming constellations\, visible planets\, a few deep sky objects depending on the season\, and other interesting astronomical visualizations. \n\nThe state-of-the-art Planetarium & Dome Theater at the U-M Museum of Natural History transports visitors beyond distant stars and deep into the ocean from the comfort of reclining seats. Tickets $8. Tickets are available on the day of the show at the Museum Store.\nThe planetarium is operating at reduced capacity to maximize distancing between viewers and masks are required.
UID:89869-21737793@events.umich.edu
URL:https://events.umich.edu/event/89869
CLASS:PUBLIC
STATUS:CONFIRMED
CATEGORIES:Astronomy,Museum,natural history museum
LOCATION:Museum of Natural History
CONTACT:
END:VEVENT
BEGIN:VEVENT
DTSTAMP:20220507T121527
DTSTART;TZID=America/Detroit:20220507T130000
SUMMARY:Sporting Event:Men's Tennis vs Oklahoma
DESCRIPTION:Men's Tennis vs Oklahoma
UID:94955-21787354@events.umich.edu
URL:https://events.umich.edu/event/94955
CLASS:PUBLIC
STATUS:CONFIRMED
CATEGORIES:Athletics,Athletics - Men's Tennis
LOCATION:Varsity Tennis Bldg
CONTACT:
END:VEVENT
BEGIN:VEVENT
DTSTAMP:20220406T104838
DTSTART;TZID=America/Detroit:20220507T133000
DTEND;TZID=America/Detroit:20220507T141500
SUMMARY:Presentation:Natural Selection
DESCRIPTION:Natural Selection joins Darwin on his voyage with the HMS Beagle to the Galapagos Islands where he was inspired to develop his later theory of transmutation by natural selection. From the comfort of Down House in Kent\, Darwin himself will explain the mechanism of natural selection to the audience\, and support it by showing many beautiful examples in nature. The thrill of a scientific discovery\, the adventure of science and the beauty of nature are central in this show.\nThe planetarium is operating at reduced capacity to maximize distancing between viewers and masks are required.
UID:93136-21737806@events.umich.edu
URL:https://events.umich.edu/event/93136
CLASS:PUBLIC
STATUS:CONFIRMED
CATEGORIES:Astronomy,Museum,natural history museum
LOCATION:Museum of Natural History
CONTACT:
END:VEVENT
BEGIN:VEVENT
DTSTAMP:20220507T121528
DTSTART;TZID=America/Detroit:20220507T140000
SUMMARY:Sporting Event:Baseball vs Indiana
DESCRIPTION:Baseball vs Indiana
UID:94504-21743263@events.umich.edu
URL:https://events.umich.edu/event/94504
CLASS:PUBLIC
STATUS:CONFIRMED
CATEGORIES:Athletics - Baseball,Athletics
LOCATION:Ray Fisher Baseball Stadium
CONTACT:
END:VEVENT
BEGIN:VEVENT
DTSTAMP:20220522T123028
DTSTART;TZID=America/Detroit:20220507T140000
DTEND;TZID=America/Detroit:20220507T160000
SUMMARY:Careers / Jobs:FBI Special Agents - Women in Federal Law Enforcement (Nationwide)
DESCRIPTION:Register At: https://wiflefoundation.org/event-4734637\n\nThe Women in Federal Law Enforcement (WIFLE) Foundation will be hosting several FBI Recruiters for a virtual information session on May 7\, 2022 between2:00pm - 4:00pm!\n\nThis session is a great opportunity for RECENT GRADUATES and ALUMNI\, to gain information about the careers that the FBI is actively recruiting for. The Special Agent career is truly like no other! Join this session to learn more and to connect with FBI Recruiters.  \n\n*Please Note: This session WILL NOT be discussing the internship program. *\n\nCandidates interested in attending must answer yes to ALL of the below: \n1. US Citizen\n2. Between 23-36 Years of Age\n3. BA Degree (or Higher) From Accredited US University\n\nInterested attendees can register at the following link\; https://wiflefoundation.org/event-4734637\n\n*This is a virtual nationwide event organized by the WIFLE Foundation for the FBI.*
UID:94498-21742775@events.umich.edu
URL:https://events.umich.edu/event/94498
CLASS:PUBLIC
STATUS:CONFIRMED
CATEGORIES:
LOCATION:
CONTACT:
END:VEVENT
BEGIN:VEVENT
DTSTAMP:20220406T105221
DTSTART;TZID=America/Detroit:20220507T143000
DTEND;TZID=America/Detroit:20220507T151500
SUMMARY:Presentation:Sky Tonight
DESCRIPTION:A live presentation on what to find in the sky tonight and for the coming few weeks. This presentation includes how to find the cardinal directions on your own by finding the north star\, current and upcoming constellations\, visible planets\, a few deep sky objects depending on the season\, and other interesting astronomical visualizations. \n\nThe state-of-the-art Planetarium & Dome Theater at the U-M Museum of Natural History transports visitors beyond distant stars and deep into the ocean from the comfort of reclining seats. Tickets $8. Tickets are available on the day of the show at the Museum Store.\nThe planetarium is operating at reduced capacity to maximize distancing between viewers and masks are required.
UID:89869-21737819@events.umich.edu
URL:https://events.umich.edu/event/89869
CLASS:PUBLIC
STATUS:CONFIRMED
CATEGORIES:Astronomy,Museum,natural history museum
LOCATION:Museum of Natural History
CONTACT:
END:VEVENT
BEGIN:VEVENT
DTSTAMP:20220408T112501
DTSTART;TZID=America/Detroit:20220507T160000
DTEND;TZID=America/Detroit:20220507T173000
SUMMARY:Social / Informal Gathering:Class of 2020 LSA Graduation Celebration
DESCRIPTION:LSA Dean Anne Curzan invites you to join her for the\n\nClass of 2020 \nLSA Graduation Celebration!\n\nFollowing the university’s Comeback Commencement ceremony at the Big House\, join fellow 2020 graduates\, family\, and friends for a reception honoring the LSA Class of 2020.\n\nSATURDAY\, MAY 7\, 2022\n4:00 p.m. – 5:30 p.m.\nTent in front of Angell Hall | 435 SOUTH STATE STREET\n\nTo attend this special event RSVP by visiting this link: https://myumi.ch/lsacomeback2020\n\nJoin us and celebrate with refreshments\, Michigan-themed green screen photo booth\, music\, exclusive LSA giveaways\, and more.\n\nNote:\nIf you plan to attend the university’s Comeback Commencement ceremony at the Big House\, and have not yet registered\, please go to: https://commencement.umich.edu/ceremony-venue-details/2020-comeback-commencement/\n\nFor questions\, contact Anne Hart at\nannehart@umich.edu\nor\n734-646-6832
UID:93449-21704621@events.umich.edu
URL:https://events.umich.edu/event/93449
CLASS:PUBLIC
STATUS:CONFIRMED
CATEGORIES:Undergraduate Students
LOCATION:Angell Hall - Tent in front of building
CONTACT:
END:VEVENT
BEGIN:VEVENT
DTSTAMP:20220506T181541
DTSTART;TZID=America/Detroit:20220507T170000
SUMMARY:Sporting Event:Water Polo vs NCAA Semifinal
DESCRIPTION:Water Polo vs NCAA Semifinal
UID:94831-21775943@events.umich.edu
URL:https://events.umich.edu/event/94831
CLASS:PUBLIC
STATUS:CONFIRMED
CATEGORIES:Athletics
LOCATION:Donald B. Canham Natatorium
CONTACT:
END:VEVENT
BEGIN:VEVENT
DTSTAMP:20220503T121556
DTSTART;TZID=America/Detroit:20220507T190000
SUMMARY:Sporting Event:Men's Tennis vs NCAA Second Round
DESCRIPTION:Men's Tennis vs NCAA Second Round
UID:94929-21786081@events.umich.edu
URL:https://events.umich.edu/event/94929
CLASS:PUBLIC
STATUS:CONFIRMED
CATEGORIES:Athletics - Men's Tennis,Athletics
LOCATION:Varsity Tennis Bldg
CONTACT:
END:VEVENT
BEGIN:VEVENT
DTSTAMP:20210723T120044
DTSTART;TZID=America/Detroit:20220507T200000
DTEND;TZID=America/Detroit:20220507T220000
SUMMARY:Performance:Mary Fahl rescheduled from 6/12/21
DESCRIPTION:*By purchasing a ticket you agree that you and your guests will comply with all laws\, orders\, ordinances\, regulations and health and safety guidance adopted by the State of Michigan\, the County of Washtenaw and The Ark\, including any guidelines in place at the time of the show. Attendees who do not comply will be asked to leave. Policies will be updated as circumstances and requirements change in our community. Please review The Ark’s current COVID-related information before attending a show.*\n\n\"Sounding like no other singer of her generation\" (Allmusic.com)\, Mary Fahl is an expressive\, emotional singer/songwriter who first achieved fame as lead singer and co-founder of the mid-1990s NYC-based chamber-pop group October Project. The hallmark of their sound was Mary Fahl's awe-inspiring power vocals over gorgeous melodies played with passion and sophistication. Since the band disbanded\, Mary has released several compelling albums\, including the fantastic reworking of Pink Floyd's \"Dark Side of the Moon\" for V2 Records. She has also written and performed songs for several major motion pictures\, including the lead song (\"Going Home\") for the Civil War epic \"Gods and Generals.\" Mary's elegant\, cinematic songs draw on classical and world music sources\, American art song\, as well as thinking man's folk-pop she performs with an earthy\, viscerally powerful contralto. Mary's popular Ark shows include October Project songs as well as her strong and growing corpus of originals.
UID:75693-19568669@events.umich.edu
URL:https://events.umich.edu/event/75693
CLASS:PUBLIC
STATUS:CONFIRMED
CATEGORIES:
LOCATION:Off Campus Location
CONTACT:
END:VEVENT
END:VCALENDAR