BEGIN:VCALENDAR
VERSION:2.0
PRODID:-//UM//UM*Events//EN
CALSCALE:GREGORIAN
BEGIN:VTIMEZONE
TZID:America/Detroit
TZURL:http://tzurl.org/zoneinfo/America/Detroit
X-LIC-LOCATION:America/Detroit
BEGIN:DAYLIGHT
TZOFFSETFROM:-0500
TZOFFSETTO:-0400
TZNAME:EDT
DTSTART:20070311T020000
RRULE:FREQ=YEARLY;BYMONTH=3;BYDAY=2SU
END:DAYLIGHT
BEGIN:STANDARD
TZOFFSETFROM:-0400
TZOFFSETTO:-0500
TZNAME:EST
DTSTART:20071104T020000
RRULE:FREQ=YEARLY;BYMONTH=11;BYDAY=1SU
END:STANDARD
END:VTIMEZONE
BEGIN:VEVENT
DTSTAMP:20230324T120005
DTSTART;TZID=America/Detroit:20220514T000000
DTEND;TZID=America/Detroit:20220514T235959
SUMMARY:Community Service:Homework Help at The Children's Center
DESCRIPTION:The Homework Help program offers children assistance with their homework assignments. Children are encouraged to bring homework and are paired with a volunteer to assist them. This program is a critical service in helping children thrive. Volunteers give children the tools they need to be successful in school.Virtual and in-person volunteer opportunities are available. If you would like to volunteer\, please start the enrollment process by creating an account on the Children Center's Volunteer Site found HERE. After your account is created\, the Children's Center will reach out to you within 2 business days to answer any questions and discuss the next steps.In accordance with the CMS Vaccine Mandate\, those volunteering in-person at the Children’s Center are required to be fully vaccinated and must provide proof of full vaccination upon request.
UID:93885-21787819@events.umich.edu
URL:https://events.umich.edu/event/93885
CLASS:PUBLIC
STATUS:CONFIRMED
CATEGORIES:
LOCATION:The Children&#039;s Center 
CONTACT:
END:VEVENT
BEGIN:VEVENT
DTSTAMP:20220515T120005
DTSTART;TZID=America/Detroit:20220514T000000
DTEND;TZID=America/Detroit:20220514T235959
SUMMARY:Other:Regional Tournament
DESCRIPTION:4-team regional tourmanet. Will be playing games Friday-Sunday against Wisconsin\, Michigan State\, and Notre Dame. 
UID:95040-21788380@events.umich.edu
URL:https://events.umich.edu/event/95040
CLASS:PUBLIC
STATUS:CONFIRMED
CATEGORIES:
LOCATION:Woodside (Mauston) Sports Complex
CONTACT:
END:VEVENT
BEGIN:VEVENT
DTSTAMP:20211129T152100
DTSTART;TZID=America/Detroit:20220514T070000
DTEND;TZID=America/Detroit:20220514T235900
SUMMARY:Careers / Jobs:UROP 2022-2023 Rising Sophomore Applications Open
DESCRIPTION:The Undergraduate Research Opportunity Program is now accepting applications for students who will be rising sophomores during the 2022-2023 academic year.\n\nLearn more and apply today at http://myumi.ch/uropsophomore\n\nRising Sophomore Applications are being accepted on a rolling basis.
UID:89571-21664287@events.umich.edu
URL:https://events.umich.edu/event/89571
CLASS:PUBLIC
STATUS:CONFIRMED
CATEGORIES:AEM Featured,Applications,Engineering,Environment,first-generation,Humanities,Interdisciplinary,Life Science,Professional Development,Public Health,Recruiting,Research,research data,Social Sciences,Sophomore,Undergraduate,Undergraduate Students,Urop
LOCATION:Off Campus Location
CONTACT:
END:VEVENT
BEGIN:VEVENT
DTSTAMP:20220215T154124
DTSTART;TZID=America/Detroit:20220514T080000
DTEND;TZID=America/Detroit:20220514T230000
SUMMARY:Careers / Jobs:Apply to Changing Gears
DESCRIPTION:Changing Gears (CG) is a UROP program designed primarily for community college transfer students who will be attending the University of Michigan\, but also serves students transferring from 4 year institutions. Students in the CG Program become a part of an ongoing faculty-driven research\, scholarly or creative project in their field of interest. Students learn valuable academic skills\, applying these skills to their research project\, academics\, and future career opportunities\, while receiving academic credit or compensation for their efforts in research work.\n\nApplications are accepted on a rolling basis.\nLearn more about Changing Gears at: myumi.ch/uropcg
UID:92406-21690943@events.umich.edu
URL:https://events.umich.edu/event/92406
CLASS:PUBLIC
STATUS:CONFIRMED
CATEGORIES:AEM Featured,Applications,first-generation,Free,Interdisciplinary,Networking,Research,research data,Social Impact,The College Of Literature\, Science\, And The Arts,Transfer Students,Undergraduate,Undergraduate Students,Urop
LOCATION:Off Campus Location
CONTACT:
END:VEVENT
BEGIN:VEVENT
DTSTAMP:20220516T161143
DTSTART;TZID=America/Detroit:20220514T080000
DTEND;TZID=America/Detroit:20220514T190000
SUMMARY:Exhibition:Map ≠ Territory: Distortion and Power in Cartography
DESCRIPTION:More than strict representations of the world we inhabit\, maps are social constructions that embody the interests of their creators. Map ≠ Territory deconstructs maps that have been used to subjugate\, appropriate\, and oppress\, as well as the maps that counter that power through emancipation and advocacy. The exhibit critically engages with materials that span from the colonial era to modern-day Detroit.\n\nThe exhibit is available in the Clark Library (second floor Hatcher) during Hatcher Library hours. Please verify hours on the library's website: https://www.lib.umich.edu
UID:90765-21673605@events.umich.edu
URL:https://events.umich.edu/event/90765
CLASS:PUBLIC
STATUS:CONFIRMED
CATEGORIES:Library,Maps
LOCATION:Hatcher Graduate Library - Clark Library, 2nd Floor
CONTACT:
END:VEVENT
BEGIN:VEVENT
DTSTAMP:20220502T122639
DTSTART;TZID=America/Detroit:20220514T080000
DTEND;TZID=America/Detroit:20220514T230000
SUMMARY:Careers / Jobs:UROP First-Year Application Open
DESCRIPTION:Our \"Traditional UROP Program\" has been our flagship program running over 30 years. This Academic Year program\, in which students participate for both Fall and Winter Terms\, is designed for University of Michigan first and second year undergraduate students enrolled on the Ann Arbor campus who are seeking a first time research experience. Student research assistants work alongside a faculty member\, research scientist or professional practitioner on an ongoing or new research project.\n\nLearn more and apply at: myumi.ch/uropyearone\n\nApplications being accepted on a rolling basis.
UID:83923-21785168@events.umich.edu
URL:https://events.umich.edu/event/83923
CLASS:PUBLIC
STATUS:CONFIRMED
CATEGORIES:AEM Featured,Applications,first-generation,Free,Interdisciplinary,Networking,Research,Undergraduate,Undergraduate Students,Urop
LOCATION:
CONTACT:
END:VEVENT
BEGIN:VEVENT
DTSTAMP:20220117T095807
DTSTART;TZID=America/Detroit:20220514T080000
DTEND;TZID=America/Detroit:20220514T230000
SUMMARY:Careers / Jobs:UROP Research Scholars Program Application Open
DESCRIPTION:The UROP Research Scholars Program is designed for students who want to expand on their first year UROP experience and participate in UROP for a second year at an advanced level. In this program\, students build upon the knowledge gained in a first undergraduate research experience to further explore the connections between research\, a liberal arts education\, and communicating skills to advance their future professional goals. Students are expected to explore various written and oral possibilities for communicating their research process\, identifying the limits set by the discipline and the opportunities that lie beyond.\n\nApplications for the 2022-2023 academic year cohort open February 14th.\nPriority Deadline for the applications is March 18th\n\nLearn more at: myumi.ch/uroprs
UID:91080-21676527@events.umich.edu
URL:https://events.umich.edu/event/91080
CLASS:PUBLIC
STATUS:CONFIRMED
CATEGORIES:AEM Featured,Applications,Fellowship,first-generation,Interdisciplinary,Networking,Research,research data,Sophomore,The College Of Literature\, Science\, And The Arts,Undergraduate,Undergraduate Students,Urop
LOCATION:Off Campus Location
CONTACT:
END:VEVENT
BEGIN:VEVENT
DTSTAMP:20220429T103457
DTSTART;TZID=America/Detroit:20220514T090000
DTEND;TZID=America/Detroit:20220514T162000
SUMMARY:Conference / Symposium:9th International Conference of NextGen Korean Studies Scholars
DESCRIPTION:For full conference details\, please see: https://myumi.ch/3k3D2\n\nWe invite graduate students in Korean Studies across all disciplines to participate in the 9th International Conference of NextGen Korean Studies Scholars (NEKST) at the University of Michigan – Ann Arbor. The NEKST conference provides graduate students in Korean studies an opportunity to share their research\, receive feedback from faculty members and other graduate students\, and contribute towards the building of an interdisciplinary community of future Korean studies scholars.\n\nNEKST 2022 is planned to take place as an in-person conference. The two-day conference will feature panel presentations\, workshop sessions for dissertation chapters/advanced papers\, and a professional development workshop. Travel grants are available for participating graduate students. Lodging and meals will be provided during the conference.\n\nThe 9th NEKST conference is sponsored by the Nam Center for Korean Studies at the University of Michigan with support from the Academy of Korean Studies. The conference organizing committee is composed of graduate students at the University of Michigan.\n\nIf there is anything we can do to make this event accessible to you\, please contact us. Please be aware that advance notice is necessary as some accommodations may require more time for the university to arrange.
UID:89712-21665078@events.umich.edu
URL:https://events.umich.edu/event/89712
CLASS:PUBLIC
STATUS:CONFIRMED
CATEGORIES:Asia,Korea
LOCATION:Weiser Hall - Room 1010
CONTACT:
END:VEVENT
BEGIN:VEVENT
DTSTAMP:20220204T165932
DTSTART;TZID=America/Detroit:20220514T090000
DTEND;TZID=America/Detroit:20220514T180000
SUMMARY:Exhibition:Greek Manuscripts at the University of Michigan Library: A Celebration
DESCRIPTION:Splendors of the religious and artistic endeavors of Byzantine manuscript makers are on display in this exhibit of highlights from the Greek manuscript collection at the University of Michigan Library Special Collections Research Center. The collection — 110 codices (bound manuscripts) and fragments written in Greek from the fourth to the nineteenth centuries C.E. — is the largest such collection in the Western Hemisphere and provides unique insights into this era of achievement in textual transmission\, calligraphy\, illumination\, and bookbinding. The exhibit will be open during Audubon Room hours.\n\nA digital version of the exhibit will be available in the Audubon Room and online\, and allows visitors to explore other pages of the manuscripts on display and other manuscripts from the collection.\n\nThis exhibit celebrates two recent publications based on the collection: \n\n* Catalogue of Greek Manuscripts at the University of Michigan\, Ann Arbor. Vol. 1.\, by Nadezhda Kavrus-Hoffmann (Ann Arbor: University of Michigan Press\, 2021)\n\n* Tradition and Individuality: Bindings from the University of Michigan Greek Manuscript Collection\, by Julia Miller (Ann Arbor: The Legacy Press\, 2021)
UID:92000-21684911@events.umich.edu
URL:https://events.umich.edu/event/92000
CLASS:PUBLIC
STATUS:CONFIRMED
CATEGORIES:Classical Studies,Exhibition,Library
LOCATION:Hatcher Graduate Library - Audubon Room, 1st floor
CONTACT:
END:VEVENT
BEGIN:VEVENT
DTSTAMP:20220422T121507
DTSTART;TZID=America/Detroit:20220514T090000
DTEND;TZID=America/Detroit:20220514T140000
SUMMARY:Performance:Karen Howard\, University of St. Thomas
DESCRIPTION:Phyllis Kaplan Leadership Series: In this hands-on workshop designed for K-8 general music teachers\, participants will engage with music from a range of cultures that transfers to any setting. Strategies for engaging in ethical repertoire research\, avoiding cultural appropriation\, and re-contextualizing music for classes and ensembles will be explored.   \n\nFree registration required https://myumi.ch/3kn2A      \n\nGenerous support provided by the Phyllis Kaplan Endowed Fund for General Music Established in 2012 to promote excellence in teaching.
UID:94786-21768308@events.umich.edu
URL:https://events.umich.edu/event/94786
CLASS:PUBLIC
STATUS:CONFIRMED
CATEGORIES:Free
LOCATION:Earl V. Moore Building - Hankinson Rehearsal Hall
CONTACT:
END:VEVENT
BEGIN:VEVENT
DTSTAMP:20220529T063033
DTSTART;TZID=America/Detroit:20220514T090000
DTEND;TZID=America/Detroit:20220514T130000
SUMMARY:Careers / Jobs:PGCPS 'Teach With Us' ~ May 14th
DESCRIPTION:Prince George's County Public Schools in Maryland is hosting avirtual Recruitment\, Networking and Hiring Event. Join us to connect with our dynamic Principals and other school leaders to learn more about teaching opportunities in the district.\n\nTo register and book your interviewschedule\, click on the meeting link above to access the virtual platform\, Career Fair Plus.
UID:94926-21785674@events.umich.edu
URL:https://events.umich.edu/event/94926
CLASS:PUBLIC
STATUS:CONFIRMED
CATEGORIES:
LOCATION:
CONTACT:
END:VEVENT
BEGIN:VEVENT
DTSTAMP:20220419T113622
DTSTART;TZID=America/Detroit:20220514T100000
DTEND;TZID=America/Detroit:20220514T180000
SUMMARY:Exhibition:Mail Art: Postcards from the Pandemic
DESCRIPTION:View postcards from the pandemic. When the U-M Library and the Ann Arbor District Library asked community members to submit handmade postcards — mail art — in 2020 to capture the emotions and experiences of the Ann Arbor and U-M community during challenging pandemic times\, creative pieces of art started arriving at the library. About the submissions: https://myumi.ch/pdbeW\n\nStop by the Hatcher Library to view these physical artifacts that reflect how people were coping during the unexpected Covid-19 shutdown.
UID:94707-21761626@events.umich.edu
URL:https://events.umich.edu/event/94707
CLASS:PUBLIC
STATUS:CONFIRMED
CATEGORIES:Art,Free,Library
LOCATION:Hatcher Graduate Library - North Lobby (just off the Diag)
CONTACT:
END:VEVENT
BEGIN:VEVENT
DTSTAMP:20220505T104630
DTSTART;TZID=America/Detroit:20220514T100000
DTEND;TZID=America/Detroit:20220514T130000
SUMMARY:Conference / Symposium:Property and Being Under Colonial Conditions in Asia and Africa
DESCRIPTION:This conference will be hybrid. Join the Zoom meeting here: https://myumi.ch/1nMed\n\nHistorians have long proposed that property is as much about relationships between people as it is about the ownership of “things.” It is about both belonging\, and belongings. Property offers a window onto contestations over power\, social relations\, resources\, identity and political imagination. Histories of property in Asia and Africa\, in particular\, are intertwined with histories of colonial expansion\, the emergence of new forms of state power\, the creation of new categories/taxonomies of governance\, the appropriation of indigenous lands\, the reordering of social relations\, and new or reworked imaginaries of property \n\nThe purpose of this interdisciplinary conference\, “Property and Being under Colonial Conditions in Asia and Africa\,” is to explore how comparing intellectual\, cultural\, social\, political-economic\, and legal histories of property from African and Asian colonial contexts may help us rethink ideas about land\, ownership\, dispossession\, rights\, credit\, subjectivities\, and political imaginations. Participants will engage with the historically sedimented entanglements of colonial policy and indigenous practices\, developmentalist desires\, and cultural and climatic change. Conversations across these regions may thus enable new understandings of property histories.\n\nSchedule:\n\nFriday 13 May\, 2022\n\n9:00  Arrival in 1014 Tisch Hall\; pastries and coffee\n\n9:30 Welcome \nMeenu Deswal and Tara Weinberg\, University of Michigan\n\n9:45 Panel I: Racial Logics of Property\nCommentator: Brian Klein\n\nXafsa Ciise (University of California\, Santa Cruz)\, “Species Extinction and Terrorism: The Political Economy of Conservation Wars in Africa”\n\nClaire Cororaton (Cornell University)\, “On Property and the Philippine Democratic Experiment: Mateo Cariño’s Case and its Afterlives in Philippine History”\n\nSajdeep Soomal (University of Toronto)\, “Fatty Bitumen in Punjab”\n\n11:45 Lunch (Provided)\n\n13:00 Panel II: Of Collective Property\, Communities\, and Claim-Making \nCommentator: Jatin Dua\n\nAmelia Burke (University of Michigan)\, “Titles\, Rights and Shares: Individual Inheritance and Collective Lands in Colonial Morocco” \n\nDipanjan Mazumder (Vanderbilt University)\, “A sacred history of property: Vernacular legal culture in early modern Bengal” \n\nSauda Nabukenya (University of Michigan)\, “Struggles and strategies of the landless: contesting possession\, and the framing of legal regimes in Buganda”\n\nTara Weinberg (University of Michigan)\, “Imaginaries of collective property ownership in South Africa: a history of land buying syndicates in the early 20th century”\n\n15:00 - 15:15 Tea Break\n\n15:15 Keynotes and Reflections on Day 1:\nRohit De and Nafisa Essop Sheik\n\nSaturday 14 May\, 2022\n\n9:30 Arrival in 1014 Tisch Hall\; Pastries and coffee\n\n10:00 Panel III: Property\, Contracts\, and Being \nCommentator: Sanne Ravensbergen \n\nFusheng Luo (University of Michigan)\, “A Tale of Two Settlements: The Formation of the Treaty Port Property Regimes in the British Settlements in Shanghai and Guangzhou”\n\nHalimat Somotan (Carnegie Mellon University)\, “Property Owners\, Renters\, and Claims to Public Amenities in Colonial Lagos”\n\nLamin Manneh (University of Michigan)\, “‘Their reckless and dissipating husbands’: Property\, marriage\, and intercolonial trade in the British West African Settlements 1860-1888”\n\nMeenu Deswal (University of Michigan)\, “Consent and the Question of Women as Property in Colonial Law\, South Asia 1850-1920”\n\n12:00 Break\n\n12:15 Reflections on Day 2 and Conference Closing\n\n13:00 Departure lunch – walk over to LSA canopy for lunch
UID:94706-21761600@events.umich.edu
URL:https://events.umich.edu/event/94706
CLASS:PUBLIC
STATUS:CONFIRMED
CATEGORIES:African American,African Studies,African Studies Center,anthropology,Area Studies,Asia,Asian Languages And Cultures,Asian/pacific Islander American Studies,Center For South Asian Studies,Colonialism,Culture,Economics,Environment,Ethics,Faculty,Free,Global And Transnational,Graduate,Graduate And Professional Students,History,Human Right,Humanities,india,Interdisciplinary,International,international studies,multicultural,Social Impact,social justice,Social Sciences,sociology,south asia,south asian,South Asian Studies
LOCATION:Tisch Hall - 1014
CONTACT:
END:VEVENT
BEGIN:VEVENT
DTSTAMP:20220514T121527
DTSTART;TZID=America/Detroit:20220514T120000
SUMMARY:Sporting Event:Men's Tennis vs Texas
DESCRIPTION:Men's Tennis vs Texas
UID:95145-21788623@events.umich.edu
URL:https://events.umich.edu/event/95145
CLASS:PUBLIC
STATUS:CONFIRMED
CATEGORIES:Athletics,Athletics - Men's Tennis
LOCATION:Varsity Tennis Bldg
CONTACT:
END:VEVENT
BEGIN:VEVENT
DTSTAMP:20220529T063035
DTSTART;TZID=America/Detroit:20220514T120000
DTEND;TZID=America/Detroit:20220514T160000
SUMMARY:Careers / Jobs:The Hotel Hershey Open Interviews!
DESCRIPTION:Apply\, interview & get hired on the spot\, and start using your employee perks immediately after Orientation. Come and learn more aboutpart-time and full-time opportunities in our sweet departments at The Hotel Hershey.\n\nOpportunities include openings for Culinary\, Food & Beverage\, Front Office\, Housekeeping\, Recreation and more!\n\nRSVP below to secure your spot in-person on Saturday May 14\, between 12pm and 4pm: https://docs.google.com/forms/d/e/1FAIpQLSemilXzLox41CcujliHosMtnPOg_2Jmeedc3agz6n17pK4Rng/viewform\n\nAll applicants are encouraged to apply prior to the event at TheHotelHershey.com/jobs\n\nDate: Saturday May 14th\, 2022\n\nTime: 12pm-4pm\n\nLocation: The Hotel Hershey\, 100 Hotel Rd\, Hershey\, PA17033\n\nWhat to Bring:\n2 Original Forms of Identification Documents\nAll employees under 18 must bring an original work permit issued by a PA School District\n\nQuestions? Contact 717-520-5627 or Jobs@Hersheypa.com\n\nHershey Entertainment & Resorts is an Equal Opportunity Employer
UID:95046-21788388@events.umich.edu
URL:https://events.umich.edu/event/95046
CLASS:PUBLIC
STATUS:CONFIRMED
CATEGORIES:
LOCATION:100 Hotel Rd, Hershey, Pennsylvania 17033, United States
CONTACT:
END:VEVENT
BEGIN:VEVENT
DTSTAMP:20220406T105221
DTSTART;TZID=America/Detroit:20220514T123000
DTEND;TZID=America/Detroit:20220514T131500
SUMMARY:Presentation:Sky Tonight
DESCRIPTION:A live presentation on what to find in the sky tonight and for the coming few weeks. This presentation includes how to find the cardinal directions on your own by finding the north star\, current and upcoming constellations\, visible planets\, a few deep sky objects depending on the season\, and other interesting astronomical visualizations. \n\nThe state-of-the-art Planetarium & Dome Theater at the U-M Museum of Natural History transports visitors beyond distant stars and deep into the ocean from the comfort of reclining seats. Tickets $8. Tickets are available on the day of the show at the Museum Store.\nThe planetarium is operating at reduced capacity to maximize distancing between viewers and masks are required.
UID:89869-21737794@events.umich.edu
URL:https://events.umich.edu/event/89869
CLASS:PUBLIC
STATUS:CONFIRMED
CATEGORIES:Astronomy,Museum,natural history museum
LOCATION:Museum of Natural History
CONTACT:
END:VEVENT
BEGIN:VEVENT
DTSTAMP:20220316T115628
DTSTART;TZID=America/Detroit:20220514T130000
DTEND;TZID=America/Detroit:20220514T150000
SUMMARY:Performance:Matilda
DESCRIPTION:Onsale to the public on April 11!
UID:93495-21705069@events.umich.edu
URL:https://events.umich.edu/event/93495
CLASS:PUBLIC
STATUS:CONFIRMED
CATEGORIES:Mutotix
LOCATION:Power Center for the Performing Arts
CONTACT:
END:VEVENT
BEGIN:VEVENT
DTSTAMP:20220513T121527
DTSTART;TZID=America/Detroit:20220514T130000
SUMMARY:Sporting Event:Men's Tennis vs Texas
DESCRIPTION:Men's Tennis vs Texas
UID:95025-21788280@events.umich.edu
URL:https://events.umich.edu/event/95025
CLASS:PUBLIC
STATUS:CONFIRMED
CATEGORIES:Athletics,Athletics - Men's Tennis
LOCATION:Varsity Tennis Bldg
CONTACT:
END:VEVENT
BEGIN:VEVENT
DTSTAMP:20220323T103556
DTSTART;TZID=America/Detroit:20220514T133000
DTEND;TZID=America/Detroit:20220514T134500
SUMMARY:Presentation:Big Astronomy
DESCRIPTION:Big Astronomy focuses on three of Earth’s largest observatories in Chile’s rugged Andes Mountains and arid Atacama Desert. By avoiding clouds and light pollution\, mountain tops and dry deserts are ideal locations for Earth bound telescopes. Big Astronomy features the perspectives of not only astronomers\, but also the engineers\, technicians\, and support staff needed to keep these massive pieces of equipment running. Includes an abbreviated star talk.\n\nThe state-of-the-art Planetarium & Dome Theater at the U-M Museum of Natural History transports visitors beyond distant stars and deep into the ocean from the comfort of reclining seats. Tickets $8. Tickets are available on the day of the show at the Museum Store.\nThe planetarium is operating at less than 50% capacity to maximize distancing between viewers. As with all University of Michigan buildings\, masks are required.
UID:89871-21788261@events.umich.edu
URL:https://events.umich.edu/event/89871
CLASS:PUBLIC
STATUS:CONFIRMED
CATEGORIES:Astronomy,Museum,natural history museum
LOCATION:
CONTACT:
END:VEVENT
BEGIN:VEVENT
DTSTAMP:20220512T214537
DTSTART;TZID=America/Detroit:20220514T140000
DTEND;TZID=America/Detroit:20220514T150000
SUMMARY:Meeting:Ann Arbor CCL May Meeting (virtual)
DESCRIPTION:Worried about climate change? Wondering how you can make a real difference? Come to the monthly meeting of the Ann Arbor chapter of Citizens' Climate Lobby (CCL). CCL is a national\, grassroots organization working to enact federal legislation to significantly reduce greenhouse gas emissions.\n\nOur “Spotlight” guest\, Dr. Michael Roman\, will talk about the Climate Displaced Persons Act and the effects the climate crisis has had on refugees seeking asylum. Mike is a former Peace Corps Volunteer\, Fulbright Fellow\, co-creator of the social media platform Humans of Kiribati\, and co-creator of the publications\, American Asylee\, and When There was No Money\n\nOur business meeting following the presentation will include a discussion on campaign season work.\n\nAll are welcome! Meeting begins at 2pm. Zoom line opens at 1:45 for anyone who would like to learn more about CCL or ask questions.\n\nRegister for the meeting here: https://forms.gle/cyp8VgQz4xEQN74h9
UID:95117-21788485@events.umich.edu
URL:https://events.umich.edu/event/95117
CLASS:PUBLIC
STATUS:CONFIRMED
CATEGORIES:Activism,Climate Change,Environment,Free,Politics,Public Policy,Social Justice,Sustainability,Volunteer
LOCATION:Off Campus Location
CONTACT:
END:VEVENT
BEGIN:VEVENT
DTSTAMP:20220513T112048
DTSTART;TZID=America/Detroit:20220514T140000
DTEND;TZID=America/Detroit:20220514T150000
SUMMARY:Other:In-Person Saturday Sampler Tour | A Glimpse of the Kelsey
DESCRIPTION:Prepare your passport! This tour will take you back in time to the ancient civilizations of Mesopotamia\, Greece\, Egypt\, and Rome through highlights of the artifacts on display in the Kelsey Museum.\n\nMasks are optional inside the Kelsey. For more information about our COVID procedures and how to prepare for your visit\, please visit our website\, https://myumi.ch/9PG1P.\n\nSaturday Sampler tours are free and open to all visitors. If you are a person with a disability who requires accommodation to attend this tour\, please contact the education office (734-647-4167 or kelsey.ed@umich.edu) at least two weeks in advance. We ask for advance notice as some accommodations may require more time for the University to arrange.
UID:94524-21747492@events.umich.edu
URL:https://events.umich.edu/event/94524
CLASS:PUBLIC
STATUS:CONFIRMED
CATEGORIES:Ancient Egypt,Archaeology,Classical Studies,Free,Tour
LOCATION:Kelsey Museum of Archaeology
CONTACT:
END:VEVENT
BEGIN:VEVENT
DTSTAMP:20220406T105221
DTSTART;TZID=America/Detroit:20220514T143000
DTEND;TZID=America/Detroit:20220514T151500
SUMMARY:Presentation:Sky Tonight
DESCRIPTION:A live presentation on what to find in the sky tonight and for the coming few weeks. This presentation includes how to find the cardinal directions on your own by finding the north star\, current and upcoming constellations\, visible planets\, a few deep sky objects depending on the season\, and other interesting astronomical visualizations. \n\nThe state-of-the-art Planetarium & Dome Theater at the U-M Museum of Natural History transports visitors beyond distant stars and deep into the ocean from the comfort of reclining seats. Tickets $8. Tickets are available on the day of the show at the Museum Store.\nThe planetarium is operating at reduced capacity to maximize distancing between viewers and masks are required.
UID:89869-21737820@events.umich.edu
URL:https://events.umich.edu/event/89869
CLASS:PUBLIC
STATUS:CONFIRMED
CATEGORIES:Astronomy,Museum,natural history museum
LOCATION:Museum of Natural History
CONTACT:
END:VEVENT
BEGIN:VEVENT
DTSTAMP:20220316T115628
DTSTART;TZID=America/Detroit:20220514T190000
DTEND;TZID=America/Detroit:20220514T210000
SUMMARY:Performance:Matilda
DESCRIPTION:Onsale to the public on April 11!
UID:93495-21705067@events.umich.edu
URL:https://events.umich.edu/event/93495
CLASS:PUBLIC
STATUS:CONFIRMED
CATEGORIES:Mutotix
LOCATION:Power Center for the Performing Arts
CONTACT:
END:VEVENT
END:VCALENDAR