BEGIN:VCALENDAR
VERSION:2.0
PRODID:-//UM//UM*Events//EN
CALSCALE:GREGORIAN
BEGIN:VTIMEZONE
TZID:America/Detroit
TZURL:http://tzurl.org/zoneinfo/America/Detroit
X-LIC-LOCATION:America/Detroit
BEGIN:DAYLIGHT
TZOFFSETFROM:-0500
TZOFFSETTO:-0400
TZNAME:EDT
DTSTART:20070311T020000
RRULE:FREQ=YEARLY;BYMONTH=3;BYDAY=2SU
END:DAYLIGHT
BEGIN:STANDARD
TZOFFSETFROM:-0400
TZOFFSETTO:-0500
TZNAME:EST
DTSTART:20071104T020000
RRULE:FREQ=YEARLY;BYMONTH=11;BYDAY=1SU
END:STANDARD
END:VTIMEZONE
BEGIN:VEVENT
DTSTAMP:20230324T120005
DTSTART;TZID=America/Detroit:20220515T000000
DTEND;TZID=America/Detroit:20220515T235959
SUMMARY:Community Service:Homework Help at The Children's Center
DESCRIPTION:The Homework Help program offers children assistance with their homework assignments. Children are encouraged to bring homework and are paired with a volunteer to assist them. This program is a critical service in helping children thrive. Volunteers give children the tools they need to be successful in school.Virtual and in-person volunteer opportunities are available. If you would like to volunteer\, please start the enrollment process by creating an account on the Children Center's Volunteer Site found HERE. After your account is created\, the Children's Center will reach out to you within 2 business days to answer any questions and discuss the next steps.In accordance with the CMS Vaccine Mandate\, those volunteering in-person at the Children’s Center are required to be fully vaccinated and must provide proof of full vaccination upon request.
UID:93885-21787820@events.umich.edu
URL:https://events.umich.edu/event/93885
CLASS:PUBLIC
STATUS:CONFIRMED
CATEGORIES:
LOCATION:The Children&#039;s Center 
CONTACT:
END:VEVENT
BEGIN:VEVENT
DTSTAMP:20220515T120005
DTSTART;TZID=America/Detroit:20220515T000000
DTEND;TZID=America/Detroit:20220515T235959
SUMMARY:Other:Regional Tournament
DESCRIPTION:4-team regional tourmanet. Will be playing games Friday-Sunday against Wisconsin\, Michigan State\, and Notre Dame. 
UID:95040-21788381@events.umich.edu
URL:https://events.umich.edu/event/95040
CLASS:PUBLIC
STATUS:CONFIRMED
CATEGORIES:
LOCATION:Woodside (Mauston) Sports Complex
CONTACT:
END:VEVENT
BEGIN:VEVENT
DTSTAMP:20211129T152100
DTSTART;TZID=America/Detroit:20220515T070000
DTEND;TZID=America/Detroit:20220515T235900
SUMMARY:Careers / Jobs:UROP 2022-2023 Rising Sophomore Applications Open
DESCRIPTION:The Undergraduate Research Opportunity Program is now accepting applications for students who will be rising sophomores during the 2022-2023 academic year.\n\nLearn more and apply today at http://myumi.ch/uropsophomore\n\nRising Sophomore Applications are being accepted on a rolling basis.
UID:89571-21664288@events.umich.edu
URL:https://events.umich.edu/event/89571
CLASS:PUBLIC
STATUS:CONFIRMED
CATEGORIES:AEM Featured,Applications,Engineering,Environment,first-generation,Humanities,Interdisciplinary,Life Science,Professional Development,Public Health,Recruiting,Research,research data,Social Sciences,Sophomore,Undergraduate,Undergraduate Students,Urop
LOCATION:Off Campus Location
CONTACT:
END:VEVENT
BEGIN:VEVENT
DTSTAMP:20220215T154124
DTSTART;TZID=America/Detroit:20220515T080000
DTEND;TZID=America/Detroit:20220515T230000
SUMMARY:Careers / Jobs:Apply to Changing Gears
DESCRIPTION:Changing Gears (CG) is a UROP program designed primarily for community college transfer students who will be attending the University of Michigan\, but also serves students transferring from 4 year institutions. Students in the CG Program become a part of an ongoing faculty-driven research\, scholarly or creative project in their field of interest. Students learn valuable academic skills\, applying these skills to their research project\, academics\, and future career opportunities\, while receiving academic credit or compensation for their efforts in research work.\n\nApplications are accepted on a rolling basis.\nLearn more about Changing Gears at: myumi.ch/uropcg
UID:92406-21690944@events.umich.edu
URL:https://events.umich.edu/event/92406
CLASS:PUBLIC
STATUS:CONFIRMED
CATEGORIES:AEM Featured,Applications,first-generation,Free,Interdisciplinary,Networking,Research,research data,Social Impact,The College Of Literature\, Science\, And The Arts,Transfer Students,Undergraduate,Undergraduate Students,Urop
LOCATION:Off Campus Location
CONTACT:
END:VEVENT
BEGIN:VEVENT
DTSTAMP:20220516T161143
DTSTART;TZID=America/Detroit:20220515T080000
DTEND;TZID=America/Detroit:20220515T190000
SUMMARY:Exhibition:Map ≠ Territory: Distortion and Power in Cartography
DESCRIPTION:More than strict representations of the world we inhabit\, maps are social constructions that embody the interests of their creators. Map ≠ Territory deconstructs maps that have been used to subjugate\, appropriate\, and oppress\, as well as the maps that counter that power through emancipation and advocacy. The exhibit critically engages with materials that span from the colonial era to modern-day Detroit.\n\nThe exhibit is available in the Clark Library (second floor Hatcher) during Hatcher Library hours. Please verify hours on the library's website: https://www.lib.umich.edu
UID:90765-21673606@events.umich.edu
URL:https://events.umich.edu/event/90765
CLASS:PUBLIC
STATUS:CONFIRMED
CATEGORIES:Library,Maps
LOCATION:Hatcher Graduate Library - Clark Library, 2nd Floor
CONTACT:
END:VEVENT
BEGIN:VEVENT
DTSTAMP:20220502T122639
DTSTART;TZID=America/Detroit:20220515T080000
DTEND;TZID=America/Detroit:20220515T230000
SUMMARY:Careers / Jobs:UROP First-Year Application Open
DESCRIPTION:Our \"Traditional UROP Program\" has been our flagship program running over 30 years. This Academic Year program\, in which students participate for both Fall and Winter Terms\, is designed for University of Michigan first and second year undergraduate students enrolled on the Ann Arbor campus who are seeking a first time research experience. Student research assistants work alongside a faculty member\, research scientist or professional practitioner on an ongoing or new research project.\n\nLearn more and apply at: myumi.ch/uropyearone\n\nApplications being accepted on a rolling basis.
UID:83923-21785169@events.umich.edu
URL:https://events.umich.edu/event/83923
CLASS:PUBLIC
STATUS:CONFIRMED
CATEGORIES:AEM Featured,Applications,first-generation,Free,Interdisciplinary,Networking,Research,Undergraduate,Undergraduate Students,Urop
LOCATION:
CONTACT:
END:VEVENT
BEGIN:VEVENT
DTSTAMP:20220117T095807
DTSTART;TZID=America/Detroit:20220515T080000
DTEND;TZID=America/Detroit:20220515T230000
SUMMARY:Careers / Jobs:UROP Research Scholars Program Application Open
DESCRIPTION:The UROP Research Scholars Program is designed for students who want to expand on their first year UROP experience and participate in UROP for a second year at an advanced level. In this program\, students build upon the knowledge gained in a first undergraduate research experience to further explore the connections between research\, a liberal arts education\, and communicating skills to advance their future professional goals. Students are expected to explore various written and oral possibilities for communicating their research process\, identifying the limits set by the discipline and the opportunities that lie beyond.\n\nApplications for the 2022-2023 academic year cohort open February 14th.\nPriority Deadline for the applications is March 18th\n\nLearn more at: myumi.ch/uroprs
UID:91080-21676528@events.umich.edu
URL:https://events.umich.edu/event/91080
CLASS:PUBLIC
STATUS:CONFIRMED
CATEGORIES:AEM Featured,Applications,Fellowship,first-generation,Interdisciplinary,Networking,Research,research data,Sophomore,The College Of Literature\, Science\, And The Arts,Undergraduate,Undergraduate Students,Urop
LOCATION:Off Campus Location
CONTACT:
END:VEVENT
BEGIN:VEVENT
DTSTAMP:20220204T165932
DTSTART;TZID=America/Detroit:20220515T090000
DTEND;TZID=America/Detroit:20220515T180000
SUMMARY:Exhibition:Greek Manuscripts at the University of Michigan Library: A Celebration
DESCRIPTION:Splendors of the religious and artistic endeavors of Byzantine manuscript makers are on display in this exhibit of highlights from the Greek manuscript collection at the University of Michigan Library Special Collections Research Center. The collection — 110 codices (bound manuscripts) and fragments written in Greek from the fourth to the nineteenth centuries C.E. — is the largest such collection in the Western Hemisphere and provides unique insights into this era of achievement in textual transmission\, calligraphy\, illumination\, and bookbinding. The exhibit will be open during Audubon Room hours.\n\nA digital version of the exhibit will be available in the Audubon Room and online\, and allows visitors to explore other pages of the manuscripts on display and other manuscripts from the collection.\n\nThis exhibit celebrates two recent publications based on the collection: \n\n* Catalogue of Greek Manuscripts at the University of Michigan\, Ann Arbor. Vol. 1.\, by Nadezhda Kavrus-Hoffmann (Ann Arbor: University of Michigan Press\, 2021)\n\n* Tradition and Individuality: Bindings from the University of Michigan Greek Manuscript Collection\, by Julia Miller (Ann Arbor: The Legacy Press\, 2021)
UID:92000-21684912@events.umich.edu
URL:https://events.umich.edu/event/92000
CLASS:PUBLIC
STATUS:CONFIRMED
CATEGORIES:Classical Studies,Exhibition,Library
LOCATION:Hatcher Graduate Library - Audubon Room, 1st floor
CONTACT:
END:VEVENT
BEGIN:VEVENT
DTSTAMP:20220515T181520
DTSTART;TZID=America/Detroit:20220515T090000
DTEND;TZID=America/Detroit:20220515T170000
SUMMARY:Exhibition:Romare Bearden: Abstraction
DESCRIPTION:Discover the lost decade of a culturally important artist.\n \nBetween 1952 and 1964\, Romare Bearden created a large body of abstract watercolors\, oil paintings\, and collages. Exhibited with success at the time of their execution\, these artworks are little known today. Nonetheless\, they directly inform the collages for which Bearden is now best known.\n \nThis exhibition provides a chronology and context for the period during which he produced his abstractions\, filling in missing information and bookending this decade of work. The beginning of this show includes examples of the artist’s figural abstract watercolors from the 1940s\, as well as some of his earliest abstract works in watercolor and collage from the 1950s. From there\, the show moves on to explore Bearden’s large-scale and miniature abstractions\, as well as examples of his later work from the mid-1960s. Altogether\, Romare Bearden: Abstraction tells the story of a historically neglected but extraordinary and critically important aspect of his body of work.\n\nRomare Bearden: Abstraction is organized by the American Federation of Arts and the Neuberger Museum of Art of Purchase College\, State University of New York. The exhibition is curated by Tracy Fitzpatrick\, Director\, Neuberger Museum of Art. The presentation at the University of Michigan Museum of Art is coordinated by Ozi Uduma\, Assistant Curator of Global Contemporary Art.\n\nThe national tour of Romare Bearden: Abstraction is sponsored by Morgan Stanley.\n\nLead support for UMMA’s presentation is provided by the University of Michigan Office of the Provost\, the Eleanor Noyes Crumpacker Endowment Fund\, and the Ross School of Business. Additional generous support is provided by the University of Michigan Department of History of Art and Department of Afroamerican and African Studies.
UID:88259-21651940@events.umich.edu
URL:https://events.umich.edu/event/88259
CLASS:PUBLIC
STATUS:CONFIRMED
CATEGORIES:Art,Exhibition,Museum,UMMA
LOCATION:Museum of Art - A. Alfred Taubman Gallery I
CONTACT:
END:VEVENT
BEGIN:VEVENT
DTSTAMP:20220406T105221
DTSTART;TZID=America/Detroit:20220515T123000
DTEND;TZID=America/Detroit:20220515T131500
SUMMARY:Presentation:Sky Tonight
DESCRIPTION:A live presentation on what to find in the sky tonight and for the coming few weeks. This presentation includes how to find the cardinal directions on your own by finding the north star\, current and upcoming constellations\, visible planets\, a few deep sky objects depending on the season\, and other interesting astronomical visualizations. \n\nThe state-of-the-art Planetarium & Dome Theater at the U-M Museum of Natural History transports visitors beyond distant stars and deep into the ocean from the comfort of reclining seats. Tickets $8. Tickets are available on the day of the show at the Museum Store.\nThe planetarium is operating at reduced capacity to maximize distancing between viewers and masks are required.
UID:89869-21737799@events.umich.edu
URL:https://events.umich.edu/event/89869
CLASS:PUBLIC
STATUS:CONFIRMED
CATEGORIES:Astronomy,Museum,natural history museum
LOCATION:Museum of Natural History
CONTACT:
END:VEVENT
BEGIN:VEVENT
DTSTAMP:20220419T113622
DTSTART;TZID=America/Detroit:20220515T130000
DTEND;TZID=America/Detroit:20220515T190000
SUMMARY:Exhibition:Mail Art: Postcards from the Pandemic
DESCRIPTION:View postcards from the pandemic. When the U-M Library and the Ann Arbor District Library asked community members to submit handmade postcards — mail art — in 2020 to capture the emotions and experiences of the Ann Arbor and U-M community during challenging pandemic times\, creative pieces of art started arriving at the library. About the submissions: https://myumi.ch/pdbeW\n\nStop by the Hatcher Library to view these physical artifacts that reflect how people were coping during the unexpected Covid-19 shutdown.
UID:94707-21761627@events.umich.edu
URL:https://events.umich.edu/event/94707
CLASS:PUBLIC
STATUS:CONFIRMED
CATEGORIES:Art,Free,Library
LOCATION:Hatcher Graduate Library - North Lobby (just off the Diag)
CONTACT:
END:VEVENT
BEGIN:VEVENT
DTSTAMP:20220323T103556
DTSTART;TZID=America/Detroit:20220515T133000
DTEND;TZID=America/Detroit:20220515T134500
SUMMARY:Presentation:Big Astronomy
DESCRIPTION:Big Astronomy focuses on three of Earth’s largest observatories in Chile’s rugged Andes Mountains and arid Atacama Desert. By avoiding clouds and light pollution\, mountain tops and dry deserts are ideal locations for Earth bound telescopes. Big Astronomy features the perspectives of not only astronomers\, but also the engineers\, technicians\, and support staff needed to keep these massive pieces of equipment running. Includes an abbreviated star talk.\n\nThe state-of-the-art Planetarium & Dome Theater at the U-M Museum of Natural History transports visitors beyond distant stars and deep into the ocean from the comfort of reclining seats. Tickets $8. Tickets are available on the day of the show at the Museum Store.\nThe planetarium is operating at less than 50% capacity to maximize distancing between viewers. As with all University of Michigan buildings\, masks are required.
UID:89871-21788264@events.umich.edu
URL:https://events.umich.edu/event/89871
CLASS:PUBLIC
STATUS:CONFIRMED
CATEGORIES:Astronomy,Museum,natural history museum
LOCATION:Museum of Natural History
CONTACT:
END:VEVENT
BEGIN:VEVENT
DTSTAMP:20220506T154013
DTSTART;TZID=America/Detroit:20220515T134500
DTEND;TZID=America/Detroit:20220515T153000
SUMMARY:Social / Informal Gathering:WhirlyBall with GradSWE
DESCRIPTION:Come join us as we take a trip to play Whirly Ball! WhirlyBall is a combination of basketball\, lacrosse played from electric bumper cars. This is truly a great experience to explore Ann Arbor. Wear tennis shoes if you'd like to play. Masks are required and food will be provided to go. Carpooling is encouraged. This event is open to all graduate women engineers and their allies in UM Engineering.\n\n RSVP is required.\nContact: Tasmine Clement at  tasmine@umich.edu
UID:94904-21783940@events.umich.edu
URL:https://events.umich.edu/event/94904
CLASS:PUBLIC
STATUS:CONFIRMED
CATEGORIES:Graduate Students,Michigan Engineering,Undergraduate Students
LOCATION:Off Campus Location
CONTACT:
END:VEVENT
BEGIN:VEVENT
DTSTAMP:20220506T181504
DTSTART;TZID=America/Detroit:20220515T140000
SUMMARY:Performance:Helen Bryant\, piano
DESCRIPTION:This scholarship fund and annual recital event was established by Ann (BS '57) and Charles Hutchins (BSE '57) in memory of former music teacher Frances B. Furlong to provide scholarships for outstanding music students in the School of Music\, Theatre & Dance.\n\nattend in person or watch online at https://myumi.ch/BrittonWatch
UID:94753-21765254@events.umich.edu
URL:https://events.umich.edu/event/94753
CLASS:PUBLIC
STATUS:CONFIRMED
CATEGORIES:Free
LOCATION:Earl V. Moore Building - Britton Recital Hall
CONTACT:
END:VEVENT
BEGIN:VEVENT
DTSTAMP:20220316T115628
DTSTART;TZID=America/Detroit:20220515T140000
DTEND;TZID=America/Detroit:20220515T160000
SUMMARY:Performance:Matilda
DESCRIPTION:Onsale to the public on April 11!
UID:93495-21705068@events.umich.edu
URL:https://events.umich.edu/event/93495
CLASS:PUBLIC
STATUS:CONFIRMED
CATEGORIES:Mutotix
LOCATION:Power Center for the Performing Arts
CONTACT:
END:VEVENT
BEGIN:VEVENT
DTSTAMP:20220406T105221
DTSTART;TZID=America/Detroit:20220515T143000
DTEND;TZID=America/Detroit:20220515T151500
SUMMARY:Presentation:Sky Tonight
DESCRIPTION:A live presentation on what to find in the sky tonight and for the coming few weeks. This presentation includes how to find the cardinal directions on your own by finding the north star\, current and upcoming constellations\, visible planets\, a few deep sky objects depending on the season\, and other interesting astronomical visualizations. \n\nThe state-of-the-art Planetarium & Dome Theater at the U-M Museum of Natural History transports visitors beyond distant stars and deep into the ocean from the comfort of reclining seats. Tickets $8. Tickets are available on the day of the show at the Museum Store.\nThe planetarium is operating at reduced capacity to maximize distancing between viewers and masks are required.
UID:89869-21737825@events.umich.edu
URL:https://events.umich.edu/event/89869
CLASS:PUBLIC
STATUS:CONFIRMED
CATEGORIES:Astronomy,Museum,natural history museum
LOCATION:Museum of Natural History
CONTACT:
END:VEVENT
BEGIN:VEVENT
DTSTAMP:20220515T181024
DTSTART;TZID=America/Detroit:20220515T150000
SUMMARY:Performance:A Concert at the Hill
DESCRIPTION:With Maestro Damien Crutcher fcbmusic.org. \nPlease visit https://mutotix.umich.edu/3384/3386 for more detail.
UID:94376-21736321@events.umich.edu
URL:https://events.umich.edu/event/94376
CLASS:PUBLIC
STATUS:CONFIRMED
CATEGORIES:Music,Mutotix
LOCATION:GA - Hill
CONTACT:
END:VEVENT
BEGIN:VEVENT
DTSTAMP:20220221T172856
DTSTART;TZID=America/Detroit:20220515T193000
DTEND;TZID=America/Detroit:20220515T223000
SUMMARY:Performance:Marc Cohn
DESCRIPTION:After winning a Grammy for his soulful ballad \"Walking in Memphis\,\" Marc Cohn solidified his place as one of this generation's most compelling singer/songwriters\, combining the precision of a brilliant tunesmith with the passion of a great soul man. He's a natural storyteller\, balancing the exuberant with the poignant\, and able to distill universal truth out of his often romantic\, drawn-from-life tales. Marc has become an Ark favorite\, one of those artists who form a unique bond with audiences in the special Ark space\, and his shows sell out early. Come by and pick up a copy of Marc's new release\, \"Work to Do\,\" recorded with the famed Blind Boys of Alabama.\n---\nProof of COVID vaccination required for entry. By purchasing a ticket you agree that you and your guests will comply with all laws\, orders\, ordinances\, regulations and health and safety guidance adopted by the State of Michigan\, the County of Washtenaw and The Ark\, including any guidelines in place at the time of the show. Attendees who do not comply will be asked to leave. Policies will be updated as circumstances and requirements change in our community. Please review The Ark’s current COVID-related information before attending a show.
UID:92634-21693813@events.umich.edu
URL:https://events.umich.edu/event/92634
CLASS:PUBLIC
STATUS:CONFIRMED
CATEGORIES:Music,The Ark
LOCATION:Off Campus Location
CONTACT:
END:VEVENT
END:VCALENDAR