BEGIN:VCALENDAR
VERSION:2.0
PRODID:-//UM//UM*Events//EN
CALSCALE:GREGORIAN
BEGIN:VTIMEZONE
TZID:America/Detroit
TZURL:http://tzurl.org/zoneinfo/America/Detroit
X-LIC-LOCATION:America/Detroit
BEGIN:DAYLIGHT
TZOFFSETFROM:-0500
TZOFFSETTO:-0400
TZNAME:EDT
DTSTART:20070311T020000
RRULE:FREQ=YEARLY;BYMONTH=3;BYDAY=2SU
END:DAYLIGHT
BEGIN:STANDARD
TZOFFSETFROM:-0400
TZOFFSETTO:-0500
TZNAME:EST
DTSTART:20071104T020000
RRULE:FREQ=YEARLY;BYMONTH=11;BYDAY=1SU
END:STANDARD
END:VTIMEZONE
BEGIN:VEVENT
DTSTAMP:20220522T180005
DTSTART;TZID=America/Detroit:20220521T000000
DTEND;TZID=America/Detroit:20220521T235959
SUMMARY:Other:ACRA
DESCRIPTION:Rowing Regatta in Oak Ridge\, TN
UID:95037-21788372@events.umich.edu
URL:https://events.umich.edu/event/95037
CLASS:PUBLIC
STATUS:CONFIRMED
CATEGORIES:
LOCATION:Oak Ridge, TN
CONTACT:
END:VEVENT
BEGIN:VEVENT
DTSTAMP:20230324T120005
DTSTART;TZID=America/Detroit:20220521T000000
DTEND;TZID=America/Detroit:20220521T235959
SUMMARY:Community Service:Homework Help at The Children's Center
DESCRIPTION:The Homework Help program offers children assistance with their homework assignments. Children are encouraged to bring homework and are paired with a volunteer to assist them. This program is a critical service in helping children thrive. Volunteers give children the tools they need to be successful in school.Virtual and in-person volunteer opportunities are available. If you would like to volunteer\, please start the enrollment process by creating an account on the Children Center's Volunteer Site found HERE. After your account is created\, the Children's Center will reach out to you within 2 business days to answer any questions and discuss the next steps.In accordance with the CMS Vaccine Mandate\, those volunteering in-person at the Children’s Center are required to be fully vaccinated and must provide proof of full vaccination upon request.
UID:93885-21787826@events.umich.edu
URL:https://events.umich.edu/event/93885
CLASS:PUBLIC
STATUS:CONFIRMED
CATEGORIES:
LOCATION:The Children&#039;s Center 
CONTACT:
END:VEVENT
BEGIN:VEVENT
DTSTAMP:20220525T180012
DTSTART;TZID=America/Detroit:20220521T000000
DTEND;TZID=America/Detroit:20220521T235959
SUMMARY:Sporting Event:ICSA Open and Women’s Fleet Race Nationals
DESCRIPTION:National championship fleet race dingy regatta
UID:95143-21788616@events.umich.edu
URL:https://events.umich.edu/event/95143
CLASS:PUBLIC
STATUS:CONFIRMED
CATEGORIES:
LOCATION:Tulane, New Orleans, LA
CONTACT:
END:VEVENT
BEGIN:VEVENT
DTSTAMP:20220522T120005
DTSTART;TZID=America/Detroit:20220521T000000
DTEND;TZID=America/Detroit:20220521T235959
SUMMARY:Other:NCSA World Series Tournament
DESCRIPTION:Michigan Club Softball is heading to Georgia!!! We are excited to be participating in the Nationals tournament for the title this year!
UID:94882-21788166@events.umich.edu
URL:https://events.umich.edu/event/94882
CLASS:PUBLIC
STATUS:CONFIRMED
CATEGORIES:
LOCATION:Softball Complex
CONTACT:
END:VEVENT
BEGIN:VEVENT
DTSTAMP:20211129T152100
DTSTART;TZID=America/Detroit:20220521T070000
DTEND;TZID=America/Detroit:20220521T235900
SUMMARY:Careers / Jobs:UROP 2022-2023 Rising Sophomore Applications Open
DESCRIPTION:The Undergraduate Research Opportunity Program is now accepting applications for students who will be rising sophomores during the 2022-2023 academic year.\n\nLearn more and apply today at http://myumi.ch/uropsophomore\n\nRising Sophomore Applications are being accepted on a rolling basis.
UID:89571-21664294@events.umich.edu
URL:https://events.umich.edu/event/89571
CLASS:PUBLIC
STATUS:CONFIRMED
CATEGORIES:AEM Featured,Applications,Engineering,Environment,first-generation,Humanities,Interdisciplinary,Life Science,Professional Development,Public Health,Recruiting,Research,research data,Social Sciences,Sophomore,Undergraduate,Undergraduate Students,Urop
LOCATION:Off Campus Location
CONTACT:
END:VEVENT
BEGIN:VEVENT
DTSTAMP:20220215T154124
DTSTART;TZID=America/Detroit:20220521T080000
DTEND;TZID=America/Detroit:20220521T230000
SUMMARY:Careers / Jobs:Apply to Changing Gears
DESCRIPTION:Changing Gears (CG) is a UROP program designed primarily for community college transfer students who will be attending the University of Michigan\, but also serves students transferring from 4 year institutions. Students in the CG Program become a part of an ongoing faculty-driven research\, scholarly or creative project in their field of interest. Students learn valuable academic skills\, applying these skills to their research project\, academics\, and future career opportunities\, while receiving academic credit or compensation for their efforts in research work.\n\nApplications are accepted on a rolling basis.\nLearn more about Changing Gears at: myumi.ch/uropcg
UID:92406-21690950@events.umich.edu
URL:https://events.umich.edu/event/92406
CLASS:PUBLIC
STATUS:CONFIRMED
CATEGORIES:AEM Featured,Applications,first-generation,Free,Interdisciplinary,Networking,Research,research data,Social Impact,The College Of Literature\, Science\, And The Arts,Transfer Students,Undergraduate,Undergraduate Students,Urop
LOCATION:Off Campus Location
CONTACT:
END:VEVENT
BEGIN:VEVENT
DTSTAMP:20220516T161143
DTSTART;TZID=America/Detroit:20220521T080000
DTEND;TZID=America/Detroit:20220521T190000
SUMMARY:Exhibition:Map ≠ Territory: Distortion and Power in Cartography
DESCRIPTION:More than strict representations of the world we inhabit\, maps are social constructions that embody the interests of their creators. Map ≠ Territory deconstructs maps that have been used to subjugate\, appropriate\, and oppress\, as well as the maps that counter that power through emancipation and advocacy. The exhibit critically engages with materials that span from the colonial era to modern-day Detroit.\n\nThe exhibit is available in the Clark Library (second floor Hatcher) during Hatcher Library hours. Please verify hours on the library's website: https://www.lib.umich.edu
UID:90765-21673612@events.umich.edu
URL:https://events.umich.edu/event/90765
CLASS:PUBLIC
STATUS:CONFIRMED
CATEGORIES:Library,Maps
LOCATION:Hatcher Graduate Library - Clark Library, 2nd Floor
CONTACT:
END:VEVENT
BEGIN:VEVENT
DTSTAMP:20220502T122639
DTSTART;TZID=America/Detroit:20220521T080000
DTEND;TZID=America/Detroit:20220521T230000
SUMMARY:Careers / Jobs:UROP First-Year Application Open
DESCRIPTION:Our \"Traditional UROP Program\" has been our flagship program running over 30 years. This Academic Year program\, in which students participate for both Fall and Winter Terms\, is designed for University of Michigan first and second year undergraduate students enrolled on the Ann Arbor campus who are seeking a first time research experience. Student research assistants work alongside a faculty member\, research scientist or professional practitioner on an ongoing or new research project.\n\nLearn more and apply at: myumi.ch/uropyearone\n\nApplications being accepted on a rolling basis.
UID:83923-21785175@events.umich.edu
URL:https://events.umich.edu/event/83923
CLASS:PUBLIC
STATUS:CONFIRMED
CATEGORIES:AEM Featured,Applications,first-generation,Free,Interdisciplinary,Networking,Research,Undergraduate,Undergraduate Students,Urop
LOCATION:
CONTACT:
END:VEVENT
BEGIN:VEVENT
DTSTAMP:20220117T095807
DTSTART;TZID=America/Detroit:20220521T080000
DTEND;TZID=America/Detroit:20220521T230000
SUMMARY:Careers / Jobs:UROP Research Scholars Program Application Open
DESCRIPTION:The UROP Research Scholars Program is designed for students who want to expand on their first year UROP experience and participate in UROP for a second year at an advanced level. In this program\, students build upon the knowledge gained in a first undergraduate research experience to further explore the connections between research\, a liberal arts education\, and communicating skills to advance their future professional goals. Students are expected to explore various written and oral possibilities for communicating their research process\, identifying the limits set by the discipline and the opportunities that lie beyond.\n\nApplications for the 2022-2023 academic year cohort open February 14th.\nPriority Deadline for the applications is March 18th\n\nLearn more at: myumi.ch/uroprs
UID:91080-21676534@events.umich.edu
URL:https://events.umich.edu/event/91080
CLASS:PUBLIC
STATUS:CONFIRMED
CATEGORIES:AEM Featured,Applications,Fellowship,first-generation,Interdisciplinary,Networking,Research,research data,Sophomore,The College Of Literature\, Science\, And The Arts,Undergraduate,Undergraduate Students,Urop
LOCATION:Off Campus Location
CONTACT:
END:VEVENT
BEGIN:VEVENT
DTSTAMP:20220204T165932
DTSTART;TZID=America/Detroit:20220521T090000
DTEND;TZID=America/Detroit:20220521T180000
SUMMARY:Exhibition:Greek Manuscripts at the University of Michigan Library: A Celebration
DESCRIPTION:Splendors of the religious and artistic endeavors of Byzantine manuscript makers are on display in this exhibit of highlights from the Greek manuscript collection at the University of Michigan Library Special Collections Research Center. The collection — 110 codices (bound manuscripts) and fragments written in Greek from the fourth to the nineteenth centuries C.E. — is the largest such collection in the Western Hemisphere and provides unique insights into this era of achievement in textual transmission\, calligraphy\, illumination\, and bookbinding. The exhibit will be open during Audubon Room hours.\n\nA digital version of the exhibit will be available in the Audubon Room and online\, and allows visitors to explore other pages of the manuscripts on display and other manuscripts from the collection.\n\nThis exhibit celebrates two recent publications based on the collection: \n\n* Catalogue of Greek Manuscripts at the University of Michigan\, Ann Arbor. Vol. 1.\, by Nadezhda Kavrus-Hoffmann (Ann Arbor: University of Michigan Press\, 2021)\n\n* Tradition and Individuality: Bindings from the University of Michigan Greek Manuscript Collection\, by Julia Miller (Ann Arbor: The Legacy Press\, 2021)
UID:92000-21684918@events.umich.edu
URL:https://events.umich.edu/event/92000
CLASS:PUBLIC
STATUS:CONFIRMED
CATEGORIES:Classical Studies,Exhibition,Library
LOCATION:Hatcher Graduate Library - Audubon Room, 1st floor
CONTACT:
END:VEVENT
BEGIN:VEVENT
DTSTAMP:20220516T134117
DTSTART;TZID=America/Detroit:20220521T093000
DTEND;TZID=America/Detroit:20220521T130000
SUMMARY:Conference / Symposium:Muslim Modernity in South Asia
DESCRIPTION:Muslim Modernity in South Asia\nCenter for South Asian Studies\nUniversity of Michigan\nMay 20-21\, 2022\nWeiser Hall\, 10th Floor\n\nCo-organized by Farina Mir (Department of History\, UM) and Muhammad Qasim Zaman (Departments of Near Eastern Studies and Religion\, Princeton University)\, this workshop brings together an international and interdisciplinary group of scholars to revisit established understandings of Muslim modernity in South Asia\, particularly as they relate to questions of gender\, colonialism\, the status and role of the ulama\, Islamic law\, and notions of political and religious subjectivity. All papers are precirculated. Conversations on each paper will be opened with a comment from a member of the UM faculty\, followed by open discussion. Please join us and contribute to the conversation!\n\nNote: All papers are pre-circulated. Contact Farina Mir (fmir@umich.edu) for papers.\n\nSchedule:\nFriday\, May 20\, 2022\n\n9:45 Welcome\nMuhammad Qasim Zaman & Farina Mir\n\n10:00 Julia Stephens\, Department of History\, Rutgers University      \n“Material Modernities: Tracing Janbai’s Gendered Mobilities Across the Indian Ocean”\nRespondent: Gaurav Desai\, Department of English\, University of Michigan\n\n11:00 Tea/coffee break\n\n11:30 Justin Jones\, Theology and Religion\, Oxford University\n“Islamic Feminist Thought and Islamic Modernism in Modern India”\nRespondent: Mrinalini Sinha\, Department of History\, University of\nMichigan\n\n12:30 Lunch Break\n\n2:00 SherAli Tareen\, Religious Studies\, Franklin & Marshall College\n“Competing Muslim Responses to Colonial Modernity: The\nAligarh-Deoband Divide”\nRespondent: Juan Cole\, Department of History\, University of\nMichigan\n\n3:00 Tea/Coffee Break\n\n3:30 Farina Mir\, Department of History\, University of Michigan\n“Urdu Akhlaq Literature and Secularity in Colonial\, South-Asian Islam”\nRespondent: Kathryn Babayan\, Departments of History and Middle Eastern Studies\, University of Michigan\n\nSaturday May 21\, 2022\n9:30 Humeira Iqtidar\, Department of Political Economy\, King’s College\n“Spiritual or Political Equality?”\nRespondent: Webb Keane\, Department of Anthropology\, University\nof Michigan\n\n10:30 Tea/coffee Break\n\n11:00 Muhammad Qasim Zaman\, Department of Religion\, Princeton University\n“Law and Sufism in Modern South Asia: A Changing Relationship”\nRespondent: Alexander Knysh\, Department of Middle Eastern Studies\, University of Michigan
UID:94722-21763083@events.umich.edu
URL:https://events.umich.edu/event/94722
CLASS:PUBLIC
STATUS:CONFIRMED
CATEGORIES:Anthropology,Architecture,Asia,Asian Languages And Cultures,Center For South Asian Studies,Culture,Economics,Global Islamic Studies,History,Humanities,Interdisciplinary,International,Islam,Muslim,Muslim Identity,Social Impact,Social Sciences,Sociology,Southeast Asia
LOCATION:Weiser Hall - 10th Floor
CONTACT:
END:VEVENT
BEGIN:VEVENT
DTSTAMP:20220419T113622
DTSTART;TZID=America/Detroit:20220521T100000
DTEND;TZID=America/Detroit:20220521T180000
SUMMARY:Exhibition:Mail Art: Postcards from the Pandemic
DESCRIPTION:View postcards from the pandemic. When the U-M Library and the Ann Arbor District Library asked community members to submit handmade postcards — mail art — in 2020 to capture the emotions and experiences of the Ann Arbor and U-M community during challenging pandemic times\, creative pieces of art started arriving at the library. About the submissions: https://myumi.ch/pdbeW\n\nStop by the Hatcher Library to view these physical artifacts that reflect how people were coping during the unexpected Covid-19 shutdown.
UID:94707-21761633@events.umich.edu
URL:https://events.umich.edu/event/94707
CLASS:PUBLIC
STATUS:CONFIRMED
CATEGORIES:Art,Free,Library
LOCATION:Hatcher Graduate Library - North Lobby (just off the Diag)
CONTACT:
END:VEVENT
BEGIN:VEVENT
DTSTAMP:20220521T060007
DTSTART;TZID=America/Detroit:20220521T100000
DTEND;TZID=America/Detroit:20220521T120000
SUMMARY:Sporting Event:Michigan All-Girl Cheer Spring Tryouts
DESCRIPTION:Michigan All-Girl Cheer is having tryouts for the 2022-2023 team! We encourage all incoming freshmen\, or any current UM students\, to try out if they are interested in competitive cheer!We will have in-person tryouts May 21 and 22 and virtual tryout videos will be due May 21!Fill out this link for more information:https://docs.google.com/forms/d/e/1FAIpQLSfKDJAW5lyxboHz5XsOduzpZNwJ6ffCl4DCns5z8W8pIY46qA/viewform?usp=sf_link
UID:94767-21766989@events.umich.edu
URL:https://events.umich.edu/event/94767
CLASS:PUBLIC
STATUS:CONFIRMED
CATEGORIES:
LOCATION:Elbel Field
CONTACT:
END:VEVENT
BEGIN:VEVENT
DTSTAMP:20220510T110650
DTSTART;TZID=America/Detroit:20220521T100000
DTEND;TZID=America/Detroit:20220521T180000
SUMMARY:Livestream / Virtual:The 26th Annual Comparative Literature Intra-Student Faculty Forum (CLIFF)
DESCRIPTION:How are our affective encounters with literature\, art\, and media bound by time\, and how are we also—in such encounters—temporally unbound? If literary texts have variously been framed as anticipating\, disruptive of\, conforming to\, producing\, inhabiting\, and/or responding to axes of time (as “timely\,” “untimely\,” “ahead of their time\,” “nostalgic\,” or “avant-garde”)\, they have likewise been understood as objects of pure fascination\, aesthetic experience\, and enchantment.\n\nEnchantment\, in particular\, is frequently understood as an ephemeral experience\, unique to the moment of our encounter with the enchanting. We are enchanted by things for brief\, passing moments\; we sometimes return to a once-enchanting object only to find the glamor it once cast upon us has broken\; and at other times\, this rediscovery itself—re-encountering a text or encountering it in a new (translated\, adapted) form—prompts our re-enchantment.\n\nTo mark its 26th anniversary\, the University of Michigan Comparative Literature Intra-Student Faculty Forum (CLIFF) organizes a virtual graduate conference that critically and creatively explores the intersection of world literatures\, temporalities\, and enchantment. We welcomed work that investigates literary and artistic constructions of and responses to notions of temporality and enchantment from aesthetic\, historical\, industrial\, material\, technological\, speculative\, post/colonial\, feminist\, queer\, religious\, translational\, local and/or global perspectives. \nCLIFF 2022 received submissions from graduate students (U-M and beyond) and was open to academic papers from across disciplines that deal with a wide variety of languages and time periods as well as creative and experimental genres. \n\nMichael Allan’s research focuses on debates in world literature\, postcolonial studies\, literary theory\, as well as film and visual culture\, primarily in Africa and the Middle East. In both his research and teaching\, he bridges textual analysis with social theory\, and draws from methods in anthropology\, religion\, queer theory and area studies. He is the author of In the Shadow of World Literature: Sites of Reading in Colonial Egypt (Princeton 2016\, Co-Winner of the MLA Prize for a First Book) and of articles in venues such as PMLA\, Modernism/Modernity\, Comparative Literature Studies\, Early Popular Visual Culture\, The International Journal of Middle East Studies\, and the Journal of Arabic Literature. He is also a guest editor of a special issue of Comparative Literature (“Reading Secularism: Religion\, Literature\, Aesthetics”)\, and with Elisabetta Benigni\, an issue of Philological Encounters (“Lingua Franca: Toward a Philology of the Sea”). He is at work on a second book\, Picturing the World: The Global Routes of Early Cinema\, 1896-1903\, which traces the transnational history of camera operators working for the Lumière Brothers film company.\n\n\nCLIFF 2022 Schedule \n\nMay 20\, Friday\n\n10:00 - 11:15 EST Panel 1: Fictions of Magic\nRespondent: Cameron Cross\n\nHimani Wadhwa\, “Res(crip)ting the Gaze: Envisioning Disability through the Lens of Magical Realism”\nJanine Hsiao Sobers\, “‘The Terrifying Card of Faith:’ Decolonial Syncretism and the Enchanted Worldview in Alejo Carpentier’s The Kingdom of This World”\nLee Czerw\, “The Tyrant as Witch in Early Modern German Tragedy”\n\n\n11:30 - 12:45 EST Panel 2: Metamorphoses\nRespondent: Supriya Nair \n\nAnthony Revelle\, “Where’s the Meat Gone? Empty Skins in the Kitchen & The Sartorial Body of the Werewolf”\nDaniela Crespo-Miró\, “[Trans]mogrifying the Body [Politic]: Queer Embodiment and Puerto Rican Self-Making in Raquel Salas Rivera’s ‘notas sobre las temporadas/notes on the seasons’”\nJahnabi Barooah Chanchani\, “A Talking Parrot’s Tales of Enchantment and Ethics”\n\n\n12:45 - 14 EST Lunch\n\n\n14 - 15:15 EST Panel 3: The Poetic\nRespondent: Aaron Coleman\n\nTom Abi Samra\, “Circumstantial Poetics: ‘Epigrams’ in the Travelogues of ʿAbd al-Ghanī al-Nābulusī (d. 1143 AH/1731 AD)”\nGriffin Shoglow-Rubenstein\, “‘The voice / of a drop falling’: N.H. Pritchard and the Temporalization of the Page”\nMarianna Hagler\, “How to Be Completely Living: Lyn Hejinian’s Gertrude Stein”\n\n\n15: 30 - 16:45 EST Graduate Student Event (TBD)\n\n\n\n\n\nMay 21\, Saturday\n\n10 - 11:15 EST Panel 4: Reception & Representation\nRespondent: Will Stroebel \n\nChandrica Barua\, \"Anachronistic Attachments: Out of Time Blackness and Brownness in Bridgerton\"\nKatherine Ponds\, “Tragic Enchantment: Rethinking Adrienne Kennedy’s Electra”\nAlexander K. Sell\, “Re-enchanting the Void: Ontological Slippages between Weird Fiction and Fantasy”\n\n\n11:30 - 12:45 EST Panel 5: Nostalgias & Utopias\nRespondent: Caryl Flinn\n\nQingyi Zeng\, “The Poetics of Elsewhere in Jia Zhangke’s 24 City”\nJúlia Irion Martins\, “All Trad is Cope: Nostalgic Futures + American Empire in ‘Retvrn’ Twitter”\n‘Gbenga Adeoba\, “‘Back there Calendar was useless’: Ishion Hutchinson’s Ambivalent Temporalities”\n\n\n12:45 - 14 EST Lunch\n\n\n14 - 15:15 EST Panel 6: Imagined Americas\nRespondent: Antoine Traisnel\n\nBlythe Lewis\, “‘My life is a withered tree’: Empire\, Ships\, and Deforestation in Georgian Drama”\nBen Larsen\, “Disenchanting the Banjo: Temporal Reclamation through Spatial Practice”\nZiyang Li\, “The Enchanting Gold that Overflows: Gold Rush\, Ecology\, and Asian American Identity in C Pam Zhang’s How Much of These Hills is Gold”\n\n\n15: 30 - 16:45 EST Keynote Lecture\n\nMichael Allan\, “Picturing Enchantment: Archival Looks and Cinematic Worlds” \n\n\n\nTo register:\nhttps://umich.zoom.us/meeting/register/tJ0lde6rqjsiH9NHt-OeH3YRJWmJ94KSeNkL
UID:94977-21788178@events.umich.edu
URL:https://events.umich.edu/event/94977
CLASS:PUBLIC
STATUS:CONFIRMED
CATEGORIES:Comparative,comparative literature,Complit,conference,Contemporary Literature,Fiction,Global,Graduate,Graduate and Professional Students,Graduate School,Graduate Students,Interdisciplinary,international,language,literary,literary arts,literature,lsa translation theme semester,Panel,Storytelling,Virtual
LOCATION:Off Campus Location
CONTACT:
END:VEVENT
BEGIN:VEVENT
DTSTAMP:20220406T105221
DTSTART;TZID=America/Detroit:20220521T123000
DTEND;TZID=America/Detroit:20220521T131500
SUMMARY:Presentation:Sky Tonight
DESCRIPTION:A live presentation on what to find in the sky tonight and for the coming few weeks. This presentation includes how to find the cardinal directions on your own by finding the north star\, current and upcoming constellations\, visible planets\, a few deep sky objects depending on the season\, and other interesting astronomical visualizations. \n\nThe state-of-the-art Planetarium & Dome Theater at the U-M Museum of Natural History transports visitors beyond distant stars and deep into the ocean from the comfort of reclining seats. Tickets $8. Tickets are available on the day of the show at the Museum Store.\nThe planetarium is operating at reduced capacity to maximize distancing between viewers and masks are required.
UID:89869-21737795@events.umich.edu
URL:https://events.umich.edu/event/89869
CLASS:PUBLIC
STATUS:CONFIRMED
CATEGORIES:Astronomy,Museum,natural history museum
LOCATION:Museum of Natural History
CONTACT:
END:VEVENT
BEGIN:VEVENT
DTSTAMP:20220418T121544
DTSTART;TZID=America/Detroit:20220521T130000
SUMMARY:Sporting Event:Baseball vs Rutgers
DESCRIPTION:Baseball vs Rutgers
UID:94674-21755909@events.umich.edu
URL:https://events.umich.edu/event/94674
CLASS:PUBLIC
STATUS:CONFIRMED
CATEGORIES:Athletics,Athletics - Baseball
LOCATION:Ray Fisher Baseball Stadium
CONTACT:
END:VEVENT
BEGIN:VEVENT
DTSTAMP:20220323T103556
DTSTART;TZID=America/Detroit:20220521T133000
DTEND;TZID=America/Detroit:20220521T134500
SUMMARY:Presentation:Big Astronomy
DESCRIPTION:Big Astronomy focuses on three of Earth’s largest observatories in Chile’s rugged Andes Mountains and arid Atacama Desert. By avoiding clouds and light pollution\, mountain tops and dry deserts are ideal locations for Earth bound telescopes. Big Astronomy features the perspectives of not only astronomers\, but also the engineers\, technicians\, and support staff needed to keep these massive pieces of equipment running. Includes an abbreviated star talk.\n\nThe state-of-the-art Planetarium & Dome Theater at the U-M Museum of Natural History transports visitors beyond distant stars and deep into the ocean from the comfort of reclining seats. Tickets $8. Tickets are available on the day of the show at the Museum Store.\nThe planetarium is operating at less than 50% capacity to maximize distancing between viewers. As with all University of Michigan buildings\, masks are required.
UID:89871-21788262@events.umich.edu
URL:https://events.umich.edu/event/89871
CLASS:PUBLIC
STATUS:CONFIRMED
CATEGORIES:Astronomy,Museum,natural history museum
LOCATION:
CONTACT:
END:VEVENT
BEGIN:VEVENT
DTSTAMP:20220521T121523
DTSTART;TZID=America/Detroit:20220521T140000
SUMMARY:Sporting Event:Baseball vs Rutgers
DESCRIPTION:Baseball vs Rutgers
UID:94703-21760740@events.umich.edu
URL:https://events.umich.edu/event/94703
CLASS:PUBLIC
STATUS:CONFIRMED
CATEGORIES:Athletics,Athletics - Baseball
LOCATION:Ray Fisher Baseball Stadium
CONTACT:
END:VEVENT
BEGIN:VEVENT
DTSTAMP:20220406T105221
DTSTART;TZID=America/Detroit:20220521T143000
DTEND;TZID=America/Detroit:20220521T151500
SUMMARY:Presentation:Sky Tonight
DESCRIPTION:A live presentation on what to find in the sky tonight and for the coming few weeks. This presentation includes how to find the cardinal directions on your own by finding the north star\, current and upcoming constellations\, visible planets\, a few deep sky objects depending on the season\, and other interesting astronomical visualizations. \n\nThe state-of-the-art Planetarium & Dome Theater at the U-M Museum of Natural History transports visitors beyond distant stars and deep into the ocean from the comfort of reclining seats. Tickets $8. Tickets are available on the day of the show at the Museum Store.\nThe planetarium is operating at reduced capacity to maximize distancing between viewers and masks are required.
UID:89869-21737821@events.umich.edu
URL:https://events.umich.edu/event/89869
CLASS:PUBLIC
STATUS:CONFIRMED
CATEGORIES:Astronomy,Museum,natural history museum
LOCATION:Museum of Natural History
CONTACT:
END:VEVENT
BEGIN:VEVENT
DTSTAMP:20220519T222945
DTSTART;TZID=America/Detroit:20220521T150000
DTEND;TZID=America/Detroit:20220521T180000
SUMMARY:Livestream / Virtual:METS Office Hours
DESCRIPTION:Meet with experienced transfer students to answer quick questions and troubleshoot any registration issues. Our Transfer Student Leaders will help in anyway they can.\nPlease remember that all degree requirements\, transfer credits\, and academic policies should be discussed and confirmed with your Department Advisor.
UID:95219-21789012@events.umich.edu
URL:https://events.umich.edu/event/95219
CLASS:PUBLIC
STATUS:CONFIRMED
CATEGORIES:Michigan Engineering,Office Hours,Transfer Students
LOCATION:Off Campus Location
CONTACT:
END:VEVENT
BEGIN:VEVENT
DTSTAMP:20220521T061525
DTSTART;TZID=America/Detroit:20220521T170000
SUMMARY:Sporting Event:Baseball vs Rutgers
DESCRIPTION:Baseball vs Rutgers
UID:95157-21788707@events.umich.edu
URL:https://events.umich.edu/event/95157
CLASS:PUBLIC
STATUS:CONFIRMED
CATEGORIES:Athletics,Athletics - Baseball
LOCATION:Ray Fisher Baseball Stadium
CONTACT:
END:VEVENT
BEGIN:VEVENT
DTSTAMP:20220521T181013
DTSTART;TZID=America/Detroit:20220521T200000
SUMMARY:Performance:Matt Andersen
DESCRIPTION:A powerhouse performer with a giant\, soul-filled voice and commanding stage presence. \nPlease visit https://mutotix.umich.edu/3203/3204 for more detail.
UID:93708-21707922@events.umich.edu
URL:https://events.umich.edu/event/93708
CLASS:PUBLIC
STATUS:CONFIRMED
CATEGORIES:Ark,Mutotix
LOCATION:ARK Reserved
CONTACT:
END:VEVENT
END:VCALENDAR