BEGIN:VCALENDAR
VERSION:2.0
PRODID:-//UM//UM*Events//EN
CALSCALE:GREGORIAN
BEGIN:VTIMEZONE
TZID:America/Detroit
TZURL:http://tzurl.org/zoneinfo/America/Detroit
X-LIC-LOCATION:America/Detroit
BEGIN:DAYLIGHT
TZOFFSETFROM:-0500
TZOFFSETTO:-0400
TZNAME:EDT
DTSTART:20070311T020000
RRULE:FREQ=YEARLY;BYMONTH=3;BYDAY=2SU
END:DAYLIGHT
BEGIN:STANDARD
TZOFFSETFROM:-0400
TZOFFSETTO:-0500
TZNAME:EST
DTSTART:20071104T020000
RRULE:FREQ=YEARLY;BYMONTH=11;BYDAY=1SU
END:STANDARD
END:VTIMEZONE
BEGIN:VEVENT
DTSTAMP:20230324T120005
DTSTART;TZID=America/Detroit:20220527T000000
DTEND;TZID=America/Detroit:20220527T235959
SUMMARY:Community Service:Homework Help at The Children's Center
DESCRIPTION:The Homework Help program offers children assistance with their homework assignments. Children are encouraged to bring homework and are paired with a volunteer to assist them. This program is a critical service in helping children thrive. Volunteers give children the tools they need to be successful in school.Virtual and in-person volunteer opportunities are available. If you would like to volunteer\, please start the enrollment process by creating an account on the Children Center's Volunteer Site found HERE. After your account is created\, the Children's Center will reach out to you within 2 business days to answer any questions and discuss the next steps.In accordance with the CMS Vaccine Mandate\, those volunteering in-person at the Children’s Center are required to be fully vaccinated and must provide proof of full vaccination upon request.
UID:93885-21787832@events.umich.edu
URL:https://events.umich.edu/event/93885
CLASS:PUBLIC
STATUS:CONFIRMED
CATEGORIES:
LOCATION:The Children&#039;s Center 
CONTACT:
END:VEVENT
BEGIN:VEVENT
DTSTAMP:20220530T180005
DTSTART;TZID=America/Detroit:20220527T070000
DTEND;TZID=America/Detroit:20220527T235959
SUMMARY:Other:D-1 Men's College Nationals
DESCRIPTION:The 20 best collegiate ultimate teams compete for the National Championsip.
UID:95010-21788252@events.umich.edu
URL:https://events.umich.edu/event/95010
CLASS:PUBLIC
STATUS:CONFIRMED
CATEGORIES:
LOCATION:Uihlein Soccer Park
CONTACT:
END:VEVENT
BEGIN:VEVENT
DTSTAMP:20211129T152100
DTSTART;TZID=America/Detroit:20220527T070000
DTEND;TZID=America/Detroit:20220527T235900
SUMMARY:Careers / Jobs:UROP 2022-2023 Rising Sophomore Applications Open
DESCRIPTION:The Undergraduate Research Opportunity Program is now accepting applications for students who will be rising sophomores during the 2022-2023 academic year.\n\nLearn more and apply today at http://myumi.ch/uropsophomore\n\nRising Sophomore Applications are being accepted on a rolling basis.
UID:89571-21664300@events.umich.edu
URL:https://events.umich.edu/event/89571
CLASS:PUBLIC
STATUS:CONFIRMED
CATEGORIES:AEM Featured,Applications,Engineering,Environment,first-generation,Humanities,Interdisciplinary,Life Science,Professional Development,Public Health,Recruiting,Research,research data,Social Sciences,Sophomore,Undergraduate,Undergraduate Students,Urop
LOCATION:Off Campus Location
CONTACT:
END:VEVENT
BEGIN:VEVENT
DTSTAMP:20220215T154124
DTSTART;TZID=America/Detroit:20220527T080000
DTEND;TZID=America/Detroit:20220527T230000
SUMMARY:Careers / Jobs:Apply to Changing Gears
DESCRIPTION:Changing Gears (CG) is a UROP program designed primarily for community college transfer students who will be attending the University of Michigan\, but also serves students transferring from 4 year institutions. Students in the CG Program become a part of an ongoing faculty-driven research\, scholarly or creative project in their field of interest. Students learn valuable academic skills\, applying these skills to their research project\, academics\, and future career opportunities\, while receiving academic credit or compensation for their efforts in research work.\n\nApplications are accepted on a rolling basis.\nLearn more about Changing Gears at: myumi.ch/uropcg
UID:92406-21690956@events.umich.edu
URL:https://events.umich.edu/event/92406
CLASS:PUBLIC
STATUS:CONFIRMED
CATEGORIES:AEM Featured,Applications,first-generation,Free,Interdisciplinary,Networking,Research,research data,Social Impact,The College Of Literature\, Science\, And The Arts,Transfer Students,Undergraduate,Undergraduate Students,Urop
LOCATION:Off Campus Location
CONTACT:
END:VEVENT
BEGIN:VEVENT
DTSTAMP:20220419T113622
DTSTART;TZID=America/Detroit:20220527T080000
DTEND;TZID=America/Detroit:20220527T190000
SUMMARY:Exhibition:Mail Art: Postcards from the Pandemic
DESCRIPTION:View postcards from the pandemic. When the U-M Library and the Ann Arbor District Library asked community members to submit handmade postcards — mail art — in 2020 to capture the emotions and experiences of the Ann Arbor and U-M community during challenging pandemic times\, creative pieces of art started arriving at the library. About the submissions: https://myumi.ch/pdbeW\n\nStop by the Hatcher Library to view these physical artifacts that reflect how people were coping during the unexpected Covid-19 shutdown.
UID:94707-21761639@events.umich.edu
URL:https://events.umich.edu/event/94707
CLASS:PUBLIC
STATUS:CONFIRMED
CATEGORIES:Art,Free,Library
LOCATION:Hatcher Graduate Library - North Lobby (just off the Diag)
CONTACT:
END:VEVENT
BEGIN:VEVENT
DTSTAMP:20220516T161143
DTSTART;TZID=America/Detroit:20220527T080000
DTEND;TZID=America/Detroit:20220527T190000
SUMMARY:Exhibition:Map ≠ Territory: Distortion and Power in Cartography
DESCRIPTION:More than strict representations of the world we inhabit\, maps are social constructions that embody the interests of their creators. Map ≠ Territory deconstructs maps that have been used to subjugate\, appropriate\, and oppress\, as well as the maps that counter that power through emancipation and advocacy. The exhibit critically engages with materials that span from the colonial era to modern-day Detroit.\n\nThe exhibit is available in the Clark Library (second floor Hatcher) during Hatcher Library hours. Please verify hours on the library's website: https://www.lib.umich.edu
UID:90765-21673618@events.umich.edu
URL:https://events.umich.edu/event/90765
CLASS:PUBLIC
STATUS:CONFIRMED
CATEGORIES:Library,Maps
LOCATION:Hatcher Graduate Library - Clark Library, 2nd Floor
CONTACT:
END:VEVENT
BEGIN:VEVENT
DTSTAMP:20220502T122639
DTSTART;TZID=America/Detroit:20220527T080000
DTEND;TZID=America/Detroit:20220527T230000
SUMMARY:Careers / Jobs:UROP First-Year Application Open
DESCRIPTION:Our \"Traditional UROP Program\" has been our flagship program running over 30 years. This Academic Year program\, in which students participate for both Fall and Winter Terms\, is designed for University of Michigan first and second year undergraduate students enrolled on the Ann Arbor campus who are seeking a first time research experience. Student research assistants work alongside a faculty member\, research scientist or professional practitioner on an ongoing or new research project.\n\nLearn more and apply at: myumi.ch/uropyearone\n\nApplications being accepted on a rolling basis.
UID:83923-21785181@events.umich.edu
URL:https://events.umich.edu/event/83923
CLASS:PUBLIC
STATUS:CONFIRMED
CATEGORIES:AEM Featured,Applications,first-generation,Free,Interdisciplinary,Networking,Research,Undergraduate,Undergraduate Students,Urop
LOCATION:
CONTACT:
END:VEVENT
BEGIN:VEVENT
DTSTAMP:20220117T095807
DTSTART;TZID=America/Detroit:20220527T080000
DTEND;TZID=America/Detroit:20220527T230000
SUMMARY:Careers / Jobs:UROP Research Scholars Program Application Open
DESCRIPTION:The UROP Research Scholars Program is designed for students who want to expand on their first year UROP experience and participate in UROP for a second year at an advanced level. In this program\, students build upon the knowledge gained in a first undergraduate research experience to further explore the connections between research\, a liberal arts education\, and communicating skills to advance their future professional goals. Students are expected to explore various written and oral possibilities for communicating their research process\, identifying the limits set by the discipline and the opportunities that lie beyond.\n\nApplications for the 2022-2023 academic year cohort open February 14th.\nPriority Deadline for the applications is March 18th\n\nLearn more at: myumi.ch/uroprs
UID:91080-21676540@events.umich.edu
URL:https://events.umich.edu/event/91080
CLASS:PUBLIC
STATUS:CONFIRMED
CATEGORIES:AEM Featured,Applications,Fellowship,first-generation,Interdisciplinary,Networking,Research,research data,Sophomore,The College Of Literature\, Science\, And The Arts,Undergraduate,Undergraduate Students,Urop
LOCATION:Off Campus Location
CONTACT:
END:VEVENT
BEGIN:VEVENT
DTSTAMP:20220204T165932
DTSTART;TZID=America/Detroit:20220527T090000
DTEND;TZID=America/Detroit:20220527T180000
SUMMARY:Exhibition:Greek Manuscripts at the University of Michigan Library: A Celebration
DESCRIPTION:Splendors of the religious and artistic endeavors of Byzantine manuscript makers are on display in this exhibit of highlights from the Greek manuscript collection at the University of Michigan Library Special Collections Research Center. The collection — 110 codices (bound manuscripts) and fragments written in Greek from the fourth to the nineteenth centuries C.E. — is the largest such collection in the Western Hemisphere and provides unique insights into this era of achievement in textual transmission\, calligraphy\, illumination\, and bookbinding. The exhibit will be open during Audubon Room hours.\n\nA digital version of the exhibit will be available in the Audubon Room and online\, and allows visitors to explore other pages of the manuscripts on display and other manuscripts from the collection.\n\nThis exhibit celebrates two recent publications based on the collection: \n\n* Catalogue of Greek Manuscripts at the University of Michigan\, Ann Arbor. Vol. 1.\, by Nadezhda Kavrus-Hoffmann (Ann Arbor: University of Michigan Press\, 2021)\n\n* Tradition and Individuality: Bindings from the University of Michigan Greek Manuscript Collection\, by Julia Miller (Ann Arbor: The Legacy Press\, 2021)
UID:92000-21684924@events.umich.edu
URL:https://events.umich.edu/event/92000
CLASS:PUBLIC
STATUS:CONFIRMED
CATEGORIES:Classical Studies,Exhibition,Library
LOCATION:Hatcher Graduate Library - Audubon Room, 1st floor
CONTACT:
END:VEVENT
BEGIN:VEVENT
DTSTAMP:20220526T085755
DTSTART;TZID=America/Detroit:20220527T091500
DTEND;TZID=America/Detroit:20220527T130000
SUMMARY:Conference / Symposium:Charlie Doering Memorial Symposium
DESCRIPTION:WEBINAR JOIN LINK https://umich.zoom.us/j/93305911598 \n(registration not required)\n\nThis will be a hybrid event held at Rackham 4th floor (Charlie loved this space!). The first day of the symposium will be Thursday May 26 and will start with mainly fluid dynamics talks which will switchover in the afternoon to more stochastics related talks. Thursday's talks will end at 4:00pm on and will be followed by a Celebration of Life from 4:15-6:30pm. The Symposium will continue into Friday with stochastics related topics and will end at 1:00pm.\n\nCovid protocols will be in place and Covid tests will be available to guests\, as well as masks.  \n\nZOOM WEBINAR LINK will be emailed to registrants. \n\nREGISTER:  https://docs.google.com/forms/d/e/1FAIpQLSduEP2ufk7blPu3w3BYMUT74SilyCX3ee9orhnGEH45vKZnIQ/viewform\n\nCONFERENCE WEBSITE: https://sites.lsa.umich.edu/charlie-doering-symposium/\nSee conference website for talk titles\, full speaker bios\n\n		SCHEDULE	\n			\nDay 1 - May 26						\n\n9:30 AM		Coffee/pastries	\n9:55 AM		Opening remarks	Marisa Eisenberg\n10:00 AM		Fluid dynamics	Jean-Luc Thiffeault\n10:50 AM		Fluid dynamics	John Gibbon (REMOTE)\n11:40 AM		Fluid dynamics	Darryl Holm (REMOTE)\n\n12:30 PM		Lunch (at venue or on own)	\n\n1:30 PM		Fluid dynamics/stochastics	Ian Tobasco\n2:20 PM		Fluid dynamics/stochastics	Daniel Lathrop\n3:10 PM		Fluid dynamics/stochastics	Annette Ostling\n	\n4:00 PM	0:15	Break\n	\n4:15 PM - 6:30 PM	 Celebration of Life	Assembly Hall - Rackham\n			\nDay 2 - May 27			\n			\n9:30 AM	       Coffee/pastries\n	\n10:00 AM	       Stochastics/other	Sid Redner\n10:50 AM        Break - 20 minutes\n11:10 AM        Stochastics/other     Len Sander\n12:00 PM	       Stochastics/other     Nikola Petrov\n	\n12:50 PM		CLOSE OF SYMPOSIUM
UID:94993-21788227@events.umich.edu
URL:https://events.umich.edu/event/94993
CLASS:PUBLIC
STATUS:CONFIRMED
CATEGORIES:Biosciences,Mathematics,Natural Sciences,Physics,Research
LOCATION:Rackham Graduate School (Horace H.) - Amphitheatre and Assembly Hall
CONTACT:
END:VEVENT
BEGIN:VEVENT
DTSTAMP:20220516T212813
DTSTART;TZID=America/Detroit:20220527T100000
DTEND;TZID=America/Detroit:20220527T110000
SUMMARY:Workshop / Seminar:MCDB Defense> Shared Regulators of Axon Degeneration and Synaptic Structure
DESCRIPTION:Mentor: Catherine Collins\n\n1010 BSB\nAlso zoom: https://umich.zoom.us/j/96367280934\nPassword in MCDB weekly update \nor email: mcdb.seminar.info@umich.edu
UID:95159-21788709@events.umich.edu
URL:https://events.umich.edu/event/95159
CLASS:PUBLIC
STATUS:CONFIRMED
CATEGORIES:Basic Science,Biosciences,Bsbsigns,Dissertation Defense,Neuroscience
LOCATION:Biological Sciences Building - 1010
CONTACT:
END:VEVENT
BEGIN:VEVENT
DTSTAMP:20220610T183029
DTSTART;TZID=America/Detroit:20220527T103000
DTEND;TZID=America/Detroit:20220527T113000
SUMMARY:Careers / Jobs:2022 APAC Women's Exploratory Series Part 1 - Discover Yourself
DESCRIPTION:At Goldman Sachs\, we believe who you are makes you better at what you do. We seek out people with all types of skills\, interests and experiences. So whether you’ve been trading penny stocks since the eighthgrade or have never imagined a career in finance\, there’s a place for you here.\n\nFor us\, it’s all about bringing together people who are curious\, collaborative and have the drive to make things possible for our clients and communities.\n\nIf you are interested in learning how our womenleaders pave their way in the financial industry and the strong focus of diversity in GS\, we’d love to meet you!\n\nJoin us at our 2022 APAC Women's Exploratory Series and learn more about it! The event is going to take place in Part 1 and Part 2\, and we would recommend you to participate in both sessions to get the most out of it.\n\nPart 1 Discover Yourself\n\nJoin us to learn about our focus on diversity – we’ve invited our female professionals to share their insights on how they build and\ngrow theircareer with GS.\n\nVisit our My GS Event Portal and search \"2022 APAC Women's Exploratory Series - Part 1\". Register by May 22\, 2022 (Sunday).\n\nWe hope to see you register!\n\n*My GS Event Portal Link: https://recruiting360.avature.net/candidates
UID:94949-21786945@events.umich.edu
URL:https://events.umich.edu/event/94949
CLASS:PUBLIC
STATUS:CONFIRMED
CATEGORIES:
LOCATION:
CONTACT:
END:VEVENT
BEGIN:VEVENT
DTSTAMP:20220602T180009
DTSTART;TZID=America/Detroit:20220527T103000
DTEND;TZID=America/Detroit:20220527T235959
SUMMARY:Other:NCBA D1 World Series
DESCRIPTION:After winning the Great Lakes Regional Tournament\, we punch our ticket to the D1 World Series. We are 6 seed in the tournament out of 8 teams and our first game is against Utah State on Friday\, May 27th at 10:30 AM. If we make it to the championship\, we will be in South Carolina until June 3rd. 
UID:95208-21788995@events.umich.edu
URL:https://events.umich.edu/event/95208
CLASS:PUBLIC
STATUS:CONFIRMED
CATEGORIES:
LOCATION:Stephen B. Dolny Stadium
CONTACT:
END:VEVENT
BEGIN:VEVENT
DTSTAMP:20220714T181508
DTSTART;TZID=America/Detroit:20220527T110000
DTEND;TZID=America/Detroit:20220527T170000
SUMMARY:Exhibition:Mother Cyborg: Crafting Our Digital Legacy
DESCRIPTION:Detroit-based artist\, musician\, and educator Mother Cyborg (Diana J. Nucera) debuts a series of quilts that references our relationship to digital technologies\, data-mining and security in the age of the Internet. Using bright colors\, geometric shapes and patterns\, Crafting our Digital Legacy  opens up analogue and tactile spaces that invite audiences to reflect upon our collective relationship with internet technologies\, identity\, legacy\, and the future. Mother Cyborg draws from over 15 years experience as a community organizer in Detroit\, MI where individuals gained access and agency to (re-)build their neighborhoods\, and run their own Internet service providers. In this exhibition\, Nucera expands her artist self through fiber works where she addresses critical issues of surveillance\, data collection\, the redaction of love to likes\, and the complexity of identity within it all. \nMother Cyborg states\, “This work aims to return a sense of wonder and magic to all of us\, and rekindle the awe we may have first felt when using a geolocating star map\, or being able to video call a person across borders. Crafting our Digital Legacy  looks at the way in which art can unpack how living at the whim of invisible wifi connections\, engaging ‘power cycling’ (turning on and off) computers and phones to ‘fix’ them\, modern experiences of technology run the gamut from resigned faith to proselytizing zealotry. In our weariness of the state of technology\, we fail to notice that the ‘same’ data\, taken from all of us\, has the power to rewrite and mutate the prior century’s worst inequalities into a blueprint for the future. These psychedelic quilts mesmerize while spotlighting surveillance tactics embedded within society bringing into focus the information and questions we should be asking of the future.”\nCurated by Srimoyee Mitra.
UID:94852-21777237@events.umich.edu
URL:https://events.umich.edu/event/94852
CLASS:PUBLIC
STATUS:CONFIRMED
CATEGORIES:Art
LOCATION:Off Campus Location
CONTACT:
END:VEVENT
BEGIN:VEVENT
DTSTAMP:20220519T181504
DTSTART;TZID=America/Detroit:20220527T110000
DTEND;TZID=America/Detroit:20220527T170000
SUMMARY:Exhibition:Ruth Weisberg: Of Memory\, Time & Place
DESCRIPTION:“One thing that is very clear to me is that my life and my work are very intertwined. For me the creation of my art\, be it painting\, drawing or printmaking\, integrates my life experiences\, my beliefs and my heritage. I hope that my viewers will also bring their own lenses created by their identity\, their family history and their experiences.” \n- Ruth Weisberg\nRuth Weisberg: Of Memory\, Time &amp\; Place brings together over 25 works that span six decades of the artist’s practice as a painter and printmaker. It features iconic works from Weisberg’s artistic career - Waterborne (1973)\, A Year Passes (1985) and Questioning Veronese (2011) - where she explored the interconnectedness and continuity of successive generations. Anchored in themes of personal and familial memory\; ancestral knowledge embedded in her Jewish heritage\, and admiration for Western art history\, her unframed canvases\, and works on paper create liminal spaces that collapse the time and space\, where family\, friends from the present and past share space with great painters and Holocaust survivors and those who perished. The Shtetl\, A Journey and Memorial\, a limited- edition artist book that she wrote and illustrated comprising 9 intaglio prints in 1971\, lies at the heart of the exhibition. In it she paid homage to the small Jewish towns in Poland (where her ancestors are from) before the Holocaust. This significant work was a touchstone for her artistic and professional career as it propelled her move from Michigan to Los Angeles in 1969.\n \nBorn and raised in Chicago\, Weisberg moved to Ann Arbor to pursue her higher studies\, she completed her B.Ed (1964)\, after spending three years in Perugia\, Italy where she earned a Laurea di Belle Arti in 1962\, and MFA (1965). Since her arrival in Los Angeles\, Weisberg has been a formidable influence and mentor to decades of artists as an artist\, Professor of Fine Arts and former Dean at the University of Southern California Roski School of Art and Design. Weisberg was the Director of the USC Initiative for Israeli Arts and Humanities\, and the founder of the Jewish Artists Initiative of Southern California. Her first major survey in Los Angeles was in 1979 at the Los Angeles Municipal Art Gallery. She and Judy Chicago were the first two artists exhibited at The Women’s Building\, Los Angeles. Their solo exhibitions inaugurated that venue. Weisberg has had more than 80 solo exhibitions and nearly 200 group exhibitions internationally\, including a major exhibition at the Norton Simon Museum\, Pasadena and a retrospective\, at the Skirball Museum\, Los Angeles as well as a solo exhibition at the Huntington in San Marino. She is the recipient of many prestigious awards\, some notable ones are the Printmaker Emeritus Award from the Southern Graphic Council International in 2015 and the Foundation for Jewish Culture’s 50th Anniversary Cultural Achievement Award in 2011. She has been the recipient of the Art Leadership Award\, National Council of Art Administrators and the Women’s Caucus for Art Lifetime Achievement Award\, 2009. Ruth Weisberg is represented by Jack Rutberg Fine Arts\, Los Angeles.\n \nCurated by Srimoyee Mitra.
UID:94838-21776767@events.umich.edu
URL:https://events.umich.edu/event/94838
CLASS:PUBLIC
STATUS:CONFIRMED
CATEGORIES:Art
LOCATION:Off Campus Location
CONTACT:
END:VEVENT
BEGIN:VEVENT
DTSTAMP:20220611T063028
DTSTART;TZID=America/Detroit:20220527T110000
DTEND;TZID=America/Detroit:20220527T113000
SUMMARY:Careers / Jobs:ScribeAmerica Virtual Info Session EST
DESCRIPTION:Are you pre-health and looking for clinical experience? If so join us for our virtual info session to learn more about becoming a medical scribe!\n\nIf you can't make this session\, we are holding several more throughout the month of May. Click the RSVP link above to find a time thatworks for you.\n
UID:94964-21787362@events.umich.edu
URL:https://events.umich.edu/event/94964
CLASS:PUBLIC
STATUS:CONFIRMED
CATEGORIES:
LOCATION:
CONTACT:
END:VEVENT
BEGIN:VEVENT
DTSTAMP:20220527T181507
DTSTART;TZID=America/Detroit:20220527T120000
DTEND;TZID=America/Detroit:20220527T170000
SUMMARY:Other: BMS-Michigan Symposium
DESCRIPTION:Organic\nKami Hull(University of Texas) \, Julia Kalow(Northwestern University) \, Eric Simmons(Bristol Myers Squibb) 
UID:95138-21788507@events.umich.edu
URL:https://events.umich.edu/event/95138
CLASS:PUBLIC
STATUS:CONFIRMED
CATEGORIES:Biosciences,Chemistry,Science
LOCATION:Off Campus Location
CONTACT:
END:VEVENT
BEGIN:VEVENT
DTSTAMP:20220518T181520
DTSTART;TZID=America/Detroit:20220527T120000
DTEND;TZID=America/Detroit:20220527T130000
SUMMARY:Livestream / Virtual:Restorative Circle on Anti-Black\, White Supremacist Violence
DESCRIPTION:A circle is a versatile restorative practice that can be used proactively\, to develop relationships and build community\, or reactively\, to respond to wrongdoing\, conflicts\, and problems. Circles give people an opportunity to speak and listen to one another in an atmosphere of safety\, decorum\, and equality. This circle will be a space to share your experience about anti-Black\, white supremacist violence with the purpose of listening\, storytelling and connecting with others.\nRegister at https://myumi.ch/M9E69\nWe want to ensure full and equitable participation in our events. If an accommodation would promote your full participation in this event\, please indicate your accommodation requirements. Please let us know as soon as possible in order to have adequate time\, preferably one week\, to arrange for your requested accommodations or an effective alternative.
UID:95199-21788754@events.umich.edu
URL:https://events.umich.edu/event/95199
CLASS:PUBLIC
STATUS:CONFIRMED
CATEGORIES:Diversity,Graduate Students
LOCATION:Off Campus Location
CONTACT:
END:VEVENT
BEGIN:VEVENT
DTSTAMP:20220406T105221
DTSTART;TZID=America/Detroit:20220527T123000
DTEND;TZID=America/Detroit:20220527T131500
SUMMARY:Presentation:Sky Tonight
DESCRIPTION:A live presentation on what to find in the sky tonight and for the coming few weeks. This presentation includes how to find the cardinal directions on your own by finding the north star\, current and upcoming constellations\, visible planets\, a few deep sky objects depending on the season\, and other interesting astronomical visualizations. \n\nThe state-of-the-art Planetarium & Dome Theater at the U-M Museum of Natural History transports visitors beyond distant stars and deep into the ocean from the comfort of reclining seats. Tickets $8. Tickets are available on the day of the show at the Museum Store.\nThe planetarium is operating at reduced capacity to maximize distancing between viewers and masks are required.
UID:89869-21737792@events.umich.edu
URL:https://events.umich.edu/event/89869
CLASS:PUBLIC
STATUS:CONFIRMED
CATEGORIES:Astronomy,Museum,natural history museum
LOCATION:Museum of Natural History
CONTACT:
END:VEVENT
BEGIN:VEVENT
DTSTAMP:20220511T181506
DTSTART;TZID=America/Detroit:20220527T130000
DTEND;TZID=America/Detroit:20220527T140000
SUMMARY:Exhibition:Exhibition Walkthrough with Artist Ruth Weisberg
DESCRIPTION:Join us for a walkthrough of Ruth Weisberg: Of Time\, Memory &amp\; Place led by artist and Stamps Alumna\, Ruth Weisberg as she discusses the themes\, materials\, and process of her work on view in the exhibition.\n
UID:95103-21788470@events.umich.edu
URL:https://events.umich.edu/event/95103
CLASS:PUBLIC
STATUS:CONFIRMED
CATEGORIES:Art
LOCATION:Off Campus Location
CONTACT:
END:VEVENT
BEGIN:VEVENT
DTSTAMP:20220323T103556
DTSTART;TZID=America/Detroit:20220527T133000
DTEND;TZID=America/Detroit:20220527T134500
SUMMARY:Presentation:Big Astronomy
DESCRIPTION:Big Astronomy focuses on three of Earth’s largest observatories in Chile’s rugged Andes Mountains and arid Atacama Desert. By avoiding clouds and light pollution\, mountain tops and dry deserts are ideal locations for Earth bound telescopes. Big Astronomy features the perspectives of not only astronomers\, but also the engineers\, technicians\, and support staff needed to keep these massive pieces of equipment running. Includes an abbreviated star talk.\n\nThe state-of-the-art Planetarium & Dome Theater at the U-M Museum of Natural History transports visitors beyond distant stars and deep into the ocean from the comfort of reclining seats. Tickets $8. Tickets are available on the day of the show at the Museum Store.\nThe planetarium is operating at less than 50% capacity to maximize distancing between viewers. As with all University of Michigan buildings\, masks are required.
UID:89871-21788260@events.umich.edu
URL:https://events.umich.edu/event/89871
CLASS:PUBLIC
STATUS:CONFIRMED
CATEGORIES:Astronomy,Museum,natural history museum
LOCATION:
CONTACT:
END:VEVENT
BEGIN:VEVENT
DTSTAMP:20220406T105221
DTSTART;TZID=America/Detroit:20220527T143000
DTEND;TZID=America/Detroit:20220527T151500
SUMMARY:Presentation:Sky Tonight
DESCRIPTION:A live presentation on what to find in the sky tonight and for the coming few weeks. This presentation includes how to find the cardinal directions on your own by finding the north star\, current and upcoming constellations\, visible planets\, a few deep sky objects depending on the season\, and other interesting astronomical visualizations. \n\nThe state-of-the-art Planetarium & Dome Theater at the U-M Museum of Natural History transports visitors beyond distant stars and deep into the ocean from the comfort of reclining seats. Tickets $8. Tickets are available on the day of the show at the Museum Store.\nThe planetarium is operating at reduced capacity to maximize distancing between viewers and masks are required.
UID:89869-21737818@events.umich.edu
URL:https://events.umich.edu/event/89869
CLASS:PUBLIC
STATUS:CONFIRMED
CATEGORIES:Astronomy,Museum,natural history museum
LOCATION:Museum of Natural History
CONTACT:
END:VEVENT
BEGIN:VEVENT
DTSTAMP:20220513T160852
DTSTART;TZID=America/Detroit:20220527T190000
SUMMARY:Performance:Babette's Feast
DESCRIPTION:Christ the King Drama presents the achingly beautiful and thought-provoking story\, Babette's Feast! It brings us into the cloistered 19th-century world of two loving\, devout Lutheran sisters and tells us how they and their fractured community reluctantly\, then completely embrace Babette\, a mysterious French refugee. But when Babette\, much to the community's shock\, sacrifices all she has to throw a lavish dinner party\, the dinner guests inexplicably and providentially experience radical\, infinite grace. Babette's sumptuous feast is more than a meal - it is an act of supreme artistry that invites an abundant experience of forgiveness and transforms the entire community. Through Babette's Feast\, we learn how embracing the stranger\, and embracing Christ in them\, can change a community for the better.
UID:95102-21788473@events.umich.edu
URL:https://events.umich.edu/event/95102
CLASS:PUBLIC
STATUS:CONFIRMED
CATEGORIES:Mutotix,Theater
LOCATION:Lydia Mendelssohn Theatre
CONTACT:
END:VEVENT
BEGIN:VEVENT
DTSTAMP:20220527T181031
DTSTART;TZID=America/Detroit:20220527T190000
SUMMARY:Performance:Babette's Feast
DESCRIPTION:No description is provided. \nPlease visit https://mutotix.umich.edu/3440/3442 for more detail.
UID:95106-21788475@events.umich.edu
URL:https://events.umich.edu/event/95106
CLASS:PUBLIC
STATUS:CONFIRMED
CATEGORIES:Mutotix
LOCATION:GA - Mendelssohn
CONTACT:
END:VEVENT
BEGIN:VEVENT
DTSTAMP:20220527T181026
DTSTART;TZID=America/Detroit:20220527T193000
SUMMARY:Performance:Tuck Everlasting
DESCRIPTION:No description is provided. \nPlease visit https://mutotix.umich.edu/3388/3389 for more detail.
UID:94526-21747932@events.umich.edu
URL:https://events.umich.edu/event/94526
CLASS:PUBLIC
STATUS:CONFIRMED
CATEGORIES:Ark,Music,Mutotix
LOCATION:Power Center
CONTACT:
END:VEVENT
END:VCALENDAR