BEGIN:VCALENDAR
VERSION:2.0
PRODID:-//UM//UM*Events//EN
CALSCALE:GREGORIAN
BEGIN:VTIMEZONE
TZID:America/Detroit
TZURL:http://tzurl.org/zoneinfo/America/Detroit
X-LIC-LOCATION:America/Detroit
BEGIN:DAYLIGHT
TZOFFSETFROM:-0500
TZOFFSETTO:-0400
TZNAME:EDT
DTSTART:20070311T020000
RRULE:FREQ=YEARLY;BYMONTH=3;BYDAY=2SU
END:DAYLIGHT
BEGIN:STANDARD
TZOFFSETFROM:-0400
TZOFFSETTO:-0500
TZNAME:EST
DTSTART:20071104T020000
RRULE:FREQ=YEARLY;BYMONTH=11;BYDAY=1SU
END:STANDARD
END:VTIMEZONE
BEGIN:VEVENT
DTSTAMP:20220530T120006
DTSTART;TZID=America/Detroit:20220531T000000
DTEND;TZID=America/Detroit:20220531T170000
SUMMARY:Other:CRCs
DESCRIPTION:The University of Michigan Women's Rugby Club will be playing in the Collegiate Rugby Championship in New Orleans.
UID:94766-21788155@events.umich.edu
URL:https://events.umich.edu/event/94766
CLASS:PUBLIC
STATUS:CONFIRMED
CATEGORIES:
LOCATION:Shrine on Airline
CONTACT:
END:VEVENT
BEGIN:VEVENT
DTSTAMP:20220530T180005
DTSTART;TZID=America/Detroit:20220531T000000
DTEND;TZID=America/Detroit:20220531T200000
SUMMARY:Other:D-1 Men's College Nationals
DESCRIPTION:The 20 best collegiate ultimate teams compete for the National Championsip.
UID:95010-21788256@events.umich.edu
URL:https://events.umich.edu/event/95010
CLASS:PUBLIC
STATUS:CONFIRMED
CATEGORIES:
LOCATION:Uihlein Soccer Park
CONTACT:
END:VEVENT
BEGIN:VEVENT
DTSTAMP:20230324T120005
DTSTART;TZID=America/Detroit:20220531T000000
DTEND;TZID=America/Detroit:20220531T235959
SUMMARY:Community Service:Homework Help at The Children's Center
DESCRIPTION:The Homework Help program offers children assistance with their homework assignments. Children are encouraged to bring homework and are paired with a volunteer to assist them. This program is a critical service in helping children thrive. Volunteers give children the tools they need to be successful in school.Virtual and in-person volunteer opportunities are available. If you would like to volunteer\, please start the enrollment process by creating an account on the Children Center's Volunteer Site found HERE. After your account is created\, the Children's Center will reach out to you within 2 business days to answer any questions and discuss the next steps.In accordance with the CMS Vaccine Mandate\, those volunteering in-person at the Children’s Center are required to be fully vaccinated and must provide proof of full vaccination upon request.
UID:93885-21787836@events.umich.edu
URL:https://events.umich.edu/event/93885
CLASS:PUBLIC
STATUS:CONFIRMED
CATEGORIES:
LOCATION:The Children&#039;s Center 
CONTACT:
END:VEVENT
BEGIN:VEVENT
DTSTAMP:20220602T180009
DTSTART;TZID=America/Detroit:20220531T000000
DTEND;TZID=America/Detroit:20220531T235959
SUMMARY:Other:NCBA D1 World Series
DESCRIPTION:After winning the Great Lakes Regional Tournament\, we punch our ticket to the D1 World Series. We are 6 seed in the tournament out of 8 teams and our first game is against Utah State on Friday\, May 27th at 10:30 AM. If we make it to the championship\, we will be in South Carolina until June 3rd. 
UID:95208-21788999@events.umich.edu
URL:https://events.umich.edu/event/95208
CLASS:PUBLIC
STATUS:CONFIRMED
CATEGORIES:
LOCATION:Stephen B. Dolny Stadium
CONTACT:
END:VEVENT
BEGIN:VEVENT
DTSTAMP:20211129T152100
DTSTART;TZID=America/Detroit:20220531T070000
DTEND;TZID=America/Detroit:20220531T235900
SUMMARY:Careers / Jobs:UROP 2022-2023 Rising Sophomore Applications Open
DESCRIPTION:The Undergraduate Research Opportunity Program is now accepting applications for students who will be rising sophomores during the 2022-2023 academic year.\n\nLearn more and apply today at http://myumi.ch/uropsophomore\n\nRising Sophomore Applications are being accepted on a rolling basis.
UID:89571-21664304@events.umich.edu
URL:https://events.umich.edu/event/89571
CLASS:PUBLIC
STATUS:CONFIRMED
CATEGORIES:AEM Featured,Applications,Engineering,Environment,first-generation,Humanities,Interdisciplinary,Life Science,Professional Development,Public Health,Recruiting,Research,research data,Social Sciences,Sophomore,Undergraduate,Undergraduate Students,Urop
LOCATION:Off Campus Location
CONTACT:
END:VEVENT
BEGIN:VEVENT
DTSTAMP:20220215T154124
DTSTART;TZID=America/Detroit:20220531T080000
DTEND;TZID=America/Detroit:20220531T230000
SUMMARY:Careers / Jobs:Apply to Changing Gears
DESCRIPTION:Changing Gears (CG) is a UROP program designed primarily for community college transfer students who will be attending the University of Michigan\, but also serves students transferring from 4 year institutions. Students in the CG Program become a part of an ongoing faculty-driven research\, scholarly or creative project in their field of interest. Students learn valuable academic skills\, applying these skills to their research project\, academics\, and future career opportunities\, while receiving academic credit or compensation for their efforts in research work.\n\nApplications are accepted on a rolling basis.\nLearn more about Changing Gears at: myumi.ch/uropcg
UID:92406-21690960@events.umich.edu
URL:https://events.umich.edu/event/92406
CLASS:PUBLIC
STATUS:CONFIRMED
CATEGORIES:AEM Featured,Applications,first-generation,Free,Interdisciplinary,Networking,Research,research data,Social Impact,The College Of Literature\, Science\, And The Arts,Transfer Students,Undergraduate,Undergraduate Students,Urop
LOCATION:Off Campus Location
CONTACT:
END:VEVENT
BEGIN:VEVENT
DTSTAMP:20220518T161555
DTSTART;TZID=America/Detroit:20220531T080000
DTEND;TZID=America/Detroit:20220531T160000
SUMMARY:Exhibition:Lane Hall Gallery Summer Exhibit
DESCRIPTION:In this exhibit\, artists Ashley Bigham (photographs) and Grace Mahoney (watercolors) investigate the visibility and social role of Ukraine’s older generation of women embodied in a figure both iconic and ubiquitous: the babusya. Seen in public transport\, in the market\, and on the street\, each babusya has a story to tell. Each has something to say\, something to gossip about\, and something to complain about. \n\n\"Invisible Women: Portraits of Aging in Ukraine\" is hosted by the University of Michigan’s Institute for Research on Women and Gender (IRWG) and the Department of Women’s and Gender Studies. The exhibit is on display for public viewing weekdays from 8:00 a.m.- 4:00 p.m. through August 18\, 2022\, in the main lobby of Lane Hall\, located at 204 South State Street\, Ann Arbor\, MI 48109. For more information on the current exhibit\, visit IRWG’s website.
UID:95140-21788527@events.umich.edu
URL:https://events.umich.edu/event/95140
CLASS:PUBLIC
STATUS:CONFIRMED
CATEGORIES:Exhibition,institute for research on women and gender,irwg,ukrainian,Women's Studies
LOCATION:Lane Hall
CONTACT:
END:VEVENT
BEGIN:VEVENT
DTSTAMP:20220419T113622
DTSTART;TZID=America/Detroit:20220531T080000
DTEND;TZID=America/Detroit:20220531T190000
SUMMARY:Exhibition:Mail Art: Postcards from the Pandemic
DESCRIPTION:View postcards from the pandemic. When the U-M Library and the Ann Arbor District Library asked community members to submit handmade postcards — mail art — in 2020 to capture the emotions and experiences of the Ann Arbor and U-M community during challenging pandemic times\, creative pieces of art started arriving at the library. About the submissions: https://myumi.ch/pdbeW\n\nStop by the Hatcher Library to view these physical artifacts that reflect how people were coping during the unexpected Covid-19 shutdown.
UID:94707-21761643@events.umich.edu
URL:https://events.umich.edu/event/94707
CLASS:PUBLIC
STATUS:CONFIRMED
CATEGORIES:Art,Free,Library
LOCATION:Hatcher Graduate Library - North Lobby (just off the Diag)
CONTACT:
END:VEVENT
BEGIN:VEVENT
DTSTAMP:20220516T161143
DTSTART;TZID=America/Detroit:20220531T080000
DTEND;TZID=America/Detroit:20220531T190000
SUMMARY:Exhibition:Map ≠ Territory: Distortion and Power in Cartography
DESCRIPTION:More than strict representations of the world we inhabit\, maps are social constructions that embody the interests of their creators. Map ≠ Territory deconstructs maps that have been used to subjugate\, appropriate\, and oppress\, as well as the maps that counter that power through emancipation and advocacy. The exhibit critically engages with materials that span from the colonial era to modern-day Detroit.\n\nThe exhibit is available in the Clark Library (second floor Hatcher) during Hatcher Library hours. Please verify hours on the library's website: https://www.lib.umich.edu
UID:90765-21673622@events.umich.edu
URL:https://events.umich.edu/event/90765
CLASS:PUBLIC
STATUS:CONFIRMED
CATEGORIES:Library,Maps
LOCATION:Hatcher Graduate Library - Clark Library, 2nd Floor
CONTACT:
END:VEVENT
BEGIN:VEVENT
DTSTAMP:20220502T122639
DTSTART;TZID=America/Detroit:20220531T080000
DTEND;TZID=America/Detroit:20220531T230000
SUMMARY:Careers / Jobs:UROP First-Year Application Open
DESCRIPTION:Our \"Traditional UROP Program\" has been our flagship program running over 30 years. This Academic Year program\, in which students participate for both Fall and Winter Terms\, is designed for University of Michigan first and second year undergraduate students enrolled on the Ann Arbor campus who are seeking a first time research experience. Student research assistants work alongside a faculty member\, research scientist or professional practitioner on an ongoing or new research project.\n\nLearn more and apply at: myumi.ch/uropyearone\n\nApplications being accepted on a rolling basis.
UID:83923-21785185@events.umich.edu
URL:https://events.umich.edu/event/83923
CLASS:PUBLIC
STATUS:CONFIRMED
CATEGORIES:AEM Featured,Applications,first-generation,Free,Interdisciplinary,Networking,Research,Undergraduate,Undergraduate Students,Urop
LOCATION:
CONTACT:
END:VEVENT
BEGIN:VEVENT
DTSTAMP:20220117T095807
DTSTART;TZID=America/Detroit:20220531T080000
DTEND;TZID=America/Detroit:20220531T230000
SUMMARY:Careers / Jobs:UROP Research Scholars Program Application Open
DESCRIPTION:The UROP Research Scholars Program is designed for students who want to expand on their first year UROP experience and participate in UROP for a second year at an advanced level. In this program\, students build upon the knowledge gained in a first undergraduate research experience to further explore the connections between research\, a liberal arts education\, and communicating skills to advance their future professional goals. Students are expected to explore various written and oral possibilities for communicating their research process\, identifying the limits set by the discipline and the opportunities that lie beyond.\n\nApplications for the 2022-2023 academic year cohort open February 14th.\nPriority Deadline for the applications is March 18th\n\nLearn more at: myumi.ch/uroprs
UID:91080-21676544@events.umich.edu
URL:https://events.umich.edu/event/91080
CLASS:PUBLIC
STATUS:CONFIRMED
CATEGORIES:AEM Featured,Applications,Fellowship,first-generation,Interdisciplinary,Networking,Research,research data,Sophomore,The College Of Literature\, Science\, And The Arts,Undergraduate,Undergraduate Students,Urop
LOCATION:Off Campus Location
CONTACT:
END:VEVENT
BEGIN:VEVENT
DTSTAMP:20220204T165932
DTSTART;TZID=America/Detroit:20220531T090000
DTEND;TZID=America/Detroit:20220531T180000
SUMMARY:Exhibition:Greek Manuscripts at the University of Michigan Library: A Celebration
DESCRIPTION:Splendors of the religious and artistic endeavors of Byzantine manuscript makers are on display in this exhibit of highlights from the Greek manuscript collection at the University of Michigan Library Special Collections Research Center. The collection — 110 codices (bound manuscripts) and fragments written in Greek from the fourth to the nineteenth centuries C.E. — is the largest such collection in the Western Hemisphere and provides unique insights into this era of achievement in textual transmission\, calligraphy\, illumination\, and bookbinding. The exhibit will be open during Audubon Room hours.\n\nA digital version of the exhibit will be available in the Audubon Room and online\, and allows visitors to explore other pages of the manuscripts on display and other manuscripts from the collection.\n\nThis exhibit celebrates two recent publications based on the collection: \n\n* Catalogue of Greek Manuscripts at the University of Michigan\, Ann Arbor. Vol. 1.\, by Nadezhda Kavrus-Hoffmann (Ann Arbor: University of Michigan Press\, 2021)\n\n* Tradition and Individuality: Bindings from the University of Michigan Greek Manuscript Collection\, by Julia Miller (Ann Arbor: The Legacy Press\, 2021)
UID:92000-21684928@events.umich.edu
URL:https://events.umich.edu/event/92000
CLASS:PUBLIC
STATUS:CONFIRMED
CATEGORIES:Classical Studies,Exhibition,Library
LOCATION:Hatcher Graduate Library - Audubon Room, 1st floor
CONTACT:
END:VEVENT
BEGIN:VEVENT
DTSTAMP:20220720T073705
DTSTART;TZID=America/Detroit:20220531T093000
DTEND;TZID=America/Detroit:20220531T110000
SUMMARY:Meeting:CoderSpaces\, Virtual Office Hours (Tuesdays\, 9:30-11am)
DESCRIPTION:Are you grappling with a piece of code\, trying to compute on a University cluster\, or just getting started with a new method such as machine learning? Then we might have just the right space for you.\n\nAll members of the U-M community are invited to join our weekly virtual CoderSpaces\, Tuesdays and Thursdays\, during the Summer 2022 term to get research support and connect with others.\n\nThe virtual sessions are designed to assist faculty\, staff\, and students with research methodology\, statistics\, data science applications\, and computational programming for research.\n\nOur hosts have a wide set of methodological and technological expertise. They come to you from a variety of departments and disciplines and are looking forward to serving the U-M community in their research endeavors.\n\nCoderSpaces provide a casual\, productive and inclusive environment. Everyone is welcome regardless of skill level.\n\nJoin via Zoom* (https://umich.zoom.us/j/96392817699)\n*Users will have to sign in with their UMICH (Level-1) credentials.\n\nWith Erin Ware (SRC) and Jon Reader (MADRC)\n\nExpertise at this session includes: automation of tasks & workflows\, Bash\, bioinformatics\, conda (anaconda/miniconda)\, data analysis\, data management\, data visualization\, git\, GitHub\, GitLab\, GNU Make\, high performance computing (HPC)\, LaTeX\, Linux\, machine learning\, macOS\, natural language processing\, pandas\, PySpark\, Python\, Python Requests\, Python Selenium\, R\, R Markdown\, R tidyverse\, REDCap\, SAS\, social sciences\, SPSS\, SQL\, statistics\, survey data\, text analysis\, time-series analysis\, web scraping\, Windows
UID:94931-21786488@events.umich.edu
URL:https://events.umich.edu/event/94931
CLASS:PUBLIC
STATUS:CONFIRMED
CATEGORIES:Arc,Arc-ts,Data Science,High Performance Computing,Information and Technology,Research
LOCATION:Off Campus Location
CONTACT:
END:VEVENT
BEGIN:VEVENT
DTSTAMP:20220422T095450
DTSTART;TZID=America/Detroit:20220531T093000
DTEND;TZID=America/Detroit:20220531T113000
SUMMARY:Lecture / Discussion:Dissertation Defense: Elise Woodard
DESCRIPTION:COMMITTEE:\nWeatherson\, Brian (co-chair)\nMoss\, Sarah (co-chair)\nJoyce\, Jim\nLasonen-Aarnio\, Maria\nBuss\, Sarah\nHershovitz\, Scott (cognate\, Law)\n\n\nABSTRACT:\nTBD
UID:94778-21767864@events.umich.edu
URL:https://events.umich.edu/event/94778
CLASS:PUBLIC
STATUS:CONFIRMED
CATEGORIES:Philosophy
LOCATION:
CONTACT:
END:VEVENT
BEGIN:VEVENT
DTSTAMP:20220520T081742
DTSTART;TZID=America/Detroit:20220531T093000
DTEND;TZID=America/Detroit:20220531T113000
SUMMARY:Other:Dissertation Defense: Inquiring Further: Essays on Epistemic Normativity
DESCRIPTION:COMMITTEE:\nWeatherson\, Brian (co-chair)\nMoss\, Sarah (co-chair)\nJoyce\, Jim\nLasonen-Aarnio\, Maria\nBuss\, Sarah\nHershovitz\, Scott (cognate\, Law)\n\n\nABSTRACT:\nMy dissertation defends the importance of epistemic norms on what I call ‘inquiring further.’ Inquiring further is a familiar practice we all engage in when we redeliberate\, gather more evidence\, or double-check our beliefs. Nonetheless\, many philosophers have argued that norms governing when we should gather evidence or reinquire are at most practical or moral norms. Against this\, I argue that norms on inquiring further are central to our conception of responsible epistemic agency. I do this by appealing to both the roles of epistemic evaluations and our practices of holding agents epistemically accountable. My dissertation thereby expands and enriches our understanding of epistemic evaluations and normativity.
UID:94782-21767868@events.umich.edu
URL:https://events.umich.edu/event/94782
CLASS:PUBLIC
STATUS:CONFIRMED
CATEGORIES:Dissertation
LOCATION:Angell Hall - 1164
CONTACT:
END:VEVENT
BEGIN:VEVENT
DTSTAMP:20220615T123038
DTSTART;TZID=America/Detroit:20220531T120000
DTEND;TZID=America/Detroit:20220531T160000
SUMMARY:Careers / Jobs:HCA Houston Healthcare Virtual Event- May 31
DESCRIPTION:THIS EVENT IS FOR OUR NORTH HOUSTON AREA FACILITIES ONLY. PLEASE REACH OUT TO US IF YOU ARE LOOKING TO INTERVIEW FOR CENTRAL/ SOUTH HOUSTON\, SOUTH TEXAS OR CORPUS CHRISTI. \n\nHCA Healthcare is excited to interview with you\, virtually on May 31st!\n\nWe are specifically hiring for our August 1st Cohort for Med Surg and ICU/ICU Stepdown Units at the following facilities:\n\nHCA Houston Healthcare Conroe\nHCA Houston Healthcare Kingwood\nHCA Houston Healthcare North Cypress\nHCA Houston Healthcare Northwest\nHCA Houston Healthcare Tomball\nPlease review the available slots below and click on the button to sign up for your interview. You will receive an email prior to your interview with WebEx instruction and how and when to login. You will need to log into WebEx 5 minutes prior to the interview time you have selected. \n\nWe look forward to seeing you!\n\n-Your HCA Healthcare Gulf Coast Division Recruiting Team
UID:95229-21789023@events.umich.edu
URL:https://events.umich.edu/event/95229
CLASS:PUBLIC
STATUS:CONFIRMED
CATEGORIES:
LOCATION:
CONTACT:
END:VEVENT
BEGIN:VEVENT
DTSTAMP:20220324T001619
DTSTART;TZID=America/Detroit:20220531T120000
DTEND;TZID=America/Detroit:20220531T133000
SUMMARY:Livestream / Virtual:Restoration\, Transformation\, and Leadership: Centering Healing in the Actions We Take Towards Racial Equity
DESCRIPTION:Are you interested in learning how you and/or your organization can make the shift toward healing-centered engagement? Are you looking for contemplative practices that can aid in your personal racial healing as you work toward racial equity in larger communities? This workshop will provide an opportunity for you to engage these questions and engage in critical self-reflection on one’s level of commitment\, courage\, and cultural intelligence. Attendees will be exposed to the concept of healing centered engagement and leadership as opposed to trauma-informed approaches as they consider what inclusive leadership means for them and how their own journey provides a critical entry point into collective efforts. This workshop will particularly benefit members of the BIPOC community\, but is open to all.\nPresenter: Kyra T. Shahid (she/her)\, Assistant Director\, DEI Focus\, Center for Research on Learning and Teaching\nThis workshop is designed for master’s students\, doctoral students\, and postdoctoral fellows. For faculty and staff\, please contact rack-prof-dev@umich.edu to see if we can accommodate your attendance.\nRegistration is required at https://myumi.ch/wMdj4.\nWe want to ensure full and equitable participation in our events. If an accommodation would promote your full participation in this event\, please follow the registration link to indicate your accommodation requirements. Please let us know as soon as possible in order to have adequate time\, preferably one week\, to arrange for your requested accommodations or an effective alternative.
UID:93925-21710282@events.umich.edu
URL:https://events.umich.edu/event/93925
CLASS:PUBLIC
STATUS:CONFIRMED
CATEGORIES:Diversity,Graduate Students
LOCATION:Off Campus Location
CONTACT:
END:VEVENT
BEGIN:VEVENT
DTSTAMP:20220720T073850
DTSTART;TZID=America/Detroit:20220531T140000
DTEND;TZID=America/Detroit:20220531T153000
SUMMARY:Meeting:CoderSpaces\, Virtual Office Hours (Tuesdays\, 2-3:30pm)
DESCRIPTION:Are you grappling with a piece of code\, trying to compute on a University cluster\, or just getting started with a new method such as machine learning? Then we might have just the right space for you.\n\nAll members of the U-M community are invited to join our weekly virtual CoderSpaces\, Tuesdays and Thursdays\, during the Summer 2022 term to get research support and connect with others.\n\nThe virtual sessions are designed to assist faculty\, staff\, and students with research methodology\, statistics\, data science applications\, and computational programming for research.\n\nOur hosts have a wide set of methodological and technological expertise. They come to you from a variety of departments and disciplines and are looking forward to serving the U-M community in their research endeavors.\n\nCoderSpaces provide a casual\, productive and inclusive environment. Everyone is welcome regardless of skill level.\n\nJoin via Zoom* (https://umich.zoom.us/j/98917021399)\n*Users will have to sign in with their UMICH (Level-1) credentials.\n\nWith Charles Antonelli (LSA Tech)\, Jonathan Golob (Division of Infectious Disease)\, and Shelly Johnson (ARC)\n\nExpertise at this session includes: Amazon Web Services (AWS)\, ARC Armis\, ARC Great Lakes\, Bash\, bash shell scripting\, C \, C++\, CMake\, conda (anaconda/miniconda)\, CUDA\, Fortran\, git\, GitHub\, GitLab\, GNU Make\, Google Cloud Platform\, GPU\, HDF5\, high performance computing (HPC)\, Julia\, LaTeX\, Linux\, Lmod modules\, macOS\, MATLAB\, MPI\, NVIDIA\, OpenACC\, OpenMP\, pandas\, parallelization\, performance analysis\, Perl\, Python\, Python BeautifulSoup\, Python Requests\, Python Selenium\, R\, R devtools\, Rcpp\, SLURM\, software compilation & installation on Linux\, software development\, tensorflow\, test-driven development\, venv\, web scraping\, XSEDE
UID:94933-21786504@events.umich.edu
URL:https://events.umich.edu/event/94933
CLASS:PUBLIC
STATUS:CONFIRMED
CATEGORIES:Arc,Arc-ts,Data Science,High Performance Computing,Information and Technology,Research
LOCATION:Off Campus Location
CONTACT:
END:VEVENT
BEGIN:VEVENT
DTSTAMP:20220615T123036
DTSTART;TZID=America/Detroit:20220531T140000
DTEND;TZID=America/Detroit:20220531T150000
SUMMARY:Careers / Jobs:Dell Technologies  Small Business Inside Sales  Meet & Greet
DESCRIPTION:Come meet our Dell Technologies Small Business Inside Sales Hiring managers to learn more about the full-time positions we are hiring for this summer – our role is hybrid\, so you can be remote or based at our offices in either Nashville\, TN or Round Rock\, TX!   \n\nLearn more about how to break into the tech industry and start with a career in sales. We will have an overview of role responsibilities\, our training program and awesome benefits\, our fun culture\, career advancement and more. We will also have a panel of inside sales reps currently doing the job to talk through their experiences working at Dell post-graduation and how their transition went!   \n\nRegister now to reserve your spot! https://bit.ly/3L6CnQJ
UID:95115-21788483@events.umich.edu
URL:https://events.umich.edu/event/95115
CLASS:PUBLIC
STATUS:CONFIRMED
CATEGORIES:
LOCATION:
CONTACT:
END:VEVENT
BEGIN:VEVENT
DTSTAMP:20220615T123032
DTSTART;TZID=America/Detroit:20220531T153000
DTEND;TZID=America/Detroit:20220531T160000
SUMMARY:Careers / Jobs:ScribeAmerica Virtual Info Session EST
DESCRIPTION:Are you pre-health and looking for clinical experience? If so join us for our virtual info session to learn more about becoming a medical scribe!\n\nIf you can't make this session\, we are holding several more throughout the month of May. Click the RSVP link above to find a time thatworks for you.\n
UID:94965-21787363@events.umich.edu
URL:https://events.umich.edu/event/94965
CLASS:PUBLIC
STATUS:CONFIRMED
CATEGORIES:
LOCATION:
CONTACT:
END:VEVENT
BEGIN:VEVENT
DTSTAMP:20220518T113310
DTSTART;TZID=America/Detroit:20220531T170000
DTEND;TZID=America/Detroit:20220531T190000
SUMMARY:Ceremony / Service:10th Annual Shirley Verrett Award Ceremony
DESCRIPTION:RSVP here: http://www.cew.umich.edu/events/10th-annual-shirley-verrett-award-ceremony\n\nThe University of Michigan Women of Color in the Academy Project will present its 10th Annual Shirley Verrett Award to Professor of Theatre & Drama\, the Residential College\, the Penny W. Stamps School of Art & Design\, American Culture\, and English Language and Literature\, Ashley Lucas. The award ceremony is scheduled for May 31 at 5:00 pm at the Stamps Auditorium. There may be an option to view the program virtually or as a recording.\n\nDr. Lucas will be recognized for her visionary leadership that demonstrates the power of theatre to change lives and promote social justice. Her mentorship of women\, in particular\, has been exemplary.\n\nThis year’s award ceremony will include a special guest performance by Dr. Marcía Porter\, an award-winning soprano and Professor of Voice at Florida State University. A cousin and former student of Shirley Verrett’s\, Dr. Porter is a passionate champion of extraordinary female artists and scholars of color at the University of Michigan and beyond.\n\nThe event is free and open to the public\, however\, registration is requested. Feel free to forward this invitation to those who may be interested in learning more about Shirley Verrett and Ashley Lucas' impact on academia and the Arts.
UID:95072-21788414@events.umich.edu
URL:https://events.umich.edu/event/95072
CLASS:PUBLIC
STATUS:CONFIRMED
CATEGORIES:Advocacy,american culture,Culture,Dance,Diversity Equity and Inclusion,Faculty,Free,Inclusion,Leadership,Multicultural,Music,Reception,Social Justice,strong leaders,Theater
LOCATION:Walgreen Drama Center - Stamps Auditorium
CONTACT:
END:VEVENT
BEGIN:VEVENT
DTSTAMP:20220518T181503
DTSTART;TZID=America/Detroit:20220531T170000
DTEND;TZID=America/Detroit:20220531T190000
SUMMARY:Performance:10th Annual Shirley Verrett Award Ceremony
DESCRIPTION:The University of Michigan Women of Color in the Academy Project will present its 10th Annual Shirley Verrett Award to Professor of Theatre & Drama\, the Residential College\, the Penny W. Stamps School of Art & Design\, American Culture\, and English Language and Literature\, Ashley Lucas. The award ceremony is scheduled for May 31 at 5:00 pm at the Stamps Auditorium. There may be an option to view the program virtually or as a recording.\n\nDr. Lucas will be recognized for her visionary leadership that demonstrates the power of theatre to change lives and promote social justice. Her mentorship of women\, in particular\, has been exemplary.\n\nThis year’s award ceremony will include a special guest performance by Dr. Marcía Porter\, an award-winning soprano and Professor of Voice at Florida State University. A cousin and former student of Shirley Verrett’s\, Dr. Porter is a passionate champion of extraordinary female artists and scholars of color at the University of Michigan and beyond.\n\nThe event is free and open to the public\, however\, registration is requested. Feel free to forward this invitation to those who may be interested in learning more about Shirley Verrett and Ashley Lucas' impact on academia and the Arts.\n\nRegister at http://www.cew.umich.edu/events/10th-annual-shirley-verrett-award-ceremony/\n\nco-sponsored by the Center for the Education of Women and the Residential College.
UID:95198-21788753@events.umich.edu
URL:https://events.umich.edu/event/95198
CLASS:PUBLIC
STATUS:CONFIRMED
CATEGORIES:Free
LOCATION:Walgreen Drama Center - Stamps Auditorium
CONTACT:
END:VEVENT
BEGIN:VEVENT
DTSTAMP:20220527T121629
DTSTART;TZID=America/Detroit:20220531T170000
DTEND;TZID=America/Detroit:20220531T200000
SUMMARY:Lecture / Discussion:Behind the Frame: Policing the Filming of Fruitvale Station
DESCRIPTION:Lisa Doris Alexander is a Professor and Interim Chair in the Department of African American Studies at Wayne State University. Dr. Alexander is the author of Expanding the Black Film Canon: Race and Genre Across Six Decades and Homicide: Life on the Street with Wayne State University Press’ TV Milestone Series. Her first book\, When Baseball Isn’t White\, Straight and Male: The Media and Difference in The National Pastime\, won the Society of American Baseball Research’s Negro League’s Committee Robert Peterson Recognition Award in 2013. She also co-edited The Circus is in Town: Sport\, Celebrity\, and Spectacle with Joel Nathan Rosen. She earned her doctorate in American Culture Studies from Bowling Green State University\, her Masters degree in Afro American Studies from the University of California\, Los Angeles\, and her Bachelors degree in Political Science from Grinnell College. She refuses to choose between Star Trek and Star Wars and is a Chicago native and avid fan of the Chicago White Sox and the Chicago Bulls.
UID:95337-21789191@events.umich.edu
URL:https://events.umich.edu/event/95337
CLASS:PUBLIC
STATUS:CONFIRMED
CATEGORIES:african american,african and african american studies,african and afroamerican studies,Afroamerican,film,film screening,Racism,Visual Arts
LOCATION:Angell Hall - AUDITORIUM A
CONTACT:
END:VEVENT
END:VCALENDAR