BEGIN:VCALENDAR
VERSION:2.0
PRODID:-//UM//UM*Events//EN
CALSCALE:GREGORIAN
BEGIN:VTIMEZONE
TZID:America/Detroit
TZURL:http://tzurl.org/zoneinfo/America/Detroit
X-LIC-LOCATION:America/Detroit
BEGIN:DAYLIGHT
TZOFFSETFROM:-0500
TZOFFSETTO:-0400
TZNAME:EDT
DTSTART:20070311T020000
RRULE:FREQ=YEARLY;BYMONTH=3;BYDAY=2SU
END:DAYLIGHT
BEGIN:STANDARD
TZOFFSETFROM:-0400
TZOFFSETTO:-0500
TZNAME:EST
DTSTART:20071104T020000
RRULE:FREQ=YEARLY;BYMONTH=11;BYDAY=1SU
END:STANDARD
END:VTIMEZONE
BEGIN:VEVENT
DTSTAMP:20230324T120005
DTSTART;TZID=America/Detroit:20220604T000000
DTEND;TZID=America/Detroit:20220604T235959
SUMMARY:Community Service:Homework Help at The Children's Center
DESCRIPTION:The Homework Help program offers children assistance with their homework assignments. Children are encouraged to bring homework and are paired with a volunteer to assist them. This program is a critical service in helping children thrive. Volunteers give children the tools they need to be successful in school.Virtual and in-person volunteer opportunities are available. If you would like to volunteer\, please start the enrollment process by creating an account on the Children Center's Volunteer Site found HERE. After your account is created\, the Children's Center will reach out to you within 2 business days to answer any questions and discuss the next steps.In accordance with the CMS Vaccine Mandate\, those volunteering in-person at the Children’s Center are required to be fully vaccinated and must provide proof of full vaccination upon request.
UID:93885-21787840@events.umich.edu
URL:https://events.umich.edu/event/93885
CLASS:PUBLIC
STATUS:CONFIRMED
CATEGORIES:
LOCATION:The Children&#039;s Center 
CONTACT:
END:VEVENT
BEGIN:VEVENT
DTSTAMP:20211129T152100
DTSTART;TZID=America/Detroit:20220604T070000
DTEND;TZID=America/Detroit:20220604T235900
SUMMARY:Careers / Jobs:UROP 2022-2023 Rising Sophomore Applications Open
DESCRIPTION:The Undergraduate Research Opportunity Program is now accepting applications for students who will be rising sophomores during the 2022-2023 academic year.\n\nLearn more and apply today at http://myumi.ch/uropsophomore\n\nRising Sophomore Applications are being accepted on a rolling basis.
UID:89571-21664308@events.umich.edu
URL:https://events.umich.edu/event/89571
CLASS:PUBLIC
STATUS:CONFIRMED
CATEGORIES:AEM Featured,Applications,Engineering,Environment,first-generation,Humanities,Interdisciplinary,Life Science,Professional Development,Public Health,Recruiting,Research,research data,Social Sciences,Sophomore,Undergraduate,Undergraduate Students,Urop
LOCATION:Off Campus Location
CONTACT:
END:VEVENT
BEGIN:VEVENT
DTSTAMP:20220215T154124
DTSTART;TZID=America/Detroit:20220604T080000
DTEND;TZID=America/Detroit:20220604T230000
SUMMARY:Careers / Jobs:Apply to Changing Gears
DESCRIPTION:Changing Gears (CG) is a UROP program designed primarily for community college transfer students who will be attending the University of Michigan\, but also serves students transferring from 4 year institutions. Students in the CG Program become a part of an ongoing faculty-driven research\, scholarly or creative project in their field of interest. Students learn valuable academic skills\, applying these skills to their research project\, academics\, and future career opportunities\, while receiving academic credit or compensation for their efforts in research work.\n\nApplications are accepted on a rolling basis.\nLearn more about Changing Gears at: myumi.ch/uropcg
UID:92406-21690964@events.umich.edu
URL:https://events.umich.edu/event/92406
CLASS:PUBLIC
STATUS:CONFIRMED
CATEGORIES:AEM Featured,Applications,first-generation,Free,Interdisciplinary,Networking,Research,research data,Social Impact,The College Of Literature\, Science\, And The Arts,Transfer Students,Undergraduate,Undergraduate Students,Urop
LOCATION:Off Campus Location
CONTACT:
END:VEVENT
BEGIN:VEVENT
DTSTAMP:20220516T161143
DTSTART;TZID=America/Detroit:20220604T080000
DTEND;TZID=America/Detroit:20220604T190000
SUMMARY:Exhibition:Map ≠ Territory: Distortion and Power in Cartography
DESCRIPTION:More than strict representations of the world we inhabit\, maps are social constructions that embody the interests of their creators. Map ≠ Territory deconstructs maps that have been used to subjugate\, appropriate\, and oppress\, as well as the maps that counter that power through emancipation and advocacy. The exhibit critically engages with materials that span from the colonial era to modern-day Detroit.\n\nThe exhibit is available in the Clark Library (second floor Hatcher) during Hatcher Library hours. Please verify hours on the library's website: https://www.lib.umich.edu
UID:90765-21788635@events.umich.edu
URL:https://events.umich.edu/event/90765
CLASS:PUBLIC
STATUS:CONFIRMED
CATEGORIES:Library,Maps
LOCATION:Hatcher Graduate Library - Clark Library, 2nd Floor
CONTACT:
END:VEVENT
BEGIN:VEVENT
DTSTAMP:20220502T122639
DTSTART;TZID=America/Detroit:20220604T080000
DTEND;TZID=America/Detroit:20220604T230000
SUMMARY:Careers / Jobs:UROP First-Year Application Open
DESCRIPTION:Our \"Traditional UROP Program\" has been our flagship program running over 30 years. This Academic Year program\, in which students participate for both Fall and Winter Terms\, is designed for University of Michigan first and second year undergraduate students enrolled on the Ann Arbor campus who are seeking a first time research experience. Student research assistants work alongside a faculty member\, research scientist or professional practitioner on an ongoing or new research project.\n\nLearn more and apply at: myumi.ch/uropyearone\n\nApplications being accepted on a rolling basis.
UID:83923-21785189@events.umich.edu
URL:https://events.umich.edu/event/83923
CLASS:PUBLIC
STATUS:CONFIRMED
CATEGORIES:AEM Featured,Applications,first-generation,Free,Interdisciplinary,Networking,Research,Undergraduate,Undergraduate Students,Urop
LOCATION:
CONTACT:
END:VEVENT
BEGIN:VEVENT
DTSTAMP:20220117T095807
DTSTART;TZID=America/Detroit:20220604T080000
DTEND;TZID=America/Detroit:20220604T230000
SUMMARY:Careers / Jobs:UROP Research Scholars Program Application Open
DESCRIPTION:The UROP Research Scholars Program is designed for students who want to expand on their first year UROP experience and participate in UROP for a second year at an advanced level. In this program\, students build upon the knowledge gained in a first undergraduate research experience to further explore the connections between research\, a liberal arts education\, and communicating skills to advance their future professional goals. Students are expected to explore various written and oral possibilities for communicating their research process\, identifying the limits set by the discipline and the opportunities that lie beyond.\n\nApplications for the 2022-2023 academic year cohort open February 14th.\nPriority Deadline for the applications is March 18th\n\nLearn more at: myumi.ch/uroprs
UID:91080-21676548@events.umich.edu
URL:https://events.umich.edu/event/91080
CLASS:PUBLIC
STATUS:CONFIRMED
CATEGORIES:AEM Featured,Applications,Fellowship,first-generation,Interdisciplinary,Networking,Research,research data,Sophomore,The College Of Literature\, Science\, And The Arts,Undergraduate,Undergraduate Students,Urop
LOCATION:Off Campus Location
CONTACT:
END:VEVENT
BEGIN:VEVENT
DTSTAMP:20220204T165932
DTSTART;TZID=America/Detroit:20220604T090000
DTEND;TZID=America/Detroit:20220604T180000
SUMMARY:Exhibition:Greek Manuscripts at the University of Michigan Library: A Celebration
DESCRIPTION:Splendors of the religious and artistic endeavors of Byzantine manuscript makers are on display in this exhibit of highlights from the Greek manuscript collection at the University of Michigan Library Special Collections Research Center. The collection — 110 codices (bound manuscripts) and fragments written in Greek from the fourth to the nineteenth centuries C.E. — is the largest such collection in the Western Hemisphere and provides unique insights into this era of achievement in textual transmission\, calligraphy\, illumination\, and bookbinding. The exhibit will be open during Audubon Room hours.\n\nA digital version of the exhibit will be available in the Audubon Room and online\, and allows visitors to explore other pages of the manuscripts on display and other manuscripts from the collection.\n\nThis exhibit celebrates two recent publications based on the collection: \n\n* Catalogue of Greek Manuscripts at the University of Michigan\, Ann Arbor. Vol. 1.\, by Nadezhda Kavrus-Hoffmann (Ann Arbor: University of Michigan Press\, 2021)\n\n* Tradition and Individuality: Bindings from the University of Michigan Greek Manuscript Collection\, by Julia Miller (Ann Arbor: The Legacy Press\, 2021)
UID:92000-21684932@events.umich.edu
URL:https://events.umich.edu/event/92000
CLASS:PUBLIC
STATUS:CONFIRMED
CATEGORIES:Classical Studies,Exhibition,Library
LOCATION:Hatcher Graduate Library - Audubon Room, 1st floor
CONTACT:
END:VEVENT
BEGIN:VEVENT
DTSTAMP:20220604T181033
DTSTART;TZID=America/Detroit:20220604T100000
SUMMARY:Performance:Garden Walk
DESCRIPTION:\"100 Years In Bloom\" Garden Walk 10 a.m. - 4 p.m. A2 Hills & Geddes Heights. \nPlease visit https://mutotix.umich.edu/3398/3399 for more detail.
UID:94698-21760702@events.umich.edu
URL:https://events.umich.edu/event/94698
CLASS:PUBLIC
STATUS:CONFIRMED
CATEGORIES:Mutotix
LOCATION:GA - Garden Walk
CONTACT:
END:VEVENT
BEGIN:VEVENT
DTSTAMP:20220419T113622
DTSTART;TZID=America/Detroit:20220604T100000
DTEND;TZID=America/Detroit:20220604T180000
SUMMARY:Exhibition:Mail Art: Postcards from the Pandemic
DESCRIPTION:View postcards from the pandemic. When the U-M Library and the Ann Arbor District Library asked community members to submit handmade postcards — mail art — in 2020 to capture the emotions and experiences of the Ann Arbor and U-M community during challenging pandemic times\, creative pieces of art started arriving at the library. About the submissions: https://myumi.ch/pdbeW\n\nStop by the Hatcher Library to view these physical artifacts that reflect how people were coping during the unexpected Covid-19 shutdown.
UID:94707-21761647@events.umich.edu
URL:https://events.umich.edu/event/94707
CLASS:PUBLIC
STATUS:CONFIRMED
CATEGORIES:Art,Free,Library
LOCATION:Hatcher Graduate Library - North Lobby (just off the Diag)
CONTACT:
END:VEVENT
BEGIN:VEVENT
DTSTAMP:20220714T181508
DTSTART;TZID=America/Detroit:20220604T110000
DTEND;TZID=America/Detroit:20220604T170000
SUMMARY:Exhibition:Mother Cyborg: Crafting Our Digital Legacy
DESCRIPTION:Detroit-based artist\, musician\, and educator Mother Cyborg (Diana J. Nucera) debuts a series of quilts that references our relationship to digital technologies\, data-mining and security in the age of the Internet. Using bright colors\, geometric shapes and patterns\, Crafting our Digital Legacy  opens up analogue and tactile spaces that invite audiences to reflect upon our collective relationship with internet technologies\, identity\, legacy\, and the future. Mother Cyborg draws from over 15 years experience as a community organizer in Detroit\, MI where individuals gained access and agency to (re-)build their neighborhoods\, and run their own Internet service providers. In this exhibition\, Nucera expands her artist self through fiber works where she addresses critical issues of surveillance\, data collection\, the redaction of love to likes\, and the complexity of identity within it all. \nMother Cyborg states\, “This work aims to return a sense of wonder and magic to all of us\, and rekindle the awe we may have first felt when using a geolocating star map\, or being able to video call a person across borders. Crafting our Digital Legacy  looks at the way in which art can unpack how living at the whim of invisible wifi connections\, engaging ‘power cycling’ (turning on and off) computers and phones to ‘fix’ them\, modern experiences of technology run the gamut from resigned faith to proselytizing zealotry. In our weariness of the state of technology\, we fail to notice that the ‘same’ data\, taken from all of us\, has the power to rewrite and mutate the prior century’s worst inequalities into a blueprint for the future. These psychedelic quilts mesmerize while spotlighting surveillance tactics embedded within society bringing into focus the information and questions we should be asking of the future.”\nCurated by Srimoyee Mitra.
UID:94852-21777242@events.umich.edu
URL:https://events.umich.edu/event/94852
CLASS:PUBLIC
STATUS:CONFIRMED
CATEGORIES:Art
LOCATION:Off Campus Location
CONTACT:
END:VEVENT
BEGIN:VEVENT
DTSTAMP:20220519T181504
DTSTART;TZID=America/Detroit:20220604T110000
DTEND;TZID=America/Detroit:20220604T170000
SUMMARY:Exhibition:Ruth Weisberg: Of Memory\, Time & Place
DESCRIPTION:“One thing that is very clear to me is that my life and my work are very intertwined. For me the creation of my art\, be it painting\, drawing or printmaking\, integrates my life experiences\, my beliefs and my heritage. I hope that my viewers will also bring their own lenses created by their identity\, their family history and their experiences.” \n- Ruth Weisberg\nRuth Weisberg: Of Memory\, Time &amp\; Place brings together over 25 works that span six decades of the artist’s practice as a painter and printmaker. It features iconic works from Weisberg’s artistic career - Waterborne (1973)\, A Year Passes (1985) and Questioning Veronese (2011) - where she explored the interconnectedness and continuity of successive generations. Anchored in themes of personal and familial memory\; ancestral knowledge embedded in her Jewish heritage\, and admiration for Western art history\, her unframed canvases\, and works on paper create liminal spaces that collapse the time and space\, where family\, friends from the present and past share space with great painters and Holocaust survivors and those who perished. The Shtetl\, A Journey and Memorial\, a limited- edition artist book that she wrote and illustrated comprising 9 intaglio prints in 1971\, lies at the heart of the exhibition. In it she paid homage to the small Jewish towns in Poland (where her ancestors are from) before the Holocaust. This significant work was a touchstone for her artistic and professional career as it propelled her move from Michigan to Los Angeles in 1969.\n \nBorn and raised in Chicago\, Weisberg moved to Ann Arbor to pursue her higher studies\, she completed her B.Ed (1964)\, after spending three years in Perugia\, Italy where she earned a Laurea di Belle Arti in 1962\, and MFA (1965). Since her arrival in Los Angeles\, Weisberg has been a formidable influence and mentor to decades of artists as an artist\, Professor of Fine Arts and former Dean at the University of Southern California Roski School of Art and Design. Weisberg was the Director of the USC Initiative for Israeli Arts and Humanities\, and the founder of the Jewish Artists Initiative of Southern California. Her first major survey in Los Angeles was in 1979 at the Los Angeles Municipal Art Gallery. She and Judy Chicago were the first two artists exhibited at The Women’s Building\, Los Angeles. Their solo exhibitions inaugurated that venue. Weisberg has had more than 80 solo exhibitions and nearly 200 group exhibitions internationally\, including a major exhibition at the Norton Simon Museum\, Pasadena and a retrospective\, at the Skirball Museum\, Los Angeles as well as a solo exhibition at the Huntington in San Marino. She is the recipient of many prestigious awards\, some notable ones are the Printmaker Emeritus Award from the Southern Graphic Council International in 2015 and the Foundation for Jewish Culture’s 50th Anniversary Cultural Achievement Award in 2011. She has been the recipient of the Art Leadership Award\, National Council of Art Administrators and the Women’s Caucus for Art Lifetime Achievement Award\, 2009. Ruth Weisberg is represented by Jack Rutberg Fine Arts\, Los Angeles.\n \nCurated by Srimoyee Mitra.
UID:94838-21776772@events.umich.edu
URL:https://events.umich.edu/event/94838
CLASS:PUBLIC
STATUS:CONFIRMED
CATEGORIES:Art
LOCATION:Off Campus Location
CONTACT:
END:VEVENT
BEGIN:VEVENT
DTSTAMP:20220525T154208
DTSTART;TZID=America/Detroit:20220604T130000
DTEND;TZID=America/Detroit:20220604T150000
SUMMARY:Performance:“100 Years in Bloom” Peony Concert and Centennial Celebrations | Pungnyu in the Peony Garden
DESCRIPTION:1:00-2:30PM\nJoin us for a celebration of the centennial anniversary of the peony garden at Nichols Arboretum!\n\n2:30-3:00PM\nThe program will conclude with a performance by \"Pungnyu in the Peony Garden\". Featuring a variety of traditional Korean instruments and genres including: danso\, haegeum\, janggu\, geomungo\, piri\, pansori.\n\nPungnyu means ‘wind and stream\,’ and it represents the connection Korean traditional music has to nature. The sounds are produced by instruments made of materials such as bamboo\, silk\, and aged wood\, creating sonorities reminiscent of the wind blowing through grass and the rustling of leaves. This performance celebrates the beauty of our natural world and encourages us to sit\, listen\, and drink up the beauty of our surroundings.Join us for a celebration of the centennial anniversary of the peony garden at Nichols Arboretum!\n\nIf there is anything we can do to make this event accessible to you\, please contact us at ncks.info@umich.edu. Please be aware that advance notice is necessary as some accommodations may require more time for the university to arrange.
UID:95088-21788456@events.umich.edu
URL:https://events.umich.edu/event/95088
CLASS:PUBLIC
STATUS:CONFIRMED
CATEGORIES:Asia,Gardening,Korea,Music
LOCATION:Nichols Arboretum
CONTACT:
END:VEVENT
BEGIN:VEVENT
DTSTAMP:20220912T132709
DTSTART;TZID=America/Detroit:20220604T133000
DTEND;TZID=America/Detroit:20220604T141500
SUMMARY:Presentation:Tales of the Maya Skies
DESCRIPTION:Tales of the Maya Skies immerses viewers in the wonders of Maya science\, cosmology and myth. This beautifully illustrated story takes us back in time to the jungles of Mexico to discover how Mayan scholars developed a sophisticated understanding of astronomy\, architecture\, and mathematics that enabled them to predict solstices\, solar eclipses\, weather patterns and planetary movements.\n\nThe state-of-the-art Planetarium & Dome Theater at the U-M Museum of Natural History transports visitors beyond distant stars and back in time from the comfort of reclining seats. Tickets $8. Tickets are available on the day of the show at the Museum Store.\n\nThe planetarium is operating at half capacity to maximize distancing between viewers.
UID:95036-21788357@events.umich.edu
URL:https://events.umich.edu/event/95036
CLASS:PUBLIC
STATUS:CONFIRMED
CATEGORIES:Astronomy,Museum,Natural Sciences,Science
LOCATION:Museum of Natural History - Planetarium and Dome Theater
CONTACT:
END:VEVENT
BEGIN:VEVENT
DTSTAMP:20220604T181032
DTSTART;TZID=America/Detroit:20220604T140000
SUMMARY:Performance:The CEO
DESCRIPTION:A modern adaptation of the G & S favorite The Mikado. \nPlease visit https://mutotix.umich.edu/3215/3396 for more detail.
UID:94671-21755462@events.umich.edu
URL:https://events.umich.edu/event/94671
CLASS:PUBLIC
STATUS:CONFIRMED
CATEGORIES:Art,Mutotix
LOCATION:Arthur Miller
CONTACT:
END:VEVENT
BEGIN:VEVENT
DTSTAMP:20230908T085204
DTSTART;TZID=America/Detroit:20220604T150000
DTEND;TZID=America/Detroit:20220604T151500
SUMMARY:Presentation:Science Forum Discovery Demos
DESCRIPTION:Join us in the Science Forum for 15-20 minute engaging science demonstrations that will help you see the world in a whole new way. Demonstrations are free and appropriate for visitors ages 5 and above. Schedule subject to change.\n\nNo demos on October 14th or 15th.\n\nHow to Become a Fossil\nExplore how fossils form and what parts of animals can become fossilized! How old are the earliest fossils? How old does something have to be before it is considered a fossil? You’ll touch some real fossils\, learn the different types of fossil evidence\, and discover what is necessary to become a fossil.  Finally\, we’ll discuss what kinds of things fossils can tell us\, and how fossil casts are made in the museum!
UID:95035-21788309@events.umich.edu
URL:https://events.umich.edu/event/95035
CLASS:PUBLIC
STATUS:CONFIRMED
CATEGORIES:Children,Family,Free,Museum,natural history museum,Natural Sciences,Science
LOCATION:Museum of Natural History - Science Forum
CONTACT:
END:VEVENT
BEGIN:VEVENT
DTSTAMP:20220311T144306
DTSTART;TZID=America/Detroit:20220604T183000
DTEND;TZID=America/Detroit:20220604T220000
SUMMARY:Performance:Shakespeare In The Arb: A Mid Summer Night's Dream
DESCRIPTION:Nichols Arboretum and the Residential College presents Shakespeare in the Arb “A Midsummer Night's Dream”. Directed by Kate Mendeloff\, Graham Atkin and Carol Gray. Shakespeare in the Arb is a 2 hour outdoor\, moving performance that takes place within Nichols Arboretum.  Audience members should be prepared for light weather conditions\, periods of sitting\, standing and walking. All tickets held at Will Call\, Nichols Arboretum Visitor Center\, 1610 Washington Heights. No refunds. No exchanges. For more information\, visit https://mbgna.umich.edu/shakespeare-in-the-arb/.\n\nPerformances occur from 6:30pm to 8:30pm on the following dates:\n\nThursday June 2\, Friday June 3\, Saturday June 4\, Sunday June 5\nThursday June 9\, Friday June 10\, Saturday June 11\, Sunday June 12\nThursday June 16\, Friday June 17\, Saturday June 18\, Sunday June 19\nThursday June 23\, Friday June 24\, Saturday June 25\, Sunday June 26\n\nTickets will become available beginning Monday\, May 16 at 11am for Matthaei-Nichols members or Monday\, May 23 at 11am for the general public. Tickets are held at Will Call\, located at the Nichols Arboretum Visitor Center\, 1610 Washington Heights. Receipts of sale from the Michigan Union Ticket Office (digital or printed) must be redeemed at Will Call for a ticket lanyard between 5pm and 6:15pm. All tickets are sold in advance through the Michigan Union Ticket Office\, in person\, online or via phone. No refunds. No exchanges.\n\nFor parking and additional details visit: \n\nhttps://mbgna.umich.edu/shakespeare-in-the-arb/
UID:93325-21702634@events.umich.edu
URL:https://events.umich.edu/event/93325
CLASS:PUBLIC
STATUS:CONFIRMED
CATEGORIES:Mutotix
LOCATION:Nichols Arboretum - Nichols Arboretum Visitor Center, 1610 Washington Heights
CONTACT:
END:VEVENT
BEGIN:VEVENT
DTSTAMP:20220604T181032
DTSTART;TZID=America/Detroit:20220604T200000
SUMMARY:Performance:The CEO
DESCRIPTION:A modern adaptation of the G & S favorite The Mikado. \nPlease visit https://mutotix.umich.edu/3215/3397 for more detail.
UID:94697-21760701@events.umich.edu
URL:https://events.umich.edu/event/94697
CLASS:PUBLIC
STATUS:CONFIRMED
CATEGORIES:Art,Mutotix
LOCATION:Arthur Miller
CONTACT:
END:VEVENT
END:VCALENDAR