BEGIN:VCALENDAR
VERSION:2.0
PRODID:-//UM//UM*Events//EN
CALSCALE:GREGORIAN
BEGIN:VTIMEZONE
TZID:America/Detroit
TZURL:http://tzurl.org/zoneinfo/America/Detroit
X-LIC-LOCATION:America/Detroit
BEGIN:DAYLIGHT
TZOFFSETFROM:-0500
TZOFFSETTO:-0400
TZNAME:EDT
DTSTART:20070311T020000
RRULE:FREQ=YEARLY;BYMONTH=3;BYDAY=2SU
END:DAYLIGHT
BEGIN:STANDARD
TZOFFSETFROM:-0400
TZOFFSETTO:-0500
TZNAME:EST
DTSTART:20071104T020000
RRULE:FREQ=YEARLY;BYMONTH=11;BYDAY=1SU
END:STANDARD
END:VTIMEZONE
BEGIN:VEVENT
DTSTAMP:20230324T120005
DTSTART;TZID=America/Detroit:20220606T000000
DTEND;TZID=America/Detroit:20220606T235959
SUMMARY:Community Service:Homework Help at The Children's Center
DESCRIPTION:The Homework Help program offers children assistance with their homework assignments. Children are encouraged to bring homework and are paired with a volunteer to assist them. This program is a critical service in helping children thrive. Volunteers give children the tools they need to be successful in school.Virtual and in-person volunteer opportunities are available. If you would like to volunteer\, please start the enrollment process by creating an account on the Children Center's Volunteer Site found HERE. After your account is created\, the Children's Center will reach out to you within 2 business days to answer any questions and discuss the next steps.In accordance with the CMS Vaccine Mandate\, those volunteering in-person at the Children’s Center are required to be fully vaccinated and must provide proof of full vaccination upon request.
UID:93885-21787842@events.umich.edu
URL:https://events.umich.edu/event/93885
CLASS:PUBLIC
STATUS:CONFIRMED
CATEGORIES:
LOCATION:The Children&#039;s Center 
CONTACT:
END:VEVENT
BEGIN:VEVENT
DTSTAMP:20211129T152100
DTSTART;TZID=America/Detroit:20220606T070000
DTEND;TZID=America/Detroit:20220606T235900
SUMMARY:Careers / Jobs:UROP 2022-2023 Rising Sophomore Applications Open
DESCRIPTION:The Undergraduate Research Opportunity Program is now accepting applications for students who will be rising sophomores during the 2022-2023 academic year.\n\nLearn more and apply today at http://myumi.ch/uropsophomore\n\nRising Sophomore Applications are being accepted on a rolling basis.
UID:89571-21664310@events.umich.edu
URL:https://events.umich.edu/event/89571
CLASS:PUBLIC
STATUS:CONFIRMED
CATEGORIES:AEM Featured,Applications,Engineering,Environment,first-generation,Humanities,Interdisciplinary,Life Science,Professional Development,Public Health,Recruiting,Research,research data,Social Sciences,Sophomore,Undergraduate,Undergraduate Students,Urop
LOCATION:Off Campus Location
CONTACT:
END:VEVENT
BEGIN:VEVENT
DTSTAMP:20220215T154124
DTSTART;TZID=America/Detroit:20220606T080000
DTEND;TZID=America/Detroit:20220606T230000
SUMMARY:Careers / Jobs:Apply to Changing Gears
DESCRIPTION:Changing Gears (CG) is a UROP program designed primarily for community college transfer students who will be attending the University of Michigan\, but also serves students transferring from 4 year institutions. Students in the CG Program become a part of an ongoing faculty-driven research\, scholarly or creative project in their field of interest. Students learn valuable academic skills\, applying these skills to their research project\, academics\, and future career opportunities\, while receiving academic credit or compensation for their efforts in research work.\n\nApplications are accepted on a rolling basis.\nLearn more about Changing Gears at: myumi.ch/uropcg
UID:92406-21690966@events.umich.edu
URL:https://events.umich.edu/event/92406
CLASS:PUBLIC
STATUS:CONFIRMED
CATEGORIES:AEM Featured,Applications,first-generation,Free,Interdisciplinary,Networking,Research,research data,Social Impact,The College Of Literature\, Science\, And The Arts,Transfer Students,Undergraduate,Undergraduate Students,Urop
LOCATION:Off Campus Location
CONTACT:
END:VEVENT
BEGIN:VEVENT
DTSTAMP:20220518T161555
DTSTART;TZID=America/Detroit:20220606T080000
DTEND;TZID=America/Detroit:20220606T160000
SUMMARY:Exhibition:Lane Hall Gallery Summer Exhibit
DESCRIPTION:In this exhibit\, artists Ashley Bigham (photographs) and Grace Mahoney (watercolors) investigate the visibility and social role of Ukraine’s older generation of women embodied in a figure both iconic and ubiquitous: the babusya. Seen in public transport\, in the market\, and on the street\, each babusya has a story to tell. Each has something to say\, something to gossip about\, and something to complain about. \n\n\"Invisible Women: Portraits of Aging in Ukraine\" is hosted by the University of Michigan’s Institute for Research on Women and Gender (IRWG) and the Department of Women’s and Gender Studies. The exhibit is on display for public viewing weekdays from 8:00 a.m.- 4:00 p.m. through August 18\, 2022\, in the main lobby of Lane Hall\, located at 204 South State Street\, Ann Arbor\, MI 48109. For more information on the current exhibit\, visit IRWG’s website.
UID:95140-21788533@events.umich.edu
URL:https://events.umich.edu/event/95140
CLASS:PUBLIC
STATUS:CONFIRMED
CATEGORIES:Exhibition,institute for research on women and gender,irwg,ukrainian,Women's Studies
LOCATION:Lane Hall
CONTACT:
END:VEVENT
BEGIN:VEVENT
DTSTAMP:20220516T161143
DTSTART;TZID=America/Detroit:20220606T080000
DTEND;TZID=America/Detroit:20220606T190000
SUMMARY:Exhibition:Map ≠ Territory: Distortion and Power in Cartography
DESCRIPTION:More than strict representations of the world we inhabit\, maps are social constructions that embody the interests of their creators. Map ≠ Territory deconstructs maps that have been used to subjugate\, appropriate\, and oppress\, as well as the maps that counter that power through emancipation and advocacy. The exhibit critically engages with materials that span from the colonial era to modern-day Detroit.\n\nThe exhibit is available in the Clark Library (second floor Hatcher) during Hatcher Library hours. Please verify hours on the library's website: https://www.lib.umich.edu
UID:90765-21788637@events.umich.edu
URL:https://events.umich.edu/event/90765
CLASS:PUBLIC
STATUS:CONFIRMED
CATEGORIES:Library,Maps
LOCATION:Hatcher Graduate Library - Clark Library, 2nd Floor
CONTACT:
END:VEVENT
BEGIN:VEVENT
DTSTAMP:20220502T122639
DTSTART;TZID=America/Detroit:20220606T080000
DTEND;TZID=America/Detroit:20220606T230000
SUMMARY:Careers / Jobs:UROP First-Year Application Open
DESCRIPTION:Our \"Traditional UROP Program\" has been our flagship program running over 30 years. This Academic Year program\, in which students participate for both Fall and Winter Terms\, is designed for University of Michigan first and second year undergraduate students enrolled on the Ann Arbor campus who are seeking a first time research experience. Student research assistants work alongside a faculty member\, research scientist or professional practitioner on an ongoing or new research project.\n\nLearn more and apply at: myumi.ch/uropyearone\n\nApplications being accepted on a rolling basis.
UID:83923-21785191@events.umich.edu
URL:https://events.umich.edu/event/83923
CLASS:PUBLIC
STATUS:CONFIRMED
CATEGORIES:AEM Featured,Applications,first-generation,Free,Interdisciplinary,Networking,Research,Undergraduate,Undergraduate Students,Urop
LOCATION:
CONTACT:
END:VEVENT
BEGIN:VEVENT
DTSTAMP:20220117T095807
DTSTART;TZID=America/Detroit:20220606T080000
DTEND;TZID=America/Detroit:20220606T230000
SUMMARY:Careers / Jobs:UROP Research Scholars Program Application Open
DESCRIPTION:The UROP Research Scholars Program is designed for students who want to expand on their first year UROP experience and participate in UROP for a second year at an advanced level. In this program\, students build upon the knowledge gained in a first undergraduate research experience to further explore the connections between research\, a liberal arts education\, and communicating skills to advance their future professional goals. Students are expected to explore various written and oral possibilities for communicating their research process\, identifying the limits set by the discipline and the opportunities that lie beyond.\n\nApplications for the 2022-2023 academic year cohort open February 14th.\nPriority Deadline for the applications is March 18th\n\nLearn more at: myumi.ch/uroprs
UID:91080-21676550@events.umich.edu
URL:https://events.umich.edu/event/91080
CLASS:PUBLIC
STATUS:CONFIRMED
CATEGORIES:AEM Featured,Applications,Fellowship,first-generation,Interdisciplinary,Networking,Research,research data,Sophomore,The College Of Literature\, Science\, And The Arts,Undergraduate,Undergraduate Students,Urop
LOCATION:Off Campus Location
CONTACT:
END:VEVENT
BEGIN:VEVENT
DTSTAMP:20220204T165932
DTSTART;TZID=America/Detroit:20220606T090000
DTEND;TZID=America/Detroit:20220606T180000
SUMMARY:Exhibition:Greek Manuscripts at the University of Michigan Library: A Celebration
DESCRIPTION:Splendors of the religious and artistic endeavors of Byzantine manuscript makers are on display in this exhibit of highlights from the Greek manuscript collection at the University of Michigan Library Special Collections Research Center. The collection — 110 codices (bound manuscripts) and fragments written in Greek from the fourth to the nineteenth centuries C.E. — is the largest such collection in the Western Hemisphere and provides unique insights into this era of achievement in textual transmission\, calligraphy\, illumination\, and bookbinding. The exhibit will be open during Audubon Room hours.\n\nA digital version of the exhibit will be available in the Audubon Room and online\, and allows visitors to explore other pages of the manuscripts on display and other manuscripts from the collection.\n\nThis exhibit celebrates two recent publications based on the collection: \n\n* Catalogue of Greek Manuscripts at the University of Michigan\, Ann Arbor. Vol. 1.\, by Nadezhda Kavrus-Hoffmann (Ann Arbor: University of Michigan Press\, 2021)\n\n* Tradition and Individuality: Bindings from the University of Michigan Greek Manuscript Collection\, by Julia Miller (Ann Arbor: The Legacy Press\, 2021)
UID:92000-21684934@events.umich.edu
URL:https://events.umich.edu/event/92000
CLASS:PUBLIC
STATUS:CONFIRMED
CATEGORIES:Classical Studies,Exhibition,Library
LOCATION:Hatcher Graduate Library - Audubon Room, 1st floor
CONTACT:
END:VEVENT
BEGIN:VEVENT
DTSTAMP:20220606T101508
DTSTART;TZID=America/Detroit:20220606T100000
DTEND;TZID=America/Detroit:20220606T120000
SUMMARY:Class / Instruction:Analysis of Complex Sample Survey Data - Summer Institute in Survey Research Techniques
DESCRIPTION:Analysis of Complex Sample Survey Data\n\nOpen for registration!\n\nJune 6 - July 29\, 2022\n10:00am-12:00pm\nM/W/F\n\nThis course provides practical methods and tools to analyze complex survey data with a hands-on introduction to the use of specialized statistical software procedures. The course focuses on case studies with specific large-scale national surveys: the National Comorbidity Survey-Replication (NCS-R)\, the National Health and Nutrition Examination Surveys (NHANES)\, and the Health and Retirement Study (HRS). Relevant design features of the NCS-R\, NHANES and HRS include survey weights that take into account differences in probability of selection into the sample and differences in response rates\, as well as stratification and clustering in the multistage sampling procedures used in identifying the sampled households and individuals. After introducing essential concepts related to complex sample designs\, the course will turn to the construction of survey weights\, estimation of sampling variance\, descriptive analysis\, regression analysis\, and finally special topics in the analysis of survey data. Participants can expect to work on homework exercises\, computer lab exercises\, and a final analysis project.\n\nWhy take this course? \n- To gain an understanding of modern methods and software for the secondary analysis of survey data collected from large complex samples\n- To have the opportunity for one-on-one interaction with the instructors when walking through analyses of survey data\n- To see various examples of applied statistical analyses of survey data\n- To have the experience of writing a scientific paper that presents an analysis of complex sample survey data\, and getting expert feedback on that paper.\n\nCourse Hours: 3\n\nInstructors: Brady T. West\, Yajuan Si\n\nPrerequisite: Two graduate-level courses in statistical methods\, familiarity with basic sample design concepts\, and familiarity with data analytic techniques such as linear and logistic regression.\n\nAll 2022 courses will be offered in an alternative remote format.
UID:95202-21788811@events.umich.edu
URL:https://events.umich.edu/event/95202
CLASS:PUBLIC
STATUS:CONFIRMED
CATEGORIES:Anthropology,Basic Science,Data,Data Curation,Data Management,Data Science,Economics,Education,Graduate,Information and Technology,Integrative Systems,Interdisciplinary,Mathematics,Multidisciplinary Design,Political Economy,Political Science,Population Studies Center,Psychology,Public Policy,Research,Science,Social Sciences,Sociology,Survey Research,Training
LOCATION:Off Campus Location
CONTACT:
END:VEVENT
BEGIN:VEVENT
DTSTAMP:20220606T101145
DTSTART;TZID=America/Detroit:20220606T100000
DTEND;TZID=America/Detroit:20220606T110000
SUMMARY:Presentation:The Clements Bookworm
DESCRIPTION:In this episode of the Bookworm\, Clements Library Fellows Dr. Richard Bell (Professor of History\, University of Maryland) and Latoya M. Teague (PhD Candidate in African & African Diaspora Studies\, The University of Texas at Austin) will join Maggie Vanderford (Librarian for Instruction & Engagement\, Clements Library) to discuss the teaching of Black history with primary sources.\n\nThe roundtable conversation will address various approaches to Black history pedagogy in university lectures\, secondary school classrooms\, and in library primary source instruction. From curriculum design to syllabus and lesson plan creation\, join the conversation to think more deeply about how to teach the triumphs and the heartbreaks of the past in ways that are both informed and intentional.\n\nPlease register at: myumi.ch/gjgzR
UID:95162-21789934@events.umich.edu
URL:https://events.umich.edu/event/95162
CLASS:PUBLIC
STATUS:CONFIRMED
CATEGORIES:african american,african and african american studies,african and afroamerican studies,african diaspora,american culture,american history,Anthropology,Books,Culture,Diversity,Education,history,Humanities,libraries,Library,multicultural,Virtual
LOCATION:
CONTACT:
END:VEVENT
BEGIN:VEVENT
DTSTAMP:20220519T125817
DTSTART;TZID=America/Detroit:20220606T110000
DTEND;TZID=America/Detroit:20220606T120000
SUMMARY:Class / Instruction:Summer Institute in Survey Research Techniques
DESCRIPTION:Open for registration!\n\nThe Summer Institute offers courses on (1) research design and sample selection\, (2) measurement\, (3) qualitative methods in survey research design\, (4) data collection\, and (5) analysis.\n\nMulti-week courses provide more in-depth coverage of a topic\, include readings\, homework\, and examinations\, and often providing participants with an opportunity to practice survey techniques.  One-week courses give an overview of a methodology topic\, including readings and homework.  One-day workshops are offered for those who need to learn a specific technique or method in a short period of time.\n\nAll 2022 courses will be offered in an alternative remote format.
UID:95200-21788755@events.umich.edu
URL:https://events.umich.edu/event/95200
CLASS:PUBLIC
STATUS:CONFIRMED
CATEGORIES:Basic Science,Career,Corporate,Economics,Graduate,Graduate Students,Information and Technology,International,Kinesiology,Mathematics,Professional Development,Psychology,Public Policy,Research,Science,Sociology,Training
LOCATION:Off Campus Location
CONTACT:
END:VEVENT
BEGIN:VEVENT
DTSTAMP:20220621T063054
DTSTART;TZID=America/Detroit:20220606T113000
DTEND;TZID=America/Detroit:20220606T133000
SUMMARY:Careers / Jobs:ICON plc - Clinical Research Careers Open House
DESCRIPTION:Come learn about research careers in our Phase 1 Clinic. \n\nWHEN: JUNE 6TH   (2 sessions) \n~ 11:30-1:30 CST \n~ 4:30-6:30 CST\nWHERE: 9755 RIDGE DRIVE\, LENEXA KS 66219\n\nLight refreshments will be served. \n\nThere will be an overview given of the clinic and careers at 11:30am and 4:30pm.  Following will be an opportunity for networking with operational leaders.  Plan to bring copies of your resume to share. \n\nTypes of Openings at our Lenexa Clinic:\n- Clinical Study Manager\n- Lab Associate\n- Project Manager\n- Clinical Trial Recruitment Representative/Call Center\n- Medical Research Associate - All Shifts\n- Medical Front Desk Receptionist\n- Clinical Research Nurse -All Shifts\n- Sample Receipt Associate\n- Clinical Data Quality Associate\n- Administrative Professional\n- Scheduler
UID:95108-21788477@events.umich.edu
URL:https://events.umich.edu/event/95108
CLASS:PUBLIC
STATUS:CONFIRMED
CATEGORIES:
LOCATION:Lenexa, Kansas, United States
CONTACT:
END:VEVENT
BEGIN:VEVENT
DTSTAMP:20220608T143337
DTSTART;TZID=America/Detroit:20220606T120000
DTEND;TZID=America/Detroit:20220606T163000
SUMMARY:Exhibition:Navigating Disability in 19th-Century America
DESCRIPTION:The four display cases in this exhibit were curated by members of a combined undergraduate and graduate course on disability history and literature at the University of Michigan to convey what it was like to be disabled in the United States before the modern category of “disability” existed. Together\, the artifacts gathered from the Clements Library collections provide a glimpse of the cruelties\, triumphs\, and intimate acts of care that shaped the lives of people with disabilities in the past. \n \nThe Clements Library is offering Open Hours Monday through Friday\, from 12:00 pm – 4:30 pm. To attend a behind the scenes guided tour of the Library and the exhibit\, please see the schedule at myumi.ch/Aw9Zb.\n \nCurated By: Dr. Ittai Orr and the Students of English 420\, Winter 2022\, with Maggie Vanderford and Julie Fremuth at the Clements Library.
UID:94211-21789994@events.umich.edu
URL:https://events.umich.edu/event/94211
CLASS:PUBLIC
STATUS:CONFIRMED
CATEGORIES:american culture,american history,Diversity Equity and Inclusion,Exhibition,Free,history,In Person,libraries,Library
LOCATION:William Clements Library
CONTACT:
END:VEVENT
BEGIN:VEVENT
DTSTAMP:20220621T123048
DTSTART;TZID=America/Detroit:20220606T140000
DTEND;TZID=America/Detroit:20220606T150000
SUMMARY:Careers / Jobs:Pride@LEK Virtual Info Session
DESCRIPTION:We invite you to join us for a Pride@L.E.K. information session.  There will be a short presentation that will enable you to learn more about L.E.K.\, the Associate and Consultant roles and the career path at our firm. Immediately following the presentation\, there will be time to speak with representatives from our firm\, which will be a great opportunityto learn more. \n\nTo learn more about L.E.K. Consulting please also visit our website (www.lek.com) and advisor blog (ask.lek.com).
UID:94828-21775532@events.umich.edu
URL:https://events.umich.edu/event/94828
CLASS:PUBLIC
STATUS:CONFIRMED
CATEGORIES:
LOCATION:
CONTACT:
END:VEVENT
BEGIN:VEVENT
DTSTAMP:20220610T152023
DTSTART;TZID=America/Detroit:20220606T153000
DTEND;TZID=America/Detroit:20220606T163000
SUMMARY:Social / Informal Gathering:MCSP Q&A Session
DESCRIPTION:Join MCSP staff for an informal drop-in session to get all your questions answered about registering for MCSP courses\, participating in summer programming\, preparing for Welcome Week\, and West Quad in the Fall.
UID:95552-21790101@events.umich.edu
URL:https://events.umich.edu/event/95552
CLASS:PUBLIC
STATUS:CONFIRMED
CATEGORIES:Undergraduate Students
LOCATION:Off Campus Location
CONTACT:
END:VEVENT
BEGIN:VEVENT
DTSTAMP:20220420T101603
DTSTART;TZID=America/Detroit:20220606T160000
DTEND;TZID=America/Detroit:20220606T170000
SUMMARY:Lecture / Discussion:RNA Innovation Seminar: \"Long non-coding RNAs as evolutionarily fluid chromatin weavers\"
DESCRIPTION:HYBRID SEMINAR:\nIn-person: BSRC\, ABC seminar rooms\nZoom: https://umich.zoom.us/webinar/register/WN_3ga-wcUYSgqPEKw57DSfpg\n\nTalk title: \"Long non-coding RNAs as evolutionarily fluid chromatin weavers\"\n\nKeywords: lncRNAs\, Genomics\, Genome topology\n\nAbstract: Long non-coding RNAs (lncRNAs) have recently emerged as prominent elements of the regulatory transactions of eukaryotic genomes. Many of the know regulatory functions of lncRNAs in both animals and plants rely on the rearrangement of chromatin through direct interactions or recruitment of chromatin-modifying elements. In this talk\, I will discuss the difficulty in identifying evolutionary conservation in lncRNAs\, and how we characterize these evolutionarily volatile elements in the context of their role as regulators of the three-dimensional conformation of nuclear chromatin. I will focus on our findings resulting from the concurrent characterization of transcripts\, tridimensional chromatin structure and direct RNA-DNA interactions in closely related plant species. I will also discuss how such techniques have vast potential to illuminate biomedically relevant lncRNAs when analyzed from a comparative genomics perspective.\n\nIf you are having trouble registering\, please contact Martina Jerant at mjerant@umich.edu
UID:92839-21697184@events.umich.edu
URL:https://events.umich.edu/event/92839
CLASS:PUBLIC
STATUS:CONFIRMED
CATEGORIES:Biosciences
LOCATION:Taubman Biomedical Science Research Building - ABC Seminar Rooms
CONTACT:
END:VEVENT
BEGIN:VEVENT
DTSTAMP:20220621T123050
DTSTART;TZID=America/Detroit:20220606T180000
DTEND;TZID=America/Detroit:20220606T190000
SUMMARY:Careers / Jobs:Our Commitment to Diversity
DESCRIPTION:Diversity and Inclusion is core to who we are as a company andhow we drive responsible growth. \nBank of America is helping to build a better tomorrow by using our capital\, expertise and innovation \nto foster a diverse workforce to address societal issues like climate change\, gender equality and \neconomic mobility. Shared success means creating responsible\, sustainable growth for our company \nand our world. \n\nJoin us aswe have representatives share current projects and experiences while continuing with our commitment to Diversity and Inclusion.
UID:94997-21788230@events.umich.edu
URL:https://events.umich.edu/event/94997
CLASS:PUBLIC
STATUS:CONFIRMED
CATEGORIES:
LOCATION:
CONTACT:
END:VEVENT
END:VCALENDAR