BEGIN:VCALENDAR
VERSION:2.0
PRODID:-//UM//UM*Events//EN
CALSCALE:GREGORIAN
BEGIN:VTIMEZONE
TZID:America/Detroit
TZURL:http://tzurl.org/zoneinfo/America/Detroit
X-LIC-LOCATION:America/Detroit
BEGIN:DAYLIGHT
TZOFFSETFROM:-0500
TZOFFSETTO:-0400
TZNAME:EDT
DTSTART:20070311T020000
RRULE:FREQ=YEARLY;BYMONTH=3;BYDAY=2SU
END:DAYLIGHT
BEGIN:STANDARD
TZOFFSETFROM:-0400
TZOFFSETTO:-0500
TZNAME:EST
DTSTART:20071104T020000
RRULE:FREQ=YEARLY;BYMONTH=11;BYDAY=1SU
END:STANDARD
END:VTIMEZONE
BEGIN:VEVENT
DTSTAMP:20230324T120005
DTSTART;TZID=America/Detroit:20220613T000000
DTEND;TZID=America/Detroit:20220613T235959
SUMMARY:Community Service:Homework Help at The Children's Center
DESCRIPTION:The Homework Help program offers children assistance with their homework assignments. Children are encouraged to bring homework and are paired with a volunteer to assist them. This program is a critical service in helping children thrive. Volunteers give children the tools they need to be successful in school.Virtual and in-person volunteer opportunities are available. If you would like to volunteer\, please start the enrollment process by creating an account on the Children Center's Volunteer Site found HERE. After your account is created\, the Children's Center will reach out to you within 2 business days to answer any questions and discuss the next steps.In accordance with the CMS Vaccine Mandate\, those volunteering in-person at the Children’s Center are required to be fully vaccinated and must provide proof of full vaccination upon request.
UID:93885-21787849@events.umich.edu
URL:https://events.umich.edu/event/93885
CLASS:PUBLIC
STATUS:CONFIRMED
CATEGORIES:
LOCATION:The Children&#039;s Center 
CONTACT:
END:VEVENT
BEGIN:VEVENT
DTSTAMP:20211129T152100
DTSTART;TZID=America/Detroit:20220613T070000
DTEND;TZID=America/Detroit:20220613T235900
SUMMARY:Careers / Jobs:UROP 2022-2023 Rising Sophomore Applications Open
DESCRIPTION:The Undergraduate Research Opportunity Program is now accepting applications for students who will be rising sophomores during the 2022-2023 academic year.\n\nLearn more and apply today at http://myumi.ch/uropsophomore\n\nRising Sophomore Applications are being accepted on a rolling basis.
UID:89571-21664317@events.umich.edu
URL:https://events.umich.edu/event/89571
CLASS:PUBLIC
STATUS:CONFIRMED
CATEGORIES:AEM Featured,Applications,Engineering,Environment,first-generation,Humanities,Interdisciplinary,Life Science,Professional Development,Public Health,Recruiting,Research,research data,Social Sciences,Sophomore,Undergraduate,Undergraduate Students,Urop
LOCATION:Off Campus Location
CONTACT:
END:VEVENT
BEGIN:VEVENT
DTSTAMP:20220215T154124
DTSTART;TZID=America/Detroit:20220613T080000
DTEND;TZID=America/Detroit:20220613T230000
SUMMARY:Careers / Jobs:Apply to Changing Gears
DESCRIPTION:Changing Gears (CG) is a UROP program designed primarily for community college transfer students who will be attending the University of Michigan\, but also serves students transferring from 4 year institutions. Students in the CG Program become a part of an ongoing faculty-driven research\, scholarly or creative project in their field of interest. Students learn valuable academic skills\, applying these skills to their research project\, academics\, and future career opportunities\, while receiving academic credit or compensation for their efforts in research work.\n\nApplications are accepted on a rolling basis.\nLearn more about Changing Gears at: myumi.ch/uropcg
UID:92406-21690973@events.umich.edu
URL:https://events.umich.edu/event/92406
CLASS:PUBLIC
STATUS:CONFIRMED
CATEGORIES:AEM Featured,Applications,first-generation,Free,Interdisciplinary,Networking,Research,research data,Social Impact,The College Of Literature\, Science\, And The Arts,Transfer Students,Undergraduate,Undergraduate Students,Urop
LOCATION:Off Campus Location
CONTACT:
END:VEVENT
BEGIN:VEVENT
DTSTAMP:20220518T161555
DTSTART;TZID=America/Detroit:20220613T080000
DTEND;TZID=America/Detroit:20220613T160000
SUMMARY:Exhibition:Lane Hall Gallery Summer Exhibit
DESCRIPTION:In this exhibit\, artists Ashley Bigham (photographs) and Grace Mahoney (watercolors) investigate the visibility and social role of Ukraine’s older generation of women embodied in a figure both iconic and ubiquitous: the babusya. Seen in public transport\, in the market\, and on the street\, each babusya has a story to tell. Each has something to say\, something to gossip about\, and something to complain about. \n\n\"Invisible Women: Portraits of Aging in Ukraine\" is hosted by the University of Michigan’s Institute for Research on Women and Gender (IRWG) and the Department of Women’s and Gender Studies. The exhibit is on display for public viewing weekdays from 8:00 a.m.- 4:00 p.m. through August 18\, 2022\, in the main lobby of Lane Hall\, located at 204 South State Street\, Ann Arbor\, MI 48109. For more information on the current exhibit\, visit IRWG’s website.
UID:95140-21788540@events.umich.edu
URL:https://events.umich.edu/event/95140
CLASS:PUBLIC
STATUS:CONFIRMED
CATEGORIES:Exhibition,institute for research on women and gender,irwg,ukrainian,Women's Studies
LOCATION:Lane Hall
CONTACT:
END:VEVENT
BEGIN:VEVENT
DTSTAMP:20220516T161143
DTSTART;TZID=America/Detroit:20220613T080000
DTEND;TZID=America/Detroit:20220613T190000
SUMMARY:Exhibition:Map ≠ Territory: Distortion and Power in Cartography
DESCRIPTION:More than strict representations of the world we inhabit\, maps are social constructions that embody the interests of their creators. Map ≠ Territory deconstructs maps that have been used to subjugate\, appropriate\, and oppress\, as well as the maps that counter that power through emancipation and advocacy. The exhibit critically engages with materials that span from the colonial era to modern-day Detroit.\n\nThe exhibit is available in the Clark Library (second floor Hatcher) during Hatcher Library hours. Please verify hours on the library's website: https://www.lib.umich.edu
UID:90765-21788644@events.umich.edu
URL:https://events.umich.edu/event/90765
CLASS:PUBLIC
STATUS:CONFIRMED
CATEGORIES:Library,Maps
LOCATION:Hatcher Graduate Library - Clark Library, 2nd Floor
CONTACT:
END:VEVENT
BEGIN:VEVENT
DTSTAMP:20220502T122639
DTSTART;TZID=America/Detroit:20220613T080000
DTEND;TZID=America/Detroit:20220613T230000
SUMMARY:Careers / Jobs:UROP First-Year Application Open
DESCRIPTION:Our \"Traditional UROP Program\" has been our flagship program running over 30 years. This Academic Year program\, in which students participate for both Fall and Winter Terms\, is designed for University of Michigan first and second year undergraduate students enrolled on the Ann Arbor campus who are seeking a first time research experience. Student research assistants work alongside a faculty member\, research scientist or professional practitioner on an ongoing or new research project.\n\nLearn more and apply at: myumi.ch/uropyearone\n\nApplications being accepted on a rolling basis.
UID:83923-21785198@events.umich.edu
URL:https://events.umich.edu/event/83923
CLASS:PUBLIC
STATUS:CONFIRMED
CATEGORIES:AEM Featured,Applications,first-generation,Free,Interdisciplinary,Networking,Research,Undergraduate,Undergraduate Students,Urop
LOCATION:
CONTACT:
END:VEVENT
BEGIN:VEVENT
DTSTAMP:20220117T095807
DTSTART;TZID=America/Detroit:20220613T080000
DTEND;TZID=America/Detroit:20220613T230000
SUMMARY:Careers / Jobs:UROP Research Scholars Program Application Open
DESCRIPTION:The UROP Research Scholars Program is designed for students who want to expand on their first year UROP experience and participate in UROP for a second year at an advanced level. In this program\, students build upon the knowledge gained in a first undergraduate research experience to further explore the connections between research\, a liberal arts education\, and communicating skills to advance their future professional goals. Students are expected to explore various written and oral possibilities for communicating their research process\, identifying the limits set by the discipline and the opportunities that lie beyond.\n\nApplications for the 2022-2023 academic year cohort open February 14th.\nPriority Deadline for the applications is March 18th\n\nLearn more at: myumi.ch/uroprs
UID:91080-21676557@events.umich.edu
URL:https://events.umich.edu/event/91080
CLASS:PUBLIC
STATUS:CONFIRMED
CATEGORIES:AEM Featured,Applications,Fellowship,first-generation,Interdisciplinary,Networking,Research,research data,Sophomore,The College Of Literature\, Science\, And The Arts,Undergraduate,Undergraduate Students,Urop
LOCATION:Off Campus Location
CONTACT:
END:VEVENT
BEGIN:VEVENT
DTSTAMP:20220204T165932
DTSTART;TZID=America/Detroit:20220613T090000
DTEND;TZID=America/Detroit:20220613T180000
SUMMARY:Exhibition:Greek Manuscripts at the University of Michigan Library: A Celebration
DESCRIPTION:Splendors of the religious and artistic endeavors of Byzantine manuscript makers are on display in this exhibit of highlights from the Greek manuscript collection at the University of Michigan Library Special Collections Research Center. The collection — 110 codices (bound manuscripts) and fragments written in Greek from the fourth to the nineteenth centuries C.E. — is the largest such collection in the Western Hemisphere and provides unique insights into this era of achievement in textual transmission\, calligraphy\, illumination\, and bookbinding. The exhibit will be open during Audubon Room hours.\n\nA digital version of the exhibit will be available in the Audubon Room and online\, and allows visitors to explore other pages of the manuscripts on display and other manuscripts from the collection.\n\nThis exhibit celebrates two recent publications based on the collection: \n\n* Catalogue of Greek Manuscripts at the University of Michigan\, Ann Arbor. Vol. 1.\, by Nadezhda Kavrus-Hoffmann (Ann Arbor: University of Michigan Press\, 2021)\n\n* Tradition and Individuality: Bindings from the University of Michigan Greek Manuscript Collection\, by Julia Miller (Ann Arbor: The Legacy Press\, 2021)
UID:92000-21684941@events.umich.edu
URL:https://events.umich.edu/event/92000
CLASS:PUBLIC
STATUS:CONFIRMED
CATEGORIES:Classical Studies,Exhibition,Library
LOCATION:Hatcher Graduate Library - Audubon Room, 1st floor
CONTACT:
END:VEVENT
BEGIN:VEVENT
DTSTAMP:20220606T101637
DTSTART;TZID=America/Detroit:20220613T090000
DTEND;TZID=America/Detroit:20220613T160000
SUMMARY:Class / Instruction:Introduction to Focus Group Interviewing Research Methods - Summer Institute in Survey Research Techniques
DESCRIPTION:Introduction to Focus Group Interviewing Research Methods\n\nCourse open for registration!\n\nJune 13-14\, 2022\n9:00am-4:00pm EST\nM/T\n\nThis course introduces the skills needed to conduct focus group interviews. Students will learn about the critical components of successful focus group research. They will develop a plan for a focus group study and then practice key skills. Attention will be placed on recent developments in conducting virtual focus groups via Zoom. This course will be particularly applicable for those conducting focus group research in academic\, non-profit\, and government settings.\n\nThe course will cover these skills:\n- Conducting in-person and virtual focus groups\n- How to plan and design a focus group study\n- Identifying information-rich participants and getting them to show up\n- Beginning the focus group – the crucial first few minutes and moderating techniques\n- Developing questions—Characteristics of good focus group questions\n- Analyzing—Options for analysis\n\nWhy Take This Course?\nFocus groups are used to understand issues\, pilot test ideas\, and evaluate programs. They also provide great insight when used in combination with surveys. Focus groups have been used to help design surveys\, to pilot test surveys\, and to understand survey findings. Take this course if you want to learn more about how focus groups might add to your research toolbox.\n\nCourse Hour: 1\n\nInstructor: Richard Krueger\n\nPrerequisite: An introductory course in research methods or equivalent experience.\n\nAll 2022 courses will be offered in an alternative remote format.
UID:95204-21788973@events.umich.edu
URL:https://events.umich.edu/event/95204
CLASS:PUBLIC
STATUS:CONFIRMED
CATEGORIES:Anthropology,Basic Science,Data,Data Curation,Data Management,Data Science,Economics,Education,Graduate,Information and Technology,Integrative Systems,Kinesiology,Mathematics,Political Science,Professional Development,Psychology,Research,Science,Social Science,Social Sciences,Sociology
LOCATION:
CONTACT:
END:VEVENT
BEGIN:VEVENT
DTSTAMP:20220606T101811
DTSTART;TZID=America/Detroit:20220613T090000
DTEND;TZID=America/Detroit:20220613T120000
SUMMARY:Class / Instruction:Introduction to Survey Methodology - Summer Institute in Survey Research Techniques
DESCRIPTION:Introduction to Survey Methodology\n\nOpen for registration!\n\nJune 13-17\, 2022\n9:00am-12:00pm EST\nM-F\n\nThis course covers the basic principles of survey design and methods and introduces the necessary components of a good quality survey.   The course employs the Total Survey Error framework to discuss sampling frames and designs\, modes of data collection and their effects on survey errors\, the cognitive processes involved in answering survey questions and their impact on questionnaire design\, pretesting methods and post-data collection processing.  The goal of the course is to give an introduction to the skills and resources needed to design and conduct a survey\n\nCourse Hour: 1\n\nInstructors: Emilia Peytcheva\, Andy Peytchev\n\nAll 2022 courses will be offered in an alternative remote format
UID:95205-21788975@events.umich.edu
URL:https://events.umich.edu/event/95205
CLASS:PUBLIC
STATUS:CONFIRMED
CATEGORIES:Anthropology,Basic Science,Bias,Career,Corporate,Data,Data Curation,Data Management,Data Science,Economics,Education,Graduate,Information and Technology,Interdisciplinary,Kinesiology,Mathematics,Political Science,Politics,Psychology,Research,Science,Social Sciences
LOCATION:Off Campus Location
CONTACT:
END:VEVENT
BEGIN:VEVENT
DTSTAMP:20220606T101508
DTSTART;TZID=America/Detroit:20220613T100000
DTEND;TZID=America/Detroit:20220613T120000
SUMMARY:Class / Instruction:Analysis of Complex Sample Survey Data - Summer Institute in Survey Research Techniques
DESCRIPTION:Analysis of Complex Sample Survey Data\n\nOpen for registration!\n\nJune 6 - July 29\, 2022\n10:00am-12:00pm\nM/W/F\n\nThis course provides practical methods and tools to analyze complex survey data with a hands-on introduction to the use of specialized statistical software procedures. The course focuses on case studies with specific large-scale national surveys: the National Comorbidity Survey-Replication (NCS-R)\, the National Health and Nutrition Examination Surveys (NHANES)\, and the Health and Retirement Study (HRS). Relevant design features of the NCS-R\, NHANES and HRS include survey weights that take into account differences in probability of selection into the sample and differences in response rates\, as well as stratification and clustering in the multistage sampling procedures used in identifying the sampled households and individuals. After introducing essential concepts related to complex sample designs\, the course will turn to the construction of survey weights\, estimation of sampling variance\, descriptive analysis\, regression analysis\, and finally special topics in the analysis of survey data. Participants can expect to work on homework exercises\, computer lab exercises\, and a final analysis project.\n\nWhy take this course? \n- To gain an understanding of modern methods and software for the secondary analysis of survey data collected from large complex samples\n- To have the opportunity for one-on-one interaction with the instructors when walking through analyses of survey data\n- To see various examples of applied statistical analyses of survey data\n- To have the experience of writing a scientific paper that presents an analysis of complex sample survey data\, and getting expert feedback on that paper.\n\nCourse Hours: 3\n\nInstructors: Brady T. West\, Yajuan Si\n\nPrerequisite: Two graduate-level courses in statistical methods\, familiarity with basic sample design concepts\, and familiarity with data analytic techniques such as linear and logistic regression.\n\nAll 2022 courses will be offered in an alternative remote format.
UID:95202-21788818@events.umich.edu
URL:https://events.umich.edu/event/95202
CLASS:PUBLIC
STATUS:CONFIRMED
CATEGORIES:Anthropology,Basic Science,Data,Data Curation,Data Management,Data Science,Economics,Education,Graduate,Information and Technology,Integrative Systems,Interdisciplinary,Mathematics,Multidisciplinary Design,Political Economy,Political Science,Population Studies Center,Psychology,Public Policy,Research,Science,Social Sciences,Sociology,Survey Research,Training
LOCATION:Off Campus Location
CONTACT:
END:VEVENT
BEGIN:VEVENT
DTSTAMP:20220519T125817
DTSTART;TZID=America/Detroit:20220613T110000
DTEND;TZID=America/Detroit:20220613T120000
SUMMARY:Class / Instruction:Summer Institute in Survey Research Techniques
DESCRIPTION:Open for registration!\n\nThe Summer Institute offers courses on (1) research design and sample selection\, (2) measurement\, (3) qualitative methods in survey research design\, (4) data collection\, and (5) analysis.\n\nMulti-week courses provide more in-depth coverage of a topic\, include readings\, homework\, and examinations\, and often providing participants with an opportunity to practice survey techniques.  One-week courses give an overview of a methodology topic\, including readings and homework.  One-day workshops are offered for those who need to learn a specific technique or method in a short period of time.\n\nAll 2022 courses will be offered in an alternative remote format.
UID:95200-21788762@events.umich.edu
URL:https://events.umich.edu/event/95200
CLASS:PUBLIC
STATUS:CONFIRMED
CATEGORIES:Basic Science,Career,Corporate,Economics,Graduate,Graduate Students,Information and Technology,International,Kinesiology,Mathematics,Professional Development,Psychology,Public Policy,Research,Science,Sociology,Training
LOCATION:Off Campus Location
CONTACT:
END:VEVENT
BEGIN:VEVENT
DTSTAMP:20220607T092242
DTSTART;TZID=America/Detroit:20220613T120000
DTEND;TZID=America/Detroit:20220613T130000
SUMMARY:Lecture / Discussion:BME PhD Defense: Feiran Li
DESCRIPTION:Cell-based therapies are emerging for Type I diabetes mellitus (T1D)\, an autoimmune disease characterized by the destruction of insulin producing pancreatic β-cells\, as a means to provide long term restoration of glycemic control. The limited supply of donor islets has motivated research into methods for differentiating pancreatic β-cells from renewable pluripotent stem cells such as human pluripotent stem cells (hPSCs). Biomaterial scaffolds maintain the integrity of cell-to-cell and cell-to-matrix connections by avoiding the disruption of the cell niche during handling. This dissertation addresses three key questions with respect to cell therapy and immunomodulation for T1D\, including culture system on porous PLG scaffold\, functionalized scaffold for improved cell viability and maturation\, and immunomodulation with the membrane coated nanoparticles (MCNPs).\n\nCulture on porous biomaterial scaffolds of hPSCs was investigated at multiple stages of differentiation between Stage 0 and 6 for improved differentiation. Scaffolds are biomaterial devices that could provide chemical and physical cues to control the microenvironment and subsequently alter cellular behavior by facilitating cell-cell interactions. The culture of cells on the scaffolds was found to support maturation of SC derived beta cells depending on the stage of seeding. Suspension cultured-pancreatic progenitors seeded onto scaffolds for stage 5 culture (pancreatic endocrine development)\, demonstrated enhanced expression for many maturation genes compared to cells that remained in suspension culture through the end of stage 6. This study showcased the scaffold culture as a promising platform for maturation that allows cells to develop a niche and may allow for direct transplantation without manipulating cells.\n\nEarly engraftment and development of β-cells post transplantation are a major limitation for stem cell derived beta cells due in part to their being immature. The survival and development of hPSC-derived β-cells seeded onto PLG microporous scaffolds were investigated within the initial 2 weeks post transplantation. Early inflammatory events induced by the biomaterial and transplanted cells heavily affected hPSC-derived β-cell engraftment due to the innate immune response. The inflammation includes the production of soluble mediators\, inflammatory cytokines and the recruitment of innate cells at the graft site\, hindering early graft engraftment and in-vivo hPSC-derived β-cell maturation. The PLG-based biodegradable scaffold chemically linked with a novel form of FasL chimeric with streptavidin\, SA-FasL\, was applied to create an immunoprivileged transplant site by modulating the local inflammatory microenvironment. The β-cell viability and differentiation were found improved at the SA-FasL induced immunoprivileged site together with a suppressed inflammatory reaction.\n\nLife-long systemic immune suppression due to allogenic graft/cell transplant also limits the translation of cell therapies for T1D. We investigated the design of membrane-coated nanoparticles (MCNPs)\, with membranes derived from bone marrow-derived dendritic cells and coated onto poly(lactic-co-glycolic acid) (PLGA) nanoparticle cores\, to directly interact with both naïve and activated T cells. Mechanistic studies revealed that the developed MCNPs have the capability to communicate with allogenic T cells by modulating the cytokine secretion levels similar to professional antigen presenting cells. Furthermore\, the MCNPs can be engineered pre- and post-fabrication for upregulated surface molecules or varied antigen binding and can be functionalized by biotinylation for a wider range of protein loading.\n\nOverall\, this dissertation discussed optimization and early immunomodulation of the biomaterial culturing system for hPSC-derived β cells\, and development of tunable MCNPs for direct T cell communication.\n\nDate: Monday\, June 13\, 2022\nTime: 12:00 PM\nLocation: NCRC Building 520 Room 1122 and Zoom (https://umich.zoom.us/j/93840656651)\nChair: Dr. Lonnie Shea
UID:95461-21789961@events.umich.edu
URL:https://events.umich.edu/event/95461
CLASS:PUBLIC
STATUS:CONFIRMED
CATEGORIES:Biology,biomedical,biomedical engineering,bme,engineering,Medicine,Michigan Engineering,Research,Science
LOCATION:North Campus Research Complex Building 520 - 1122
CONTACT:
END:VEVENT
BEGIN:VEVENT
DTSTAMP:20220518T155827
DTSTART;TZID=America/Detroit:20220613T120000
DTEND;TZID=America/Detroit:20220613T130000
SUMMARY:Livestream / Virtual:Introduction and Welcome to Multi-Ethnic Student Affairs (MESA)
DESCRIPTION:Using the lens of race and ethnicity\, MESA engages the campus community and transforms the student experience to build inclusive spaces and equitable opportunities for all. Our work manifests in many cultural and educational events/programs\, and leadership and development opportunities. Come and get to know MESA and learn how you can get involved. We are looking forward to meeting and welcoming you to the University of Michigan. Go Blue!
UID:95182-21788738@events.umich.edu
URL:https://events.umich.edu/event/95182
CLASS:PUBLIC
STATUS:CONFIRMED
CATEGORIES:Free,MESA,Virtual
LOCATION:Off Campus Location
CONTACT:
END:VEVENT
BEGIN:VEVENT
DTSTAMP:20220608T143337
DTSTART;TZID=America/Detroit:20220613T120000
DTEND;TZID=America/Detroit:20220613T163000
SUMMARY:Exhibition:Navigating Disability in 19th-Century America
DESCRIPTION:The four display cases in this exhibit were curated by members of a combined undergraduate and graduate course on disability history and literature at the University of Michigan to convey what it was like to be disabled in the United States before the modern category of “disability” existed. Together\, the artifacts gathered from the Clements Library collections provide a glimpse of the cruelties\, triumphs\, and intimate acts of care that shaped the lives of people with disabilities in the past. \n \nThe Clements Library is offering Open Hours Monday through Friday\, from 12:00 pm – 4:30 pm. To attend a behind the scenes guided tour of the Library and the exhibit\, please see the schedule at myumi.ch/Aw9Zb.\n \nCurated By: Dr. Ittai Orr and the Students of English 420\, Winter 2022\, with Maggie Vanderford and Julie Fremuth at the Clements Library.
UID:94211-21789999@events.umich.edu
URL:https://events.umich.edu/event/94211
CLASS:PUBLIC
STATUS:CONFIRMED
CATEGORIES:american culture,american history,Diversity Equity and Inclusion,Exhibition,Free,history,In Person,libraries,Library
LOCATION:William Clements Library
CONTACT:
END:VEVENT
BEGIN:VEVENT
DTSTAMP:20220628T063036
DTSTART;TZID=America/Detroit:20220613T120000
DTEND;TZID=America/Detroit:20220613T130000
SUMMARY:Careers / Jobs:Resume Lab
DESCRIPTION:*RSVP required to attend. Not in Handshake? Click \"Join Event\"here: https://umich.joinhandshake.com/edu/events/1047343\n*This event is for undergraduate students.\n\nJust getting started building a resume? Have a draft but not sure how to make it better? Want to learn about resources available to revise your resume? Wherever you’re at Resume Lab is a great next step for you.\n\nGet real-time\, personalized support in a small group setting by checking out the Resume Lab. \n\nWe will discuss and educate you on…\n- Design and format\n- Writing a great bullet point\n- Targeting your resume for specific internships/jobs\n\nIf you're a Graduate Student\, please make a 1:1 appointment instead of attending the Lab becausethis event is designed for undergraduates.\n\nNote: This event's information is shown in Handshake as well as on the Happening @ Michigan calendar so that it will be seen by a larger number of U-M Students. If you'd like to indicate that you'll be attending this event then please go to: https://umich.joinhandshake.com/edu/events/1047343\n\nRecent Grads: If you are analumnus\, you will not be able to access the link due the University’s policy of discontinuing alumni Zoom accounts 30 days after graduation. Please contact careercenter@umich.edu with the subject line “Recent Grad Help” to receive a recording or to be set up with a 1:1. Include the name of the workshop/event in your email.
UID:95377-21789249@events.umich.edu
URL:https://events.umich.edu/event/95377
CLASS:PUBLIC
STATUS:CONFIRMED
CATEGORIES:
LOCATION:https://umich.zoom.us/j/2745640240
CONTACT:
END:VEVENT
BEGIN:VEVENT
DTSTAMP:20220610T152023
DTSTART;TZID=America/Detroit:20220613T153000
DTEND;TZID=America/Detroit:20220613T163000
SUMMARY:Social / Informal Gathering:MCSP Q&A Session
DESCRIPTION:Join MCSP staff for an informal drop-in session to get all your questions answered about registering for MCSP courses\, participating in summer programming\, preparing for Welcome Week\, and West Quad in the Fall.
UID:95552-21790102@events.umich.edu
URL:https://events.umich.edu/event/95552
CLASS:PUBLIC
STATUS:CONFIRMED
CATEGORIES:Undergraduate Students
LOCATION:Off Campus Location
CONTACT:
END:VEVENT
BEGIN:VEVENT
DTSTAMP:20220628T123038
DTSTART;TZID=America/Detroit:20220613T170000
DTEND;TZID=America/Detroit:20220613T190000
SUMMARY:Careers / Jobs:Capital One Tech Chats
DESCRIPTION:\"Capital One is excited to meet students looking for a role where they can develop innovative solutions to meet customers’ needs and positively impact their lives!\n\nWe invite you to register for Capital OneTech Chats to ask questions about our intern and full-time Tech Programs with current or recent grads of the program. You can also learn more about#LifeatCapitalOne\, our culture\, project areas\, and more.\n\nBe sure toregister! We look forward to seeing you soon!\n\nTo view a list of other upcoming events\, check out our landing page. If you’d like to learn more about us\, feel free to browse our blog homepage.\"
UID:95570-21790345@events.umich.edu
URL:https://events.umich.edu/event/95570
CLASS:PUBLIC
STATUS:CONFIRMED
CATEGORIES:
LOCATION:
CONTACT:
END:VEVENT
BEGIN:VEVENT
DTSTAMP:20220606T084408
DTSTART;TZID=America/Detroit:20220613T183000
DTEND;TZID=America/Detroit:20220613T193000
SUMMARY:Presentation:CJS Ann Arbor Japan Week | Origami with the JSD Women's Club
DESCRIPTION:Learn to make an overturn frog\, Samurai hat\, windmill\, sumo wrestler\, and more with the help of representatives from the Japan Society of Detroit Women's Club.
UID:95434-21789923@events.umich.edu
URL:https://events.umich.edu/event/95434
CLASS:PUBLIC
STATUS:CONFIRMED
CATEGORIES:Asia,Japan,Kids
LOCATION:Off Campus Location - 1st floor lobby, 343 S. Fifth
CONTACT:
END:VEVENT
BEGIN:VEVENT
DTSTAMP:20220628T183044
DTSTART;TZID=America/Detroit:20220613T190000
DTEND;TZID=America/Detroit:20220613T200000
SUMMARY:Careers / Jobs:McKinsey & Company Michigan Resume Workshop
DESCRIPTION:Join us for a resume workshop led by the Michigan Campus Recruiter & fellow Michigan alums at McKinsey. This presentation will guide candidates through resume preparation & answer any questions you may have. Our team would love to get to know you better & ensure all your questions are answered before our applications go live on June 15.
UID:95382-21789254@events.umich.edu
URL:https://events.umich.edu/event/95382
CLASS:PUBLIC
STATUS:CONFIRMED
CATEGORIES:
LOCATION:
CONTACT:
END:VEVENT
END:VCALENDAR