BEGIN:VCALENDAR
VERSION:2.0
PRODID:-//UM//UM*Events//EN
CALSCALE:GREGORIAN
BEGIN:VTIMEZONE
TZID:America/Detroit
TZURL:http://tzurl.org/zoneinfo/America/Detroit
X-LIC-LOCATION:America/Detroit
BEGIN:DAYLIGHT
TZOFFSETFROM:-0500
TZOFFSETTO:-0400
TZNAME:EDT
DTSTART:20070311T020000
RRULE:FREQ=YEARLY;BYMONTH=3;BYDAY=2SU
END:DAYLIGHT
BEGIN:STANDARD
TZOFFSETFROM:-0400
TZOFFSETTO:-0500
TZNAME:EST
DTSTART:20071104T020000
RRULE:FREQ=YEARLY;BYMONTH=11;BYDAY=1SU
END:STANDARD
END:VTIMEZONE
BEGIN:VEVENT
DTSTAMP:20230324T120005
DTSTART;TZID=America/Detroit:20220618T000000
DTEND;TZID=America/Detroit:20220618T235959
SUMMARY:Community Service:Homework Help at The Children's Center
DESCRIPTION:The Homework Help program offers children assistance with their homework assignments. Children are encouraged to bring homework and are paired with a volunteer to assist them. This program is a critical service in helping children thrive. Volunteers give children the tools they need to be successful in school.Virtual and in-person volunteer opportunities are available. If you would like to volunteer\, please start the enrollment process by creating an account on the Children Center's Volunteer Site found HERE. After your account is created\, the Children's Center will reach out to you within 2 business days to answer any questions and discuss the next steps.In accordance with the CMS Vaccine Mandate\, those volunteering in-person at the Children’s Center are required to be fully vaccinated and must provide proof of full vaccination upon request.
UID:93885-21787854@events.umich.edu
URL:https://events.umich.edu/event/93885
CLASS:PUBLIC
STATUS:CONFIRMED
CATEGORIES:
LOCATION:The Children&#039;s Center 
CONTACT:
END:VEVENT
BEGIN:VEVENT
DTSTAMP:20211129T152100
DTSTART;TZID=America/Detroit:20220618T070000
DTEND;TZID=America/Detroit:20220618T235900
SUMMARY:Careers / Jobs:UROP 2022-2023 Rising Sophomore Applications Open
DESCRIPTION:The Undergraduate Research Opportunity Program is now accepting applications for students who will be rising sophomores during the 2022-2023 academic year.\n\nLearn more and apply today at http://myumi.ch/uropsophomore\n\nRising Sophomore Applications are being accepted on a rolling basis.
UID:89571-21664322@events.umich.edu
URL:https://events.umich.edu/event/89571
CLASS:PUBLIC
STATUS:CONFIRMED
CATEGORIES:AEM Featured,Applications,Engineering,Environment,first-generation,Humanities,Interdisciplinary,Life Science,Professional Development,Public Health,Recruiting,Research,research data,Social Sciences,Sophomore,Undergraduate,Undergraduate Students,Urop
LOCATION:Off Campus Location
CONTACT:
END:VEVENT
BEGIN:VEVENT
DTSTAMP:20220215T154124
DTSTART;TZID=America/Detroit:20220618T080000
DTEND;TZID=America/Detroit:20220618T230000
SUMMARY:Careers / Jobs:Apply to Changing Gears
DESCRIPTION:Changing Gears (CG) is a UROP program designed primarily for community college transfer students who will be attending the University of Michigan\, but also serves students transferring from 4 year institutions. Students in the CG Program become a part of an ongoing faculty-driven research\, scholarly or creative project in their field of interest. Students learn valuable academic skills\, applying these skills to their research project\, academics\, and future career opportunities\, while receiving academic credit or compensation for their efforts in research work.\n\nApplications are accepted on a rolling basis.\nLearn more about Changing Gears at: myumi.ch/uropcg
UID:92406-21690978@events.umich.edu
URL:https://events.umich.edu/event/92406
CLASS:PUBLIC
STATUS:CONFIRMED
CATEGORIES:AEM Featured,Applications,first-generation,Free,Interdisciplinary,Networking,Research,research data,Social Impact,The College Of Literature\, Science\, And The Arts,Transfer Students,Undergraduate,Undergraduate Students,Urop
LOCATION:Off Campus Location
CONTACT:
END:VEVENT
BEGIN:VEVENT
DTSTAMP:20220516T161143
DTSTART;TZID=America/Detroit:20220618T080000
DTEND;TZID=America/Detroit:20220618T190000
SUMMARY:Exhibition:Map ≠ Territory: Distortion and Power in Cartography
DESCRIPTION:More than strict representations of the world we inhabit\, maps are social constructions that embody the interests of their creators. Map ≠ Territory deconstructs maps that have been used to subjugate\, appropriate\, and oppress\, as well as the maps that counter that power through emancipation and advocacy. The exhibit critically engages with materials that span from the colonial era to modern-day Detroit.\n\nThe exhibit is available in the Clark Library (second floor Hatcher) during Hatcher Library hours. Please verify hours on the library's website: https://www.lib.umich.edu
UID:90765-21788649@events.umich.edu
URL:https://events.umich.edu/event/90765
CLASS:PUBLIC
STATUS:CONFIRMED
CATEGORIES:Library,Maps
LOCATION:Hatcher Graduate Library - Clark Library, 2nd Floor
CONTACT:
END:VEVENT
BEGIN:VEVENT
DTSTAMP:20220502T122639
DTSTART;TZID=America/Detroit:20220618T080000
DTEND;TZID=America/Detroit:20220618T230000
SUMMARY:Careers / Jobs:UROP First-Year Application Open
DESCRIPTION:Our \"Traditional UROP Program\" has been our flagship program running over 30 years. This Academic Year program\, in which students participate for both Fall and Winter Terms\, is designed for University of Michigan first and second year undergraduate students enrolled on the Ann Arbor campus who are seeking a first time research experience. Student research assistants work alongside a faculty member\, research scientist or professional practitioner on an ongoing or new research project.\n\nLearn more and apply at: myumi.ch/uropyearone\n\nApplications being accepted on a rolling basis.
UID:83923-21785203@events.umich.edu
URL:https://events.umich.edu/event/83923
CLASS:PUBLIC
STATUS:CONFIRMED
CATEGORIES:AEM Featured,Applications,first-generation,Free,Interdisciplinary,Networking,Research,Undergraduate,Undergraduate Students,Urop
LOCATION:
CONTACT:
END:VEVENT
BEGIN:VEVENT
DTSTAMP:20220117T095807
DTSTART;TZID=America/Detroit:20220618T080000
DTEND;TZID=America/Detroit:20220618T230000
SUMMARY:Careers / Jobs:UROP Research Scholars Program Application Open
DESCRIPTION:The UROP Research Scholars Program is designed for students who want to expand on their first year UROP experience and participate in UROP for a second year at an advanced level. In this program\, students build upon the knowledge gained in a first undergraduate research experience to further explore the connections between research\, a liberal arts education\, and communicating skills to advance their future professional goals. Students are expected to explore various written and oral possibilities for communicating their research process\, identifying the limits set by the discipline and the opportunities that lie beyond.\n\nApplications for the 2022-2023 academic year cohort open February 14th.\nPriority Deadline for the applications is March 18th\n\nLearn more at: myumi.ch/uroprs
UID:91080-21676562@events.umich.edu
URL:https://events.umich.edu/event/91080
CLASS:PUBLIC
STATUS:CONFIRMED
CATEGORIES:AEM Featured,Applications,Fellowship,first-generation,Interdisciplinary,Networking,Research,research data,Sophomore,The College Of Literature\, Science\, And The Arts,Undergraduate,Undergraduate Students,Urop
LOCATION:Off Campus Location
CONTACT:
END:VEVENT
BEGIN:VEVENT
DTSTAMP:20220601T183417
DTSTART;TZID=America/Detroit:20220618T083000
DTEND;TZID=America/Detroit:20220618T170000
SUMMARY:Conference / Symposium:17th World Conference on Anaerobic Digestion
DESCRIPTION:**This event has free activities and is open to public--no advance registration required**\n\nWe are pleased to invite you to the 17th World Conference on Anaerobic Digestion to be held at the University of Michigan in Ann Arbor\, Michigan\, USA on June 17-22\, 2022. This international conference supported by the IWA Anaerobic Digestion Specialist Group is an event to bring together experts in biotech\, engineering and ecology to discuss recent advances in anaerobic digestion and related processes. The theme of the 17th World Conference on Anaerobic Digestion is “Biogas and Beyond: Expanding Applications of Anaerobic Biotechnologies in a Circular Economy.” The event is co-chaired by Lutgarde Raskin (University of Michigan) and Adam L. Smith (University of Southern California). \n\nFeaturing keynote lectures: \n\n- Michigan Theater · 8:30-9:30 am · Monday\, June 20: \"Advancing the Sustainable Bioeconomy with Anaerobic Biotechnologies\" by Jeremy Guest\, Associate Professor\, Dept of Civil & Environmental Engineering\, Acting Associate Director for Research\, Institute for Sustainability\, Energy\, and Environment (iSEE)\, University of Illinois at Urbana-Champaign\n\n- Michigan Theater · 9:00-9:30 am · Tuesday\, June 21: \"Inspiring Anaerobic Biotechnologies through Microbiology Research\" by Madalena Alves\, Professor of Chemical and Biological Engineering\, University of Minho\, Braga\, Portugal\n\n- Michigan Theater · 8:30-9:30 am · Wednesday\, June 22: \"Role of Methane Emissions in Global Warming and Contributions of Environmental Biotechnology to Decarbonization\" by Anna Michalak\, Director\, Dept of Global Ecology\, Carnegie Institution for Science\n\nThe following events are free and open to the public:\n-Sunday June 19\, 4 - 6 pm\; Monday June 20\, 8:30 - 10:00 am\; Tuesday June 21\, 8:30 - 10:00 am\; Wednesday June 22\, 8:30 - 10:00 am\, all of which are hosted at the Michigan Theater in downtown Ann Arbor.
UID:95343-21789204@events.umich.edu
URL:https://events.umich.edu/event/95343
CLASS:PUBLIC
STATUS:CONFIRMED
CATEGORIES:Biology,Civil and Environmental Engineering,Ecology,Environment,environmental
LOCATION:Rackham Graduate School (Horace H.)
CONTACT:
END:VEVENT
BEGIN:VEVENT
DTSTAMP:20220204T165932
DTSTART;TZID=America/Detroit:20220618T090000
DTEND;TZID=America/Detroit:20220618T180000
SUMMARY:Exhibition:Greek Manuscripts at the University of Michigan Library: A Celebration
DESCRIPTION:Splendors of the religious and artistic endeavors of Byzantine manuscript makers are on display in this exhibit of highlights from the Greek manuscript collection at the University of Michigan Library Special Collections Research Center. The collection — 110 codices (bound manuscripts) and fragments written in Greek from the fourth to the nineteenth centuries C.E. — is the largest such collection in the Western Hemisphere and provides unique insights into this era of achievement in textual transmission\, calligraphy\, illumination\, and bookbinding. The exhibit will be open during Audubon Room hours.\n\nA digital version of the exhibit will be available in the Audubon Room and online\, and allows visitors to explore other pages of the manuscripts on display and other manuscripts from the collection.\n\nThis exhibit celebrates two recent publications based on the collection: \n\n* Catalogue of Greek Manuscripts at the University of Michigan\, Ann Arbor. Vol. 1.\, by Nadezhda Kavrus-Hoffmann (Ann Arbor: University of Michigan Press\, 2021)\n\n* Tradition and Individuality: Bindings from the University of Michigan Greek Manuscript Collection\, by Julia Miller (Ann Arbor: The Legacy Press\, 2021)
UID:92000-21684946@events.umich.edu
URL:https://events.umich.edu/event/92000
CLASS:PUBLIC
STATUS:CONFIRMED
CATEGORIES:Classical Studies,Exhibition,Library
LOCATION:Hatcher Graduate Library - Audubon Room, 1st floor
CONTACT:
END:VEVENT
BEGIN:VEVENT
DTSTAMP:20220602T131008
DTSTART;TZID=America/Detroit:20220618T100000
DTEND;TZID=America/Detroit:20220618T120000
SUMMARY:Conference / Symposium:2022 Juneteenth Symposium Celebration
DESCRIPTION:The University of Michigan and its partner\, the Ann Arbor Branch of the NAACP\, will host the University’s 2nd Annual Juneteenth Symposium. The theme is Celebrate\, Educate\, Inspire.\n\nCelebrating one of the longest-running celebrations in the state of Michigan\, the NAACP  hosted annual Juneteenth celebration events since 1994. ln 2021\, the University hosted the first campus-wide\, five-day\, virtual celebration of Juneteenth\, and collaborated with the NAACP to march from Fuller Park to Wheeler Park and to share in a picnic and community outreach event. The 2021 Juneteenth Celebration was a tremendous success.\n\nOur hope is to bring together the U-M and Ann Arbor communities virtually to underscore the importance of Juneteenth and to ensure that all students\, staff\, faculty\, and residents feel a deep sense of belonging. We hope you can join us for our celebration\, while we advance our educational mission as a university and seek to collaborate\, enrich\, and empower the community in a longstanding annual tradition to promote Black liberation and excellence.
UID:95334-21789188@events.umich.edu
URL:https://events.umich.edu/event/95334
CLASS:PUBLIC
STATUS:CONFIRMED
CATEGORIES:Activism,African American,American Culture,Culture,Diversity,Electrical Engineering and Computer Science,Free,jazz,Juneteenth,Mental Health,panel discussion,Politics,Public Health,Race,Scholarship,Social Impact,Social Justice,The College Of Literature\, Science\, And The Arts
LOCATION:Off Campus Location
CONTACT:
END:VEVENT
BEGIN:VEVENT
DTSTAMP:20220714T181508
DTSTART;TZID=America/Detroit:20220618T110000
DTEND;TZID=America/Detroit:20220618T170000
SUMMARY:Exhibition:Mother Cyborg: Crafting Our Digital Legacy
DESCRIPTION:Detroit-based artist\, musician\, and educator Mother Cyborg (Diana J. Nucera) debuts a series of quilts that references our relationship to digital technologies\, data-mining and security in the age of the Internet. Using bright colors\, geometric shapes and patterns\, Crafting our Digital Legacy  opens up analogue and tactile spaces that invite audiences to reflect upon our collective relationship with internet technologies\, identity\, legacy\, and the future. Mother Cyborg draws from over 15 years experience as a community organizer in Detroit\, MI where individuals gained access and agency to (re-)build their neighborhoods\, and run their own Internet service providers. In this exhibition\, Nucera expands her artist self through fiber works where she addresses critical issues of surveillance\, data collection\, the redaction of love to likes\, and the complexity of identity within it all. \nMother Cyborg states\, “This work aims to return a sense of wonder and magic to all of us\, and rekindle the awe we may have first felt when using a geolocating star map\, or being able to video call a person across borders. Crafting our Digital Legacy  looks at the way in which art can unpack how living at the whim of invisible wifi connections\, engaging ‘power cycling’ (turning on and off) computers and phones to ‘fix’ them\, modern experiences of technology run the gamut from resigned faith to proselytizing zealotry. In our weariness of the state of technology\, we fail to notice that the ‘same’ data\, taken from all of us\, has the power to rewrite and mutate the prior century’s worst inequalities into a blueprint for the future. These psychedelic quilts mesmerize while spotlighting surveillance tactics embedded within society bringing into focus the information and questions we should be asking of the future.”\nCurated by Srimoyee Mitra.
UID:94852-21777250@events.umich.edu
URL:https://events.umich.edu/event/94852
CLASS:PUBLIC
STATUS:CONFIRMED
CATEGORIES:Art
LOCATION:Off Campus Location
CONTACT:
END:VEVENT
BEGIN:VEVENT
DTSTAMP:20220519T181504
DTSTART;TZID=America/Detroit:20220618T110000
DTEND;TZID=America/Detroit:20220618T170000
SUMMARY:Exhibition:Ruth Weisberg: Of Memory\, Time & Place
DESCRIPTION:“One thing that is very clear to me is that my life and my work are very intertwined. For me the creation of my art\, be it painting\, drawing or printmaking\, integrates my life experiences\, my beliefs and my heritage. I hope that my viewers will also bring their own lenses created by their identity\, their family history and their experiences.” \n- Ruth Weisberg\nRuth Weisberg: Of Memory\, Time &amp\; Place brings together over 25 works that span six decades of the artist’s practice as a painter and printmaker. It features iconic works from Weisberg’s artistic career - Waterborne (1973)\, A Year Passes (1985) and Questioning Veronese (2011) - where she explored the interconnectedness and continuity of successive generations. Anchored in themes of personal and familial memory\; ancestral knowledge embedded in her Jewish heritage\, and admiration for Western art history\, her unframed canvases\, and works on paper create liminal spaces that collapse the time and space\, where family\, friends from the present and past share space with great painters and Holocaust survivors and those who perished. The Shtetl\, A Journey and Memorial\, a limited- edition artist book that she wrote and illustrated comprising 9 intaglio prints in 1971\, lies at the heart of the exhibition. In it she paid homage to the small Jewish towns in Poland (where her ancestors are from) before the Holocaust. This significant work was a touchstone for her artistic and professional career as it propelled her move from Michigan to Los Angeles in 1969.\n \nBorn and raised in Chicago\, Weisberg moved to Ann Arbor to pursue her higher studies\, she completed her B.Ed (1964)\, after spending three years in Perugia\, Italy where she earned a Laurea di Belle Arti in 1962\, and MFA (1965). Since her arrival in Los Angeles\, Weisberg has been a formidable influence and mentor to decades of artists as an artist\, Professor of Fine Arts and former Dean at the University of Southern California Roski School of Art and Design. Weisberg was the Director of the USC Initiative for Israeli Arts and Humanities\, and the founder of the Jewish Artists Initiative of Southern California. Her first major survey in Los Angeles was in 1979 at the Los Angeles Municipal Art Gallery. She and Judy Chicago were the first two artists exhibited at The Women’s Building\, Los Angeles. Their solo exhibitions inaugurated that venue. Weisberg has had more than 80 solo exhibitions and nearly 200 group exhibitions internationally\, including a major exhibition at the Norton Simon Museum\, Pasadena and a retrospective\, at the Skirball Museum\, Los Angeles as well as a solo exhibition at the Huntington in San Marino. She is the recipient of many prestigious awards\, some notable ones are the Printmaker Emeritus Award from the Southern Graphic Council International in 2015 and the Foundation for Jewish Culture’s 50th Anniversary Cultural Achievement Award in 2011. She has been the recipient of the Art Leadership Award\, National Council of Art Administrators and the Women’s Caucus for Art Lifetime Achievement Award\, 2009. Ruth Weisberg is represented by Jack Rutberg Fine Arts\, Los Angeles.\n \nCurated by Srimoyee Mitra.
UID:94838-21776780@events.umich.edu
URL:https://events.umich.edu/event/94838
CLASS:PUBLIC
STATUS:CONFIRMED
CATEGORIES:Art
LOCATION:Off Campus Location
CONTACT:
END:VEVENT
BEGIN:VEVENT
DTSTAMP:20220602T131008
DTSTART;TZID=America/Detroit:20220618T120000
DTEND;TZID=America/Detroit:20220618T160000
SUMMARY:Conference / Symposium:2022 Juneteenth Symposium Celebration
DESCRIPTION:The University of Michigan and its partner\, the Ann Arbor Branch of the NAACP\, will host the University’s 2nd Annual Juneteenth Symposium. The theme is Celebrate\, Educate\, Inspire.\n\nCelebrating one of the longest-running celebrations in the state of Michigan\, the NAACP  hosted annual Juneteenth celebration events since 1994. ln 2021\, the University hosted the first campus-wide\, five-day\, virtual celebration of Juneteenth\, and collaborated with the NAACP to march from Fuller Park to Wheeler Park and to share in a picnic and community outreach event. The 2021 Juneteenth Celebration was a tremendous success.\n\nOur hope is to bring together the U-M and Ann Arbor communities virtually to underscore the importance of Juneteenth and to ensure that all students\, staff\, faculty\, and residents feel a deep sense of belonging. We hope you can join us for our celebration\, while we advance our educational mission as a university and seek to collaborate\, enrich\, and empower the community in a longstanding annual tradition to promote Black liberation and excellence.
UID:95334-21789189@events.umich.edu
URL:https://events.umich.edu/event/95334
CLASS:PUBLIC
STATUS:CONFIRMED
CATEGORIES:Activism,African American,American Culture,Culture,Diversity,Electrical Engineering and Computer Science,Free,jazz,Juneteenth,Mental Health,panel discussion,Politics,Public Health,Race,Scholarship,Social Impact,Social Justice,The College Of Literature\, Science\, And The Arts
LOCATION:Off Campus Location
CONTACT:
END:VEVENT
BEGIN:VEVENT
DTSTAMP:20220613T112249
DTSTART;TZID=America/Detroit:20220618T120000
DTEND;TZID=America/Detroit:20220618T123000
SUMMARY:Performance:CANCELED - CJS Ann Arbor Japan Week | Carillon Concert - CANCELED
DESCRIPTION:This event has been canceled. We apologize for any inconvenience. Listen to Japanese music arranged for the carillon bells and tour the Burton Tower.
UID:95443-21789931@events.umich.edu
URL:https://events.umich.edu/event/95443
CLASS:PUBLIC
STATUS:CONFIRMED
CATEGORIES:Asia,Japan,Music
LOCATION:Ingalls Mall
CONTACT:
END:VEVENT
BEGIN:VEVENT
DTSTAMP:20220608T163436
DTSTART;TZID=America/Detroit:20220618T130000
DTEND;TZID=America/Detroit:20220618T150000
SUMMARY:Film Screening:CJS Ann Arbor Japan Week | Film Screening: \"Whisper of the Heart\"
DESCRIPTION:This Studio Ghibli film follows Shizuku\, a quiet schoolgirl\, on a quest for her true talent. Together with Seiji\, a boy determined to follow his dreams\, and enchanted by The Baron\, a magical cat figurine who helps her listen to the whispers of her heart\, Shizuku embarks on a life-changing adventure that takes her beyond the boundaries of her imagination.\n\nThis 1hr 51m film released in 1995 by Studio Ghibli is rated G.
UID:95444-21789932@events.umich.edu
URL:https://events.umich.edu/event/95444
CLASS:PUBLIC
STATUS:CONFIRMED
CATEGORIES:Asia,Film,Japan,Kids
LOCATION:Off Campus Location - 1st floor lobby, 343 S. Fifth
CONTACT:
END:VEVENT
BEGIN:VEVENT
DTSTAMP:20220912T132709
DTSTART;TZID=America/Detroit:20220618T133000
DTEND;TZID=America/Detroit:20220618T141500
SUMMARY:Presentation:Tales of the Maya Skies
DESCRIPTION:Tales of the Maya Skies immerses viewers in the wonders of Maya science\, cosmology and myth. This beautifully illustrated story takes us back in time to the jungles of Mexico to discover how Mayan scholars developed a sophisticated understanding of astronomy\, architecture\, and mathematics that enabled them to predict solstices\, solar eclipses\, weather patterns and planetary movements.\n\nThe state-of-the-art Planetarium & Dome Theater at the U-M Museum of Natural History transports visitors beyond distant stars and back in time from the comfort of reclining seats. Tickets $8. Tickets are available on the day of the show at the Museum Store.\n\nThe planetarium is operating at half capacity to maximize distancing between viewers.
UID:95036-21788359@events.umich.edu
URL:https://events.umich.edu/event/95036
CLASS:PUBLIC
STATUS:CONFIRMED
CATEGORIES:Astronomy,Museum,Natural Sciences,Science
LOCATION:Museum of Natural History - Planetarium and Dome Theater
CONTACT:
END:VEVENT
BEGIN:VEVENT
DTSTAMP:20220614T121506
DTSTART;TZID=America/Detroit:20220618T140000
DTEND;TZID=America/Detroit:20220618T153000
SUMMARY:Exhibition:Mother Cyborg: Crafting our Digital Legacy Panel Discussion
DESCRIPTION:In conjunction with the exhibition Mother Cyborg: Crafting our Digital Legacy\, artist Diana J. Nucera (aka Mother Cyborg) will be in conversation with writer and curator Steve Panton\, artist April Anue Shipp\, and writer\, dancer and Executive Director of Allied Media Projects Jenny Lee. Expect a wide-ranging discussion\, including topics such as the radical history of quilting\, digital justice\, and the influence of organizations such as Detroit Summer and Allied Media Projects on Nucera’s work.\n
UID:95105-21788472@events.umich.edu
URL:https://events.umich.edu/event/95105
CLASS:PUBLIC
STATUS:CONFIRMED
CATEGORIES:Art
LOCATION:Off Campus Location
CONTACT:
END:VEVENT
BEGIN:VEVENT
DTSTAMP:20220614T121505
DTSTART;TZID=America/Detroit:20220618T140000
DTEND;TZID=America/Detroit:20220618T153000
SUMMARY:Exhibition:Mother Cyborg: Crafting our Digital Legacy Panel Discussion
DESCRIPTION:In conjunction with the exhibition Mother Cyborg: Crafting our Digital Legacy\, artist Diana J. Nucera (aka Mother Cyborg) will be in conversation with writer and curator Steve Panton\, artist April Anue Shipp\, and writer\, dancer and Executive Director of Allied Media Projects Jenny Lee. Expect a wide-ranging discussion\, including topics such as the radical history of quilting\, digital justice\, and the influence of organizations such as Detroit Summer and Allied Media Projects on Nucera’s work.\n
UID:95589-21790360@events.umich.edu
URL:https://events.umich.edu/event/95589
CLASS:PUBLIC
STATUS:CONFIRMED
CATEGORIES:Art
LOCATION:Off Campus Location
CONTACT:
END:VEVENT
BEGIN:VEVENT
DTSTAMP:20230908T085204
DTSTART;TZID=America/Detroit:20220618T150000
DTEND;TZID=America/Detroit:20220618T151500
SUMMARY:Presentation:Science Forum Discovery Demos
DESCRIPTION:Join us in the Science Forum for 15-20 minute engaging science demonstrations that will help you see the world in a whole new way. Demonstrations are free and appropriate for visitors ages 5 and above. Schedule subject to change.\n\nNo demos on October 14th or 15th.\n\nHow to Become a Fossil\nExplore how fossils form and what parts of animals can become fossilized! How old are the earliest fossils? How old does something have to be before it is considered a fossil? You’ll touch some real fossils\, learn the different types of fossil evidence\, and discover what is necessary to become a fossil.  Finally\, we’ll discuss what kinds of things fossils can tell us\, and how fossil casts are made in the museum!
UID:95035-21788311@events.umich.edu
URL:https://events.umich.edu/event/95035
CLASS:PUBLIC
STATUS:CONFIRMED
CATEGORIES:Children,Family,Free,Museum,natural history museum,Natural Sciences,Science
LOCATION:Museum of Natural History - Science Forum
CONTACT:
END:VEVENT
BEGIN:VEVENT
DTSTAMP:20220311T144306
DTSTART;TZID=America/Detroit:20220618T183000
DTEND;TZID=America/Detroit:20220618T220000
SUMMARY:Performance:Shakespeare In The Arb: A Mid Summer Night's Dream
DESCRIPTION:Nichols Arboretum and the Residential College presents Shakespeare in the Arb “A Midsummer Night's Dream”. Directed by Kate Mendeloff\, Graham Atkin and Carol Gray. Shakespeare in the Arb is a 2 hour outdoor\, moving performance that takes place within Nichols Arboretum.  Audience members should be prepared for light weather conditions\, periods of sitting\, standing and walking. All tickets held at Will Call\, Nichols Arboretum Visitor Center\, 1610 Washington Heights. No refunds. No exchanges. For more information\, visit https://mbgna.umich.edu/shakespeare-in-the-arb/.\n\nPerformances occur from 6:30pm to 8:30pm on the following dates:\n\nThursday June 2\, Friday June 3\, Saturday June 4\, Sunday June 5\nThursday June 9\, Friday June 10\, Saturday June 11\, Sunday June 12\nThursday June 16\, Friday June 17\, Saturday June 18\, Sunday June 19\nThursday June 23\, Friday June 24\, Saturday June 25\, Sunday June 26\n\nTickets will become available beginning Monday\, May 16 at 11am for Matthaei-Nichols members or Monday\, May 23 at 11am for the general public. Tickets are held at Will Call\, located at the Nichols Arboretum Visitor Center\, 1610 Washington Heights. Receipts of sale from the Michigan Union Ticket Office (digital or printed) must be redeemed at Will Call for a ticket lanyard between 5pm and 6:15pm. All tickets are sold in advance through the Michigan Union Ticket Office\, in person\, online or via phone. No refunds. No exchanges.\n\nFor parking and additional details visit: \n\nhttps://mbgna.umich.edu/shakespeare-in-the-arb/
UID:93325-21702648@events.umich.edu
URL:https://events.umich.edu/event/93325
CLASS:PUBLIC
STATUS:CONFIRMED
CATEGORIES:Mutotix
LOCATION:Nichols Arboretum - Nichols Arboretum Visitor Center, 1610 Washington Heights
CONTACT:
END:VEVENT
BEGIN:VEVENT
DTSTAMP:20220618T181026
DTSTART;TZID=America/Detroit:20220618T200000
SUMMARY:Performance:10\,000 Maniacs
DESCRIPTION:40th Anniversary Tour. \nPlease visit https://mutotix.umich.edu/3412/3413 for more detail.
UID:94811-21775108@events.umich.edu
URL:https://events.umich.edu/event/94811
CLASS:PUBLIC
STATUS:CONFIRMED
CATEGORIES:Ark,Mutotix
LOCATION:ARK Reserved + Gold Circle
CONTACT:
END:VEVENT
END:VCALENDAR