BEGIN:VCALENDAR
VERSION:2.0
PRODID:-//UM//UM*Events//EN
CALSCALE:GREGORIAN
BEGIN:VTIMEZONE
TZID:America/Detroit
TZURL:http://tzurl.org/zoneinfo/America/Detroit
X-LIC-LOCATION:America/Detroit
BEGIN:DAYLIGHT
TZOFFSETFROM:-0500
TZOFFSETTO:-0400
TZNAME:EDT
DTSTART:20070311T020000
RRULE:FREQ=YEARLY;BYMONTH=3;BYDAY=2SU
END:DAYLIGHT
BEGIN:STANDARD
TZOFFSETFROM:-0400
TZOFFSETTO:-0500
TZNAME:EST
DTSTART:20071104T020000
RRULE:FREQ=YEARLY;BYMONTH=11;BYDAY=1SU
END:STANDARD
END:VTIMEZONE
BEGIN:VEVENT
DTSTAMP:20230324T120005
DTSTART;TZID=America/Detroit:20220619T000000
DTEND;TZID=America/Detroit:20220619T235959
SUMMARY:Community Service:Homework Help at The Children's Center
DESCRIPTION:The Homework Help program offers children assistance with their homework assignments. Children are encouraged to bring homework and are paired with a volunteer to assist them. This program is a critical service in helping children thrive. Volunteers give children the tools they need to be successful in school.Virtual and in-person volunteer opportunities are available. If you would like to volunteer\, please start the enrollment process by creating an account on the Children Center's Volunteer Site found HERE. After your account is created\, the Children's Center will reach out to you within 2 business days to answer any questions and discuss the next steps.In accordance with the CMS Vaccine Mandate\, those volunteering in-person at the Children’s Center are required to be fully vaccinated and must provide proof of full vaccination upon request.
UID:93885-21787855@events.umich.edu
URL:https://events.umich.edu/event/93885
CLASS:PUBLIC
STATUS:CONFIRMED
CATEGORIES:
LOCATION:The Children&#039;s Center 
CONTACT:
END:VEVENT
BEGIN:VEVENT
DTSTAMP:20211129T152100
DTSTART;TZID=America/Detroit:20220619T070000
DTEND;TZID=America/Detroit:20220619T235900
SUMMARY:Careers / Jobs:UROP 2022-2023 Rising Sophomore Applications Open
DESCRIPTION:The Undergraduate Research Opportunity Program is now accepting applications for students who will be rising sophomores during the 2022-2023 academic year.\n\nLearn more and apply today at http://myumi.ch/uropsophomore\n\nRising Sophomore Applications are being accepted on a rolling basis.
UID:89571-21664323@events.umich.edu
URL:https://events.umich.edu/event/89571
CLASS:PUBLIC
STATUS:CONFIRMED
CATEGORIES:Applications,AEM Featured,Urop,Undergraduate Students,Undergraduate,Sophomore,Social Sciences,research data,Research,Public Health,Professional Development,Life Science,Interdisciplinary,Humanities,first-generation,Environment,Engineering,Recruiting
LOCATION:Off Campus Location
CONTACT:
END:VEVENT
BEGIN:VEVENT
DTSTAMP:20220215T154124
DTSTART;TZID=America/Detroit:20220619T080000
DTEND;TZID=America/Detroit:20220619T230000
SUMMARY:Careers / Jobs:Apply to Changing Gears
DESCRIPTION:Changing Gears (CG) is a UROP program designed primarily for community college transfer students who will be attending the University of Michigan\, but also serves students transferring from 4 year institutions. Students in the CG Program become a part of an ongoing faculty-driven research\, scholarly or creative project in their field of interest. Students learn valuable academic skills\, applying these skills to their research project\, academics\, and future career opportunities\, while receiving academic credit or compensation for their efforts in research work.\n\nApplications are accepted on a rolling basis.\nLearn more about Changing Gears at: myumi.ch/uropcg
UID:92406-21690979@events.umich.edu
URL:https://events.umich.edu/event/92406
CLASS:PUBLIC
STATUS:CONFIRMED
CATEGORIES:AEM Featured,Applications,first-generation,Free,Interdisciplinary,Networking,Research,research data,Social Impact,The College Of Literature\, Science\, And The Arts,Transfer Students,Undergraduate,Undergraduate Students,Urop
LOCATION:Off Campus Location
CONTACT:
END:VEVENT
BEGIN:VEVENT
DTSTAMP:20220516T161143
DTSTART;TZID=America/Detroit:20220619T080000
DTEND;TZID=America/Detroit:20220619T190000
SUMMARY:Exhibition:Map ≠ Territory: Distortion and Power in Cartography
DESCRIPTION:More than strict representations of the world we inhabit\, maps are social constructions that embody the interests of their creators. Map ≠ Territory deconstructs maps that have been used to subjugate\, appropriate\, and oppress\, as well as the maps that counter that power through emancipation and advocacy. The exhibit critically engages with materials that span from the colonial era to modern-day Detroit.\n\nThe exhibit is available in the Clark Library (second floor Hatcher) during Hatcher Library hours. Please verify hours on the library's website: https://www.lib.umich.edu
UID:90765-21788650@events.umich.edu
URL:https://events.umich.edu/event/90765
CLASS:PUBLIC
STATUS:CONFIRMED
CATEGORIES:Maps,Library
LOCATION:Hatcher Graduate Library - Clark Library, 2nd Floor
CONTACT:
END:VEVENT
BEGIN:VEVENT
DTSTAMP:20220502T122639
DTSTART;TZID=America/Detroit:20220619T080000
DTEND;TZID=America/Detroit:20220619T230000
SUMMARY:Careers / Jobs:UROP First-Year Application Open
DESCRIPTION:Our \"Traditional UROP Program\" has been our flagship program running over 30 years. This Academic Year program\, in which students participate for both Fall and Winter Terms\, is designed for University of Michigan first and second year undergraduate students enrolled on the Ann Arbor campus who are seeking a first time research experience. Student research assistants work alongside a faculty member\, research scientist or professional practitioner on an ongoing or new research project.\n\nLearn more and apply at: myumi.ch/uropyearone\n\nApplications being accepted on a rolling basis.
UID:83923-21785204@events.umich.edu
URL:https://events.umich.edu/event/83923
CLASS:PUBLIC
STATUS:CONFIRMED
CATEGORIES:AEM Featured,Applications,first-generation,Free,Interdisciplinary,Networking,Research,Undergraduate,Undergraduate Students,Urop
LOCATION:
CONTACT:
END:VEVENT
BEGIN:VEVENT
DTSTAMP:20220117T095807
DTSTART;TZID=America/Detroit:20220619T080000
DTEND;TZID=America/Detroit:20220619T230000
SUMMARY:Careers / Jobs:UROP Research Scholars Program Application Open
DESCRIPTION:The UROP Research Scholars Program is designed for students who want to expand on their first year UROP experience and participate in UROP for a second year at an advanced level. In this program\, students build upon the knowledge gained in a first undergraduate research experience to further explore the connections between research\, a liberal arts education\, and communicating skills to advance their future professional goals. Students are expected to explore various written and oral possibilities for communicating their research process\, identifying the limits set by the discipline and the opportunities that lie beyond.\n\nApplications for the 2022-2023 academic year cohort open February 14th.\nPriority Deadline for the applications is March 18th\n\nLearn more at: myumi.ch/uroprs
UID:91080-21676563@events.umich.edu
URL:https://events.umich.edu/event/91080
CLASS:PUBLIC
STATUS:CONFIRMED
CATEGORIES:first-generation,Fellowship,Applications,AEM Featured,Interdisciplinary,Networking,Research,research data,Sophomore,The College Of Literature\, Science\, And The Arts,Undergraduate,Undergraduate Students,Urop
LOCATION:Off Campus Location
CONTACT:
END:VEVENT
BEGIN:VEVENT
DTSTAMP:20220204T165932
DTSTART;TZID=America/Detroit:20220619T090000
DTEND;TZID=America/Detroit:20220619T180000
SUMMARY:Exhibition:Greek Manuscripts at the University of Michigan Library: A Celebration
DESCRIPTION:Splendors of the religious and artistic endeavors of Byzantine manuscript makers are on display in this exhibit of highlights from the Greek manuscript collection at the University of Michigan Library Special Collections Research Center. The collection — 110 codices (bound manuscripts) and fragments written in Greek from the fourth to the nineteenth centuries C.E. — is the largest such collection in the Western Hemisphere and provides unique insights into this era of achievement in textual transmission\, calligraphy\, illumination\, and bookbinding. The exhibit will be open during Audubon Room hours.\n\nA digital version of the exhibit will be available in the Audubon Room and online\, and allows visitors to explore other pages of the manuscripts on display and other manuscripts from the collection.\n\nThis exhibit celebrates two recent publications based on the collection: \n\n* Catalogue of Greek Manuscripts at the University of Michigan\, Ann Arbor. Vol. 1.\, by Nadezhda Kavrus-Hoffmann (Ann Arbor: University of Michigan Press\, 2021)\n\n* Tradition and Individuality: Bindings from the University of Michigan Greek Manuscript Collection\, by Julia Miller (Ann Arbor: The Legacy Press\, 2021)
UID:92000-21684947@events.umich.edu
URL:https://events.umich.edu/event/92000
CLASS:PUBLIC
STATUS:CONFIRMED
CATEGORIES:Exhibition,Library,Classical Studies
LOCATION:Hatcher Graduate Library - Audubon Room, 1st floor
CONTACT:
END:VEVENT
BEGIN:VEVENT
DTSTAMP:20220912T132709
DTSTART;TZID=America/Detroit:20220619T133000
DTEND;TZID=America/Detroit:20220619T141500
SUMMARY:Presentation:Tales of the Maya Skies
DESCRIPTION:Tales of the Maya Skies immerses viewers in the wonders of Maya science\, cosmology and myth. This beautifully illustrated story takes us back in time to the jungles of Mexico to discover how Mayan scholars developed a sophisticated understanding of astronomy\, architecture\, and mathematics that enabled them to predict solstices\, solar eclipses\, weather patterns and planetary movements.\n\nThe state-of-the-art Planetarium & Dome Theater at the U-M Museum of Natural History transports visitors beyond distant stars and back in time from the comfort of reclining seats. Tickets $8. Tickets are available on the day of the show at the Museum Store.\n\nThe planetarium is operating at half capacity to maximize distancing between viewers.
UID:95036-21788363@events.umich.edu
URL:https://events.umich.edu/event/95036
CLASS:PUBLIC
STATUS:CONFIRMED
CATEGORIES:Science,Natural Sciences,Museum,Astronomy
LOCATION:Museum of Natural History - Planetarium and Dome Theater
CONTACT:
END:VEVENT
BEGIN:VEVENT
DTSTAMP:20230908T085204
DTSTART;TZID=America/Detroit:20220619T150000
DTEND;TZID=America/Detroit:20220619T151500
SUMMARY:Presentation:Science Forum Discovery Demos
DESCRIPTION:Join us in the Science Forum for 15-20 minute engaging science demonstrations that will help you see the world in a whole new way. Demonstrations are free and appropriate for visitors ages 5 and above. Schedule subject to change.\n\nNo demos on October 14th or 15th.\n\nHow to Become a Fossil\nExplore how fossils form and what parts of animals can become fossilized! How old are the earliest fossils? How old does something have to be before it is considered a fossil? You’ll touch some real fossils\, learn the different types of fossil evidence\, and discover what is necessary to become a fossil.  Finally\, we’ll discuss what kinds of things fossils can tell us\, and how fossil casts are made in the museum!
UID:95035-21788315@events.umich.edu
URL:https://events.umich.edu/event/95035
CLASS:PUBLIC
STATUS:CONFIRMED
CATEGORIES:Science,Natural Sciences,natural history museum,Children,Family,Free,Museum
LOCATION:Museum of Natural History - Science Forum
CONTACT:
END:VEVENT
BEGIN:VEVENT
DTSTAMP:20220311T144306
DTSTART;TZID=America/Detroit:20220619T183000
DTEND;TZID=America/Detroit:20220619T220000
SUMMARY:Performance:Shakespeare In The Arb: A Mid Summer Night's Dream
DESCRIPTION:Nichols Arboretum and the Residential College presents Shakespeare in the Arb “A Midsummer Night's Dream”. Directed by Kate Mendeloff\, Graham Atkin and Carol Gray. Shakespeare in the Arb is a 2 hour outdoor\, moving performance that takes place within Nichols Arboretum.  Audience members should be prepared for light weather conditions\, periods of sitting\, standing and walking. All tickets held at Will Call\, Nichols Arboretum Visitor Center\, 1610 Washington Heights. No refunds. No exchanges. For more information\, visit https://mbgna.umich.edu/shakespeare-in-the-arb/.\n\nPerformances occur from 6:30pm to 8:30pm on the following dates:\n\nThursday June 2\, Friday June 3\, Saturday June 4\, Sunday June 5\nThursday June 9\, Friday June 10\, Saturday June 11\, Sunday June 12\nThursday June 16\, Friday June 17\, Saturday June 18\, Sunday June 19\nThursday June 23\, Friday June 24\, Saturday June 25\, Sunday June 26\n\nTickets will become available beginning Monday\, May 16 at 11am for Matthaei-Nichols members or Monday\, May 23 at 11am for the general public. Tickets are held at Will Call\, located at the Nichols Arboretum Visitor Center\, 1610 Washington Heights. Receipts of sale from the Michigan Union Ticket Office (digital or printed) must be redeemed at Will Call for a ticket lanyard between 5pm and 6:15pm. All tickets are sold in advance through the Michigan Union Ticket Office\, in person\, online or via phone. No refunds. No exchanges.\n\nFor parking and additional details visit: \n\nhttps://mbgna.umich.edu/shakespeare-in-the-arb/
UID:93325-21702649@events.umich.edu
URL:https://events.umich.edu/event/93325
CLASS:PUBLIC
STATUS:CONFIRMED
CATEGORIES:Mutotix
LOCATION:Nichols Arboretum - Nichols Arboretum Visitor Center, 1610 Washington Heights
CONTACT:
END:VEVENT
BEGIN:VEVENT
DTSTAMP:20220315T170120
DTSTART;TZID=America/Detroit:20220619T193000
DTEND;TZID=America/Detroit:20220619T223000
SUMMARY:Performance:Chatham Rabbits
DESCRIPTION:Chatham Rabbits\, named for a mill-sponsored stringband in Bynum\, North Carolina\, is the husband-and-wife team of Sarah Osborne McCombie and Austin McCombie. Chatham Rabbits exemplify North Carolina's tradition of producing artists who embrace the state's many cultural resources and diverse musical traditions. They write contemporary songs with a variety of old-time flavors. In their marriage and in their music\, Chatham Rabbits' Austin and Sarah McCombie also blend their own histories into a shared musical experience. Sarah first took the stage as part of a trio known as the South Carolina Broadcasters\, a band that harkened back to the old days of the Grand Ole Opry and AM radio country classics. Meanwhile\, Austin played keyboards and guitar for an electronic band called DASH. Given these histories\, how would Chatham Rabbits describe their musical marriage? \"We’re not purists\, Austin says. \"And we’re certainly not the hippest\,\" Sarah adds. \"But we’ve been able to belong nowhere and everywhere at the same time.\"\n---\nProof of COVID vaccination required for entry. By purchasing a ticket you agree that you and your guests will comply with all laws\, orders\, ordinances\, regulations and health and safety guidance adopted by the State of Michigan\, the County of Washtenaw and The Ark\, including any guidelines in place at the time of the show. Attendees who do not comply will be asked to leave. Policies will be updated as circumstances and requirements change in our community. Please review The Ark’s current COVID-related information before attending a show.
UID:93268-21702114@events.umich.edu
URL:https://events.umich.edu/event/93268
CLASS:PUBLIC
STATUS:CONFIRMED
CATEGORIES:Music,The Ark
LOCATION:Off Campus Location
CONTACT:
END:VEVENT
BEGIN:VEVENT
DTSTAMP:20220601T183417
DTSTART;TZID=America/Detroit:20220619T203000
DTEND;TZID=America/Detroit:20220619T203000
SUMMARY:Conference / Symposium:17th World Conference on Anaerobic Digestion
DESCRIPTION:**This event has free activities and is open to public--no advance registration required**\n\nWe are pleased to invite you to the 17th World Conference on Anaerobic Digestion to be held at the University of Michigan in Ann Arbor\, Michigan\, USA on June 17-22\, 2022. This international conference supported by the IWA Anaerobic Digestion Specialist Group is an event to bring together experts in biotech\, engineering and ecology to discuss recent advances in anaerobic digestion and related processes. The theme of the 17th World Conference on Anaerobic Digestion is “Biogas and Beyond: Expanding Applications of Anaerobic Biotechnologies in a Circular Economy.” The event is co-chaired by Lutgarde Raskin (University of Michigan) and Adam L. Smith (University of Southern California). \n\nFeaturing keynote lectures: \n\n- Michigan Theater · 8:30-9:30 am · Monday\, June 20: \"Advancing the Sustainable Bioeconomy with Anaerobic Biotechnologies\" by Jeremy Guest\, Associate Professor\, Dept of Civil & Environmental Engineering\, Acting Associate Director for Research\, Institute for Sustainability\, Energy\, and Environment (iSEE)\, University of Illinois at Urbana-Champaign\n\n- Michigan Theater · 9:00-9:30 am · Tuesday\, June 21: \"Inspiring Anaerobic Biotechnologies through Microbiology Research\" by Madalena Alves\, Professor of Chemical and Biological Engineering\, University of Minho\, Braga\, Portugal\n\n- Michigan Theater · 8:30-9:30 am · Wednesday\, June 22: \"Role of Methane Emissions in Global Warming and Contributions of Environmental Biotechnology to Decarbonization\" by Anna Michalak\, Director\, Dept of Global Ecology\, Carnegie Institution for Science\n\nThe following events are free and open to the public:\n-Sunday June 19\, 4 - 6 pm\; Monday June 20\, 8:30 - 10:00 am\; Tuesday June 21\, 8:30 - 10:00 am\; Wednesday June 22\, 8:30 - 10:00 am\, all of which are hosted at the Michigan Theater in downtown Ann Arbor.
UID:95343-21789205@events.umich.edu
URL:https://events.umich.edu/event/95343
CLASS:PUBLIC
STATUS:CONFIRMED
CATEGORIES:environmental,Environment,Ecology,Civil and Environmental Engineering,Biology
LOCATION:Rackham Graduate School (Horace H.)
CONTACT:
END:VEVENT
END:VCALENDAR