BEGIN:VCALENDAR
VERSION:2.0
PRODID:-//UM//UM*Events//EN
CALSCALE:GREGORIAN
BEGIN:VTIMEZONE
TZID:America/Detroit
TZURL:http://tzurl.org/zoneinfo/America/Detroit
X-LIC-LOCATION:America/Detroit
BEGIN:DAYLIGHT
TZOFFSETFROM:-0500
TZOFFSETTO:-0400
TZNAME:EDT
DTSTART:20070311T020000
RRULE:FREQ=YEARLY;BYMONTH=3;BYDAY=2SU
END:DAYLIGHT
BEGIN:STANDARD
TZOFFSETFROM:-0400
TZOFFSETTO:-0500
TZNAME:EST
DTSTART:20071104T020000
RRULE:FREQ=YEARLY;BYMONTH=11;BYDAY=1SU
END:STANDARD
END:VTIMEZONE
BEGIN:VEVENT
DTSTAMP:20220712T003043
DTSTART;TZID=America/Detroit:20220627T000000
DTEND;TZID=America/Detroit:20220627T235500
SUMMARY:Careers / Jobs:Google Presents: Coding Practice with Kick Start Session #2
DESCRIPTION:Looking for a fun place to practice your coding skills? Then join us for Coding Practice with Kick Start – a four-day practice sessionstarting Monday\, June 27 and ending Friday\, July 1 (add this to your calendar so you don’t miss out). \n\nWhat is Coding Practice with Kick Start? Kick Start’s beginner-friendly practice session provides you the opportunity to try out our Googler-created problems without the pressure of atimed round or scoreboard. Only you can see your results. To get you started\, we provide starter code in several coding languages to help you frame your solution and Google engineers available to answer any questions. Atthe end of the week\, join us for the problem walkthrough livestream on Friday\, July 1 at 3:00 UTC\, where Google engineers will walk you through detailed problem solutions. \n\nThis session is for you if you are:\n•new to competitive programming \n•looking to boost your skills before the next Kick Start round\n•eager to learn something new\n•interested in connecting with a global community \n\nBefore Coding Practice with Kick Start begins\, we recommend reviewing this Google blog post (https://developers.googleblog.com/2022/06/coding-practice-with-kick-start.html)  about thesession and watching our Problem and Platform Tutorial (https://www.youtube.com/watch?v=cMHY4UouGCk&feature=youtu.be&utm_medium=event&utm_source=email&utm_campaign=codingpracticewkickstart&src=Online/TOPs/KS)\, which details features of the Kick Start platform and tips on how to solve a problem. \n
UID:95727-21790800@events.umich.edu
URL:https://events.umich.edu/event/95727
CLASS:PUBLIC
STATUS:CONFIRMED
CATEGORIES:
LOCATION:
CONTACT:
END:VEVENT
BEGIN:VEVENT
DTSTAMP:20230324T120005
DTSTART;TZID=America/Detroit:20220627T000000
DTEND;TZID=America/Detroit:20220627T235959
SUMMARY:Community Service:Homework Help at The Children's Center
DESCRIPTION:The Homework Help program offers children assistance with their homework assignments. Children are encouraged to bring homework and are paired with a volunteer to assist them. This program is a critical service in helping children thrive. Volunteers give children the tools they need to be successful in school.Virtual and in-person volunteer opportunities are available. If you would like to volunteer\, please start the enrollment process by creating an account on the Children Center's Volunteer Site found HERE. After your account is created\, the Children's Center will reach out to you within 2 business days to answer any questions and discuss the next steps.In accordance with the CMS Vaccine Mandate\, those volunteering in-person at the Children’s Center are required to be fully vaccinated and must provide proof of full vaccination upon request.
UID:93885-21787863@events.umich.edu
URL:https://events.umich.edu/event/93885
CLASS:PUBLIC
STATUS:CONFIRMED
CATEGORIES:
LOCATION:The Children&#039;s Center 
CONTACT:
END:VEVENT
BEGIN:VEVENT
DTSTAMP:20220703T180005
DTSTART;TZID=America/Detroit:20220627T000000
DTEND;TZID=America/Detroit:20220627T235959
SUMMARY:Sporting Event:USA Weightlifting Nationals Week
DESCRIPTION:USAW's Summer nationals week! Nationals for Youth\, Junior\, U25\, and Senior categories.
UID:94678-21788144@events.umich.edu
URL:https://events.umich.edu/event/94678
CLASS:PUBLIC
STATUS:CONFIRMED
CATEGORIES:
LOCATION:Las Vegas Convention Center
CONTACT:
END:VEVENT
BEGIN:VEVENT
DTSTAMP:20211129T152100
DTSTART;TZID=America/Detroit:20220627T070000
DTEND;TZID=America/Detroit:20220627T235900
SUMMARY:Careers / Jobs:UROP 2022-2023 Rising Sophomore Applications Open
DESCRIPTION:The Undergraduate Research Opportunity Program is now accepting applications for students who will be rising sophomores during the 2022-2023 academic year.\n\nLearn more and apply today at http://myumi.ch/uropsophomore\n\nRising Sophomore Applications are being accepted on a rolling basis.
UID:89571-21664331@events.umich.edu
URL:https://events.umich.edu/event/89571
CLASS:PUBLIC
STATUS:CONFIRMED
CATEGORIES:AEM Featured,Applications,Engineering,Environment,first-generation,Humanities,Interdisciplinary,Life Science,Professional Development,Public Health,Recruiting,Research,research data,Social Sciences,Sophomore,Undergraduate,Undergraduate Students,Urop
LOCATION:Off Campus Location
CONTACT:
END:VEVENT
BEGIN:VEVENT
DTSTAMP:20220215T154124
DTSTART;TZID=America/Detroit:20220627T080000
DTEND;TZID=America/Detroit:20220627T230000
SUMMARY:Careers / Jobs:Apply to Changing Gears
DESCRIPTION:Changing Gears (CG) is a UROP program designed primarily for community college transfer students who will be attending the University of Michigan\, but also serves students transferring from 4 year institutions. Students in the CG Program become a part of an ongoing faculty-driven research\, scholarly or creative project in their field of interest. Students learn valuable academic skills\, applying these skills to their research project\, academics\, and future career opportunities\, while receiving academic credit or compensation for their efforts in research work.\n\nApplications are accepted on a rolling basis.\nLearn more about Changing Gears at: myumi.ch/uropcg
UID:92406-21690987@events.umich.edu
URL:https://events.umich.edu/event/92406
CLASS:PUBLIC
STATUS:CONFIRMED
CATEGORIES:AEM Featured,Applications,first-generation,Free,Interdisciplinary,Networking,Research,research data,Social Impact,The College Of Literature\, Science\, And The Arts,Transfer Students,Undergraduate,Undergraduate Students,Urop
LOCATION:Off Campus Location
CONTACT:
END:VEVENT
BEGIN:VEVENT
DTSTAMP:20220518T161555
DTSTART;TZID=America/Detroit:20220627T080000
DTEND;TZID=America/Detroit:20220627T160000
SUMMARY:Exhibition:Lane Hall Gallery Summer Exhibit
DESCRIPTION:In this exhibit\, artists Ashley Bigham (photographs) and Grace Mahoney (watercolors) investigate the visibility and social role of Ukraine’s older generation of women embodied in a figure both iconic and ubiquitous: the babusya. Seen in public transport\, in the market\, and on the street\, each babusya has a story to tell. Each has something to say\, something to gossip about\, and something to complain about. \n\n\"Invisible Women: Portraits of Aging in Ukraine\" is hosted by the University of Michigan’s Institute for Research on Women and Gender (IRWG) and the Department of Women’s and Gender Studies. The exhibit is on display for public viewing weekdays from 8:00 a.m.- 4:00 p.m. through August 18\, 2022\, in the main lobby of Lane Hall\, located at 204 South State Street\, Ann Arbor\, MI 48109. For more information on the current exhibit\, visit IRWG’s website.
UID:95140-21788554@events.umich.edu
URL:https://events.umich.edu/event/95140
CLASS:PUBLIC
STATUS:CONFIRMED
CATEGORIES:Exhibition,institute for research on women and gender,irwg,ukrainian,Women's Studies
LOCATION:Lane Hall
CONTACT:
END:VEVENT
BEGIN:VEVENT
DTSTAMP:20220516T161143
DTSTART;TZID=America/Detroit:20220627T080000
DTEND;TZID=America/Detroit:20220627T190000
SUMMARY:Exhibition:Map ≠ Territory: Distortion and Power in Cartography
DESCRIPTION:More than strict representations of the world we inhabit\, maps are social constructions that embody the interests of their creators. Map ≠ Territory deconstructs maps that have been used to subjugate\, appropriate\, and oppress\, as well as the maps that counter that power through emancipation and advocacy. The exhibit critically engages with materials that span from the colonial era to modern-day Detroit.\n\nThe exhibit is available in the Clark Library (second floor Hatcher) during Hatcher Library hours. Please verify hours on the library's website: https://www.lib.umich.edu
UID:90765-21788658@events.umich.edu
URL:https://events.umich.edu/event/90765
CLASS:PUBLIC
STATUS:CONFIRMED
CATEGORIES:Library,Maps
LOCATION:Hatcher Graduate Library - Clark Library, 2nd Floor
CONTACT:
END:VEVENT
BEGIN:VEVENT
DTSTAMP:20220502T122639
DTSTART;TZID=America/Detroit:20220627T080000
DTEND;TZID=America/Detroit:20220627T230000
SUMMARY:Careers / Jobs:UROP First-Year Application Open
DESCRIPTION:Our \"Traditional UROP Program\" has been our flagship program running over 30 years. This Academic Year program\, in which students participate for both Fall and Winter Terms\, is designed for University of Michigan first and second year undergraduate students enrolled on the Ann Arbor campus who are seeking a first time research experience. Student research assistants work alongside a faculty member\, research scientist or professional practitioner on an ongoing or new research project.\n\nLearn more and apply at: myumi.ch/uropyearone\n\nApplications being accepted on a rolling basis.
UID:83923-21785212@events.umich.edu
URL:https://events.umich.edu/event/83923
CLASS:PUBLIC
STATUS:CONFIRMED
CATEGORIES:AEM Featured,Applications,first-generation,Free,Interdisciplinary,Networking,Research,Undergraduate,Undergraduate Students,Urop
LOCATION:
CONTACT:
END:VEVENT
BEGIN:VEVENT
DTSTAMP:20220117T095807
DTSTART;TZID=America/Detroit:20220627T080000
DTEND;TZID=America/Detroit:20220627T230000
SUMMARY:Careers / Jobs:UROP Research Scholars Program Application Open
DESCRIPTION:The UROP Research Scholars Program is designed for students who want to expand on their first year UROP experience and participate in UROP for a second year at an advanced level. In this program\, students build upon the knowledge gained in a first undergraduate research experience to further explore the connections between research\, a liberal arts education\, and communicating skills to advance their future professional goals. Students are expected to explore various written and oral possibilities for communicating their research process\, identifying the limits set by the discipline and the opportunities that lie beyond.\n\nApplications for the 2022-2023 academic year cohort open February 14th.\nPriority Deadline for the applications is March 18th\n\nLearn more at: myumi.ch/uroprs
UID:91080-21676571@events.umich.edu
URL:https://events.umich.edu/event/91080
CLASS:PUBLIC
STATUS:CONFIRMED
CATEGORIES:AEM Featured,Applications,Fellowship,first-generation,Interdisciplinary,Networking,Research,research data,Sophomore,The College Of Literature\, Science\, And The Arts,Undergraduate,Undergraduate Students,Urop
LOCATION:Off Campus Location
CONTACT:
END:VEVENT
BEGIN:VEVENT
DTSTAMP:20220614T124003
DTSTART;TZID=America/Detroit:20220627T084500
DTEND;TZID=America/Detroit:20220627T100000
SUMMARY:Other:Academic Peer Advising: Drop-in Hours
DESCRIPTION:LSA Newnan Academic Peer Advisors (APA) are here to answer questions that you have about making the transition from high school or another college to LSA and U-M.\nYou're welcome to log in and log out as needed. No appointment is necessary.\nYou can \"drop-in\" with a quick question\, or you're welcome to stay longer to chat.\nThe format of the Main Room is group discussion\, but APAs can create Breakout Rooms if you'd rather have a one-on-one conversation.\nDrop-in advising times are in Eastern Daylight Time (EDT).\n\nZoom link (same for all drop-in sessions): https://umich.zoom.us/j/91722226401\n\nDate: Monday\, June 27\, 2022\nTime: 8:45-10:00 am\nPeer Advisors: TBA
UID:95610-21790462@events.umich.edu
URL:https://events.umich.edu/event/95610
CLASS:PUBLIC
STATUS:CONFIRMED
CATEGORIES:Advising,Lsa,Peer Advising,Peer Advisors
LOCATION:Off Campus Location
CONTACT:
END:VEVENT
BEGIN:VEVENT
DTSTAMP:20220606T130452
DTSTART;TZID=America/Detroit:20220627T090000
DTEND;TZID=America/Detroit:20220627T130000
SUMMARY:Class / Instruction:Basic Concepts in Responsive Survey Design - Responsive Survey Design: A Research Education Program - Summer Institute in Survey Research Techniques
DESCRIPTION:Basic Concepts in Responsive Survey Design\n\nWebinar open for registration!\n\nJune 27\, 2022\n9:00am-1:00pm\nM\n\nThis course will provide participants with an overview of the primary concepts underlying RSD. This will include discussion of the uncertainty in survey design\, the role of paradata\, or data describing the data collection process\, in informing decisions\, and potential RSD interventions. These interventions include timing and sequence of modes\, techniques for efficiently deploying incentives\, and combining two-phase sampling with other design changes. Interventions appropriate for face-to-face\, telephone\, web\, mail and mixed-mode surveys will be discussed. Using the Total Survey Error (TSE) framework\, the main concepts behind these designs will be explained with a focus on how these principles are designed to simultaneously control survey errors and survey costs. Examples of RSD in both large and small studies will be provided as motivation.  Small group exercises will help participants to think through some of the common questions that need to be answered when employing RSD.\n\nNot for academic credit. \n\nInstructors: Andy Peytchev &  James Wagner\n\nAll 2022 courses will be held in an alternative remote format.
UID:95458-21789945@events.umich.edu
URL:https://events.umich.edu/event/95458
CLASS:PUBLIC
STATUS:CONFIRMED
CATEGORIES:Anthropology,Data,Data Curation,Data Management,Data Science,Economics,Graduate,Graduate and Professional Students,Interdisciplinary,Mathematics,Political Science,Psychology,Research,Science,Sociology,Survey Research,Webinar
LOCATION:Off Campus Location
CONTACT:
END:VEVENT
BEGIN:VEVENT
DTSTAMP:20220204T165932
DTSTART;TZID=America/Detroit:20220627T090000
DTEND;TZID=America/Detroit:20220627T180000
SUMMARY:Exhibition:Greek Manuscripts at the University of Michigan Library: A Celebration
DESCRIPTION:Splendors of the religious and artistic endeavors of Byzantine manuscript makers are on display in this exhibit of highlights from the Greek manuscript collection at the University of Michigan Library Special Collections Research Center. The collection — 110 codices (bound manuscripts) and fragments written in Greek from the fourth to the nineteenth centuries C.E. — is the largest such collection in the Western Hemisphere and provides unique insights into this era of achievement in textual transmission\, calligraphy\, illumination\, and bookbinding. The exhibit will be open during Audubon Room hours.\n\nA digital version of the exhibit will be available in the Audubon Room and online\, and allows visitors to explore other pages of the manuscripts on display and other manuscripts from the collection.\n\nThis exhibit celebrates two recent publications based on the collection: \n\n* Catalogue of Greek Manuscripts at the University of Michigan\, Ann Arbor. Vol. 1.\, by Nadezhda Kavrus-Hoffmann (Ann Arbor: University of Michigan Press\, 2021)\n\n* Tradition and Individuality: Bindings from the University of Michigan Greek Manuscript Collection\, by Julia Miller (Ann Arbor: The Legacy Press\, 2021)
UID:92000-21684955@events.umich.edu
URL:https://events.umich.edu/event/92000
CLASS:PUBLIC
STATUS:CONFIRMED
CATEGORIES:Classical Studies,Exhibition,Library
LOCATION:Hatcher Graduate Library - Audubon Room, 1st floor
CONTACT:
END:VEVENT
BEGIN:VEVENT
DTSTAMP:20220718T114256
DTSTART;TZID=America/Detroit:20220627T090000
DTEND;TZID=America/Detroit:20220627T170000
SUMMARY:Exhibition:the small details
DESCRIPTION:Artists Amy Sacksteder and Brenda Singletary are both visual storytellers\, exploring their relationships to place and time through the contemplation of objects and raw materials within the context and the process of painting. Although disparate in their methods and aesthetic choices\, there is a surprising connection in their deep commitment to the particulars\, in all the small details more than “the big picture”…the idiosyncrasies and incidentals that give meaning\, resonance\, and renewal to their own visual languages\, and artistic practices ongoing. Visit our website to learn more: https://lsa.umich.edu/humanities/gallery/current-exhibitions/the-small-details.html.\n\n*the small details* was made possible by a grant from The Andrew W. Mellon Foundation as part of the Institute for the Humanities Gallery High Stakes Art Initiative. This two-person exhibition opportunity intends to offer support and further exposure specifically for regional contemporary artists.
UID:95523-21790040@events.umich.edu
URL:https://events.umich.edu/event/95523
CLASS:PUBLIC
STATUS:CONFIRMED
CATEGORIES:Art,Exhibition,Humanities,Visual Arts
LOCATION:202 S. Thayer - Institute for the Humanities Gallery
CONTACT:
END:VEVENT
BEGIN:VEVENT
DTSTAMP:20220606T101508
DTSTART;TZID=America/Detroit:20220627T100000
DTEND;TZID=America/Detroit:20220627T120000
SUMMARY:Class / Instruction:Analysis of Complex Sample Survey Data - Summer Institute in Survey Research Techniques
DESCRIPTION:Analysis of Complex Sample Survey Data\n\nOpen for registration!\n\nJune 6 - July 29\, 2022\n10:00am-12:00pm\nM/W/F\n\nThis course provides practical methods and tools to analyze complex survey data with a hands-on introduction to the use of specialized statistical software procedures. The course focuses on case studies with specific large-scale national surveys: the National Comorbidity Survey-Replication (NCS-R)\, the National Health and Nutrition Examination Surveys (NHANES)\, and the Health and Retirement Study (HRS). Relevant design features of the NCS-R\, NHANES and HRS include survey weights that take into account differences in probability of selection into the sample and differences in response rates\, as well as stratification and clustering in the multistage sampling procedures used in identifying the sampled households and individuals. After introducing essential concepts related to complex sample designs\, the course will turn to the construction of survey weights\, estimation of sampling variance\, descriptive analysis\, regression analysis\, and finally special topics in the analysis of survey data. Participants can expect to work on homework exercises\, computer lab exercises\, and a final analysis project.\n\nWhy take this course? \n- To gain an understanding of modern methods and software for the secondary analysis of survey data collected from large complex samples\n- To have the opportunity for one-on-one interaction with the instructors when walking through analyses of survey data\n- To see various examples of applied statistical analyses of survey data\n- To have the experience of writing a scientific paper that presents an analysis of complex sample survey data\, and getting expert feedback on that paper.\n\nCourse Hours: 3\n\nInstructors: Brady T. West\, Yajuan Si\n\nPrerequisite: Two graduate-level courses in statistical methods\, familiarity with basic sample design concepts\, and familiarity with data analytic techniques such as linear and logistic regression.\n\nAll 2022 courses will be offered in an alternative remote format.
UID:95202-21788832@events.umich.edu
URL:https://events.umich.edu/event/95202
CLASS:PUBLIC
STATUS:CONFIRMED
CATEGORIES:Anthropology,Basic Science,Data,Data Curation,Data Management,Data Science,Economics,Education,Graduate,Information and Technology,Integrative Systems,Interdisciplinary,Mathematics,Multidisciplinary Design,Political Economy,Political Science,Population Studies Center,Psychology,Public Policy,Research,Science,Social Sciences,Sociology,Survey Research,Training
LOCATION:Off Campus Location
CONTACT:
END:VEVENT
BEGIN:VEVENT
DTSTAMP:20220519T125817
DTSTART;TZID=America/Detroit:20220627T110000
DTEND;TZID=America/Detroit:20220627T120000
SUMMARY:Class / Instruction:Summer Institute in Survey Research Techniques
DESCRIPTION:Open for registration!\n\nThe Summer Institute offers courses on (1) research design and sample selection\, (2) measurement\, (3) qualitative methods in survey research design\, (4) data collection\, and (5) analysis.\n\nMulti-week courses provide more in-depth coverage of a topic\, include readings\, homework\, and examinations\, and often providing participants with an opportunity to practice survey techniques.  One-week courses give an overview of a methodology topic\, including readings and homework.  One-day workshops are offered for those who need to learn a specific technique or method in a short period of time.\n\nAll 2022 courses will be offered in an alternative remote format.
UID:95200-21788776@events.umich.edu
URL:https://events.umich.edu/event/95200
CLASS:PUBLIC
STATUS:CONFIRMED
CATEGORIES:Basic Science,Career,Corporate,Economics,Graduate,Graduate Students,Information and Technology,International,Kinesiology,Mathematics,Professional Development,Psychology,Public Policy,Research,Science,Sociology,Training
LOCATION:Off Campus Location
CONTACT:
END:VEVENT
BEGIN:VEVENT
DTSTAMP:20220608T143337
DTSTART;TZID=America/Detroit:20220627T120000
DTEND;TZID=America/Detroit:20220627T163000
SUMMARY:Exhibition:Navigating Disability in 19th-Century America
DESCRIPTION:The four display cases in this exhibit were curated by members of a combined undergraduate and graduate course on disability history and literature at the University of Michigan to convey what it was like to be disabled in the United States before the modern category of “disability” existed. Together\, the artifacts gathered from the Clements Library collections provide a glimpse of the cruelties\, triumphs\, and intimate acts of care that shaped the lives of people with disabilities in the past. \n \nThe Clements Library is offering Open Hours Monday through Friday\, from 12:00 pm – 4:30 pm. To attend a behind the scenes guided tour of the Library and the exhibit\, please see the schedule at myumi.ch/Aw9Zb.\n \nCurated By: Dr. Ittai Orr and the Students of English 420\, Winter 2022\, with Maggie Vanderford and Julie Fremuth at the Clements Library.
UID:94211-21790004@events.umich.edu
URL:https://events.umich.edu/event/94211
CLASS:PUBLIC
STATUS:CONFIRMED
CATEGORIES:american culture,american history,Diversity Equity and Inclusion,Exhibition,Free,history,In Person,libraries,Library
LOCATION:William Clements Library
CONTACT:
END:VEVENT
BEGIN:VEVENT
DTSTAMP:20220606T102057
DTSTART;TZID=America/Detroit:20220627T130000
DTEND;TZID=America/Detroit:20220627T150000
SUMMARY:Class / Instruction:Qualitative Methods: Overview and Semi-Structured Interviewing - Summer Institute in Survey Research Techniques
DESCRIPTION:Qualitative Methods: Overview and Semi-Structured Interviewing\n\nOpen for registration!\n\nJune 20-30\, 2022\n1:00pm-3:00pm EST\nM-F\n\nThis course will focus on semi-structured\, or in-depth\, interviewing\, with a brief introduction to other qualitative methods\, including observation. Semi-structured interviewing is often most helpful in understanding complex social processes.  We will examine the goals\, assumptions\, process\, and uses of interviewing and compare these methods to other related qualitative and quantitative methods in order to develop research designs appropriate to research goals. The course will cover all aspects of interviewing\, including how to decide who to interview\, how to ask good interview questions\, and how to conduct successful interviews. Students will conduct interviews\, and discuss the process and outcome of those interviews. We will examine the strengths and weaknesses of this methodology\, particularly through discussion of some of the critiques of these methods.\n\nCourse Hour: 1.5\n\nInstructor: Nancy Riley\n\nAll 2022 courses will be offered in an alternative remote format.
UID:95207-21788990@events.umich.edu
URL:https://events.umich.edu/event/95207
CLASS:PUBLIC
STATUS:CONFIRMED
CATEGORIES:Anthropology,Basic Science,Data,Data Curation,Data Management,Data Science,Economics,Graduate,Information and Technology,Interdisciplinary,Kinesiology,Mathematics,Political Science,Psychology,Social Sciences,Sociology,Survey Research,Training
LOCATION:Off Campus Location
CONTACT:
END:VEVENT
BEGIN:VEVENT
DTSTAMP:20220712T123031
DTSTART;TZID=America/Detroit:20220627T130000
DTEND;TZID=America/Detroit:20220627T160000
SUMMARY:Careers / Jobs:Vanguard Virtual Client Services EXPLORE Day
DESCRIPTION:Join us for Vanguard's Virtual Client Services EXPLORE Day on June 27th from 1:00-4:00 PM EST! This event is for First- and Second-year students who are looking to pursue a career with an organization that is changing the way the world invests. Together\, we make it count.\n\nFirst- and Second-year students of all majors who are interested in learning about our meaningful career opportunities in client relations\, financial services\, or sales are encouraged to apply.\n\nThe final day to apply is Thursday\, June 2nd at 11:59 PM EST. Click here to access the event application: https://tinyurl.com/yykev78d\n\nWhat does a career in Client Services at Vanguard look like? At this event\, you will have the opportunity to:\n\n-  Gain exposure to our business and corporate environment\n-  Meet our Finance leaders and professionals\n-  Hear from recent graduates and learn about our various roles\n-  Participate in professional development activities that will set you up for an ambitious career
UID:95000-21788233@events.umich.edu
URL:https://events.umich.edu/event/95000
CLASS:PUBLIC
STATUS:CONFIRMED
CATEGORIES:
LOCATION:
CONTACT:
END:VEVENT
BEGIN:VEVENT
DTSTAMP:20220712T123034
DTSTART;TZID=America/Detroit:20220627T140000
DTEND;TZID=America/Detroit:20220627T150000
SUMMARY:Careers / Jobs:Acing Capital One's Job Screening Assessments
DESCRIPTION:Registration is full for this event.\n\n\"Do you keep hearing people talk about job screening assessments but not sure exactly what they are or how to prepare?\n\nJoin us for a small group chat about Capital One's job screening assessments. During this chat\, you will learn more aboutCapital One assessments while also connecting with recruiters and associates.\n\nTo view a list of other upcoming events\, check out our landing page. If you’d like to learn more about us\, feel free to browse our blog homepage.\"
UID:95628-21790496@events.umich.edu
URL:https://events.umich.edu/event/95628
CLASS:PUBLIC
STATUS:CONFIRMED
CATEGORIES:
LOCATION:
CONTACT:
END:VEVENT
BEGIN:VEVENT
DTSTAMP:20220712T123032
DTSTART;TZID=America/Detroit:20220627T150000
DTEND;TZID=America/Detroit:20220627T160000
SUMMARY:Careers / Jobs:BJC HealthCare Student Nurse Information Series-Pediatrics\, Women& Infants\, and ICU
DESCRIPTION:Register now for BJC HealthCare’s Student Nurse Information Series! We are so excited to speak with you! In this session you will hearfrom nursing leadership in pediatrics\, women and infants\, and the ICU! Nursing leadership will provide you with information about what it is likeworking in that specific area\, tips for you as you navigate your nursingcareer\, and how they got to where they are today. We will also have a talent advisor share best practices on applying to BJC HealthCare and some of the benefits to working here.
UID:95237-21789049@events.umich.edu
URL:https://events.umich.edu/event/95237
CLASS:PUBLIC
STATUS:CONFIRMED
CATEGORIES:
LOCATION:
CONTACT:
END:VEVENT
BEGIN:VEVENT
DTSTAMP:20220712T123040
DTSTART;TZID=America/Detroit:20220627T150000
DTEND;TZID=America/Detroit:20220627T180000
SUMMARY:Careers / Jobs:Sentara Martha Jefferson Hospital Registered Nurse Hiring Event
DESCRIPTION:Sentara Martha Jefferson hiring managers invite all RegisteredNurses to attend our in-person hiring event at Sentara Martha Jefferson Hospital. Recruiters and hiring managers will be ready to chat with you about our job openings and answer any questions you may have. \n\nIf you can’t attend this event but are interested in learning more about a position\, please email Pat Stone at pastone@sentara.com. \n\nWhen:\nMonday\, June 27\, 3pm-6pm\n\nWhere:\nSentara Martha Jefferson Hospital\n500 Martha Jefferson Drive\nCharlottesville\, VA 22801\n4th Floor across from Cafeteria\nTo attend\, registration is required by June 24: https://bit.ly/3aXepuQ\n\nGenerous Sign on Bonus and robust Relocation Assistance for qualified candidates!\nAll event attendees will be eligible for a $100 gift card raffle to Target\, Uber/Uber Eats\, and Amazon.\n
UID:95649-21790517@events.umich.edu
URL:https://events.umich.edu/event/95649
CLASS:PUBLIC
STATUS:CONFIRMED
CATEGORIES:
LOCATION:Charlottesville, Virginia, United States
CONTACT:
END:VEVENT
BEGIN:VEVENT
DTSTAMP:20220610T152023
DTSTART;TZID=America/Detroit:20220627T153000
DTEND;TZID=America/Detroit:20220627T163000
SUMMARY:Social / Informal Gathering:MCSP Q&A Session
DESCRIPTION:Join MCSP staff for an informal drop-in session to get all your questions answered about registering for MCSP courses\, participating in summer programming\, preparing for Welcome Week\, and West Quad in the Fall.
UID:95552-21790104@events.umich.edu
URL:https://events.umich.edu/event/95552
CLASS:PUBLIC
STATUS:CONFIRMED
CATEGORIES:Undergraduate Students
LOCATION:Off Campus Location
CONTACT:
END:VEVENT
END:VCALENDAR