BEGIN:VCALENDAR
VERSION:2.0
PRODID:-//UM//UM*Events//EN
CALSCALE:GREGORIAN
BEGIN:VTIMEZONE
TZID:America/Detroit
TZURL:http://tzurl.org/zoneinfo/America/Detroit
X-LIC-LOCATION:America/Detroit
BEGIN:DAYLIGHT
TZOFFSETFROM:-0500
TZOFFSETTO:-0400
TZNAME:EDT
DTSTART:20070311T020000
RRULE:FREQ=YEARLY;BYMONTH=3;BYDAY=2SU
END:DAYLIGHT
BEGIN:STANDARD
TZOFFSETFROM:-0400
TZOFFSETTO:-0500
TZNAME:EST
DTSTART:20071104T020000
RRULE:FREQ=YEARLY;BYMONTH=11;BYDAY=1SU
END:STANDARD
END:VTIMEZONE
BEGIN:VEVENT
DTSTAMP:20230324T120005
DTSTART;TZID=America/Detroit:20220705T000000
DTEND;TZID=America/Detroit:20220705T235959
SUMMARY:Community Service:Homework Help at The Children's Center
DESCRIPTION:The Homework Help program offers children assistance with their homework assignments. Children are encouraged to bring homework and are paired with a volunteer to assist them. This program is a critical service in helping children thrive. Volunteers give children the tools they need to be successful in school.Virtual and in-person volunteer opportunities are available. If you would like to volunteer\, please start the enrollment process by creating an account on the Children Center's Volunteer Site found HERE. After your account is created\, the Children's Center will reach out to you within 2 business days to answer any questions and discuss the next steps.In accordance with the CMS Vaccine Mandate\, those volunteering in-person at the Children’s Center are required to be fully vaccinated and must provide proof of full vaccination upon request.
UID:93885-21787871@events.umich.edu
URL:https://events.umich.edu/event/93885
CLASS:PUBLIC
STATUS:CONFIRMED
CATEGORIES:
LOCATION:The Children&#039;s Center 
CONTACT:
END:VEVENT
BEGIN:VEVENT
DTSTAMP:20211129T152100
DTSTART;TZID=America/Detroit:20220705T070000
DTEND;TZID=America/Detroit:20220705T235900
SUMMARY:Careers / Jobs:UROP 2022-2023 Rising Sophomore Applications Open
DESCRIPTION:The Undergraduate Research Opportunity Program is now accepting applications for students who will be rising sophomores during the 2022-2023 academic year.\n\nLearn more and apply today at http://myumi.ch/uropsophomore\n\nRising Sophomore Applications are being accepted on a rolling basis.
UID:89571-21664339@events.umich.edu
URL:https://events.umich.edu/event/89571
CLASS:PUBLIC
STATUS:CONFIRMED
CATEGORIES:AEM Featured,Applications,Engineering,Environment,first-generation,Humanities,Interdisciplinary,Life Science,Professional Development,Public Health,Recruiting,Research,research data,Social Sciences,Sophomore,Undergraduate,Undergraduate Students,Urop
LOCATION:Off Campus Location
CONTACT:
END:VEVENT
BEGIN:VEVENT
DTSTAMP:20220215T154124
DTSTART;TZID=America/Detroit:20220705T080000
DTEND;TZID=America/Detroit:20220705T230000
SUMMARY:Careers / Jobs:Apply to Changing Gears
DESCRIPTION:Changing Gears (CG) is a UROP program designed primarily for community college transfer students who will be attending the University of Michigan\, but also serves students transferring from 4 year institutions. Students in the CG Program become a part of an ongoing faculty-driven research\, scholarly or creative project in their field of interest. Students learn valuable academic skills\, applying these skills to their research project\, academics\, and future career opportunities\, while receiving academic credit or compensation for their efforts in research work.\n\nApplications are accepted on a rolling basis.\nLearn more about Changing Gears at: myumi.ch/uropcg
UID:92406-21690995@events.umich.edu
URL:https://events.umich.edu/event/92406
CLASS:PUBLIC
STATUS:CONFIRMED
CATEGORIES:AEM Featured,Applications,first-generation,Free,Interdisciplinary,Networking,Research,research data,Social Impact,The College Of Literature\, Science\, And The Arts,Transfer Students,Undergraduate,Undergraduate Students,Urop
LOCATION:Off Campus Location
CONTACT:
END:VEVENT
BEGIN:VEVENT
DTSTAMP:20220518T161555
DTSTART;TZID=America/Detroit:20220705T080000
DTEND;TZID=America/Detroit:20220705T160000
SUMMARY:Exhibition:Lane Hall Gallery Summer Exhibit
DESCRIPTION:In this exhibit\, artists Ashley Bigham (photographs) and Grace Mahoney (watercolors) investigate the visibility and social role of Ukraine’s older generation of women embodied in a figure both iconic and ubiquitous: the babusya. Seen in public transport\, in the market\, and on the street\, each babusya has a story to tell. Each has something to say\, something to gossip about\, and something to complain about. \n\n\"Invisible Women: Portraits of Aging in Ukraine\" is hosted by the University of Michigan’s Institute for Research on Women and Gender (IRWG) and the Department of Women’s and Gender Studies. The exhibit is on display for public viewing weekdays from 8:00 a.m.- 4:00 p.m. through August 18\, 2022\, in the main lobby of Lane Hall\, located at 204 South State Street\, Ann Arbor\, MI 48109. For more information on the current exhibit\, visit IRWG’s website.
UID:95140-21788562@events.umich.edu
URL:https://events.umich.edu/event/95140
CLASS:PUBLIC
STATUS:CONFIRMED
CATEGORIES:Exhibition,institute for research on women and gender,irwg,ukrainian,Women's Studies
LOCATION:Lane Hall
CONTACT:
END:VEVENT
BEGIN:VEVENT
DTSTAMP:20220516T161143
DTSTART;TZID=America/Detroit:20220705T080000
DTEND;TZID=America/Detroit:20220705T190000
SUMMARY:Exhibition:Map ≠ Territory: Distortion and Power in Cartography
DESCRIPTION:More than strict representations of the world we inhabit\, maps are social constructions that embody the interests of their creators. Map ≠ Territory deconstructs maps that have been used to subjugate\, appropriate\, and oppress\, as well as the maps that counter that power through emancipation and advocacy. The exhibit critically engages with materials that span from the colonial era to modern-day Detroit.\n\nThe exhibit is available in the Clark Library (second floor Hatcher) during Hatcher Library hours. Please verify hours on the library's website: https://www.lib.umich.edu
UID:90765-21788666@events.umich.edu
URL:https://events.umich.edu/event/90765
CLASS:PUBLIC
STATUS:CONFIRMED
CATEGORIES:Library,Maps
LOCATION:Hatcher Graduate Library - Clark Library, 2nd Floor
CONTACT:
END:VEVENT
BEGIN:VEVENT
DTSTAMP:20220502T122639
DTSTART;TZID=America/Detroit:20220705T080000
DTEND;TZID=America/Detroit:20220705T230000
SUMMARY:Careers / Jobs:UROP First-Year Application Open
DESCRIPTION:Our \"Traditional UROP Program\" has been our flagship program running over 30 years. This Academic Year program\, in which students participate for both Fall and Winter Terms\, is designed for University of Michigan first and second year undergraduate students enrolled on the Ann Arbor campus who are seeking a first time research experience. Student research assistants work alongside a faculty member\, research scientist or professional practitioner on an ongoing or new research project.\n\nLearn more and apply at: myumi.ch/uropyearone\n\nApplications being accepted on a rolling basis.
UID:83923-21785220@events.umich.edu
URL:https://events.umich.edu/event/83923
CLASS:PUBLIC
STATUS:CONFIRMED
CATEGORIES:AEM Featured,Applications,first-generation,Free,Interdisciplinary,Networking,Research,Undergraduate,Undergraduate Students,Urop
LOCATION:
CONTACT:
END:VEVENT
BEGIN:VEVENT
DTSTAMP:20220117T095807
DTSTART;TZID=America/Detroit:20220705T080000
DTEND;TZID=America/Detroit:20220705T230000
SUMMARY:Careers / Jobs:UROP Research Scholars Program Application Open
DESCRIPTION:The UROP Research Scholars Program is designed for students who want to expand on their first year UROP experience and participate in UROP for a second year at an advanced level. In this program\, students build upon the knowledge gained in a first undergraduate research experience to further explore the connections between research\, a liberal arts education\, and communicating skills to advance their future professional goals. Students are expected to explore various written and oral possibilities for communicating their research process\, identifying the limits set by the discipline and the opportunities that lie beyond.\n\nApplications for the 2022-2023 academic year cohort open February 14th.\nPriority Deadline for the applications is March 18th\n\nLearn more at: myumi.ch/uroprs
UID:91080-21676579@events.umich.edu
URL:https://events.umich.edu/event/91080
CLASS:PUBLIC
STATUS:CONFIRMED
CATEGORIES:AEM Featured,Applications,Fellowship,first-generation,Interdisciplinary,Networking,Research,research data,Sophomore,The College Of Literature\, Science\, And The Arts,Undergraduate,Undergraduate Students,Urop
LOCATION:Off Campus Location
CONTACT:
END:VEVENT
BEGIN:VEVENT
DTSTAMP:20220718T114256
DTSTART;TZID=America/Detroit:20220705T090000
DTEND;TZID=America/Detroit:20220705T170000
SUMMARY:Exhibition:the small details
DESCRIPTION:Artists Amy Sacksteder and Brenda Singletary are both visual storytellers\, exploring their relationships to place and time through the contemplation of objects and raw materials within the context and the process of painting. Although disparate in their methods and aesthetic choices\, there is a surprising connection in their deep commitment to the particulars\, in all the small details more than “the big picture”…the idiosyncrasies and incidentals that give meaning\, resonance\, and renewal to their own visual languages\, and artistic practices ongoing. Visit our website to learn more: https://lsa.umich.edu/humanities/gallery/current-exhibitions/the-small-details.html.\n\n*the small details* was made possible by a grant from The Andrew W. Mellon Foundation as part of the Institute for the Humanities Gallery High Stakes Art Initiative. This two-person exhibition opportunity intends to offer support and further exposure specifically for regional contemporary artists.
UID:95523-21790048@events.umich.edu
URL:https://events.umich.edu/event/95523
CLASS:PUBLIC
STATUS:CONFIRMED
CATEGORIES:Art,Exhibition,Humanities,Visual Arts
LOCATION:202 S. Thayer - Institute for the Humanities Gallery
CONTACT:
END:VEVENT
BEGIN:VEVENT
DTSTAMP:20220720T073705
DTSTART;TZID=America/Detroit:20220705T093000
DTEND;TZID=America/Detroit:20220705T110000
SUMMARY:Meeting:CoderSpaces\, Virtual Office Hours (Tuesdays\, 9:30-11am)
DESCRIPTION:Are you grappling with a piece of code\, trying to compute on a University cluster\, or just getting started with a new method such as machine learning? Then we might have just the right space for you.\n\nAll members of the U-M community are invited to join our weekly virtual CoderSpaces\, Tuesdays and Thursdays\, during the Summer 2022 term to get research support and connect with others.\n\nThe virtual sessions are designed to assist faculty\, staff\, and students with research methodology\, statistics\, data science applications\, and computational programming for research.\n\nOur hosts have a wide set of methodological and technological expertise. They come to you from a variety of departments and disciplines and are looking forward to serving the U-M community in their research endeavors.\n\nCoderSpaces provide a casual\, productive and inclusive environment. Everyone is welcome regardless of skill level.\n\nJoin via Zoom* (https://umich.zoom.us/j/96392817699)\n*Users will have to sign in with their UMICH (Level-1) credentials.\n\nWith Erin Ware (SRC) and Jon Reader (MADRC)\n\nExpertise at this session includes: automation of tasks & workflows\, Bash\, bioinformatics\, conda (anaconda/miniconda)\, data analysis\, data management\, data visualization\, git\, GitHub\, GitLab\, GNU Make\, high performance computing (HPC)\, LaTeX\, Linux\, machine learning\, macOS\, natural language processing\, pandas\, PySpark\, Python\, Python Requests\, Python Selenium\, R\, R Markdown\, R tidyverse\, REDCap\, SAS\, social sciences\, SPSS\, SQL\, statistics\, survey data\, text analysis\, time-series analysis\, web scraping\, Windows
UID:94931-21786493@events.umich.edu
URL:https://events.umich.edu/event/94931
CLASS:PUBLIC
STATUS:CONFIRMED
CATEGORIES:Arc,Arc-ts,Data Science,High Performance Computing,Information and Technology,Research
LOCATION:Off Campus Location
CONTACT:
END:VEVENT
BEGIN:VEVENT
DTSTAMP:20220606T101603
DTSTART;TZID=America/Detroit:20220705T100000
DTEND;TZID=America/Detroit:20220705T123000
SUMMARY:Class / Instruction:Methods of Survey Sampling - Summer Institute in Survey Research Techniques
DESCRIPTION:Methods of Survey Sampling\n\nOpen for registration!\n\nJune 6 - July 29\, 2022\n10:00am-12:30pm EST\nT/Th\n\nA fundamental feature of many sample surveys is a probability sample of subjects. Probability sampling requires rigorous application of mathematical principles to the selection process. Methods of Survey Sampling is a moderately advanced course in applied statistics\, with an emphasis on the practical problems of sample design\, which provides students with an understanding of principles and practice in skills required to select subjects and analyze sample data. Topics covered include stratified\, clustered\, systematic\, and multi-stage sample designs\, unequal probabilities and probabilities proportional to size\, area probability sampling\, ratio means\, sampling errors\, frame problems\, cost factors\, and practical designs and procedures. Emphasis is on practical considerations rather than on theoretical derivations\, although understanding of principles requires review of statistical results for sample surveys. The course includes an exercise that integrates the different techniques into a comprehensive sample design.\n\nWhy take this course? \n- To understand the basic ideas\, concepts and principles of probability sampling from an applied perspective\n- To be able to identify and appropriately apply sampling techniques to survey design problems\n- To be able to compute the sample size for a variety of sample designs\n- To understand and be able to assess the impact of the sample design on survey estimates\n- To learn how to design and select a probability sample involving complex sampling techniques in a survey project\, and receive expert feedback on a sampling report\n\nCourse Hours: 3\n\nInstructors: Raphael Nishimura\, Sunghee Lee\n\nPrerequisite: Two graduate-level courses in statistical methods.\n\nAll 2022 courses will be offered in an alternative remote format.
UID:95203-21788946@events.umich.edu
URL:https://events.umich.edu/event/95203
CLASS:PUBLIC
STATUS:CONFIRMED
CATEGORIES:Anthropology,Basic Science,Career,Corporate,Data,Data Curation,Data Management,Data Science,Economics,Education,Graduate,Information and Technology,Interdisciplinary,Kinesiology,Mathematics,Political Science,Population Studies Center,Psychology,Research,Science,Sociology
LOCATION:Off Campus Location
CONTACT:
END:VEVENT
BEGIN:VEVENT
DTSTAMP:20220519T125817
DTSTART;TZID=America/Detroit:20220705T110000
DTEND;TZID=America/Detroit:20220705T120000
SUMMARY:Class / Instruction:Summer Institute in Survey Research Techniques
DESCRIPTION:Open for registration!\n\nThe Summer Institute offers courses on (1) research design and sample selection\, (2) measurement\, (3) qualitative methods in survey research design\, (4) data collection\, and (5) analysis.\n\nMulti-week courses provide more in-depth coverage of a topic\, include readings\, homework\, and examinations\, and often providing participants with an opportunity to practice survey techniques.  One-week courses give an overview of a methodology topic\, including readings and homework.  One-day workshops are offered for those who need to learn a specific technique or method in a short period of time.\n\nAll 2022 courses will be offered in an alternative remote format.
UID:95200-21788784@events.umich.edu
URL:https://events.umich.edu/event/95200
CLASS:PUBLIC
STATUS:CONFIRMED
CATEGORIES:Basic Science,Career,Corporate,Economics,Graduate,Graduate Students,Information and Technology,International,Kinesiology,Mathematics,Professional Development,Psychology,Public Policy,Research,Science,Sociology,Training
LOCATION:Off Campus Location
CONTACT:
END:VEVENT
BEGIN:VEVENT
DTSTAMP:20220613T111638
DTSTART;TZID=America/Detroit:20220705T123000
DTEND;TZID=America/Detroit:20220705T131500
SUMMARY:Presentation:Expedition Reef
DESCRIPTION:Learn the secrets of the “rainforests of the sea” as you embark on an oceanic safari of the world’s most vibrant—and endangered—marine ecosystems. Expedition Reef immerses you in an undersea adventure. Along the way\, discover how corals grow\, feed\, reproduce\, and support over 25% of all marine life on Earth.
UID:89011-21790317@events.umich.edu
URL:https://events.umich.edu/event/89011
CLASS:PUBLIC
STATUS:CONFIRMED
CATEGORIES:Astronomy,Museum,natural history museum
LOCATION:Museum of Natural History
CONTACT:
END:VEVENT
BEGIN:VEVENT
DTSTAMP:20220720T073850
DTSTART;TZID=America/Detroit:20220705T140000
DTEND;TZID=America/Detroit:20220705T153000
SUMMARY:Meeting:CoderSpaces\, Virtual Office Hours (Tuesdays\, 2-3:30pm)
DESCRIPTION:Are you grappling with a piece of code\, trying to compute on a University cluster\, or just getting started with a new method such as machine learning? Then we might have just the right space for you.\n\nAll members of the U-M community are invited to join our weekly virtual CoderSpaces\, Tuesdays and Thursdays\, during the Summer 2022 term to get research support and connect with others.\n\nThe virtual sessions are designed to assist faculty\, staff\, and students with research methodology\, statistics\, data science applications\, and computational programming for research.\n\nOur hosts have a wide set of methodological and technological expertise. They come to you from a variety of departments and disciplines and are looking forward to serving the U-M community in their research endeavors.\n\nCoderSpaces provide a casual\, productive and inclusive environment. Everyone is welcome regardless of skill level.\n\nJoin via Zoom* (https://umich.zoom.us/j/98917021399)\n*Users will have to sign in with their UMICH (Level-1) credentials.\n\nWith Charles Antonelli (LSA Tech)\, Jonathan Golob (Division of Infectious Disease)\, and Shelly Johnson (ARC)\n\nExpertise at this session includes: Amazon Web Services (AWS)\, ARC Armis\, ARC Great Lakes\, Bash\, bash shell scripting\, C \, C++\, CMake\, conda (anaconda/miniconda)\, CUDA\, Fortran\, git\, GitHub\, GitLab\, GNU Make\, Google Cloud Platform\, GPU\, HDF5\, high performance computing (HPC)\, Julia\, LaTeX\, Linux\, Lmod modules\, macOS\, MATLAB\, MPI\, NVIDIA\, OpenACC\, OpenMP\, pandas\, parallelization\, performance analysis\, Perl\, Python\, Python BeautifulSoup\, Python Requests\, Python Selenium\, R\, R devtools\, Rcpp\, SLURM\, software compilation & installation on Linux\, software development\, tensorflow\, test-driven development\, venv\, web scraping\, XSEDE
UID:94933-21786509@events.umich.edu
URL:https://events.umich.edu/event/94933
CLASS:PUBLIC
STATUS:CONFIRMED
CATEGORIES:Arc,Arc-ts,Data Science,High Performance Computing,Information and Technology,Research
LOCATION:Off Campus Location
CONTACT:
END:VEVENT
BEGIN:VEVENT
DTSTAMP:20220606T102354
DTSTART;TZID=America/Detroit:20220705T140000
DTEND;TZID=America/Detroit:20220705T153000
SUMMARY:Class / Instruction:Introduction to Questionnaire Design - Summer Institute in Survey Research Techniques
DESCRIPTION:Introduction to Questionnaire Design\n\nOpen for registration!\n\nJuly 5-14\, 2022\n2:00pm - 3:30pm EST\nT & Th\n\nThis course will begin to empower students with an understanding of the importance and basic tenets of rigorous questionnaire design\, as well as practice designing an appropriate instrument for a real world problem. Students will watch course videos independently\, and work on a questionnaire for a topic of their choosing. Four live online meetings (Tuesdays and Thursdays from 2-3:30 PM EST) will take a workshop format where students will ask questions\, share their own questionnaires in progress\, and give feedback to classmates.\n\nCourse Hour: 1\n\nInstructor: Jessica Broome\n\nAll 2022 courses will be offered in an alternative remote format.
UID:95254-21789069@events.umich.edu
URL:https://events.umich.edu/event/95254
CLASS:PUBLIC
STATUS:CONFIRMED
CATEGORIES:Anthropology,Data Curation,Data Management,Data Science,Economics,Graduate,Kinesiology,Mathematics,Online,Political Science,Psychology,Sociology,Training
LOCATION:Off Campus Location
CONTACT:
END:VEVENT
BEGIN:VEVENT
DTSTAMP:20220912T132709
DTSTART;TZID=America/Detroit:20220705T143000
DTEND;TZID=America/Detroit:20220705T151500
SUMMARY:Presentation:Tales of the Maya Skies
DESCRIPTION:Tales of the Maya Skies immerses viewers in the wonders of Maya science\, cosmology and myth. This beautifully illustrated story takes us back in time to the jungles of Mexico to discover how Mayan scholars developed a sophisticated understanding of astronomy\, architecture\, and mathematics that enabled them to predict solstices\, solar eclipses\, weather patterns and planetary movements.\n\nThe state-of-the-art Planetarium & Dome Theater at the U-M Museum of Natural History transports visitors beyond distant stars and back in time from the comfort of reclining seats. Tickets $8. Tickets are available on the day of the show at the Museum Store.\n\nThe planetarium is operating at half capacity to maximize distancing between viewers.
UID:95036-21790287@events.umich.edu
URL:https://events.umich.edu/event/95036
CLASS:PUBLIC
STATUS:CONFIRMED
CATEGORIES:Astronomy,Museum,Natural Sciences,Science
LOCATION:Museum of Natural History
CONTACT:
END:VEVENT
BEGIN:VEVENT
DTSTAMP:20220720T123034
DTSTART;TZID=America/Detroit:20220705T160000
DTEND;TZID=America/Detroit:20220705T170000
SUMMARY:Careers / Jobs:Buddi Information Session
DESCRIPTION:Hey everyone. Buddi will be holding an Info Session on TuesdayJuly 5th at 4 PM EST. During the info session\, we will go over how Buddiwas created\, our awesome features in the Buddi app\, and discuss potential opportunities here at Buddi. Plus\, you will meet some of our amazing Campus Ambassadors and the Co-Directors of Buddi’s Campus Ambassador Program\, Dani Tsvilikhovskaya\, Rebecca Germaine\, and Olivia McSoley. Also\,you will have the chance to meet the Director of Buddi's Campus Ambassador Program\, Jack Mitchell as well. We hope you sign up and join us for an awesome afternoon.
UID:95674-21790542@events.umich.edu
URL:https://events.umich.edu/event/95674
CLASS:PUBLIC
STATUS:CONFIRMED
CATEGORIES:
LOCATION:
CONTACT:
END:VEVENT
BEGIN:VEVENT
DTSTAMP:20220315T170649
DTSTART;TZID=America/Detroit:20220705T200000
DTEND;TZID=America/Detroit:20220705T230000
SUMMARY:Performance:Eilen Jewell
DESCRIPTION:Boise-born and Boston-based Eilen (rhymes with feelin') Jewell calls herself \"nothing but a lonely rambler girl.\" The Los Angeles Daily News describes Eilen this way: \"Sometimes as darkly damaged as Lucinda Williams\, at others as defiant and teasing as prime Peggy Lee and always authentically Americana in the Gillian Welch tradition ... She's mighty good.\" Here's an artist who connects with the roots of country\, blues and rock without losing herself or descending into mannerism. You could call some of her music country-noir\, and the strong streak of traditional country in her songs was displayed in full on \"Butcher Holler\,\" her 2010 tribute to Loretta Lynn. Eilen calls her latest album\, \"Gypsy\,\" her favorite among her catalog.\n---\nProof of COVID vaccination required for entry. By purchasing a ticket you agree that you and your guests will comply with all laws\, orders\, ordinances\, regulations and health and safety guidance adopted by the State of Michigan\, the County of Washtenaw and The Ark\, including any guidelines in place at the time of the show. Attendees who do not comply will be asked to leave. Policies will be updated as circumstances and requirements change in our community. Please review The Ark’s current COVID-related information before attending a show.
UID:93152-21701003@events.umich.edu
URL:https://events.umich.edu/event/93152
CLASS:PUBLIC
STATUS:CONFIRMED
CATEGORIES:Music,The Ark
LOCATION:Off Campus Location
CONTACT:
END:VEVENT
END:VCALENDAR