BEGIN:VCALENDAR
VERSION:2.0
PRODID:-//UM//UM*Events//EN
CALSCALE:GREGORIAN
BEGIN:VTIMEZONE
TZID:America/Detroit
TZURL:http://tzurl.org/zoneinfo/America/Detroit
X-LIC-LOCATION:America/Detroit
BEGIN:DAYLIGHT
TZOFFSETFROM:-0500
TZOFFSETTO:-0400
TZNAME:EDT
DTSTART:20070311T020000
RRULE:FREQ=YEARLY;BYMONTH=3;BYDAY=2SU
END:DAYLIGHT
BEGIN:STANDARD
TZOFFSETFROM:-0400
TZOFFSETTO:-0500
TZNAME:EST
DTSTART:20071104T020000
RRULE:FREQ=YEARLY;BYMONTH=11;BYDAY=1SU
END:STANDARD
END:VTIMEZONE
BEGIN:VEVENT
DTSTAMP:20230324T120005
DTSTART;TZID=America/Detroit:20220723T000000
DTEND;TZID=America/Detroit:20220723T235959
SUMMARY:Community Service:Homework Help at The Children's Center
DESCRIPTION:The Homework Help program offers children assistance with their homework assignments. Children are encouraged to bring homework and are paired with a volunteer to assist them. This program is a critical service in helping children thrive. Volunteers give children the tools they need to be successful in school.Virtual and in-person volunteer opportunities are available. If you would like to volunteer\, please start the enrollment process by creating an account on the Children Center's Volunteer Site found HERE. After your account is created\, the Children's Center will reach out to you within 2 business days to answer any questions and discuss the next steps.In accordance with the CMS Vaccine Mandate\, those volunteering in-person at the Children’s Center are required to be fully vaccinated and must provide proof of full vaccination upon request.
UID:93885-21787889@events.umich.edu
URL:https://events.umich.edu/event/93885
CLASS:PUBLIC
STATUS:CONFIRMED
CATEGORIES:
LOCATION:The Children&#039;s Center 
CONTACT:
END:VEVENT
BEGIN:VEVENT
DTSTAMP:20211129T152100
DTSTART;TZID=America/Detroit:20220723T070000
DTEND;TZID=America/Detroit:20220723T235900
SUMMARY:Careers / Jobs:UROP 2022-2023 Rising Sophomore Applications Open
DESCRIPTION:The Undergraduate Research Opportunity Program is now accepting applications for students who will be rising sophomores during the 2022-2023 academic year.\n\nLearn more and apply today at http://myumi.ch/uropsophomore\n\nRising Sophomore Applications are being accepted on a rolling basis.
UID:89571-21664357@events.umich.edu
URL:https://events.umich.edu/event/89571
CLASS:PUBLIC
STATUS:CONFIRMED
CATEGORIES:AEM Featured,Applications,Engineering,Environment,first-generation,Humanities,Interdisciplinary,Life Science,Professional Development,Public Health,Recruiting,Research,research data,Social Sciences,Sophomore,Undergraduate,Undergraduate Students,Urop
LOCATION:Off Campus Location
CONTACT:
END:VEVENT
BEGIN:VEVENT
DTSTAMP:20220215T154124
DTSTART;TZID=America/Detroit:20220723T080000
DTEND;TZID=America/Detroit:20220723T230000
SUMMARY:Careers / Jobs:Apply to Changing Gears
DESCRIPTION:Changing Gears (CG) is a UROP program designed primarily for community college transfer students who will be attending the University of Michigan\, but also serves students transferring from 4 year institutions. Students in the CG Program become a part of an ongoing faculty-driven research\, scholarly or creative project in their field of interest. Students learn valuable academic skills\, applying these skills to their research project\, academics\, and future career opportunities\, while receiving academic credit or compensation for their efforts in research work.\n\nApplications are accepted on a rolling basis.\nLearn more about Changing Gears at: myumi.ch/uropcg
UID:92406-21691013@events.umich.edu
URL:https://events.umich.edu/event/92406
CLASS:PUBLIC
STATUS:CONFIRMED
CATEGORIES:AEM Featured,Applications,first-generation,Free,Interdisciplinary,Networking,Research,research data,Social Impact,The College Of Literature\, Science\, And The Arts,Transfer Students,Undergraduate,Undergraduate Students,Urop
LOCATION:Off Campus Location
CONTACT:
END:VEVENT
BEGIN:VEVENT
DTSTAMP:20220516T161143
DTSTART;TZID=America/Detroit:20220723T080000
DTEND;TZID=America/Detroit:20220723T190000
SUMMARY:Exhibition:Map ≠ Territory: Distortion and Power in Cartography
DESCRIPTION:More than strict representations of the world we inhabit\, maps are social constructions that embody the interests of their creators. Map ≠ Territory deconstructs maps that have been used to subjugate\, appropriate\, and oppress\, as well as the maps that counter that power through emancipation and advocacy. The exhibit critically engages with materials that span from the colonial era to modern-day Detroit.\n\nThe exhibit is available in the Clark Library (second floor Hatcher) during Hatcher Library hours. Please verify hours on the library's website: https://www.lib.umich.edu
UID:90765-21788684@events.umich.edu
URL:https://events.umich.edu/event/90765
CLASS:PUBLIC
STATUS:CONFIRMED
CATEGORIES:Library,Maps
LOCATION:Hatcher Graduate Library - Clark Library, 2nd Floor
CONTACT:
END:VEVENT
BEGIN:VEVENT
DTSTAMP:20220502T122639
DTSTART;TZID=America/Detroit:20220723T080000
DTEND;TZID=America/Detroit:20220723T230000
SUMMARY:Careers / Jobs:UROP First-Year Application Open
DESCRIPTION:Our \"Traditional UROP Program\" has been our flagship program running over 30 years. This Academic Year program\, in which students participate for both Fall and Winter Terms\, is designed for University of Michigan first and second year undergraduate students enrolled on the Ann Arbor campus who are seeking a first time research experience. Student research assistants work alongside a faculty member\, research scientist or professional practitioner on an ongoing or new research project.\n\nLearn more and apply at: myumi.ch/uropyearone\n\nApplications being accepted on a rolling basis.
UID:83923-21785238@events.umich.edu
URL:https://events.umich.edu/event/83923
CLASS:PUBLIC
STATUS:CONFIRMED
CATEGORIES:AEM Featured,Applications,first-generation,Free,Interdisciplinary,Networking,Research,Undergraduate,Undergraduate Students,Urop
LOCATION:
CONTACT:
END:VEVENT
BEGIN:VEVENT
DTSTAMP:20220117T095807
DTSTART;TZID=America/Detroit:20220723T080000
DTEND;TZID=America/Detroit:20220723T230000
SUMMARY:Careers / Jobs:UROP Research Scholars Program Application Open
DESCRIPTION:The UROP Research Scholars Program is designed for students who want to expand on their first year UROP experience and participate in UROP for a second year at an advanced level. In this program\, students build upon the knowledge gained in a first undergraduate research experience to further explore the connections between research\, a liberal arts education\, and communicating skills to advance their future professional goals. Students are expected to explore various written and oral possibilities for communicating their research process\, identifying the limits set by the discipline and the opportunities that lie beyond.\n\nApplications for the 2022-2023 academic year cohort open February 14th.\nPriority Deadline for the applications is March 18th\n\nLearn more at: myumi.ch/uroprs
UID:91080-21676597@events.umich.edu
URL:https://events.umich.edu/event/91080
CLASS:PUBLIC
STATUS:CONFIRMED
CATEGORIES:AEM Featured,Applications,Fellowship,first-generation,Interdisciplinary,Networking,Research,research data,Sophomore,The College Of Literature\, Science\, And The Arts,Undergraduate,Undergraduate Students,Urop
LOCATION:Off Campus Location
CONTACT:
END:VEVENT
BEGIN:VEVENT
DTSTAMP:20220627T142559
DTSTART;TZID=America/Detroit:20220723T100000
DTEND;TZID=America/Detroit:20220723T180000
SUMMARY:Exhibition:A Perfect Pairing of Cookbooks and Dinnerware
DESCRIPTION:A dozen selections from the Janice Bluestein Longone Culinary Archive from our Special Collections Research Center have been perfectly paired with dishes from the International Museum of Dinnerware Design to provide a feast for the eyes.\n\nA “perfect pairing” usually refers to a taste compatibility between wine and a food group\, such as wine and cheese. For example\, some believe a perfect pairing would be Cabernet with duck confit with turnips or Pinot Noir with bison rib eye steaks with roasted garlic — wines with sauces\, spicy food\, hors d’oeurvres\, etc. But other things can be perfectly paired such as fruit and cheese\, a couple\, or a clothing selection.\n\nSometimes pairs are made more perfect when they are catalysts for the imagination. That is what curators Margaret Carney\, Ph.D.\, and Juli McLoone are serving in \"A Perfect Pairing of Cookbooks and Dinnerware.\" The right ingredients along with an inspired recipe creates a delicious and beautiful meal that is enhanced when the cuisine is presented on a thoughtfully curated table setting\, or\, we hope\, in a thoughtfully curated exhibit. Bon Appetit!
UID:95818-21790953@events.umich.edu
URL:https://events.umich.edu/event/95818
CLASS:PUBLIC
STATUS:CONFIRMED
CATEGORIES:Exhibition,Free,Library
LOCATION:Hatcher Graduate Library - Audubon Room, 1st floor
CONTACT:
END:VEVENT
BEGIN:VEVENT
DTSTAMP:20220718T120838
DTSTART;TZID=America/Detroit:20220723T100000
DTEND;TZID=America/Detroit:20220723T200000
SUMMARY:Exhibition:BioArtography Booth at the Ann Arbor Art Fair
DESCRIPTION:BioArtography will be in South University Booth SU1109 (Between E. Univ. and Church) the Ann Arbor Art Fair! 13 spectacular new images for 2022 will be making their debut!\n\nEvery day at the University of Michigan\, scientists from many fields work together to study organism development\, function and disease. While the goal of these studies is to design new and effective ways to treat disease and provide better understanding of ourselves as well as the world around us\, many are also taking the time to share the beauty of their work with others through a program called BioArtography. In the course of research\, scientists use special stains to add color to the otherwise transparent tissues. Microscopes then allow detailed observation of the tiny\, colorful biological structures revealed in these images. This results in a fascinating combination of art and science that U-M researchers are capturing in pictures taken through microscopes and turning into artworks that would look beautiful on any wall.\n\nThe goal of these studies is to design new and effective ways to treat disease and provide better understanding of ourselves as well as the world that surrounds us. Proceeds from the sale of this work help support the training of our next generation of researchers. Past BioArtography sales have raised enough money to send more than 100 graduate students and postdoctoral fellows to scientific conferences\, where they can present their work to other scientists and make connections that can help them launch their careers in research and industry.\n\nThroughout the year BioArtography images (a collection of over 250) can be viewed and ordered online at www.bioartography.com
UID:96071-21791888@events.umich.edu
URL:https://events.umich.edu/event/96071
CLASS:PUBLIC
STATUS:CONFIRMED
CATEGORIES:Art,Basic Science,Biointerfaces,Biology,Biomedical Engineering,Culture,Engineering,Exhibition,Faculty,Family,Festival,Free,Graduate School,Graduate Students,Interdisciplinary,Life Science,Medicine,Michigan Engineering,Multidisciplinary Design,Nursing,Outdoors,Postdoctoral Research Fellows,Pre Med,Pre-Health,Prospective Graduate Students,Prospective Undergraduate Students,Rackham,Research,Science,Undergraduate Students,Visual Arts
LOCATION:
CONTACT:
END:VEVENT
BEGIN:VEVENT
DTSTAMP:20220718T114256
DTSTART;TZID=America/Detroit:20220723T100000
DTEND;TZID=America/Detroit:20220723T180000
SUMMARY:Exhibition:the small details
DESCRIPTION:Artists Amy Sacksteder and Brenda Singletary are both visual storytellers\, exploring their relationships to place and time through the contemplation of objects and raw materials within the context and the process of painting. Although disparate in their methods and aesthetic choices\, there is a surprising connection in their deep commitment to the particulars\, in all the small details more than “the big picture”…the idiosyncrasies and incidentals that give meaning\, resonance\, and renewal to their own visual languages\, and artistic practices ongoing. Visit our website to learn more: https://lsa.umich.edu/humanities/gallery/current-exhibitions/the-small-details.html.\n\n*the small details* was made possible by a grant from The Andrew W. Mellon Foundation as part of the Institute for the Humanities Gallery High Stakes Art Initiative. This two-person exhibition opportunity intends to offer support and further exposure specifically for regional contemporary artists.
UID:95523-21790066@events.umich.edu
URL:https://events.umich.edu/event/95523
CLASS:PUBLIC
STATUS:CONFIRMED
CATEGORIES:Art,Exhibition,Humanities,Visual Arts
LOCATION:202 S. Thayer - Institute for the Humanities Gallery
CONTACT:
END:VEVENT
BEGIN:VEVENT
DTSTAMP:20220526T171553
DTSTART;TZID=America/Detroit:20220723T100000
DTEND;TZID=America/Detroit:20220723T200000
SUMMARY:Fair / Festival:We Bear US
DESCRIPTION:July 21 – 23\, 2022\n\nLocation: Main Street & Liberty\nThursday\, July 21 • 10AM – 9PM\nFriday\, July 22 • 10AM – 9PM\nSaturday\, July 23 • 10AM – 8PM
UID:95329-21789171@events.umich.edu
URL:https://events.umich.edu/event/95329
CLASS:PUBLIC
STATUS:CONFIRMED
CATEGORIES:Art,Free,We Bear
LOCATION:Off Campus Location
CONTACT:
END:VEVENT
BEGIN:VEVENT
DTSTAMP:20220714T181508
DTSTART;TZID=America/Detroit:20220723T110000
DTEND;TZID=America/Detroit:20220723T170000
SUMMARY:Exhibition:Mother Cyborg: Crafting Our Digital Legacy
DESCRIPTION:Detroit-based artist\, musician\, and educator Mother Cyborg (Diana J. Nucera) debuts a series of quilts that references our relationship to digital technologies\, data-mining and security in the age of the Internet. Using bright colors\, geometric shapes and patterns\, Crafting our Digital Legacy  opens up analogue and tactile spaces that invite audiences to reflect upon our collective relationship with internet technologies\, identity\, legacy\, and the future. Mother Cyborg draws from over 15 years experience as a community organizer in Detroit\, MI where individuals gained access and agency to (re-)build their neighborhoods\, and run their own Internet service providers. In this exhibition\, Nucera expands her artist self through fiber works where she addresses critical issues of surveillance\, data collection\, the redaction of love to likes\, and the complexity of identity within it all. \nMother Cyborg states\, “This work aims to return a sense of wonder and magic to all of us\, and rekindle the awe we may have first felt when using a geolocating star map\, or being able to video call a person across borders. Crafting our Digital Legacy  looks at the way in which art can unpack how living at the whim of invisible wifi connections\, engaging ‘power cycling’ (turning on and off) computers and phones to ‘fix’ them\, modern experiences of technology run the gamut from resigned faith to proselytizing zealotry. In our weariness of the state of technology\, we fail to notice that the ‘same’ data\, taken from all of us\, has the power to rewrite and mutate the prior century’s worst inequalities into a blueprint for the future. These psychedelic quilts mesmerize while spotlighting surveillance tactics embedded within society bringing into focus the information and questions we should be asking of the future.”\nCurated by Srimoyee Mitra.
UID:94852-21777270@events.umich.edu
URL:https://events.umich.edu/event/94852
CLASS:PUBLIC
STATUS:CONFIRMED
CATEGORIES:Art
LOCATION:Off Campus Location
CONTACT:
END:VEVENT
BEGIN:VEVENT
DTSTAMP:20220519T181504
DTSTART;TZID=America/Detroit:20220723T110000
DTEND;TZID=America/Detroit:20220723T170000
SUMMARY:Exhibition:Ruth Weisberg: Of Memory\, Time & Place
DESCRIPTION:“One thing that is very clear to me is that my life and my work are very intertwined. For me the creation of my art\, be it painting\, drawing or printmaking\, integrates my life experiences\, my beliefs and my heritage. I hope that my viewers will also bring their own lenses created by their identity\, their family history and their experiences.” \n- Ruth Weisberg\nRuth Weisberg: Of Memory\, Time &amp\; Place brings together over 25 works that span six decades of the artist’s practice as a painter and printmaker. It features iconic works from Weisberg’s artistic career - Waterborne (1973)\, A Year Passes (1985) and Questioning Veronese (2011) - where she explored the interconnectedness and continuity of successive generations. Anchored in themes of personal and familial memory\; ancestral knowledge embedded in her Jewish heritage\, and admiration for Western art history\, her unframed canvases\, and works on paper create liminal spaces that collapse the time and space\, where family\, friends from the present and past share space with great painters and Holocaust survivors and those who perished. The Shtetl\, A Journey and Memorial\, a limited- edition artist book that she wrote and illustrated comprising 9 intaglio prints in 1971\, lies at the heart of the exhibition. In it she paid homage to the small Jewish towns in Poland (where her ancestors are from) before the Holocaust. This significant work was a touchstone for her artistic and professional career as it propelled her move from Michigan to Los Angeles in 1969.\n \nBorn and raised in Chicago\, Weisberg moved to Ann Arbor to pursue her higher studies\, she completed her B.Ed (1964)\, after spending three years in Perugia\, Italy where she earned a Laurea di Belle Arti in 1962\, and MFA (1965). Since her arrival in Los Angeles\, Weisberg has been a formidable influence and mentor to decades of artists as an artist\, Professor of Fine Arts and former Dean at the University of Southern California Roski School of Art and Design. Weisberg was the Director of the USC Initiative for Israeli Arts and Humanities\, and the founder of the Jewish Artists Initiative of Southern California. Her first major survey in Los Angeles was in 1979 at the Los Angeles Municipal Art Gallery. She and Judy Chicago were the first two artists exhibited at The Women’s Building\, Los Angeles. Their solo exhibitions inaugurated that venue. Weisberg has had more than 80 solo exhibitions and nearly 200 group exhibitions internationally\, including a major exhibition at the Norton Simon Museum\, Pasadena and a retrospective\, at the Skirball Museum\, Los Angeles as well as a solo exhibition at the Huntington in San Marino. She is the recipient of many prestigious awards\, some notable ones are the Printmaker Emeritus Award from the Southern Graphic Council International in 2015 and the Foundation for Jewish Culture’s 50th Anniversary Cultural Achievement Award in 2011. She has been the recipient of the Art Leadership Award\, National Council of Art Administrators and the Women’s Caucus for Art Lifetime Achievement Award\, 2009. Ruth Weisberg is represented by Jack Rutberg Fine Arts\, Los Angeles.\n \nCurated by Srimoyee Mitra.
UID:94838-21776800@events.umich.edu
URL:https://events.umich.edu/event/94838
CLASS:PUBLIC
STATUS:CONFIRMED
CATEGORIES:Art
LOCATION:Off Campus Location
CONTACT:
END:VEVENT
BEGIN:VEVENT
DTSTAMP:20220712T164925
DTSTART;TZID=America/Detroit:20220723T120000
DTEND;TZID=America/Detroit:20220723T150000
SUMMARY:Social / Informal Gathering:STEM Day!
DESCRIPTION:Let's Talk STEM! Take a break from the Art Fair to have some fun — stop by for family-friendly activities\, prizes\, and resources! Spread the word!\n\nThis community engagement event is organized by the U-M Library\, Ann Arbor District Library\, Libraries Love Lakes\, and Matthaei Botanical Gardens.
UID:96035-21791732@events.umich.edu
URL:https://events.umich.edu/event/96035
CLASS:PUBLIC
STATUS:CONFIRMED
CATEGORIES:Free,Library
LOCATION:Hatcher Graduate Library - Gallery (1st floor)
CONTACT:
END:VEVENT
BEGIN:VEVENT
DTSTAMP:20220613T111638
DTSTART;TZID=America/Detroit:20220723T123000
DTEND;TZID=America/Detroit:20220723T131500
SUMMARY:Presentation:Expedition Reef
DESCRIPTION:Learn the secrets of the “rainforests of the sea” as you embark on an oceanic safari of the world’s most vibrant—and endangered—marine ecosystems. Expedition Reef immerses you in an undersea adventure. Along the way\, discover how corals grow\, feed\, reproduce\, and support over 25% of all marine life on Earth.
UID:89011-21790335@events.umich.edu
URL:https://events.umich.edu/event/89011
CLASS:PUBLIC
STATUS:CONFIRMED
CATEGORIES:Astronomy,Museum,natural history museum
LOCATION:Museum of Natural History
CONTACT:
END:VEVENT
BEGIN:VEVENT
DTSTAMP:20220721T093621
DTSTART;TZID=America/Detroit:20220723T140000
DTEND;TZID=America/Detroit:20220723T150000
SUMMARY:Other:[CANCELED]  In-person Saturday Sampler Tour | A Glimpse of the Kelsey
DESCRIPTION:*This event has been canceled. We apologize for any inconvenience.*\n---------------\nPrepare your passport! This tour will take you back in time to the ancient civilizations of Mesopotamia\, Greece\, Egypt\, and Rome through highlights of the artifacts on display in the Kelsey Museum.\n\nMasks are optional inside the Kelsey. For more information about our COVID procedures and how to prepare for your visit\, please visit our website\, https://myumi.ch/9PG1P.\n\nSaturday Sampler tours are free and open to all visitors. If you are a person with a disability who requires accommodation to attend this tour\, please contact the education office (734-647-4167 or kelsey.ed@umich.edu) at least two weeks in advance. We ask for advance notice as some accommodations may require more time for the University to arrange.
UID:95518-21790031@events.umich.edu
URL:https://events.umich.edu/event/95518
CLASS:PUBLIC
STATUS:CONFIRMED
CATEGORIES:Ancient Egypt,Archaeology,Classical Studies,Free,Tour
LOCATION:Kelsey Museum of Archaeology
CONTACT:
END:VEVENT
BEGIN:VEVENT
DTSTAMP:20220912T132709
DTSTART;TZID=America/Detroit:20220723T143000
DTEND;TZID=America/Detroit:20220723T151500
SUMMARY:Presentation:Tales of the Maya Skies
DESCRIPTION:Tales of the Maya Skies immerses viewers in the wonders of Maya science\, cosmology and myth. This beautifully illustrated story takes us back in time to the jungles of Mexico to discover how Mayan scholars developed a sophisticated understanding of astronomy\, architecture\, and mathematics that enabled them to predict solstices\, solar eclipses\, weather patterns and planetary movements.\n\nThe state-of-the-art Planetarium & Dome Theater at the U-M Museum of Natural History transports visitors beyond distant stars and back in time from the comfort of reclining seats. Tickets $8. Tickets are available on the day of the show at the Museum Store.\n\nThe planetarium is operating at half capacity to maximize distancing between viewers.
UID:95036-21790305@events.umich.edu
URL:https://events.umich.edu/event/95036
CLASS:PUBLIC
STATUS:CONFIRMED
CATEGORIES:Astronomy,Museum,Natural Sciences,Science
LOCATION:Museum of Natural History
CONTACT:
END:VEVENT
BEGIN:VEVENT
DTSTAMP:20230908T085204
DTSTART;TZID=America/Detroit:20220723T150000
DTEND;TZID=America/Detroit:20220723T151500
SUMMARY:Presentation:Science Forum Discovery Demos
DESCRIPTION:Join us in the Science Forum for 15-20 minute engaging science demonstrations that will help you see the world in a whole new way. Demonstrations are free and appropriate for visitors ages 5 and above. Schedule subject to change.\n\nNo demos on October 14th or 15th.\n\nHow to Become a Fossil\nExplore how fossils form and what parts of animals can become fossilized! How old are the earliest fossils? How old does something have to be before it is considered a fossil? You’ll touch some real fossils\, learn the different types of fossil evidence\, and discover what is necessary to become a fossil.  Finally\, we’ll discuss what kinds of things fossils can tell us\, and how fossil casts are made in the museum!
UID:95035-21790187@events.umich.edu
URL:https://events.umich.edu/event/95035
CLASS:PUBLIC
STATUS:CONFIRMED
CATEGORIES:Children,Family,Free,Museum,natural history museum,Natural Sciences,Science
LOCATION:Museum of Natural History
CONTACT:
END:VEVENT
END:VCALENDAR