BEGIN:VCALENDAR
VERSION:2.0
PRODID:-//UM//UM*Events//EN
CALSCALE:GREGORIAN
BEGIN:VTIMEZONE
TZID:America/Detroit
TZURL:http://tzurl.org/zoneinfo/America/Detroit
X-LIC-LOCATION:America/Detroit
BEGIN:DAYLIGHT
TZOFFSETFROM:-0500
TZOFFSETTO:-0400
TZNAME:EDT
DTSTART:20070311T020000
RRULE:FREQ=YEARLY;BYMONTH=3;BYDAY=2SU
END:DAYLIGHT
BEGIN:STANDARD
TZOFFSETFROM:-0400
TZOFFSETTO:-0500
TZNAME:EST
DTSTART:20071104T020000
RRULE:FREQ=YEARLY;BYMONTH=11;BYDAY=1SU
END:STANDARD
END:VTIMEZONE
BEGIN:VEVENT
DTSTAMP:20230324T120005
DTSTART;TZID=America/Detroit:20220724T000000
DTEND;TZID=America/Detroit:20220724T235959
SUMMARY:Community Service:Homework Help at The Children's Center
DESCRIPTION:The Homework Help program offers children assistance with their homework assignments. Children are encouraged to bring homework and are paired with a volunteer to assist them. This program is a critical service in helping children thrive. Volunteers give children the tools they need to be successful in school.Virtual and in-person volunteer opportunities are available. If you would like to volunteer\, please start the enrollment process by creating an account on the Children Center's Volunteer Site found HERE. After your account is created\, the Children's Center will reach out to you within 2 business days to answer any questions and discuss the next steps.In accordance with the CMS Vaccine Mandate\, those volunteering in-person at the Children’s Center are required to be fully vaccinated and must provide proof of full vaccination upon request.
UID:93885-21787890@events.umich.edu
URL:https://events.umich.edu/event/93885
CLASS:PUBLIC
STATUS:CONFIRMED
CATEGORIES:
LOCATION:The Children&#039;s Center 
CONTACT:
END:VEVENT
BEGIN:VEVENT
DTSTAMP:20211129T152100
DTSTART;TZID=America/Detroit:20220724T070000
DTEND;TZID=America/Detroit:20220724T235900
SUMMARY:Careers / Jobs:UROP 2022-2023 Rising Sophomore Applications Open
DESCRIPTION:The Undergraduate Research Opportunity Program is now accepting applications for students who will be rising sophomores during the 2022-2023 academic year.\n\nLearn more and apply today at http://myumi.ch/uropsophomore\n\nRising Sophomore Applications are being accepted on a rolling basis.
UID:89571-21664358@events.umich.edu
URL:https://events.umich.edu/event/89571
CLASS:PUBLIC
STATUS:CONFIRMED
CATEGORIES:Applications,AEM Featured,Urop,Undergraduate Students,Undergraduate,Sophomore,Social Sciences,research data,Research,Public Health,Professional Development,Life Science,Interdisciplinary,Humanities,first-generation,Environment,Engineering,Recruiting
LOCATION:Off Campus Location
CONTACT:
END:VEVENT
BEGIN:VEVENT
DTSTAMP:20220215T154124
DTSTART;TZID=America/Detroit:20220724T080000
DTEND;TZID=America/Detroit:20220724T230000
SUMMARY:Careers / Jobs:Apply to Changing Gears
DESCRIPTION:Changing Gears (CG) is a UROP program designed primarily for community college transfer students who will be attending the University of Michigan\, but also serves students transferring from 4 year institutions. Students in the CG Program become a part of an ongoing faculty-driven research\, scholarly or creative project in their field of interest. Students learn valuable academic skills\, applying these skills to their research project\, academics\, and future career opportunities\, while receiving academic credit or compensation for their efforts in research work.\n\nApplications are accepted on a rolling basis.\nLearn more about Changing Gears at: myumi.ch/uropcg
UID:92406-21691014@events.umich.edu
URL:https://events.umich.edu/event/92406
CLASS:PUBLIC
STATUS:CONFIRMED
CATEGORIES:Applications,first-generation,Free,Interdisciplinary,Networking,Research,research data,Social Impact,The College Of Literature\, Science\, And The Arts,Transfer Students,Undergraduate,Undergraduate Students,Urop,AEM Featured
LOCATION:Off Campus Location
CONTACT:
END:VEVENT
BEGIN:VEVENT
DTSTAMP:20220516T161143
DTSTART;TZID=America/Detroit:20220724T080000
DTEND;TZID=America/Detroit:20220724T190000
SUMMARY:Exhibition:Map ≠ Territory: Distortion and Power in Cartography
DESCRIPTION:More than strict representations of the world we inhabit\, maps are social constructions that embody the interests of their creators. Map ≠ Territory deconstructs maps that have been used to subjugate\, appropriate\, and oppress\, as well as the maps that counter that power through emancipation and advocacy. The exhibit critically engages with materials that span from the colonial era to modern-day Detroit.\n\nThe exhibit is available in the Clark Library (second floor Hatcher) during Hatcher Library hours. Please verify hours on the library's website: https://www.lib.umich.edu
UID:90765-21788685@events.umich.edu
URL:https://events.umich.edu/event/90765
CLASS:PUBLIC
STATUS:CONFIRMED
CATEGORIES:Maps,Library
LOCATION:Hatcher Graduate Library - Clark Library, 2nd Floor
CONTACT:
END:VEVENT
BEGIN:VEVENT
DTSTAMP:20220502T122639
DTSTART;TZID=America/Detroit:20220724T080000
DTEND;TZID=America/Detroit:20220724T230000
SUMMARY:Careers / Jobs:UROP First-Year Application Open
DESCRIPTION:Our \"Traditional UROP Program\" has been our flagship program running over 30 years. This Academic Year program\, in which students participate for both Fall and Winter Terms\, is designed for University of Michigan first and second year undergraduate students enrolled on the Ann Arbor campus who are seeking a first time research experience. Student research assistants work alongside a faculty member\, research scientist or professional practitioner on an ongoing or new research project.\n\nLearn more and apply at: myumi.ch/uropyearone\n\nApplications being accepted on a rolling basis.
UID:83923-21785239@events.umich.edu
URL:https://events.umich.edu/event/83923
CLASS:PUBLIC
STATUS:CONFIRMED
CATEGORIES:Urop,Undergraduate Students,Undergraduate,Research,Networking,Interdisciplinary,Free,first-generation,AEM Featured,Applications
LOCATION:
CONTACT:
END:VEVENT
BEGIN:VEVENT
DTSTAMP:20220117T095807
DTSTART;TZID=America/Detroit:20220724T080000
DTEND;TZID=America/Detroit:20220724T230000
SUMMARY:Careers / Jobs:UROP Research Scholars Program Application Open
DESCRIPTION:The UROP Research Scholars Program is designed for students who want to expand on their first year UROP experience and participate in UROP for a second year at an advanced level. In this program\, students build upon the knowledge gained in a first undergraduate research experience to further explore the connections between research\, a liberal arts education\, and communicating skills to advance their future professional goals. Students are expected to explore various written and oral possibilities for communicating their research process\, identifying the limits set by the discipline and the opportunities that lie beyond.\n\nApplications for the 2022-2023 academic year cohort open February 14th.\nPriority Deadline for the applications is March 18th\n\nLearn more at: myumi.ch/uroprs
UID:91080-21676598@events.umich.edu
URL:https://events.umich.edu/event/91080
CLASS:PUBLIC
STATUS:CONFIRMED
CATEGORIES:Urop,AEM Featured,Fellowship,Applications,Undergraduate Students,Undergraduate,The College Of Literature\, Science\, And The Arts,Sophomore,research data,Research,Networking,Interdisciplinary,first-generation
LOCATION:Off Campus Location
CONTACT:
END:VEVENT
BEGIN:VEVENT
DTSTAMP:20220613T111638
DTSTART;TZID=America/Detroit:20220724T123000
DTEND;TZID=America/Detroit:20220724T131500
SUMMARY:Presentation:Expedition Reef
DESCRIPTION:Learn the secrets of the “rainforests of the sea” as you embark on an oceanic safari of the world’s most vibrant—and endangered—marine ecosystems. Expedition Reef immerses you in an undersea adventure. Along the way\, discover how corals grow\, feed\, reproduce\, and support over 25% of all marine life on Earth.
UID:89011-21790336@events.umich.edu
URL:https://events.umich.edu/event/89011
CLASS:PUBLIC
STATUS:CONFIRMED
CATEGORIES:natural history museum,Museum,Astronomy
LOCATION:Museum of Natural History
CONTACT:
END:VEVENT
BEGIN:VEVENT
DTSTAMP:20220627T142559
DTSTART;TZID=America/Detroit:20220724T130000
DTEND;TZID=America/Detroit:20220724T190000
SUMMARY:Exhibition:A Perfect Pairing of Cookbooks and Dinnerware
DESCRIPTION:A dozen selections from the Janice Bluestein Longone Culinary Archive from our Special Collections Research Center have been perfectly paired with dishes from the International Museum of Dinnerware Design to provide a feast for the eyes.\n\nA “perfect pairing” usually refers to a taste compatibility between wine and a food group\, such as wine and cheese. For example\, some believe a perfect pairing would be Cabernet with duck confit with turnips or Pinot Noir with bison rib eye steaks with roasted garlic — wines with sauces\, spicy food\, hors d’oeurvres\, etc. But other things can be perfectly paired such as fruit and cheese\, a couple\, or a clothing selection.\n\nSometimes pairs are made more perfect when they are catalysts for the imagination. That is what curators Margaret Carney\, Ph.D.\, and Juli McLoone are serving in \"A Perfect Pairing of Cookbooks and Dinnerware.\" The right ingredients along with an inspired recipe creates a delicious and beautiful meal that is enhanced when the cuisine is presented on a thoughtfully curated table setting\, or\, we hope\, in a thoughtfully curated exhibit. Bon Appetit!
UID:95818-21790954@events.umich.edu
URL:https://events.umich.edu/event/95818
CLASS:PUBLIC
STATUS:CONFIRMED
CATEGORIES:Library,Free,Exhibition
LOCATION:Hatcher Graduate Library - Audubon Room, 1st floor
CONTACT:
END:VEVENT
BEGIN:VEVENT
DTSTAMP:20220912T132709
DTSTART;TZID=America/Detroit:20220724T143000
DTEND;TZID=America/Detroit:20220724T151500
SUMMARY:Presentation:Tales of the Maya Skies
DESCRIPTION:Tales of the Maya Skies immerses viewers in the wonders of Maya science\, cosmology and myth. This beautifully illustrated story takes us back in time to the jungles of Mexico to discover how Mayan scholars developed a sophisticated understanding of astronomy\, architecture\, and mathematics that enabled them to predict solstices\, solar eclipses\, weather patterns and planetary movements.\n\nThe state-of-the-art Planetarium & Dome Theater at the U-M Museum of Natural History transports visitors beyond distant stars and back in time from the comfort of reclining seats. Tickets $8. Tickets are available on the day of the show at the Museum Store.\n\nThe planetarium is operating at half capacity to maximize distancing between viewers.
UID:95036-21790306@events.umich.edu
URL:https://events.umich.edu/event/95036
CLASS:PUBLIC
STATUS:CONFIRMED
CATEGORIES:Astronomy,Museum,Natural Sciences,Science
LOCATION:Museum of Natural History
CONTACT:
END:VEVENT
BEGIN:VEVENT
DTSTAMP:20230908T085204
DTSTART;TZID=America/Detroit:20220724T150000
DTEND;TZID=America/Detroit:20220724T151500
SUMMARY:Presentation:Science Forum Discovery Demos
DESCRIPTION:Join us in the Science Forum for 15-20 minute engaging science demonstrations that will help you see the world in a whole new way. Demonstrations are free and appropriate for visitors ages 5 and above. Schedule subject to change.\n\nNo demos on October 14th or 15th.\n\nHow to Become a Fossil\nExplore how fossils form and what parts of animals can become fossilized! How old are the earliest fossils? How old does something have to be before it is considered a fossil? You’ll touch some real fossils\, learn the different types of fossil evidence\, and discover what is necessary to become a fossil.  Finally\, we’ll discuss what kinds of things fossils can tell us\, and how fossil casts are made in the museum!
UID:95035-21790192@events.umich.edu
URL:https://events.umich.edu/event/95035
CLASS:PUBLIC
STATUS:CONFIRMED
CATEGORIES:Science,Natural Sciences,natural history museum,Museum,Free,Family,Children
LOCATION:Museum of Natural History
CONTACT:
END:VEVENT
BEGIN:VEVENT
DTSTAMP:20220724T120007
DTSTART;TZID=America/Detroit:20220724T160000
DTEND;TZID=America/Detroit:20220724T180000
SUMMARY:Exercise / Fitness:Free Beginner Dance Lessons
DESCRIPTION:Join us for our free summer dance lessons. We will be hosting them on Sundays on the Palmer Field basketball courts throughout the summer. No experience or partner is necessary. We will teach you everything you need to know! Please bring water and comfortable shoes since we will be outside. Must be a student or incoming student of any University or College to attend! If you have any questions don't hesitate to contact ballroom-exec@umich.edu.
UID:95775-21790890@events.umich.edu
URL:https://events.umich.edu/event/95775
CLASS:PUBLIC
STATUS:CONFIRMED
CATEGORIES:
LOCATION:Palmer Field
CONTACT:
END:VEVENT
END:VCALENDAR