BEGIN:VCALENDAR
VERSION:2.0
PRODID:-//UM//UM*Events//EN
CALSCALE:GREGORIAN
BEGIN:VTIMEZONE
TZID:America/Detroit
TZURL:http://tzurl.org/zoneinfo/America/Detroit
X-LIC-LOCATION:America/Detroit
BEGIN:DAYLIGHT
TZOFFSETFROM:-0500
TZOFFSETTO:-0400
TZNAME:EDT
DTSTART:20070311T020000
RRULE:FREQ=YEARLY;BYMONTH=3;BYDAY=2SU
END:DAYLIGHT
BEGIN:STANDARD
TZOFFSETFROM:-0400
TZOFFSETTO:-0500
TZNAME:EST
DTSTART:20071104T020000
RRULE:FREQ=YEARLY;BYMONTH=11;BYDAY=1SU
END:STANDARD
END:VTIMEZONE
BEGIN:VEVENT
DTSTAMP:20230324T120005
DTSTART;TZID=America/Detroit:20220731T000000
DTEND;TZID=America/Detroit:20220731T235959
SUMMARY:Community Service:Homework Help at The Children's Center
DESCRIPTION:The Homework Help program offers children assistance with their homework assignments. Children are encouraged to bring homework and are paired with a volunteer to assist them. This program is a critical service in helping children thrive. Volunteers give children the tools they need to be successful in school.Virtual and in-person volunteer opportunities are available. If you would like to volunteer\, please start the enrollment process by creating an account on the Children Center's Volunteer Site found HERE. After your account is created\, the Children's Center will reach out to you within 2 business days to answer any questions and discuss the next steps.In accordance with the CMS Vaccine Mandate\, those volunteering in-person at the Children’s Center are required to be fully vaccinated and must provide proof of full vaccination upon request.
UID:93885-21787897@events.umich.edu
URL:https://events.umich.edu/event/93885
CLASS:PUBLIC
STATUS:CONFIRMED
CATEGORIES:
LOCATION:The Children&#039;s Center 
CONTACT:
END:VEVENT
BEGIN:VEVENT
DTSTAMP:20220911T180007
DTSTART;TZID=America/Detroit:20220731T000000
DTEND;TZID=America/Detroit:20220731T235959
SUMMARY:Auditions:Spring Awakening Auditions Due!
DESCRIPTION:Interested in performing in Spring Awakening at the Arthur Miller Theatre? Go ahead and send in an audition to our audition form by 11:59pm on Sunday\, September 11!
UID:96360-21792307@events.umich.edu
URL:https://events.umich.edu/event/96360
CLASS:PUBLIC
STATUS:CONFIRMED
CATEGORIES:
LOCATION:Online
CONTACT:
END:VEVENT
BEGIN:VEVENT
DTSTAMP:20211129T152100
DTSTART;TZID=America/Detroit:20220731T070000
DTEND;TZID=America/Detroit:20220731T235900
SUMMARY:Careers / Jobs:UROP 2022-2023 Rising Sophomore Applications Open
DESCRIPTION:The Undergraduate Research Opportunity Program is now accepting applications for students who will be rising sophomores during the 2022-2023 academic year.\n\nLearn more and apply today at http://myumi.ch/uropsophomore\n\nRising Sophomore Applications are being accepted on a rolling basis.
UID:89571-21664365@events.umich.edu
URL:https://events.umich.edu/event/89571
CLASS:PUBLIC
STATUS:CONFIRMED
CATEGORIES:AEM Featured,Applications,Engineering,Environment,first-generation,Humanities,Interdisciplinary,Life Science,Professional Development,Public Health,Recruiting,Research,research data,Social Sciences,Sophomore,Undergraduate,Undergraduate Students,Urop
LOCATION:Off Campus Location
CONTACT:
END:VEVENT
BEGIN:VEVENT
DTSTAMP:20220215T154124
DTSTART;TZID=America/Detroit:20220731T080000
DTEND;TZID=America/Detroit:20220731T230000
SUMMARY:Careers / Jobs:Apply to Changing Gears
DESCRIPTION:Changing Gears (CG) is a UROP program designed primarily for community college transfer students who will be attending the University of Michigan\, but also serves students transferring from 4 year institutions. Students in the CG Program become a part of an ongoing faculty-driven research\, scholarly or creative project in their field of interest. Students learn valuable academic skills\, applying these skills to their research project\, academics\, and future career opportunities\, while receiving academic credit or compensation for their efforts in research work.\n\nApplications are accepted on a rolling basis.\nLearn more about Changing Gears at: myumi.ch/uropcg
UID:92406-21691021@events.umich.edu
URL:https://events.umich.edu/event/92406
CLASS:PUBLIC
STATUS:CONFIRMED
CATEGORIES:AEM Featured,Applications,first-generation,Free,Interdisciplinary,Networking,Research,research data,Social Impact,The College Of Literature\, Science\, And The Arts,Transfer Students,Undergraduate,Undergraduate Students,Urop
LOCATION:Off Campus Location
CONTACT:
END:VEVENT
BEGIN:VEVENT
DTSTAMP:20220516T161143
DTSTART;TZID=America/Detroit:20220731T080000
DTEND;TZID=America/Detroit:20220731T190000
SUMMARY:Exhibition:Map ≠ Territory: Distortion and Power in Cartography
DESCRIPTION:More than strict representations of the world we inhabit\, maps are social constructions that embody the interests of their creators. Map ≠ Territory deconstructs maps that have been used to subjugate\, appropriate\, and oppress\, as well as the maps that counter that power through emancipation and advocacy. The exhibit critically engages with materials that span from the colonial era to modern-day Detroit.\n\nThe exhibit is available in the Clark Library (second floor Hatcher) during Hatcher Library hours. Please verify hours on the library's website: https://www.lib.umich.edu
UID:90765-21788692@events.umich.edu
URL:https://events.umich.edu/event/90765
CLASS:PUBLIC
STATUS:CONFIRMED
CATEGORIES:Library,Maps
LOCATION:Hatcher Graduate Library - Clark Library, 2nd Floor
CONTACT:
END:VEVENT
BEGIN:VEVENT
DTSTAMP:20220502T122639
DTSTART;TZID=America/Detroit:20220731T080000
DTEND;TZID=America/Detroit:20220731T230000
SUMMARY:Careers / Jobs:UROP First-Year Application Open
DESCRIPTION:Our \"Traditional UROP Program\" has been our flagship program running over 30 years. This Academic Year program\, in which students participate for both Fall and Winter Terms\, is designed for University of Michigan first and second year undergraduate students enrolled on the Ann Arbor campus who are seeking a first time research experience. Student research assistants work alongside a faculty member\, research scientist or professional practitioner on an ongoing or new research project.\n\nLearn more and apply at: myumi.ch/uropyearone\n\nApplications being accepted on a rolling basis.
UID:83923-21785246@events.umich.edu
URL:https://events.umich.edu/event/83923
CLASS:PUBLIC
STATUS:CONFIRMED
CATEGORIES:AEM Featured,Applications,first-generation,Free,Interdisciplinary,Networking,Research,Undergraduate,Undergraduate Students,Urop
LOCATION:
CONTACT:
END:VEVENT
BEGIN:VEVENT
DTSTAMP:20220117T095807
DTSTART;TZID=America/Detroit:20220731T080000
DTEND;TZID=America/Detroit:20220731T230000
SUMMARY:Careers / Jobs:UROP Research Scholars Program Application Open
DESCRIPTION:The UROP Research Scholars Program is designed for students who want to expand on their first year UROP experience and participate in UROP for a second year at an advanced level. In this program\, students build upon the knowledge gained in a first undergraduate research experience to further explore the connections between research\, a liberal arts education\, and communicating skills to advance their future professional goals. Students are expected to explore various written and oral possibilities for communicating their research process\, identifying the limits set by the discipline and the opportunities that lie beyond.\n\nApplications for the 2022-2023 academic year cohort open February 14th.\nPriority Deadline for the applications is March 18th\n\nLearn more at: myumi.ch/uroprs
UID:91080-21676605@events.umich.edu
URL:https://events.umich.edu/event/91080
CLASS:PUBLIC
STATUS:CONFIRMED
CATEGORIES:AEM Featured,Applications,Fellowship,first-generation,Interdisciplinary,Networking,Research,research data,Sophomore,The College Of Literature\, Science\, And The Arts,Undergraduate,Undergraduate Students,Urop
LOCATION:Off Campus Location
CONTACT:
END:VEVENT
BEGIN:VEVENT
DTSTAMP:20220517T163357
DTSTART;TZID=America/Detroit:20220731T090000
DTEND;TZID=America/Detroit:20220731T130000
SUMMARY:Exercise / Fitness:Michigan Marrow Donor Dash
DESCRIPTION:Register for our second annual Michigan Marrow Donor Day Dash! We're excited to meet on July 31st at Olson Park for a 3k walk and picnic. Attendees are encouraged to bring their friends\, family\, and pets in support of bone marrow donation. While you're there\, join the bone marrow registry\, learn more about Wolverines for Life and our partners\, grab some giveaways\, jam out with the DJ\, and celebrate donation!\n\nMichigan Medicine employees and visitors can choose to complete their walk virtually on an established route around the hospital grounds. Keep an eye out for signs posted a week prior to the in-person event event. Details will be emailed to registered attendees. \n\nRegistration: $30 (Discounts available for students\, teams\, and children.)\n\nProceeds will go towards Be the Match and the Michigan Medicine Bone Marrow Transplant Department.\n\n \n\nAll participants will receive a FREE Wolverines for Life and Be the Match t-shirt.\n\nRegister here: https://wesavelives.bethematch.org/index.cfm?fuseaction=donorDrive.event&eventID=621\n\n \n\nWe’ll also need a small team of volunteers to help set-up\, tear-down\, and staffing tables at the event.\n\nClick here to volunteer: https://www.signupgenius.com/go/20f0e4fa8ac2fa0fb6-michigan1
UID:86426-21788726@events.umich.edu
URL:https://events.umich.edu/event/86426
CLASS:PUBLIC
STATUS:CONFIRMED
CATEGORIES:Community Service,Education,Food,Health & Wellness,Medicine,Nursing,Pharmacy,Pre Med,Pre-Health,Public Health,service,Social Impact,Volunteer
LOCATION:Off Campus Location
CONTACT:
END:VEVENT
BEGIN:VEVENT
DTSTAMP:20220802T141348
DTSTART;TZID=America/Detroit:20220731T100000
DTEND;TZID=America/Detroit:20220731T143000
SUMMARY:Exhibition:Shared Humanity
DESCRIPTION:July 30 - August 31\, 2022\nMon-Fri from 8:30am-5pm and Sat-Sun 10am-2:30pm.\nGallery 100 at 100 Silver Maples Dr\, Chelsea\, MI 48118\nParking available near the main entrance. Please sign in and screen yourself in the entryway.\n\nAdditional Information: https://myumi.ch/Nmx2j\n\nBeginning Saturday\, July 30\, the exhibit Shared Humanity will be featured at Silver Maples in Chelsea from the Prison Creative Arts Project’s (PCAP) private collection. The artwork is for sale and will be on display in the 100 Gallery through August 31\, 2022.\n\nAccording to Sarah Unrath\, Curator and Arts Programming Coordinator of PCAP\, “the exhibition is designed to connect viewer to artist through the wide gamut of their human experiences. We all have dreams\, memories\, goals\, pasts. We all process emotions of anger\, joy\, grief\, nostalgia. We have specially selected works that show a culmination of ways artists in prison have dealt with complex realities of being human.”\n\nThe curatorial staff at PCAP worked closely with artists who were formerly incarcerated\, and the team at Silver Maples\, to select works that would fit the theme of this exhibition and be of interest to the broader audience. Visitors will see works from familiar artists\, including Andy Wynkoop\, An ArtsyGuy\, RIK\, Roger (Free-Hand) Stephenson\, and many others.\n\n“This exhibition centralizes intersecting themes and multi-faceted layers of what it means to be human. Our hope is to challenge the lens through which the exhibit audience looks at people in prison. Coming out of a season that has worn us thin of human connection\, this exhibit presents a unique opportunity to engage in powerful dialogue inspired by the art in Shared Humanity\,” says Unrath\n\nThe 100 Gallery is open Mon-Fri are 8:30am-5pm and Sat-Sun 10am-2:30pm. \nAdmission is free and open to the public. \nSales will be conducted in person on Saturday\, August 6 with alternative phone sale appointments available: https://myumi.ch/DJ6M5\n\nSpecial Storytelling Event: Creating Art Inside\nSaturday\, Aug 6\, 2022 @ 2:00pm\nMaples Room at 100 Silver Maples Dr\, Chelsea\, MI 48118\n\nIn this hour\, we take a look into the lives of artists that created work in the most difficult of circumstances: prison. Hear first hand about their lived experiences and the impact art-making had on their time behind the walls. Hosted by the Prison Creative Arts Project. In-person art sales will be available before and after the event.
UID:95559-21792503@events.umich.edu
URL:https://events.umich.edu/event/95559
CLASS:PUBLIC
STATUS:CONFIRMED
CATEGORIES:Activism,Anthropology,art,Exhibition,Free,In Person,Incarceration,social justice,Storytelling,visual arts
LOCATION:Off Campus Location
CONTACT:
END:VEVENT
BEGIN:VEVENT
DTSTAMP:20220613T111638
DTSTART;TZID=America/Detroit:20220731T123000
DTEND;TZID=America/Detroit:20220731T131500
SUMMARY:Presentation:Expedition Reef
DESCRIPTION:Learn the secrets of the “rainforests of the sea” as you embark on an oceanic safari of the world’s most vibrant—and endangered—marine ecosystems. Expedition Reef immerses you in an undersea adventure. Along the way\, discover how corals grow\, feed\, reproduce\, and support over 25% of all marine life on Earth.
UID:89011-21790343@events.umich.edu
URL:https://events.umich.edu/event/89011
CLASS:PUBLIC
STATUS:CONFIRMED
CATEGORIES:Astronomy,Museum,natural history museum
LOCATION:Museum of Natural History
CONTACT:
END:VEVENT
BEGIN:VEVENT
DTSTAMP:20220627T142559
DTSTART;TZID=America/Detroit:20220731T130000
DTEND;TZID=America/Detroit:20220731T190000
SUMMARY:Exhibition:A Perfect Pairing of Cookbooks and Dinnerware
DESCRIPTION:A dozen selections from the Janice Bluestein Longone Culinary Archive from our Special Collections Research Center have been perfectly paired with dishes from the International Museum of Dinnerware Design to provide a feast for the eyes.\n\nA “perfect pairing” usually refers to a taste compatibility between wine and a food group\, such as wine and cheese. For example\, some believe a perfect pairing would be Cabernet with duck confit with turnips or Pinot Noir with bison rib eye steaks with roasted garlic — wines with sauces\, spicy food\, hors d’oeurvres\, etc. But other things can be perfectly paired such as fruit and cheese\, a couple\, or a clothing selection.\n\nSometimes pairs are made more perfect when they are catalysts for the imagination. That is what curators Margaret Carney\, Ph.D.\, and Juli McLoone are serving in \"A Perfect Pairing of Cookbooks and Dinnerware.\" The right ingredients along with an inspired recipe creates a delicious and beautiful meal that is enhanced when the cuisine is presented on a thoughtfully curated table setting\, or\, we hope\, in a thoughtfully curated exhibit. Bon Appetit!
UID:95818-21790961@events.umich.edu
URL:https://events.umich.edu/event/95818
CLASS:PUBLIC
STATUS:CONFIRMED
CATEGORIES:Exhibition,Free,Library
LOCATION:Hatcher Graduate Library - Audubon Room, 1st floor
CONTACT:
END:VEVENT
BEGIN:VEVENT
DTSTAMP:20220912T132709
DTSTART;TZID=America/Detroit:20220731T143000
DTEND;TZID=America/Detroit:20220731T151500
SUMMARY:Presentation:Tales of the Maya Skies
DESCRIPTION:Tales of the Maya Skies immerses viewers in the wonders of Maya science\, cosmology and myth. This beautifully illustrated story takes us back in time to the jungles of Mexico to discover how Mayan scholars developed a sophisticated understanding of astronomy\, architecture\, and mathematics that enabled them to predict solstices\, solar eclipses\, weather patterns and planetary movements.\n\nThe state-of-the-art Planetarium & Dome Theater at the U-M Museum of Natural History transports visitors beyond distant stars and back in time from the comfort of reclining seats. Tickets $8. Tickets are available on the day of the show at the Museum Store.\n\nThe planetarium is operating at half capacity to maximize distancing between viewers.
UID:95036-21790313@events.umich.edu
URL:https://events.umich.edu/event/95036
CLASS:PUBLIC
STATUS:CONFIRMED
CATEGORIES:Astronomy,Museum,Natural Sciences,Science
LOCATION:Museum of Natural History
CONTACT:
END:VEVENT
BEGIN:VEVENT
DTSTAMP:20230908T085204
DTSTART;TZID=America/Detroit:20220731T150000
DTEND;TZID=America/Detroit:20220731T151500
SUMMARY:Presentation:Science Forum Discovery Demos
DESCRIPTION:Join us in the Science Forum for 15-20 minute engaging science demonstrations that will help you see the world in a whole new way. Demonstrations are free and appropriate for visitors ages 5 and above. Schedule subject to change.\n\nNo demos on October 14th or 15th.\n\nHow to Become a Fossil\nExplore how fossils form and what parts of animals can become fossilized! How old are the earliest fossils? How old does something have to be before it is considered a fossil? You’ll touch some real fossils\, learn the different types of fossil evidence\, and discover what is necessary to become a fossil.  Finally\, we’ll discuss what kinds of things fossils can tell us\, and how fossil casts are made in the museum!
UID:95035-21790193@events.umich.edu
URL:https://events.umich.edu/event/95035
CLASS:PUBLIC
STATUS:CONFIRMED
CATEGORIES:Children,Family,Free,Museum,natural history museum,Natural Sciences,Science
LOCATION:Museum of Natural History
CONTACT:
END:VEVENT
BEGIN:VEVENT
DTSTAMP:20220731T120007
DTSTART;TZID=America/Detroit:20220731T160000
DTEND;TZID=America/Detroit:20220731T180000
SUMMARY:Exercise / Fitness:Free Beginner Dance Lessons
DESCRIPTION:Join us for our free summer dance lessons. We will be hosting them on Sundays on the Palmer Field basketball courts throughout the summer. No experience or partner is necessary. We will teach you everything you need to know! Please bring water and comfortable shoes since we will be outside. Must be a student or incoming student of any University or College to attend! If you have any questions don't hesitate to contact ballroom-exec@umich.edu.
UID:95776-21790891@events.umich.edu
URL:https://events.umich.edu/event/95776
CLASS:PUBLIC
STATUS:CONFIRMED
CATEGORIES:
LOCATION:Palmer Field
CONTACT:
END:VEVENT
BEGIN:VEVENT
DTSTAMP:20220316T150852
DTSTART;TZID=America/Detroit:20220731T193000
DTEND;TZID=America/Detroit:20220731T223000
SUMMARY:Performance:Laura Cortese & The Dance Cards
DESCRIPTION:We've heard the dance-fiddle-and-song triple threat of Boston's Laura Cortese at The Ark before\, but each time she brings something new. Laura Cortese (who now lives in Belgium) and the Dance Cards have a vision for their band's sound: bold and elegant\, schooled in the lyrical rituals of folk music and backed by grooves that alternately inspire Cajun two-stepping and rock-n-roll hip swagger. Their new music has a wide emotional and sonic scope. The four voices are just as much instruments as they are providers for lyric and harmony. At times it's rowdy\, delicate\, or cinematic. The result is a sound that can start as a string band\, and morph into a string quartet\, female a cappella group\, or indie band\; all while staying honest and true to their identity as folk instrumentalists. Watching Laura Cortese & The Dance Cards on the main stage at a summer folk festival\, or tearing it up late night at a club\, you get the sense that they might snap some fiddle strings or punch a hole in the bass drum. They come to Michigan with a new album\, “Bitter Better.”\n---\nProof of COVID vaccination required for entry. By purchasing a ticket you agree that you and your guests will comply with all laws\, orders\, ordinances\, regulations and health and safety guidance adopted by the State of Michigan\, the County of Washtenaw and The Ark\, including any guidelines in place at the time of the show. Attendees who do not comply will be asked to leave. Policies will be updated as circumstances and requirements change in our community. Please review The Ark’s current COVID-related information before attending a show.
UID:93528-21705232@events.umich.edu
URL:https://events.umich.edu/event/93528
CLASS:PUBLIC
STATUS:CONFIRMED
CATEGORIES:Music
LOCATION:Off Campus Location
CONTACT:
END:VEVENT
END:VCALENDAR