BEGIN:VCALENDAR
VERSION:2.0
PRODID:-//UM//UM*Events//EN
CALSCALE:GREGORIAN
BEGIN:VTIMEZONE
TZID:America/Detroit
TZURL:http://tzurl.org/zoneinfo/America/Detroit
X-LIC-LOCATION:America/Detroit
BEGIN:DAYLIGHT
TZOFFSETFROM:-0500
TZOFFSETTO:-0400
TZNAME:EDT
DTSTART:20070311T020000
RRULE:FREQ=YEARLY;BYMONTH=3;BYDAY=2SU
END:DAYLIGHT
BEGIN:STANDARD
TZOFFSETFROM:-0400
TZOFFSETTO:-0500
TZNAME:EST
DTSTART:20071104T020000
RRULE:FREQ=YEARLY;BYMONTH=11;BYDAY=1SU
END:STANDARD
END:VTIMEZONE
BEGIN:VEVENT
DTSTAMP:20230324T120005
DTSTART;TZID=America/Detroit:20220805T000000
DTEND;TZID=America/Detroit:20220805T235959
SUMMARY:Community Service:Homework Help at The Children's Center
DESCRIPTION:The Homework Help program offers children assistance with their homework assignments. Children are encouraged to bring homework and are paired with a volunteer to assist them. This program is a critical service in helping children thrive. Volunteers give children the tools they need to be successful in school.Virtual and in-person volunteer opportunities are available. If you would like to volunteer\, please start the enrollment process by creating an account on the Children Center's Volunteer Site found HERE. After your account is created\, the Children's Center will reach out to you within 2 business days to answer any questions and discuss the next steps.In accordance with the CMS Vaccine Mandate\, those volunteering in-person at the Children’s Center are required to be fully vaccinated and must provide proof of full vaccination upon request.
UID:93885-21787902@events.umich.edu
URL:https://events.umich.edu/event/93885
CLASS:PUBLIC
STATUS:CONFIRMED
CATEGORIES:
LOCATION:The Children&#039;s Center 
CONTACT:
END:VEVENT
BEGIN:VEVENT
DTSTAMP:20220911T180007
DTSTART;TZID=America/Detroit:20220805T000000
DTEND;TZID=America/Detroit:20220805T235959
SUMMARY:Auditions:Spring Awakening Auditions Due!
DESCRIPTION:Interested in performing in Spring Awakening at the Arthur Miller Theatre? Go ahead and send in an audition to our audition form by 11:59pm on Sunday\, September 11!
UID:96360-21792312@events.umich.edu
URL:https://events.umich.edu/event/96360
CLASS:PUBLIC
STATUS:CONFIRMED
CATEGORIES:
LOCATION:Online
CONTACT:
END:VEVENT
BEGIN:VEVENT
DTSTAMP:20211129T152100
DTSTART;TZID=America/Detroit:20220805T070000
DTEND;TZID=America/Detroit:20220805T235900
SUMMARY:Careers / Jobs:UROP 2022-2023 Rising Sophomore Applications Open
DESCRIPTION:The Undergraduate Research Opportunity Program is now accepting applications for students who will be rising sophomores during the 2022-2023 academic year.\n\nLearn more and apply today at http://myumi.ch/uropsophomore\n\nRising Sophomore Applications are being accepted on a rolling basis.
UID:89571-21664370@events.umich.edu
URL:https://events.umich.edu/event/89571
CLASS:PUBLIC
STATUS:CONFIRMED
CATEGORIES:AEM Featured,Applications,Engineering,Environment,first-generation,Humanities,Interdisciplinary,Life Science,Professional Development,Public Health,Recruiting,Research,research data,Social Sciences,Sophomore,Undergraduate,Undergraduate Students,Urop
LOCATION:Off Campus Location
CONTACT:
END:VEVENT
BEGIN:VEVENT
DTSTAMP:20220627T142559
DTSTART;TZID=America/Detroit:20220805T080000
DTEND;TZID=America/Detroit:20220805T170000
SUMMARY:Exhibition:A Perfect Pairing of Cookbooks and Dinnerware
DESCRIPTION:A dozen selections from the Janice Bluestein Longone Culinary Archive from our Special Collections Research Center have been perfectly paired with dishes from the International Museum of Dinnerware Design to provide a feast for the eyes.\n\nA “perfect pairing” usually refers to a taste compatibility between wine and a food group\, such as wine and cheese. For example\, some believe a perfect pairing would be Cabernet with duck confit with turnips or Pinot Noir with bison rib eye steaks with roasted garlic — wines with sauces\, spicy food\, hors d’oeurvres\, etc. But other things can be perfectly paired such as fruit and cheese\, a couple\, or a clothing selection.\n\nSometimes pairs are made more perfect when they are catalysts for the imagination. That is what curators Margaret Carney\, Ph.D.\, and Juli McLoone are serving in \"A Perfect Pairing of Cookbooks and Dinnerware.\" The right ingredients along with an inspired recipe creates a delicious and beautiful meal that is enhanced when the cuisine is presented on a thoughtfully curated table setting\, or\, we hope\, in a thoughtfully curated exhibit. Bon Appetit!
UID:95818-21790966@events.umich.edu
URL:https://events.umich.edu/event/95818
CLASS:PUBLIC
STATUS:CONFIRMED
CATEGORIES:Exhibition,Free,Library
LOCATION:Hatcher Graduate Library - Audubon Room, 1st floor
CONTACT:
END:VEVENT
BEGIN:VEVENT
DTSTAMP:20220215T154124
DTSTART;TZID=America/Detroit:20220805T080000
DTEND;TZID=America/Detroit:20220805T230000
SUMMARY:Careers / Jobs:Apply to Changing Gears
DESCRIPTION:Changing Gears (CG) is a UROP program designed primarily for community college transfer students who will be attending the University of Michigan\, but also serves students transferring from 4 year institutions. Students in the CG Program become a part of an ongoing faculty-driven research\, scholarly or creative project in their field of interest. Students learn valuable academic skills\, applying these skills to their research project\, academics\, and future career opportunities\, while receiving academic credit or compensation for their efforts in research work.\n\nApplications are accepted on a rolling basis.\nLearn more about Changing Gears at: myumi.ch/uropcg
UID:92406-21691026@events.umich.edu
URL:https://events.umich.edu/event/92406
CLASS:PUBLIC
STATUS:CONFIRMED
CATEGORIES:AEM Featured,Applications,first-generation,Free,Interdisciplinary,Networking,Research,research data,Social Impact,The College Of Literature\, Science\, And The Arts,Transfer Students,Undergraduate,Undergraduate Students,Urop
LOCATION:Off Campus Location
CONTACT:
END:VEVENT
BEGIN:VEVENT
DTSTAMP:20220518T161555
DTSTART;TZID=America/Detroit:20220805T080000
DTEND;TZID=America/Detroit:20220805T160000
SUMMARY:Exhibition:Lane Hall Gallery Summer Exhibit
DESCRIPTION:In this exhibit\, artists Ashley Bigham (photographs) and Grace Mahoney (watercolors) investigate the visibility and social role of Ukraine’s older generation of women embodied in a figure both iconic and ubiquitous: the babusya. Seen in public transport\, in the market\, and on the street\, each babusya has a story to tell. Each has something to say\, something to gossip about\, and something to complain about. \n\n\"Invisible Women: Portraits of Aging in Ukraine\" is hosted by the University of Michigan’s Institute for Research on Women and Gender (IRWG) and the Department of Women’s and Gender Studies. The exhibit is on display for public viewing weekdays from 8:00 a.m.- 4:00 p.m. through August 18\, 2022\, in the main lobby of Lane Hall\, located at 204 South State Street\, Ann Arbor\, MI 48109. For more information on the current exhibit\, visit IRWG’s website.
UID:95140-21788593@events.umich.edu
URL:https://events.umich.edu/event/95140
CLASS:PUBLIC
STATUS:CONFIRMED
CATEGORIES:Exhibition,institute for research on women and gender,irwg,ukrainian,Women's Studies
LOCATION:Lane Hall
CONTACT:
END:VEVENT
BEGIN:VEVENT
DTSTAMP:20220516T161143
DTSTART;TZID=America/Detroit:20220805T080000
DTEND;TZID=America/Detroit:20220805T190000
SUMMARY:Exhibition:Map ≠ Territory: Distortion and Power in Cartography
DESCRIPTION:More than strict representations of the world we inhabit\, maps are social constructions that embody the interests of their creators. Map ≠ Territory deconstructs maps that have been used to subjugate\, appropriate\, and oppress\, as well as the maps that counter that power through emancipation and advocacy. The exhibit critically engages with materials that span from the colonial era to modern-day Detroit.\n\nThe exhibit is available in the Clark Library (second floor Hatcher) during Hatcher Library hours. Please verify hours on the library's website: https://www.lib.umich.edu
UID:90765-21788697@events.umich.edu
URL:https://events.umich.edu/event/90765
CLASS:PUBLIC
STATUS:CONFIRMED
CATEGORIES:Library,Maps
LOCATION:Hatcher Graduate Library - Clark Library, 2nd Floor
CONTACT:
END:VEVENT
BEGIN:VEVENT
DTSTAMP:20221003T125034
DTSTART;TZID=America/Detroit:20220805T080000
DTEND;TZID=America/Detroit:20220805T190000
SUMMARY:Exhibition:The Dance for Mother Earth Powwow
DESCRIPTION:This exhibit features various aspects of the Native North American powwow. More specifically\, it features the history and culture behind Ann Arbor’s \"Dance for Mother Earth Powwow\,\" which is approaching its much-anticipated 50th celebration.\n\nThe Dance for Mother Earth Powwow is a multi-decade\, intertribal celebration of Indigenous cultures. It grew from its early beginnings as a small gathering in a field just outside of Ann Arbor into one of the largest student-led powwows in North America. The event attracts crowds of thousands — dancers\, singers\, artists\, tribal members from across the country\, and non-Indigenous members of the community.\n\nStop by to learn more about The Dance for Mother Earth Powwow\, modern Indigenous culture\, and resources to connect to today on campus.\n\nThis exhibition was curated by Michigan Library Scholar interns\, Allison Jiang and Andrea Medina. The Michigan Library Scholars internship program provides undergraduate students with the opportunity to research and develop a capstone project under the guidance of experienced library professionals at one of the largest academic research libraries in the world.
UID:96225-21792062@events.umich.edu
URL:https://events.umich.edu/event/96225
CLASS:PUBLIC
STATUS:CONFIRMED
CATEGORIES:Exhibition,Free,Library,Native American
LOCATION:Hatcher Graduate Library - North Lobby (just off the Diag)
CONTACT:
END:VEVENT
BEGIN:VEVENT
DTSTAMP:20220117T095807
DTSTART;TZID=America/Detroit:20220805T080000
DTEND;TZID=America/Detroit:20220805T230000
SUMMARY:Careers / Jobs:UROP Research Scholars Program Application Open
DESCRIPTION:The UROP Research Scholars Program is designed for students who want to expand on their first year UROP experience and participate in UROP for a second year at an advanced level. In this program\, students build upon the knowledge gained in a first undergraduate research experience to further explore the connections between research\, a liberal arts education\, and communicating skills to advance their future professional goals. Students are expected to explore various written and oral possibilities for communicating their research process\, identifying the limits set by the discipline and the opportunities that lie beyond.\n\nApplications for the 2022-2023 academic year cohort open February 14th.\nPriority Deadline for the applications is March 18th\n\nLearn more at: myumi.ch/uroprs
UID:91080-21676610@events.umich.edu
URL:https://events.umich.edu/event/91080
CLASS:PUBLIC
STATUS:CONFIRMED
CATEGORIES:AEM Featured,Applications,Fellowship,first-generation,Interdisciplinary,Networking,Research,research data,Sophomore,The College Of Literature\, Science\, And The Arts,Undergraduate,Undergraduate Students,Urop
LOCATION:Off Campus Location
CONTACT:
END:VEVENT
BEGIN:VEVENT
DTSTAMP:20220802T141348
DTSTART;TZID=America/Detroit:20220805T083000
DTEND;TZID=America/Detroit:20220805T170000
SUMMARY:Exhibition:Shared Humanity
DESCRIPTION:July 30 - August 31\, 2022\nMon-Fri from 8:30am-5pm and Sat-Sun 10am-2:30pm.\nGallery 100 at 100 Silver Maples Dr\, Chelsea\, MI 48118\nParking available near the main entrance. Please sign in and screen yourself in the entryway.\n\nAdditional Information: https://myumi.ch/Nmx2j\n\nBeginning Saturday\, July 30\, the exhibit Shared Humanity will be featured at Silver Maples in Chelsea from the Prison Creative Arts Project’s (PCAP) private collection. The artwork is for sale and will be on display in the 100 Gallery through August 31\, 2022.\n\nAccording to Sarah Unrath\, Curator and Arts Programming Coordinator of PCAP\, “the exhibition is designed to connect viewer to artist through the wide gamut of their human experiences. We all have dreams\, memories\, goals\, pasts. We all process emotions of anger\, joy\, grief\, nostalgia. We have specially selected works that show a culmination of ways artists in prison have dealt with complex realities of being human.”\n\nThe curatorial staff at PCAP worked closely with artists who were formerly incarcerated\, and the team at Silver Maples\, to select works that would fit the theme of this exhibition and be of interest to the broader audience. Visitors will see works from familiar artists\, including Andy Wynkoop\, An ArtsyGuy\, RIK\, Roger (Free-Hand) Stephenson\, and many others.\n\n“This exhibition centralizes intersecting themes and multi-faceted layers of what it means to be human. Our hope is to challenge the lens through which the exhibit audience looks at people in prison. Coming out of a season that has worn us thin of human connection\, this exhibit presents a unique opportunity to engage in powerful dialogue inspired by the art in Shared Humanity\,” says Unrath\n\nThe 100 Gallery is open Mon-Fri are 8:30am-5pm and Sat-Sun 10am-2:30pm. \nAdmission is free and open to the public. \nSales will be conducted in person on Saturday\, August 6 with alternative phone sale appointments available: https://myumi.ch/DJ6M5\n\nSpecial Storytelling Event: Creating Art Inside\nSaturday\, Aug 6\, 2022 @ 2:00pm\nMaples Room at 100 Silver Maples Dr\, Chelsea\, MI 48118\n\nIn this hour\, we take a look into the lives of artists that created work in the most difficult of circumstances: prison. Hear first hand about their lived experiences and the impact art-making had on their time behind the walls. Hosted by the Prison Creative Arts Project. In-person art sales will be available before and after the event.
UID:95559-21792527@events.umich.edu
URL:https://events.umich.edu/event/95559
CLASS:PUBLIC
STATUS:CONFIRMED
CATEGORIES:Activism,Anthropology,art,Exhibition,Free,In Person,Incarceration,social justice,Storytelling,visual arts
LOCATION:Off Campus Location
CONTACT:
END:VEVENT
BEGIN:VEVENT
DTSTAMP:20220820T063101
DTSTART;TZID=America/Detroit:20220805T110000
DTEND;TZID=America/Detroit:20220805T140000
SUMMARY:Careers / Jobs:Disability Inclusion Student Summit
DESCRIPTION:We believe that growing your career is about more than climbing the corporate ladder. It’s about doing work that helps you learn and gets you excited. It’s about adding value and feeling valued in return. It’s about finding a place to start—and recognizing it as a place to succeed.\n\nSponsored by Prudential’s ADAPT (Abled and Differently Abled Partnering Together) Business Resource Group (BRG)\, tune into the Disability Inclusion Student Summit where representatives from Prudential and PGIMwill give you a view into:\n\n• Talent opportunities at Prudential & PGIM\n• The ADAPT BRG\, one of our employee affinity resource groups\n• Prudential and PGIM\, our history\, and our strategy for our strategy for success\n•Connect with employees to network virtually\n\nVIRTUAL EVENT\nFriday\, August 5\, 2022\n11:00am -2:00pm EST\n\nA GREAT PLACE TO START YOUR CAREER AND EVEN BETTER PLACE TO GROW YOUR CAREER.\n\nRSVP by Tuesday\, August 2\, so you don’t miss out on this opportunity to prepare yourself\, network\, and ask your questions!\n\nIf additional accommodations are needed\, please send an email to accommodations.hw@prudential.com
UID:96186-21792001@events.umich.edu
URL:https://events.umich.edu/event/96186
CLASS:PUBLIC
STATUS:CONFIRMED
CATEGORIES:
LOCATION:
CONTACT:
END:VEVENT
BEGIN:VEVENT
DTSTAMP:20220820T063103
DTSTART;TZID=America/Detroit:20220805T110000
DTEND;TZID=America/Detroit:20220805T113000
SUMMARY:Careers / Jobs:ScribeAmerica Virtual Information Session August 5th
DESCRIPTION:Are you looking at a future career in healthcare and need clinical experience? If so join us for our upcoming virtual info session to learn more about our medical scribe positions!\n\nIf you're not able to attend this session please use the link above to view additional session in August.
UID:96233-21792151@events.umich.edu
URL:https://events.umich.edu/event/96233
CLASS:PUBLIC
STATUS:CONFIRMED
CATEGORIES:
LOCATION:
CONTACT:
END:VEVENT
BEGIN:VEVENT
DTSTAMP:20260112T144046
DTSTART;TZID=America/Detroit:20220805T120000
DTEND;TZID=America/Detroit:20220805T123000
SUMMARY:Well-being:Heartfulness Guided Meditation
DESCRIPTION:Heartfulness Guided Meditation is a weekly\, drop-in program designed to help you Mental well-being. \n\nAll U-M students\, faculty\, and staff are welcome to participate in guided meditation practice with a trainer every Friday at noon over Zoom (details to join are provided below). No prior experience with meditation is required. \n\n*What will you learn?*\n\nThe guided meditation practice involves three simple steps: relaxation\, rejuvenation\, and meditation.\n\nRelaxation brings your body to a calm\, steady posture creating a stillness at the physical level\, and prepares the mind for meditation. We follow this with a rejuvenation method to detox the mind to let go of stress and complex emotions\, and will leave you feeling light and refreshed. Lastly\, learning to meditate by being mindful of your heart will connect you with yourself by listening to your heart’s voice. \n\n*Why Meditate?*\n\nWhile physical fitness keeps our bodies in shape\, meditation is an exercise for the mind and mental wellness. In addition to the measurable benefits mentally and physically\, many people benefit from an unquantifiable inner poise and harmony. \n\n*Please take Learn to Meditate session if you are new to the practice. These sessions are offered Monthly.* https://events.umich.edu/event/128708\n\n*Event Details*\n\nHeartfulness Guided Meditation \nFridays from 12-12:30 p.m. ET (except during university season days / holidays)\nJoin Via Zoom Meeting\nRegister to receive Passcode (see “Related links”\n\n\nThis wellness program is coordinated by ITS Teaching & Learning and provided at no cost by heartfulness.org.
UID:88544-21791390@events.umich.edu
URL:https://events.umich.edu/event/88544
CLASS:PUBLIC
STATUS:CONFIRMED
CATEGORIES:Free,Health & Wellness,Well-being
LOCATION:Off Campus Location
CONTACT:
END:VEVENT
BEGIN:VEVENT
DTSTAMP:20220820T063056
DTSTART;TZID=America/Detroit:20220805T120000
DTEND;TZID=America/Detroit:20220805T130000
SUMMARY:Careers / Jobs:Programs Overview + Capital One Recruiter and Associate Q&A
DESCRIPTION:Are you an undergraduate student or recent grad interested in exploring job opportunities at Capital One? We have several internship andfull-time opportunities available! Join us for an informative and engaging session where you will hear an overview of each program from recruiters\, followed by breakout rooms where you’ll be able to interact directly with recruiters and associates working in areas like Tech\, Analytics\, andmore.\n\nAgenda:\n12 - 12:40 PM ET: Programs Overview *This overview willbe a replay of a previously recorded event*\n12:40 - 1 PM ET: Breakout Rooms for Q&A\n
UID:95657-21790526@events.umich.edu
URL:https://events.umich.edu/event/95657
CLASS:PUBLIC
STATUS:CONFIRMED
CATEGORIES:
LOCATION:
CONTACT:
END:VEVENT
BEGIN:VEVENT
DTSTAMP:20260210T142109
DTSTART;TZID=America/Detroit:20220805T123000
DTEND;TZID=America/Detroit:20220805T131500
SUMMARY:Presentation:Expedition Reef
DESCRIPTION:Learn the secrets of the “rainforests of the sea” as you embark on an oceanic safari of the world’s most vibrant—and endangered—marine ecosystems. Expedition Reef immerses you in an undersea adventure. Along the way\, discover how corals grow\, feed\, reproduce\, and support over 25% of all marine life on Earth.\n\nThe state-of-the-art Planetarium & Dome Theater at the U-M Museum of Natural History transports visitors beyond distant stars and back in time from the comfort of reclining seats. Tickets $8. Tickets are available on the day of the show at the Museum Store.
UID:95986-21791562@events.umich.edu
URL:https://events.umich.edu/event/95986
CLASS:PUBLIC
STATUS:CONFIRMED
CATEGORIES:natural history museum,Natural Sciences
LOCATION:Museum of Natural History
CONTACT:
END:VEVENT
BEGIN:VEVENT
DTSTAMP:20221109T141417
DTSTART;TZID=America/Detroit:20220805T133000
DTEND;TZID=America/Detroit:20220805T141500
SUMMARY:Presentation:Sky Tonight
DESCRIPTION:A live presentation on what to find in the sky tonight and for the coming few weeks. This presentation includes how to find the cardinal directions on your own by finding the North Star\, current and upcoming constellations\, visible planets\, a few deep sky objects depending on the season\, and other interesting astronomical visualizations. If you want to be able to look up from your own backyard and know what to look for\, this is the show for you.\n\nThe state-of-the-art Planetarium & Dome Theater at the U-M Museum of Natural History transports visitors beyond distant stars and back in time from the comfort of reclining seats. Tickets $8. Tickets are available on the day of the show at the Museum Store.\n\nThe planetarium is operating at half capacity to maximize distancing between viewers.
UID:91230-21791593@events.umich.edu
URL:https://events.umich.edu/event/91230
CLASS:PUBLIC
STATUS:CONFIRMED
CATEGORIES:Astronomy,Natural Sciences,Science
LOCATION:Museum of Natural History
CONTACT:
END:VEVENT
BEGIN:VEVENT
DTSTAMP:20220912T132709
DTSTART;TZID=America/Detroit:20220805T143000
DTEND;TZID=America/Detroit:20220805T151500
SUMMARY:Presentation:Tales of the Maya Skies
DESCRIPTION:Tales of the Maya Skies immerses viewers in the wonders of Maya science\, cosmology and myth. This beautifully illustrated story takes us back in time to the jungles of Mexico to discover how Mayan scholars developed a sophisticated understanding of astronomy\, architecture\, and mathematics that enabled them to predict solstices\, solar eclipses\, weather patterns and planetary movements.\n\nThe state-of-the-art Planetarium & Dome Theater at the U-M Museum of Natural History transports visitors beyond distant stars and back in time from the comfort of reclining seats. Tickets $8. Tickets are available on the day of the show at the Museum Store.\n\nThe planetarium is operating at half capacity to maximize distancing between viewers.
UID:95036-21791655@events.umich.edu
URL:https://events.umich.edu/event/95036
CLASS:PUBLIC
STATUS:CONFIRMED
CATEGORIES:Astronomy,Museum,Natural Sciences,Science
LOCATION:Museum of Natural History
CONTACT:
END:VEVENT
BEGIN:VEVENT
DTSTAMP:20220820T123101
DTSTART;TZID=America/Detroit:20220805T150000
DTEND;TZID=America/Detroit:20220805T163000
SUMMARY:Careers / Jobs:Technical Sales Engineer and Field Applications Engineer Program -Informational Session
DESCRIPTION:NXP Global Sales and Marketing (GSM) is the\ngo-to-market organization for our business units. Within GSM\, our technical sales and applications\nengineering employees are the perfect mix\nof skilled engineer and product enthusiast.\nThey utilize extensive technical skills in selling\nNXP products\, aid customers in crafting superior\ntechnical solutions and build long-lasting\ncustomer relationships. Tasked with delivering the NXP value message in a persuasive and\naccurate manner\, our salesforce ensures that NXP\nrealizes and exceeds its growth ambitions.\n\nIn this session\, you'll hear directly from NXP Sales Leaders and recent grad hires who currently work as Field Applications Engineers and Technical Sales Engineers. Learn how you'll put your engineering degree to work\, interacting directly with our customers on products they'll be putting into production in the next few years\, and influencing their decisions to use NXP technology in those products
UID:95993-21791690@events.umich.edu
URL:https://events.umich.edu/event/95993
CLASS:PUBLIC
STATUS:CONFIRMED
CATEGORIES:
LOCATION:
CONTACT:
END:VEVENT
BEGIN:VEVENT
DTSTAMP:20221109T141417
DTSTART;TZID=America/Detroit:20220805T153000
DTEND;TZID=America/Detroit:20220805T161500
SUMMARY:Presentation:Sky Tonight
DESCRIPTION:A live presentation on what to find in the sky tonight and for the coming few weeks. This presentation includes how to find the cardinal directions on your own by finding the North Star\, current and upcoming constellations\, visible planets\, a few deep sky objects depending on the season\, and other interesting astronomical visualizations. If you want to be able to look up from your own backyard and know what to look for\, this is the show for you.\n\nThe state-of-the-art Planetarium & Dome Theater at the U-M Museum of Natural History transports visitors beyond distant stars and back in time from the comfort of reclining seats. Tickets $8. Tickets are available on the day of the show at the Museum Store.\n\nThe planetarium is operating at half capacity to maximize distancing between viewers.
UID:91230-21791624@events.umich.edu
URL:https://events.umich.edu/event/91230
CLASS:PUBLIC
STATUS:CONFIRMED
CATEGORIES:Astronomy,Natural Sciences,Science
LOCATION:Museum of Natural History
CONTACT:
END:VEVENT
BEGIN:VEVENT
DTSTAMP:20220616T153052
DTSTART;TZID=America/Detroit:20220805T190000
DTEND;TZID=America/Detroit:20220805T200000
SUMMARY:Recreational / Games:Virtual Game Night with Michigan Community Scholars Program
DESCRIPTION:We will connect and get to know eachother through a fun game of Skribblio and Garctic Phone!
UID:95678-21790545@events.umich.edu
URL:https://events.umich.edu/event/95678
CLASS:PUBLIC
STATUS:CONFIRMED
CATEGORIES:Games
LOCATION:Off Campus Location
CONTACT:
END:VEVENT
BEGIN:VEVENT
DTSTAMP:20220805T181013
DTSTART;TZID=America/Detroit:20220805T200000
SUMMARY:Performance:The Young Novelists
DESCRIPTION:Fresh rootsy duo sounds from Toronto. \nPlease visit https://mutotix.umich.edu/3416/3417 for more detail.
UID:94814-21775111@events.umich.edu
URL:https://events.umich.edu/event/94814
CLASS:PUBLIC
STATUS:CONFIRMED
CATEGORIES:Ark,Mutotix
LOCATION:ARK Reserved
CONTACT:
END:VEVENT
END:VCALENDAR