BEGIN:VCALENDAR
VERSION:2.0
PRODID:-//UM//UM*Events//EN
CALSCALE:GREGORIAN
BEGIN:VTIMEZONE
TZID:America/Detroit
TZURL:http://tzurl.org/zoneinfo/America/Detroit
X-LIC-LOCATION:America/Detroit
BEGIN:DAYLIGHT
TZOFFSETFROM:-0500
TZOFFSETTO:-0400
TZNAME:EDT
DTSTART:20070311T020000
RRULE:FREQ=YEARLY;BYMONTH=3;BYDAY=2SU
END:DAYLIGHT
BEGIN:STANDARD
TZOFFSETFROM:-0400
TZOFFSETTO:-0500
TZNAME:EST
DTSTART:20071104T020000
RRULE:FREQ=YEARLY;BYMONTH=11;BYDAY=1SU
END:STANDARD
END:VTIMEZONE
BEGIN:VEVENT
DTSTAMP:20230324T120005
DTSTART;TZID=America/Detroit:20220815T000000
DTEND;TZID=America/Detroit:20220815T235959
SUMMARY:Community Service:Homework Help at The Children's Center
DESCRIPTION:The Homework Help program offers children assistance with their homework assignments. Children are encouraged to bring homework and are paired with a volunteer to assist them. This program is a critical service in helping children thrive. Volunteers give children the tools they need to be successful in school.Virtual and in-person volunteer opportunities are available. If you would like to volunteer\, please start the enrollment process by creating an account on the Children Center's Volunteer Site found HERE. After your account is created\, the Children's Center will reach out to you within 2 business days to answer any questions and discuss the next steps.In accordance with the CMS Vaccine Mandate\, those volunteering in-person at the Children’s Center are required to be fully vaccinated and must provide proof of full vaccination upon request.
UID:93885-21787912@events.umich.edu
URL:https://events.umich.edu/event/93885
CLASS:PUBLIC
STATUS:CONFIRMED
CATEGORIES:
LOCATION:The Children&#039;s Center 
CONTACT:
END:VEVENT
BEGIN:VEVENT
DTSTAMP:20220911T180007
DTSTART;TZID=America/Detroit:20220815T000000
DTEND;TZID=America/Detroit:20220815T235959
SUMMARY:Auditions:Spring Awakening Auditions Due!
DESCRIPTION:Interested in performing in Spring Awakening at the Arthur Miller Theatre? Go ahead and send in an audition to our audition form by 11:59pm on Sunday\, September 11!
UID:96360-21792322@events.umich.edu
URL:https://events.umich.edu/event/96360
CLASS:PUBLIC
STATUS:CONFIRMED
CATEGORIES:
LOCATION:Online
CONTACT:
END:VEVENT
BEGIN:VEVENT
DTSTAMP:20211129T152100
DTSTART;TZID=America/Detroit:20220815T070000
DTEND;TZID=America/Detroit:20220815T235900
SUMMARY:Careers / Jobs:UROP 2022-2023 Rising Sophomore Applications Open
DESCRIPTION:The Undergraduate Research Opportunity Program is now accepting applications for students who will be rising sophomores during the 2022-2023 academic year.\n\nLearn more and apply today at http://myumi.ch/uropsophomore\n\nRising Sophomore Applications are being accepted on a rolling basis.
UID:89571-21664380@events.umich.edu
URL:https://events.umich.edu/event/89571
CLASS:PUBLIC
STATUS:CONFIRMED
CATEGORIES:AEM Featured,Applications,Engineering,Environment,first-generation,Humanities,Interdisciplinary,Life Science,Professional Development,Public Health,Recruiting,Research,research data,Social Sciences,Sophomore,Undergraduate,Undergraduate Students,Urop
LOCATION:Off Campus Location
CONTACT:
END:VEVENT
BEGIN:VEVENT
DTSTAMP:20220627T142559
DTSTART;TZID=America/Detroit:20220815T080000
DTEND;TZID=America/Detroit:20220815T190000
SUMMARY:Exhibition:A Perfect Pairing of Cookbooks and Dinnerware
DESCRIPTION:A dozen selections from the Janice Bluestein Longone Culinary Archive from our Special Collections Research Center have been perfectly paired with dishes from the International Museum of Dinnerware Design to provide a feast for the eyes.\n\nA “perfect pairing” usually refers to a taste compatibility between wine and a food group\, such as wine and cheese. For example\, some believe a perfect pairing would be Cabernet with duck confit with turnips or Pinot Noir with bison rib eye steaks with roasted garlic — wines with sauces\, spicy food\, hors d’oeurvres\, etc. But other things can be perfectly paired such as fruit and cheese\, a couple\, or a clothing selection.\n\nSometimes pairs are made more perfect when they are catalysts for the imagination. That is what curators Margaret Carney\, Ph.D.\, and Juli McLoone are serving in \"A Perfect Pairing of Cookbooks and Dinnerware.\" The right ingredients along with an inspired recipe creates a delicious and beautiful meal that is enhanced when the cuisine is presented on a thoughtfully curated table setting\, or\, we hope\, in a thoughtfully curated exhibit. Bon Appetit!
UID:95818-21790976@events.umich.edu
URL:https://events.umich.edu/event/95818
CLASS:PUBLIC
STATUS:CONFIRMED
CATEGORIES:Exhibition,Free,Library
LOCATION:Hatcher Graduate Library - Audubon Room, 1st floor
CONTACT:
END:VEVENT
BEGIN:VEVENT
DTSTAMP:20220215T154124
DTSTART;TZID=America/Detroit:20220815T080000
DTEND;TZID=America/Detroit:20220815T230000
SUMMARY:Careers / Jobs:Apply to Changing Gears
DESCRIPTION:Changing Gears (CG) is a UROP program designed primarily for community college transfer students who will be attending the University of Michigan\, but also serves students transferring from 4 year institutions. Students in the CG Program become a part of an ongoing faculty-driven research\, scholarly or creative project in their field of interest. Students learn valuable academic skills\, applying these skills to their research project\, academics\, and future career opportunities\, while receiving academic credit or compensation for their efforts in research work.\n\nApplications are accepted on a rolling basis.\nLearn more about Changing Gears at: myumi.ch/uropcg
UID:92406-21691036@events.umich.edu
URL:https://events.umich.edu/event/92406
CLASS:PUBLIC
STATUS:CONFIRMED
CATEGORIES:AEM Featured,Applications,first-generation,Free,Interdisciplinary,Networking,Research,research data,Social Impact,The College Of Literature\, Science\, And The Arts,Transfer Students,Undergraduate,Undergraduate Students,Urop
LOCATION:Off Campus Location
CONTACT:
END:VEVENT
BEGIN:VEVENT
DTSTAMP:20220518T161555
DTSTART;TZID=America/Detroit:20220815T080000
DTEND;TZID=America/Detroit:20220815T160000
SUMMARY:Exhibition:Lane Hall Gallery Summer Exhibit
DESCRIPTION:In this exhibit\, artists Ashley Bigham (photographs) and Grace Mahoney (watercolors) investigate the visibility and social role of Ukraine’s older generation of women embodied in a figure both iconic and ubiquitous: the babusya. Seen in public transport\, in the market\, and on the street\, each babusya has a story to tell. Each has something to say\, something to gossip about\, and something to complain about. \n\n\"Invisible Women: Portraits of Aging in Ukraine\" is hosted by the University of Michigan’s Institute for Research on Women and Gender (IRWG) and the Department of Women’s and Gender Studies. The exhibit is on display for public viewing weekdays from 8:00 a.m.- 4:00 p.m. through August 18\, 2022\, in the main lobby of Lane Hall\, located at 204 South State Street\, Ann Arbor\, MI 48109. For more information on the current exhibit\, visit IRWG’s website.
UID:95140-21788603@events.umich.edu
URL:https://events.umich.edu/event/95140
CLASS:PUBLIC
STATUS:CONFIRMED
CATEGORIES:Exhibition,institute for research on women and gender,irwg,ukrainian,Women's Studies
LOCATION:Lane Hall
CONTACT:
END:VEVENT
BEGIN:VEVENT
DTSTAMP:20221003T125034
DTSTART;TZID=America/Detroit:20220815T080000
DTEND;TZID=America/Detroit:20220815T190000
SUMMARY:Exhibition:The Dance for Mother Earth Powwow
DESCRIPTION:This exhibit features various aspects of the Native North American powwow. More specifically\, it features the history and culture behind Ann Arbor’s \"Dance for Mother Earth Powwow\,\" which is approaching its much-anticipated 50th celebration.\n\nThe Dance for Mother Earth Powwow is a multi-decade\, intertribal celebration of Indigenous cultures. It grew from its early beginnings as a small gathering in a field just outside of Ann Arbor into one of the largest student-led powwows in North America. The event attracts crowds of thousands — dancers\, singers\, artists\, tribal members from across the country\, and non-Indigenous members of the community.\n\nStop by to learn more about The Dance for Mother Earth Powwow\, modern Indigenous culture\, and resources to connect to today on campus.\n\nThis exhibition was curated by Michigan Library Scholar interns\, Allison Jiang and Andrea Medina. The Michigan Library Scholars internship program provides undergraduate students with the opportunity to research and develop a capstone project under the guidance of experienced library professionals at one of the largest academic research libraries in the world.
UID:96225-21792072@events.umich.edu
URL:https://events.umich.edu/event/96225
CLASS:PUBLIC
STATUS:CONFIRMED
CATEGORIES:Exhibition,Free,Library,Native American
LOCATION:Hatcher Graduate Library - North Lobby (just off the Diag)
CONTACT:
END:VEVENT
BEGIN:VEVENT
DTSTAMP:20220802T141348
DTSTART;TZID=America/Detroit:20220815T083000
DTEND;TZID=America/Detroit:20220815T170000
SUMMARY:Exhibition:Shared Humanity
DESCRIPTION:July 30 - August 31\, 2022\nMon-Fri from 8:30am-5pm and Sat-Sun 10am-2:30pm.\nGallery 100 at 100 Silver Maples Dr\, Chelsea\, MI 48118\nParking available near the main entrance. Please sign in and screen yourself in the entryway.\n\nAdditional Information: https://myumi.ch/Nmx2j\n\nBeginning Saturday\, July 30\, the exhibit Shared Humanity will be featured at Silver Maples in Chelsea from the Prison Creative Arts Project’s (PCAP) private collection. The artwork is for sale and will be on display in the 100 Gallery through August 31\, 2022.\n\nAccording to Sarah Unrath\, Curator and Arts Programming Coordinator of PCAP\, “the exhibition is designed to connect viewer to artist through the wide gamut of their human experiences. We all have dreams\, memories\, goals\, pasts. We all process emotions of anger\, joy\, grief\, nostalgia. We have specially selected works that show a culmination of ways artists in prison have dealt with complex realities of being human.”\n\nThe curatorial staff at PCAP worked closely with artists who were formerly incarcerated\, and the team at Silver Maples\, to select works that would fit the theme of this exhibition and be of interest to the broader audience. Visitors will see works from familiar artists\, including Andy Wynkoop\, An ArtsyGuy\, RIK\, Roger (Free-Hand) Stephenson\, and many others.\n\n“This exhibition centralizes intersecting themes and multi-faceted layers of what it means to be human. Our hope is to challenge the lens through which the exhibit audience looks at people in prison. Coming out of a season that has worn us thin of human connection\, this exhibit presents a unique opportunity to engage in powerful dialogue inspired by the art in Shared Humanity\,” says Unrath\n\nThe 100 Gallery is open Mon-Fri are 8:30am-5pm and Sat-Sun 10am-2:30pm. \nAdmission is free and open to the public. \nSales will be conducted in person on Saturday\, August 6 with alternative phone sale appointments available: https://myumi.ch/DJ6M5\n\nSpecial Storytelling Event: Creating Art Inside\nSaturday\, Aug 6\, 2022 @ 2:00pm\nMaples Room at 100 Silver Maples Dr\, Chelsea\, MI 48118\n\nIn this hour\, we take a look into the lives of artists that created work in the most difficult of circumstances: prison. Hear first hand about their lived experiences and the impact art-making had on their time behind the walls. Hosted by the Prison Creative Arts Project. In-person art sales will be available before and after the event.
UID:95559-21792510@events.umich.edu
URL:https://events.umich.edu/event/95559
CLASS:PUBLIC
STATUS:CONFIRMED
CATEGORIES:Activism,Anthropology,art,Exhibition,Free,In Person,Incarceration,social justice,Storytelling,visual arts
LOCATION:Off Campus Location
CONTACT:
END:VEVENT
BEGIN:VEVENT
DTSTAMP:20220718T181525
DTSTART;TZID=America/Detroit:20220815T100000
DTEND;TZID=America/Detroit:20220815T113000
SUMMARY:Livestream / Virtual:Rackham Fall Information Fair (Affinity Groups)
DESCRIPTION:Rackham’s Fall Information Fair provides newly admitted graduate students the opportunity to learn about Rackham and connect with resources that will enhance their experience at the University of Michigan. Join us at the Ingalls Mall\, opposite the Rackham building\, and connect with over 75 campus resources and organizations. This will be a hybrid event where students have the option to join us in person or via zoom for the online aspect of the Information Fair\, which will be separated into two virtual sessions: Affinity Groups\, for building and finding community\, and Health and Wellness\, for equipping yourself with resources to navigate graduate school with Rackham.\nRegistration is required at https://myumi.ch/DJRd9.\nWe want to ensure full and equitable participation in our events. If an accommodation would promote your full participation in this event\, please follow the registration link to indicate your accommodation requirements. Please let us know as soon as possible in order to have adequate time\, preferably one week\, to arrange for your requested accommodations or an effective alternative.
UID:96119-21791936@events.umich.edu
URL:https://events.umich.edu/event/96119
CLASS:PUBLIC
STATUS:CONFIRMED
CATEGORIES:Graduate Students
LOCATION:Off Campus Location
CONTACT:
END:VEVENT
BEGIN:VEVENT
DTSTAMP:20260210T142109
DTSTART;TZID=America/Detroit:20220815T123000
DTEND;TZID=America/Detroit:20220815T131500
SUMMARY:Presentation:Expedition Reef
DESCRIPTION:Learn the secrets of the “rainforests of the sea” as you embark on an oceanic safari of the world’s most vibrant—and endangered—marine ecosystems. Expedition Reef immerses you in an undersea adventure. Along the way\, discover how corals grow\, feed\, reproduce\, and support over 25% of all marine life on Earth.\n\nThe state-of-the-art Planetarium & Dome Theater at the U-M Museum of Natural History transports visitors beyond distant stars and back in time from the comfort of reclining seats. Tickets $8. Tickets are available on the day of the show at the Museum Store.
UID:95986-21791572@events.umich.edu
URL:https://events.umich.edu/event/95986
CLASS:PUBLIC
STATUS:CONFIRMED
CATEGORIES:natural history museum,Natural Sciences
LOCATION:Museum of Natural History
CONTACT:
END:VEVENT
BEGIN:VEVENT
DTSTAMP:20220815T082131
DTSTART;TZID=America/Detroit:20220815T130000
DTEND;TZID=America/Detroit:20220815T140000
SUMMARY:Careers / Jobs:ECRC Job Search Bootcamp: Resume Writing
DESCRIPTION:To help you jumpstart your job search\, the ECRC is hosting a Job Search Bootcamp August 15th-18th to get you ready for the upcoming fall recruitment season before classes begin on August 29th. Our first session is a resume writing workshop where we'll discuss best practices for resume formatting and content and provide you with examples to help you create or edit your resume. We'll also have time at the end of the workshop for you to ask questions.\n\nPlease let us know how we can ensure that this event is inclusive to you. What accommodations or access needs can we help facilitate? Email the ECRC at ecrc-info@umich.edu to let us know what accommodations you may need.\n\nThis is a College of Engineering event.
UID:96045-21791866@events.umich.edu
URL:https://events.umich.edu/event/96045
CLASS:PUBLIC
STATUS:CONFIRMED
CATEGORIES:Career,Graduate Students,Michigan Engineering,Undergraduate Students,Workshop
LOCATION:Off Campus Location
CONTACT:
END:VEVENT
BEGIN:VEVENT
DTSTAMP:20220830T123314
DTSTART;TZID=America/Detroit:20220815T133000
DTEND;TZID=America/Detroit:20220815T143000
SUMMARY:Careers / Jobs:2023 Amazon Finance Rotational Program Information Session- Virtual
DESCRIPTION:Amazon is hosting a virtual Amazon Finance Rotational Program (AFRP) Information Session on Monday\, August 15 at 1:30 PM PST. The AFRP is a two-year rotational program for undergraduate students with four unique tracks to support your career interests: Accounting\, Business Unit Finance\, Operations Finance Rotation Program (OFRP)\, and Treasury Rotation Program. Full Time & Intern positions are now open for all tracks\, you can learn more and apply now on our landing page here: https://afrp.splashthat.com/\n\nLearn more about the overall program\, specific tracks & positions available\, and the Amazon recruiting process and timeline. We will raffle off 100 swag bags to attendees – so don’t miss out!\n \nDate: Aug15\, 2022\nTime: 1:30 PM Pacific Time\n \nRegister for the meeting here: https://us06web.zoom.us/meeting/register/tZcrce6rpjoiEtPx6iMWjAHmDTgSHxQY402f\n\nAfter registering\, you will receive a confirmation email containing information about joining the meeting. When you register\, you can also presubmit questions in advance to be covered at the virtual event.
UID:96601-21792927@events.umich.edu
URL:https://events.umich.edu/event/96601
CLASS:PUBLIC
STATUS:CONFIRMED
CATEGORIES:
LOCATION:
CONTACT:
END:VEVENT
BEGIN:VEVENT
DTSTAMP:20221109T141417
DTSTART;TZID=America/Detroit:20220815T133000
DTEND;TZID=America/Detroit:20220815T141500
SUMMARY:Presentation:Sky Tonight
DESCRIPTION:A live presentation on what to find in the sky tonight and for the coming few weeks. This presentation includes how to find the cardinal directions on your own by finding the North Star\, current and upcoming constellations\, visible planets\, a few deep sky objects depending on the season\, and other interesting astronomical visualizations. If you want to be able to look up from your own backyard and know what to look for\, this is the show for you.\n\nThe state-of-the-art Planetarium & Dome Theater at the U-M Museum of Natural History transports visitors beyond distant stars and back in time from the comfort of reclining seats. Tickets $8. Tickets are available on the day of the show at the Museum Store.\n\nThe planetarium is operating at half capacity to maximize distancing between viewers.
UID:91230-21791603@events.umich.edu
URL:https://events.umich.edu/event/91230
CLASS:PUBLIC
STATUS:CONFIRMED
CATEGORIES:Astronomy,Natural Sciences,Science
LOCATION:Museum of Natural History
CONTACT:
END:VEVENT
BEGIN:VEVENT
DTSTAMP:20220912T132709
DTSTART;TZID=America/Detroit:20220815T143000
DTEND;TZID=America/Detroit:20220815T151500
SUMMARY:Presentation:Tales of the Maya Skies
DESCRIPTION:Tales of the Maya Skies immerses viewers in the wonders of Maya science\, cosmology and myth. This beautifully illustrated story takes us back in time to the jungles of Mexico to discover how Mayan scholars developed a sophisticated understanding of astronomy\, architecture\, and mathematics that enabled them to predict solstices\, solar eclipses\, weather patterns and planetary movements.\n\nThe state-of-the-art Planetarium & Dome Theater at the U-M Museum of Natural History transports visitors beyond distant stars and back in time from the comfort of reclining seats. Tickets $8. Tickets are available on the day of the show at the Museum Store.\n\nThe planetarium is operating at half capacity to maximize distancing between viewers.
UID:95036-21791665@events.umich.edu
URL:https://events.umich.edu/event/95036
CLASS:PUBLIC
STATUS:CONFIRMED
CATEGORIES:Astronomy,Museum,Natural Sciences,Science
LOCATION:Museum of Natural History
CONTACT:
END:VEVENT
BEGIN:VEVENT
DTSTAMP:20221109T141417
DTSTART;TZID=America/Detroit:20220815T153000
DTEND;TZID=America/Detroit:20220815T161500
SUMMARY:Presentation:Sky Tonight
DESCRIPTION:A live presentation on what to find in the sky tonight and for the coming few weeks. This presentation includes how to find the cardinal directions on your own by finding the North Star\, current and upcoming constellations\, visible planets\, a few deep sky objects depending on the season\, and other interesting astronomical visualizations. If you want to be able to look up from your own backyard and know what to look for\, this is the show for you.\n\nThe state-of-the-art Planetarium & Dome Theater at the U-M Museum of Natural History transports visitors beyond distant stars and back in time from the comfort of reclining seats. Tickets $8. Tickets are available on the day of the show at the Museum Store.\n\nThe planetarium is operating at half capacity to maximize distancing between viewers.
UID:91230-21791634@events.umich.edu
URL:https://events.umich.edu/event/91230
CLASS:PUBLIC
STATUS:CONFIRMED
CATEGORIES:Astronomy,Natural Sciences,Science
LOCATION:Museum of Natural History
CONTACT:
END:VEVENT
BEGIN:VEVENT
DTSTAMP:20220830T183210
DTSTART;TZID=America/Detroit:20220815T190000
DTEND;TZID=America/Detroit:20220815T200000
SUMMARY:Careers / Jobs:Discover Pride@BCG
DESCRIPTION:Pride@BCG connects LGBTQ+ BCGers with inspiring colleagues andmentors--as well as opportunities to drive impact well beyond the firm. Join this virtual session to meet members of this dynamic network\, and hear firsthand how BCG's inclusive culture\, passionate allies\, committed mentors\, and leading-edge benefits have shaped their careers and supported their growth.
UID:96670-21793033@events.umich.edu
URL:https://events.umich.edu/event/96670
CLASS:PUBLIC
STATUS:CONFIRMED
CATEGORIES:
LOCATION:
CONTACT:
END:VEVENT
END:VCALENDAR