BEGIN:VCALENDAR
VERSION:2.0
PRODID:-//UM//UM*Events//EN
CALSCALE:GREGORIAN
BEGIN:VTIMEZONE
TZID:America/Detroit
TZURL:http://tzurl.org/zoneinfo/America/Detroit
X-LIC-LOCATION:America/Detroit
BEGIN:DAYLIGHT
TZOFFSETFROM:-0500
TZOFFSETTO:-0400
TZNAME:EDT
DTSTART:20070311T020000
RRULE:FREQ=YEARLY;BYMONTH=3;BYDAY=2SU
END:DAYLIGHT
BEGIN:STANDARD
TZOFFSETFROM:-0400
TZOFFSETTO:-0500
TZNAME:EST
DTSTART:20071104T020000
RRULE:FREQ=YEARLY;BYMONTH=11;BYDAY=1SU
END:STANDARD
END:VTIMEZONE
BEGIN:VEVENT
DTSTAMP:20230324T120005
DTSTART;TZID=America/Detroit:20220816T000000
DTEND;TZID=America/Detroit:20220816T235959
SUMMARY:Community Service:Homework Help at The Children's Center
DESCRIPTION:The Homework Help program offers children assistance with their homework assignments. Children are encouraged to bring homework and are paired with a volunteer to assist them. This program is a critical service in helping children thrive. Volunteers give children the tools they need to be successful in school.Virtual and in-person volunteer opportunities are available. If you would like to volunteer\, please start the enrollment process by creating an account on the Children Center's Volunteer Site found HERE. After your account is created\, the Children's Center will reach out to you within 2 business days to answer any questions and discuss the next steps.In accordance with the CMS Vaccine Mandate\, those volunteering in-person at the Children’s Center are required to be fully vaccinated and must provide proof of full vaccination upon request.
UID:93885-21787913@events.umich.edu
URL:https://events.umich.edu/event/93885
CLASS:PUBLIC
STATUS:CONFIRMED
CATEGORIES:
LOCATION:The Children&#039;s Center 
CONTACT:
END:VEVENT
BEGIN:VEVENT
DTSTAMP:20220911T180007
DTSTART;TZID=America/Detroit:20220816T000000
DTEND;TZID=America/Detroit:20220816T235959
SUMMARY:Auditions:Spring Awakening Auditions Due!
DESCRIPTION:Interested in performing in Spring Awakening at the Arthur Miller Theatre? Go ahead and send in an audition to our audition form by 11:59pm on Sunday\, September 11!
UID:96360-21792323@events.umich.edu
URL:https://events.umich.edu/event/96360
CLASS:PUBLIC
STATUS:CONFIRMED
CATEGORIES:
LOCATION:Online
CONTACT:
END:VEVENT
BEGIN:VEVENT
DTSTAMP:20211129T152100
DTSTART;TZID=America/Detroit:20220816T070000
DTEND;TZID=America/Detroit:20220816T235900
SUMMARY:Careers / Jobs:UROP 2022-2023 Rising Sophomore Applications Open
DESCRIPTION:The Undergraduate Research Opportunity Program is now accepting applications for students who will be rising sophomores during the 2022-2023 academic year.\n\nLearn more and apply today at http://myumi.ch/uropsophomore\n\nRising Sophomore Applications are being accepted on a rolling basis.
UID:89571-21664381@events.umich.edu
URL:https://events.umich.edu/event/89571
CLASS:PUBLIC
STATUS:CONFIRMED
CATEGORIES:AEM Featured,Applications,Engineering,Environment,first-generation,Humanities,Interdisciplinary,Life Science,Professional Development,Public Health,Recruiting,Research,research data,Social Sciences,Sophomore,Undergraduate,Undergraduate Students,Urop
LOCATION:Off Campus Location
CONTACT:
END:VEVENT
BEGIN:VEVENT
DTSTAMP:20220627T142559
DTSTART;TZID=America/Detroit:20220816T080000
DTEND;TZID=America/Detroit:20220816T190000
SUMMARY:Exhibition:A Perfect Pairing of Cookbooks and Dinnerware
DESCRIPTION:A dozen selections from the Janice Bluestein Longone Culinary Archive from our Special Collections Research Center have been perfectly paired with dishes from the International Museum of Dinnerware Design to provide a feast for the eyes.\n\nA “perfect pairing” usually refers to a taste compatibility between wine and a food group\, such as wine and cheese. For example\, some believe a perfect pairing would be Cabernet with duck confit with turnips or Pinot Noir with bison rib eye steaks with roasted garlic — wines with sauces\, spicy food\, hors d’oeurvres\, etc. But other things can be perfectly paired such as fruit and cheese\, a couple\, or a clothing selection.\n\nSometimes pairs are made more perfect when they are catalysts for the imagination. That is what curators Margaret Carney\, Ph.D.\, and Juli McLoone are serving in \"A Perfect Pairing of Cookbooks and Dinnerware.\" The right ingredients along with an inspired recipe creates a delicious and beautiful meal that is enhanced when the cuisine is presented on a thoughtfully curated table setting\, or\, we hope\, in a thoughtfully curated exhibit. Bon Appetit!
UID:95818-21790977@events.umich.edu
URL:https://events.umich.edu/event/95818
CLASS:PUBLIC
STATUS:CONFIRMED
CATEGORIES:Exhibition,Free,Library
LOCATION:Hatcher Graduate Library - Audubon Room, 1st floor
CONTACT:
END:VEVENT
BEGIN:VEVENT
DTSTAMP:20220518T161555
DTSTART;TZID=America/Detroit:20220816T080000
DTEND;TZID=America/Detroit:20220816T160000
SUMMARY:Exhibition:Lane Hall Gallery Summer Exhibit
DESCRIPTION:In this exhibit\, artists Ashley Bigham (photographs) and Grace Mahoney (watercolors) investigate the visibility and social role of Ukraine’s older generation of women embodied in a figure both iconic and ubiquitous: the babusya. Seen in public transport\, in the market\, and on the street\, each babusya has a story to tell. Each has something to say\, something to gossip about\, and something to complain about. \n\n\"Invisible Women: Portraits of Aging in Ukraine\" is hosted by the University of Michigan’s Institute for Research on Women and Gender (IRWG) and the Department of Women’s and Gender Studies. The exhibit is on display for public viewing weekdays from 8:00 a.m.- 4:00 p.m. through August 18\, 2022\, in the main lobby of Lane Hall\, located at 204 South State Street\, Ann Arbor\, MI 48109. For more information on the current exhibit\, visit IRWG’s website.
UID:95140-21788604@events.umich.edu
URL:https://events.umich.edu/event/95140
CLASS:PUBLIC
STATUS:CONFIRMED
CATEGORIES:Exhibition,institute for research on women and gender,irwg,ukrainian,Women's Studies
LOCATION:Lane Hall
CONTACT:
END:VEVENT
BEGIN:VEVENT
DTSTAMP:20220831T063222
DTSTART;TZID=America/Detroit:20220816T080000
DTEND;TZID=America/Detroit:20220816T090000
SUMMARY:Careers / Jobs:Meet our Global Banking Asia Team
DESCRIPTION:Why Global Banking?\nWhat other firms call deals\, we call solutions. Join us on a journey where we help clients navigate through defining moments of their business. Are you ready to be part of a team that never sits still? You won’t either.\n\nWhat's on offer?\nRegister now\, and meet our Global Banking Asia team where you'll learn about all career paths available within the fast-growing business in the Asia Pacific region. The best part? You’ll hear from both our junior and senior bankers who'llshare their experiences\, their average day as a banker\, and much more.
UID:96889-21793537@events.umich.edu
URL:https://events.umich.edu/event/96889
CLASS:PUBLIC
STATUS:CONFIRMED
CATEGORIES:
LOCATION:
CONTACT:
END:VEVENT
BEGIN:VEVENT
DTSTAMP:20221003T125034
DTSTART;TZID=America/Detroit:20220816T080000
DTEND;TZID=America/Detroit:20220816T190000
SUMMARY:Exhibition:The Dance for Mother Earth Powwow
DESCRIPTION:This exhibit features various aspects of the Native North American powwow. More specifically\, it features the history and culture behind Ann Arbor’s \"Dance for Mother Earth Powwow\,\" which is approaching its much-anticipated 50th celebration.\n\nThe Dance for Mother Earth Powwow is a multi-decade\, intertribal celebration of Indigenous cultures. It grew from its early beginnings as a small gathering in a field just outside of Ann Arbor into one of the largest student-led powwows in North America. The event attracts crowds of thousands — dancers\, singers\, artists\, tribal members from across the country\, and non-Indigenous members of the community.\n\nStop by to learn more about The Dance for Mother Earth Powwow\, modern Indigenous culture\, and resources to connect to today on campus.\n\nThis exhibition was curated by Michigan Library Scholar interns\, Allison Jiang and Andrea Medina. The Michigan Library Scholars internship program provides undergraduate students with the opportunity to research and develop a capstone project under the guidance of experienced library professionals at one of the largest academic research libraries in the world.
UID:96225-21792073@events.umich.edu
URL:https://events.umich.edu/event/96225
CLASS:PUBLIC
STATUS:CONFIRMED
CATEGORIES:Exhibition,Free,Library,Native American
LOCATION:Hatcher Graduate Library - North Lobby (just off the Diag)
CONTACT:
END:VEVENT
BEGIN:VEVENT
DTSTAMP:20220802T141348
DTSTART;TZID=America/Detroit:20220816T083000
DTEND;TZID=America/Detroit:20220816T170000
SUMMARY:Exhibition:Shared Humanity
DESCRIPTION:July 30 - August 31\, 2022\nMon-Fri from 8:30am-5pm and Sat-Sun 10am-2:30pm.\nGallery 100 at 100 Silver Maples Dr\, Chelsea\, MI 48118\nParking available near the main entrance. Please sign in and screen yourself in the entryway.\n\nAdditional Information: https://myumi.ch/Nmx2j\n\nBeginning Saturday\, July 30\, the exhibit Shared Humanity will be featured at Silver Maples in Chelsea from the Prison Creative Arts Project’s (PCAP) private collection. The artwork is for sale and will be on display in the 100 Gallery through August 31\, 2022.\n\nAccording to Sarah Unrath\, Curator and Arts Programming Coordinator of PCAP\, “the exhibition is designed to connect viewer to artist through the wide gamut of their human experiences. We all have dreams\, memories\, goals\, pasts. We all process emotions of anger\, joy\, grief\, nostalgia. We have specially selected works that show a culmination of ways artists in prison have dealt with complex realities of being human.”\n\nThe curatorial staff at PCAP worked closely with artists who were formerly incarcerated\, and the team at Silver Maples\, to select works that would fit the theme of this exhibition and be of interest to the broader audience. Visitors will see works from familiar artists\, including Andy Wynkoop\, An ArtsyGuy\, RIK\, Roger (Free-Hand) Stephenson\, and many others.\n\n“This exhibition centralizes intersecting themes and multi-faceted layers of what it means to be human. Our hope is to challenge the lens through which the exhibit audience looks at people in prison. Coming out of a season that has worn us thin of human connection\, this exhibit presents a unique opportunity to engage in powerful dialogue inspired by the art in Shared Humanity\,” says Unrath\n\nThe 100 Gallery is open Mon-Fri are 8:30am-5pm and Sat-Sun 10am-2:30pm. \nAdmission is free and open to the public. \nSales will be conducted in person on Saturday\, August 6 with alternative phone sale appointments available: https://myumi.ch/DJ6M5\n\nSpecial Storytelling Event: Creating Art Inside\nSaturday\, Aug 6\, 2022 @ 2:00pm\nMaples Room at 100 Silver Maples Dr\, Chelsea\, MI 48118\n\nIn this hour\, we take a look into the lives of artists that created work in the most difficult of circumstances: prison. Hear first hand about their lived experiences and the impact art-making had on their time behind the walls. Hosted by the Prison Creative Arts Project. In-person art sales will be available before and after the event.
UID:95559-21792515@events.umich.edu
URL:https://events.umich.edu/event/95559
CLASS:PUBLIC
STATUS:CONFIRMED
CATEGORIES:Activism,Anthropology,art,Exhibition,Free,In Person,Incarceration,social justice,Storytelling,visual arts
LOCATION:Off Campus Location
CONTACT:
END:VEVENT
BEGIN:VEVENT
DTSTAMP:20220720T073705
DTSTART;TZID=America/Detroit:20220816T093000
DTEND;TZID=America/Detroit:20220816T110000
SUMMARY:Meeting:CoderSpaces\, Virtual Office Hours (Tuesdays\, 9:30-11am)
DESCRIPTION:Are you grappling with a piece of code\, trying to compute on a University cluster\, or just getting started with a new method such as machine learning? Then we might have just the right space for you.\n\nAll members of the U-M community are invited to join our weekly virtual CoderSpaces\, Tuesdays and Thursdays\, during the Summer 2022 term to get research support and connect with others.\n\nThe virtual sessions are designed to assist faculty\, staff\, and students with research methodology\, statistics\, data science applications\, and computational programming for research.\n\nOur hosts have a wide set of methodological and technological expertise. They come to you from a variety of departments and disciplines and are looking forward to serving the U-M community in their research endeavors.\n\nCoderSpaces provide a casual\, productive and inclusive environment. Everyone is welcome regardless of skill level.\n\nJoin via Zoom* (https://umich.zoom.us/j/96392817699)\n*Users will have to sign in with their UMICH (Level-1) credentials.\n\nWith Erin Ware (SRC) and Jon Reader (MADRC)\n\nExpertise at this session includes: automation of tasks & workflows\, Bash\, bioinformatics\, conda (anaconda/miniconda)\, data analysis\, data management\, data visualization\, git\, GitHub\, GitLab\, GNU Make\, high performance computing (HPC)\, LaTeX\, Linux\, machine learning\, macOS\, natural language processing\, pandas\, PySpark\, Python\, Python Requests\, Python Selenium\, R\, R Markdown\, R tidyverse\, REDCap\, SAS\, social sciences\, SPSS\, SQL\, statistics\, survey data\, text analysis\, time-series analysis\, web scraping\, Windows
UID:94931-21786499@events.umich.edu
URL:https://events.umich.edu/event/94931
CLASS:PUBLIC
STATUS:CONFIRMED
CATEGORIES:Arc,Arc-ts,Data Science,High Performance Computing,Information and Technology,Research
LOCATION:Off Campus Location
CONTACT:
END:VEVENT
BEGIN:VEVENT
DTSTAMP:20220831T063152
DTSTART;TZID=America/Detroit:20220816T120000
DTEND;TZID=America/Detroit:20220816T130000
SUMMARY:Careers / Jobs:SuccessConnects Resume Lab
DESCRIPTION:*This is a closed session for SuccessConnects students*\n\nSuccessConnects Students- come get your resume ready for the fall! \n\nCareerFairs\, internship searches\, and job applications are right around the corner. Set yourself up for success by getting your resume ready before classes begin.\n\nJoin career coach Chelsea Moore as we talk through resume basics and do quick reviews of your resumes. \n\nThe University Career Center is aware that alumni do not have access to their UM Zoom accounts 30 days post-graduation. If\, as a recent graduate (fewer than 18 months after graduation)\, you are unable to access this event please contact careercenter@umich.edu for either a recording of the session (if available) or to arrange a 1:1 meeting with a UCC career coach.
UID:96416-21792479@events.umich.edu
URL:https://events.umich.edu/event/96416
CLASS:PUBLIC
STATUS:CONFIRMED
CATEGORIES:
LOCATION:
CONTACT:
END:VEVENT
BEGIN:VEVENT
DTSTAMP:20260210T142109
DTSTART;TZID=America/Detroit:20220816T123000
DTEND;TZID=America/Detroit:20220816T131500
SUMMARY:Presentation:Expedition Reef
DESCRIPTION:Learn the secrets of the “rainforests of the sea” as you embark on an oceanic safari of the world’s most vibrant—and endangered—marine ecosystems. Expedition Reef immerses you in an undersea adventure. Along the way\, discover how corals grow\, feed\, reproduce\, and support over 25% of all marine life on Earth.\n\nThe state-of-the-art Planetarium & Dome Theater at the U-M Museum of Natural History transports visitors beyond distant stars and back in time from the comfort of reclining seats. Tickets $8. Tickets are available on the day of the show at the Museum Store.
UID:95986-21791573@events.umich.edu
URL:https://events.umich.edu/event/95986
CLASS:PUBLIC
STATUS:CONFIRMED
CATEGORIES:natural history museum,Natural Sciences
LOCATION:Museum of Natural History
CONTACT:
END:VEVENT
BEGIN:VEVENT
DTSTAMP:20220801T093351
DTSTART;TZID=America/Detroit:20220816T130000
DTEND;TZID=America/Detroit:20220816T140000
SUMMARY:Careers / Jobs:ECRC Job Search Bootcamp: Job Search Strategies
DESCRIPTION:To help you jumpstart your job search\, the ECRC is hosting a Job Search Bootcamp August 15th-18th to get you ready for the upcoming fall recruitment season before classes begin on August 29th. Our second session is a job search strategies workshop where we'll discuss how to build your employer list\, expand your search\, and best practices for job applications and tailoring your materials. We'll also have time at the end of the workshop for you to ask questions. \n\nPlease let us know how we can ensure that this event is inclusive to you. What accommodations or access needs can we help facilitate? Email the ECRC at ecrc-info@umich.edu to let us know what accommodations you may need.\n\nThis is a College of Engineering event.
UID:96046-21791867@events.umich.edu
URL:https://events.umich.edu/event/96046
CLASS:PUBLIC
STATUS:CONFIRMED
CATEGORIES:Career,Graduate Students,Michigan Engineering,Undergraduate Students,Workshop
LOCATION:Off Campus Location
CONTACT:
END:VEVENT
BEGIN:VEVENT
DTSTAMP:20221109T141417
DTSTART;TZID=America/Detroit:20220816T133000
DTEND;TZID=America/Detroit:20220816T141500
SUMMARY:Presentation:Sky Tonight
DESCRIPTION:A live presentation on what to find in the sky tonight and for the coming few weeks. This presentation includes how to find the cardinal directions on your own by finding the North Star\, current and upcoming constellations\, visible planets\, a few deep sky objects depending on the season\, and other interesting astronomical visualizations. If you want to be able to look up from your own backyard and know what to look for\, this is the show for you.\n\nThe state-of-the-art Planetarium & Dome Theater at the U-M Museum of Natural History transports visitors beyond distant stars and back in time from the comfort of reclining seats. Tickets $8. Tickets are available on the day of the show at the Museum Store.\n\nThe planetarium is operating at half capacity to maximize distancing between viewers.
UID:91230-21791604@events.umich.edu
URL:https://events.umich.edu/event/91230
CLASS:PUBLIC
STATUS:CONFIRMED
CATEGORIES:Astronomy,Natural Sciences,Science
LOCATION:Museum of Natural History
CONTACT:
END:VEVENT
BEGIN:VEVENT
DTSTAMP:20220720T073850
DTSTART;TZID=America/Detroit:20220816T140000
DTEND;TZID=America/Detroit:20220816T153000
SUMMARY:Meeting:CoderSpaces\, Virtual Office Hours (Tuesdays\, 2-3:30pm)
DESCRIPTION:Are you grappling with a piece of code\, trying to compute on a University cluster\, or just getting started with a new method such as machine learning? Then we might have just the right space for you.\n\nAll members of the U-M community are invited to join our weekly virtual CoderSpaces\, Tuesdays and Thursdays\, during the Summer 2022 term to get research support and connect with others.\n\nThe virtual sessions are designed to assist faculty\, staff\, and students with research methodology\, statistics\, data science applications\, and computational programming for research.\n\nOur hosts have a wide set of methodological and technological expertise. They come to you from a variety of departments and disciplines and are looking forward to serving the U-M community in their research endeavors.\n\nCoderSpaces provide a casual\, productive and inclusive environment. Everyone is welcome regardless of skill level.\n\nJoin via Zoom* (https://umich.zoom.us/j/98917021399)\n*Users will have to sign in with their UMICH (Level-1) credentials.\n\nWith Charles Antonelli (LSA Tech)\, Jonathan Golob (Division of Infectious Disease)\, and Shelly Johnson (ARC)\n\nExpertise at this session includes: Amazon Web Services (AWS)\, ARC Armis\, ARC Great Lakes\, Bash\, bash shell scripting\, C \, C++\, CMake\, conda (anaconda/miniconda)\, CUDA\, Fortran\, git\, GitHub\, GitLab\, GNU Make\, Google Cloud Platform\, GPU\, HDF5\, high performance computing (HPC)\, Julia\, LaTeX\, Linux\, Lmod modules\, macOS\, MATLAB\, MPI\, NVIDIA\, OpenACC\, OpenMP\, pandas\, parallelization\, performance analysis\, Perl\, Python\, Python BeautifulSoup\, Python Requests\, Python Selenium\, R\, R devtools\, Rcpp\, SLURM\, software compilation & installation on Linux\, software development\, tensorflow\, test-driven development\, venv\, web scraping\, XSEDE
UID:94933-21786515@events.umich.edu
URL:https://events.umich.edu/event/94933
CLASS:PUBLIC
STATUS:CONFIRMED
CATEGORIES:Arc,Arc-ts,Data Science,High Performance Computing,Information and Technology,Research
LOCATION:Off Campus Location
CONTACT:
END:VEVENT
BEGIN:VEVENT
DTSTAMP:20220831T123149
DTSTART;TZID=America/Detroit:20220816T140000
DTEND;TZID=America/Detroit:20220816T153000
SUMMARY:Careers / Jobs:Honors Intern Program Application Overview and Q&A Session (Hostedby FBI San Francisco)
DESCRIPTION:Curious about how you can impact the FBI while still in college?  Come learn about the FBI's Honors Intern Program\, open to university-level students.  The session will go over the basics of the internship and the application process\, and we will also have a Q&A session with the presenters. \n\nThe session will be held on 08/16/2022 at 2:00 PM (PST).The meeting link is below: \nhttps://gov.teams.microsoft.us/l/meetup-join/19%3agcch%3ameeting_fef2fc76a12648209ce621d1bfc8cf0c%40thread.v2/0?context=%7b%22Tid%22%3a%22022914a9-b95f-4b7b-bace-551ce1a04071%22%2c%22Oid%22%3a%229af868ec-506d-48ce-b8f3-471052df642e%22%7d\n\nATTENTION: \n1. Be on time\, as we will start promptly.  Note that the meeting time is in Pacific Standard Time. \n2. Review the FBIJobs.gov to familiarize yourself with thecareer opportunities and the site\n3. Have 1-2 questions prepared for thepresenters.
UID:96224-21792057@events.umich.edu
URL:https://events.umich.edu/event/96224
CLASS:PUBLIC
STATUS:CONFIRMED
CATEGORIES:
LOCATION:
CONTACT:
END:VEVENT
BEGIN:VEVENT
DTSTAMP:20220912T132709
DTSTART;TZID=America/Detroit:20220816T143000
DTEND;TZID=America/Detroit:20220816T151500
SUMMARY:Presentation:Tales of the Maya Skies
DESCRIPTION:Tales of the Maya Skies immerses viewers in the wonders of Maya science\, cosmology and myth. This beautifully illustrated story takes us back in time to the jungles of Mexico to discover how Mayan scholars developed a sophisticated understanding of astronomy\, architecture\, and mathematics that enabled them to predict solstices\, solar eclipses\, weather patterns and planetary movements.\n\nThe state-of-the-art Planetarium & Dome Theater at the U-M Museum of Natural History transports visitors beyond distant stars and back in time from the comfort of reclining seats. Tickets $8. Tickets are available on the day of the show at the Museum Store.\n\nThe planetarium is operating at half capacity to maximize distancing between viewers.
UID:95036-21791666@events.umich.edu
URL:https://events.umich.edu/event/95036
CLASS:PUBLIC
STATUS:CONFIRMED
CATEGORIES:Astronomy,Museum,Natural Sciences,Science
LOCATION:Museum of Natural History
CONTACT:
END:VEVENT
BEGIN:VEVENT
DTSTAMP:20220831T123157
DTSTART;TZID=America/Detroit:20220816T150000
DTEND;TZID=America/Detroit:20220816T153000
SUMMARY:Careers / Jobs:Get to Know the Disney College Program
DESCRIPTION:Come join Recruiters with Disney Programs Recruitment Team\, for a virtual engagement session where they will help you learn more about the Disney College Program and discuss the living\, learning and earning components offered. This 30-minute session aims to inform you about the Disney College Program\, answer your questions and get you excited to learn more about this opportunity of a lifetime!
UID:96378-21792369@events.umich.edu
URL:https://events.umich.edu/event/96378
CLASS:PUBLIC
STATUS:CONFIRMED
CATEGORIES:
LOCATION:
CONTACT:
END:VEVENT
BEGIN:VEVENT
DTSTAMP:20221109T141417
DTSTART;TZID=America/Detroit:20220816T153000
DTEND;TZID=America/Detroit:20220816T161500
SUMMARY:Presentation:Sky Tonight
DESCRIPTION:A live presentation on what to find in the sky tonight and for the coming few weeks. This presentation includes how to find the cardinal directions on your own by finding the North Star\, current and upcoming constellations\, visible planets\, a few deep sky objects depending on the season\, and other interesting astronomical visualizations. If you want to be able to look up from your own backyard and know what to look for\, this is the show for you.\n\nThe state-of-the-art Planetarium & Dome Theater at the U-M Museum of Natural History transports visitors beyond distant stars and back in time from the comfort of reclining seats. Tickets $8. Tickets are available on the day of the show at the Museum Store.\n\nThe planetarium is operating at half capacity to maximize distancing between viewers.
UID:91230-21791635@events.umich.edu
URL:https://events.umich.edu/event/91230
CLASS:PUBLIC
STATUS:CONFIRMED
CATEGORIES:Astronomy,Natural Sciences,Science
LOCATION:Museum of Natural History
CONTACT:
END:VEVENT
BEGIN:VEVENT
DTSTAMP:20220831T123215
DTSTART;TZID=America/Detroit:20220816T160000
DTEND;TZID=America/Detroit:20220816T164500
SUMMARY:Careers / Jobs:Aronson Virtual Event: Recharge Your Accounting Resume
DESCRIPTION:Join Aronson LLC for our Aronson Virtual Event Series - Recharge Your Accounting Resume!\n\nEvent Details\nWho: Accounting Students Interested in Pursuing a Career as a CPA \nWhat: Resume Workshop and Tips\nWhen: Tuesday\, August 16th from 4:00-4:45 PM \nWhere:  https://aronsonllc.zoom.us/j/88697969464?pwd=ckFDQ2lvUm9xa3htTkJNK0FTdHR0QT09\n\n\nAbout Aronson\nAronson LLC provides a comprehensive platform of assurance\, tax\, and consulting solutions to today's most active industry sectors and successful individuals. For more than 55 years\, we have purposefully expanded our service offerings and deepened our industry specialties to better serve the needs of our clients\, people\, and community. From startup to exit\, wehelp our clients maximize opportunity\, minimize risk\, and unlock their full potential.
UID:96675-21793038@events.umich.edu
URL:https://events.umich.edu/event/96675
CLASS:PUBLIC
STATUS:CONFIRMED
CATEGORIES:
LOCATION:
CONTACT:
END:VEVENT
BEGIN:VEVENT
DTSTAMP:20220831T123155
DTSTART;TZID=America/Detroit:20220816T173000
DTEND;TZID=America/Detroit:20220816T190000
SUMMARY:Careers / Jobs:Administrative Fellowship Program Webinar
DESCRIPTION:REGISTER TODAY TO LEARN MORE\ninova's Administrative Fellowship Program provides exposure to healthcare management and leadership development to highly qualified early careerists through a 12-month rotational program and structured learning series.\n\nFellows are partnered with senior level preceptors and mentors to foster their learning while also leadingpriority work for Inova. Program rotations across administration\, operations\, strategy and the clinical enterprise will serve as robust learning opportunities to foster an understanding of overall health system governance\, leadership and operations.\n\nhttps://inova.zoom.us/meeting/register/tJIof-2vqDMrHdLc_rpwM00ZM4wOJf_2TMjx
UID:96321-21792268@events.umich.edu
URL:https://events.umich.edu/event/96321
CLASS:PUBLIC
STATUS:CONFIRMED
CATEGORIES:
LOCATION:
CONTACT:
END:VEVENT
BEGIN:VEVENT
DTSTAMP:20220831T183223
DTSTART;TZID=America/Detroit:20220816T190000
DTEND;TZID=America/Detroit:20220816T200000
SUMMARY:Careers / Jobs:Discover Black+Latinx@BCG + Indigenous@BCG
DESCRIPTION:The Black+Latinx@BCG and Indigenous@BCG network is a powerful source of support for underrepresented groups\, and a dynamic force for change within BCG and beyond. This virtual session will introduce you to network members who'll share insight on working at BCG and the role that thiscommunity and its passionate allies play in their continued success.
UID:96671-21793034@events.umich.edu
URL:https://events.umich.edu/event/96671
CLASS:PUBLIC
STATUS:CONFIRMED
CATEGORIES:
LOCATION:
CONTACT:
END:VEVENT
END:VCALENDAR