BEGIN:VCALENDAR
VERSION:2.0
PRODID:-//UM//UM*Events//EN
CALSCALE:GREGORIAN
BEGIN:VTIMEZONE
TZID:America/Detroit
TZURL:http://tzurl.org/zoneinfo/America/Detroit
X-LIC-LOCATION:America/Detroit
BEGIN:DAYLIGHT
TZOFFSETFROM:-0500
TZOFFSETTO:-0400
TZNAME:EDT
DTSTART:20070311T020000
RRULE:FREQ=YEARLY;BYMONTH=3;BYDAY=2SU
END:DAYLIGHT
BEGIN:STANDARD
TZOFFSETFROM:-0400
TZOFFSETTO:-0500
TZNAME:EST
DTSTART:20071104T020000
RRULE:FREQ=YEARLY;BYMONTH=11;BYDAY=1SU
END:STANDARD
END:VTIMEZONE
BEGIN:VEVENT
DTSTAMP:20230324T120005
DTSTART;TZID=America/Detroit:20220819T000000
DTEND;TZID=America/Detroit:20220819T235959
SUMMARY:Community Service:Homework Help at The Children's Center
DESCRIPTION:The Homework Help program offers children assistance with their homework assignments. Children are encouraged to bring homework and are paired with a volunteer to assist them. This program is a critical service in helping children thrive. Volunteers give children the tools they need to be successful in school.Virtual and in-person volunteer opportunities are available. If you would like to volunteer\, please start the enrollment process by creating an account on the Children Center's Volunteer Site found HERE. After your account is created\, the Children's Center will reach out to you within 2 business days to answer any questions and discuss the next steps.In accordance with the CMS Vaccine Mandate\, those volunteering in-person at the Children’s Center are required to be fully vaccinated and must provide proof of full vaccination upon request.
UID:93885-21787916@events.umich.edu
URL:https://events.umich.edu/event/93885
CLASS:PUBLIC
STATUS:CONFIRMED
CATEGORIES:
LOCATION:The Children&#039;s Center 
CONTACT:
END:VEVENT
BEGIN:VEVENT
DTSTAMP:20220911T180007
DTSTART;TZID=America/Detroit:20220819T000000
DTEND;TZID=America/Detroit:20220819T235959
SUMMARY:Auditions:Spring Awakening Auditions Due!
DESCRIPTION:Interested in performing in Spring Awakening at the Arthur Miller Theatre? Go ahead and send in an audition to our audition form by 11:59pm on Sunday\, September 11!
UID:96360-21792326@events.umich.edu
URL:https://events.umich.edu/event/96360
CLASS:PUBLIC
STATUS:CONFIRMED
CATEGORIES:
LOCATION:Online
CONTACT:
END:VEVENT
BEGIN:VEVENT
DTSTAMP:20211129T152100
DTSTART;TZID=America/Detroit:20220819T070000
DTEND;TZID=America/Detroit:20220819T235900
SUMMARY:Careers / Jobs:UROP 2022-2023 Rising Sophomore Applications Open
DESCRIPTION:The Undergraduate Research Opportunity Program is now accepting applications for students who will be rising sophomores during the 2022-2023 academic year.\n\nLearn more and apply today at http://myumi.ch/uropsophomore\n\nRising Sophomore Applications are being accepted on a rolling basis.
UID:89571-21664384@events.umich.edu
URL:https://events.umich.edu/event/89571
CLASS:PUBLIC
STATUS:CONFIRMED
CATEGORIES:AEM Featured,Applications,Engineering,Environment,first-generation,Humanities,Interdisciplinary,Life Science,Professional Development,Public Health,Recruiting,Research,research data,Social Sciences,Sophomore,Undergraduate,Undergraduate Students,Urop
LOCATION:Off Campus Location
CONTACT:
END:VEVENT
BEGIN:VEVENT
DTSTAMP:20220627T142559
DTSTART;TZID=America/Detroit:20220819T080000
DTEND;TZID=America/Detroit:20220819T190000
SUMMARY:Exhibition:A Perfect Pairing of Cookbooks and Dinnerware
DESCRIPTION:A dozen selections from the Janice Bluestein Longone Culinary Archive from our Special Collections Research Center have been perfectly paired with dishes from the International Museum of Dinnerware Design to provide a feast for the eyes.\n\nA “perfect pairing” usually refers to a taste compatibility between wine and a food group\, such as wine and cheese. For example\, some believe a perfect pairing would be Cabernet with duck confit with turnips or Pinot Noir with bison rib eye steaks with roasted garlic — wines with sauces\, spicy food\, hors d’oeurvres\, etc. But other things can be perfectly paired such as fruit and cheese\, a couple\, or a clothing selection.\n\nSometimes pairs are made more perfect when they are catalysts for the imagination. That is what curators Margaret Carney\, Ph.D.\, and Juli McLoone are serving in \"A Perfect Pairing of Cookbooks and Dinnerware.\" The right ingredients along with an inspired recipe creates a delicious and beautiful meal that is enhanced when the cuisine is presented on a thoughtfully curated table setting\, or\, we hope\, in a thoughtfully curated exhibit. Bon Appetit!
UID:95818-21790980@events.umich.edu
URL:https://events.umich.edu/event/95818
CLASS:PUBLIC
STATUS:CONFIRMED
CATEGORIES:Exhibition,Free,Library
LOCATION:Hatcher Graduate Library - Audubon Room, 1st floor
CONTACT:
END:VEVENT
BEGIN:VEVENT
DTSTAMP:20221003T125034
DTSTART;TZID=America/Detroit:20220819T080000
DTEND;TZID=America/Detroit:20220819T190000
SUMMARY:Exhibition:The Dance for Mother Earth Powwow
DESCRIPTION:This exhibit features various aspects of the Native North American powwow. More specifically\, it features the history and culture behind Ann Arbor’s \"Dance for Mother Earth Powwow\,\" which is approaching its much-anticipated 50th celebration.\n\nThe Dance for Mother Earth Powwow is a multi-decade\, intertribal celebration of Indigenous cultures. It grew from its early beginnings as a small gathering in a field just outside of Ann Arbor into one of the largest student-led powwows in North America. The event attracts crowds of thousands — dancers\, singers\, artists\, tribal members from across the country\, and non-Indigenous members of the community.\n\nStop by to learn more about The Dance for Mother Earth Powwow\, modern Indigenous culture\, and resources to connect to today on campus.\n\nThis exhibition was curated by Michigan Library Scholar interns\, Allison Jiang and Andrea Medina. The Michigan Library Scholars internship program provides undergraduate students with the opportunity to research and develop a capstone project under the guidance of experienced library professionals at one of the largest academic research libraries in the world.
UID:96225-21792076@events.umich.edu
URL:https://events.umich.edu/event/96225
CLASS:PUBLIC
STATUS:CONFIRMED
CATEGORIES:Exhibition,Free,Library,Native American
LOCATION:Hatcher Graduate Library - North Lobby (just off the Diag)
CONTACT:
END:VEVENT
BEGIN:VEVENT
DTSTAMP:20220802T141348
DTSTART;TZID=America/Detroit:20220819T083000
DTEND;TZID=America/Detroit:20220819T170000
SUMMARY:Exhibition:Shared Humanity
DESCRIPTION:July 30 - August 31\, 2022\nMon-Fri from 8:30am-5pm and Sat-Sun 10am-2:30pm.\nGallery 100 at 100 Silver Maples Dr\, Chelsea\, MI 48118\nParking available near the main entrance. Please sign in and screen yourself in the entryway.\n\nAdditional Information: https://myumi.ch/Nmx2j\n\nBeginning Saturday\, July 30\, the exhibit Shared Humanity will be featured at Silver Maples in Chelsea from the Prison Creative Arts Project’s (PCAP) private collection. The artwork is for sale and will be on display in the 100 Gallery through August 31\, 2022.\n\nAccording to Sarah Unrath\, Curator and Arts Programming Coordinator of PCAP\, “the exhibition is designed to connect viewer to artist through the wide gamut of their human experiences. We all have dreams\, memories\, goals\, pasts. We all process emotions of anger\, joy\, grief\, nostalgia. We have specially selected works that show a culmination of ways artists in prison have dealt with complex realities of being human.”\n\nThe curatorial staff at PCAP worked closely with artists who were formerly incarcerated\, and the team at Silver Maples\, to select works that would fit the theme of this exhibition and be of interest to the broader audience. Visitors will see works from familiar artists\, including Andy Wynkoop\, An ArtsyGuy\, RIK\, Roger (Free-Hand) Stephenson\, and many others.\n\n“This exhibition centralizes intersecting themes and multi-faceted layers of what it means to be human. Our hope is to challenge the lens through which the exhibit audience looks at people in prison. Coming out of a season that has worn us thin of human connection\, this exhibit presents a unique opportunity to engage in powerful dialogue inspired by the art in Shared Humanity\,” says Unrath\n\nThe 100 Gallery is open Mon-Fri are 8:30am-5pm and Sat-Sun 10am-2:30pm. \nAdmission is free and open to the public. \nSales will be conducted in person on Saturday\, August 6 with alternative phone sale appointments available: https://myumi.ch/DJ6M5\n\nSpecial Storytelling Event: Creating Art Inside\nSaturday\, Aug 6\, 2022 @ 2:00pm\nMaples Room at 100 Silver Maples Dr\, Chelsea\, MI 48118\n\nIn this hour\, we take a look into the lives of artists that created work in the most difficult of circumstances: prison. Hear first hand about their lived experiences and the impact art-making had on their time behind the walls. Hosted by the Prison Creative Arts Project. In-person art sales will be available before and after the event.
UID:95559-21792529@events.umich.edu
URL:https://events.umich.edu/event/95559
CLASS:PUBLIC
STATUS:CONFIRMED
CATEGORIES:Activism,Anthropology,art,Exhibition,Free,In Person,Incarceration,social justice,Storytelling,visual arts
LOCATION:Off Campus Location
CONTACT:
END:VEVENT
BEGIN:VEVENT
DTSTAMP:20220903T063151
DTSTART;TZID=America/Detroit:20220819T100000
DTEND;TZID=America/Detroit:20220819T160000
SUMMARY:Careers / Jobs:Lifeguard Job Fair
DESCRIPTION:Come meet our Lifeguard Trainers and Recruiters and learn moreabout our dynamic Lifeguard teams who work hard to make our Guests’ dreams come true in more than 50 resort pools and 2 waterparks at the Walt Disney World Resort. Qualified Candidates will have the opportunity to interview on site and complete a required Lifeguard Shallow or Deep Water assessment during the event! See below for more information about the assessment.\n\nAt this event\, you will have the chance to see what it takes to excel in this role. Lifeguard responsibilities include ensuring the well-being of our Guests\, keeping pool areas clean\, and answering Guest questionsand providing information. License training is provided and conducted over 3 consecutive days weekly. Walt Disney World Resort Lifeguards are eligible for paid training with Ellis and Associates\, Inc.\n\nDon’t miss this unique opportunity to learn more about what it’s like to make unforgettable memories for our Guests! Candidates are encouraged to apply online prior to the event. What are you waiting for? Slip into your swimsuit and apply today!\n\nWe currently have available:\nFull Time which requires fullavailability for any shift\, any day\, including nights\, weekends\, and holidays\nPart Time which requires full availability for any shift\, a MINIMUM of Three (3) days per week\, including nights and holidays\n\nPlease note: If you are not able to attend the event on the specified date you can apply by clicking the following link(s)\nLifeguard- Part Time\, Walt Disney World Click HERE to Apply (https://xjobs.brassring.com/TGnewUI/Search/home/HomeWithPreLoad?PageType=JobDetails&partnerid=25348&siteid=5039&Areq=995989BR#jobDetails=1000806_5039)\n\nLifeguard- Full Time\, Walt Disney World Click HERE to Apply (https://xjobs.brassring.com/TGnewUI/Search/home/HomeWithPreLoad?PageType=JobDetails&partnerid=25348&siteid=5039&Areq=995988BR#jobDetails=1000805_5039)\n\nEvent Details\nWhen: Friday\, August 19\, 2022 from 10:00 AM - 4:00 PM\nWhere: Mickey’s Retreat\n8151 Lake Forest Dr.\nOrlando\, Florida 32821
UID:96953-21793616@events.umich.edu
URL:https://events.umich.edu/event/96953
CLASS:PUBLIC
STATUS:CONFIRMED
CATEGORIES:
LOCATION:
CONTACT:
END:VEVENT
BEGIN:VEVENT
DTSTAMP:20220707T124933
DTSTART;TZID=America/Detroit:20220819T100000
DTEND;TZID=America/Detroit:20220819T111500
SUMMARY:Presentation:The Clements Bookworm: The Strange Genius of Mr. O: The World of The United States' First Forgotten Celebrity
DESCRIPTION:When James Ogilvie arrived in America in 1793\, he was a deeply ambitious but impoverished teacher. By the time he returned to Britain in 1817\, he had become a bona fide celebrity known simply as Mr. O\, counting the nation’s leading politicians and intellectuals among his admirers. And then\, like so many meteoric American luminaries afterward\, he fell from grace.\n\nThe Strange Genius of Mr. O is at once the biography of a remarkable performer--a gaunt Scottish orator who appeared in a toga--and a story of the United States during the founding era.\n\nWhy should we care about a now-forgotten celebrity of the early 19th century? Carolyn Eastman (Associate Professor of History\, Virginia Commonwealth University) examines an explosive celebrity performer who captivated audiences at a key moment in the founding era\, a man whose career featured many of the hallmarks of celebrity we recognize from later eras: glamorous friends\, eccentric clothing\, scandalous religious views\, and even a drug habit. And yet examining his career and the Americans who loved (or hated) him reveals a vivid portrait of the United States in the midst of invention.
UID:95520-21790033@events.umich.edu
URL:https://events.umich.edu/event/95520
CLASS:PUBLIC
STATUS:CONFIRMED
CATEGORIES:american culture,american history,art,Culture,Free,Interdisciplinary,Library,Talk
LOCATION:Off Campus Location
CONTACT:
END:VEVENT
BEGIN:VEVENT
DTSTAMP:20220903T063120
DTSTART;TZID=America/Detroit:20220819T110000
DTEND;TZID=America/Detroit:20220819T113000
SUMMARY:Careers / Jobs:ScribeAmerica Virtual Information Session August 19th
DESCRIPTION:Are you looking at a future career in healthcare and need clinical experience? If so join us for our upcoming virtual info session to learn more about our medical scribe positions!\n\nIf you're not able to attend this session please use the link above to view additional session in August.
UID:96235-21792153@events.umich.edu
URL:https://events.umich.edu/event/96235
CLASS:PUBLIC
STATUS:CONFIRMED
CATEGORIES:
LOCATION:
CONTACT:
END:VEVENT
BEGIN:VEVENT
DTSTAMP:20220811T085119
DTSTART;TZID=America/Detroit:20220819T120000
DTEND;TZID=America/Detroit:20220819T133000
SUMMARY:Livestream / Virtual:Finalizing your Fulbright Application Webinar
DESCRIPTION:U-M Fulbright Program Advisors will review the online application and detail final steps for submitting an application by the U-M campus deadline. Attendees should start an online application before the workshop.\n   \n   Registration is required to attend this webinar. Please register here: https://myumi.ch/Qe9p3\n\nIf there is anything we can do to make this event accessible to you\, please contact us. Please be aware that advance notice is necessary as some accommodations may require more time for the university to arrange.
UID:96777-21793287@events.umich.edu
URL:https://events.umich.edu/event/96777
CLASS:PUBLIC
STATUS:CONFIRMED
CATEGORIES:Fellowships,International
LOCATION:Off Campus Location
CONTACT:
END:VEVENT
BEGIN:VEVENT
DTSTAMP:20260112T144046
DTSTART;TZID=America/Detroit:20220819T120000
DTEND;TZID=America/Detroit:20220819T123000
SUMMARY:Well-being:Heartfulness Guided Meditation
DESCRIPTION:Heartfulness Guided Meditation is a weekly\, drop-in program designed to help you Mental well-being. \n\nAll U-M students\, faculty\, and staff are welcome to participate in guided meditation practice with a trainer every Friday at noon over Zoom (details to join are provided below). No prior experience with meditation is required. \n\n*What will you learn?*\n\nThe guided meditation practice involves three simple steps: relaxation\, rejuvenation\, and meditation.\n\nRelaxation brings your body to a calm\, steady posture creating a stillness at the physical level\, and prepares the mind for meditation. We follow this with a rejuvenation method to detox the mind to let go of stress and complex emotions\, and will leave you feeling light and refreshed. Lastly\, learning to meditate by being mindful of your heart will connect you with yourself by listening to your heart’s voice. \n\n*Why Meditate?*\n\nWhile physical fitness keeps our bodies in shape\, meditation is an exercise for the mind and mental wellness. In addition to the measurable benefits mentally and physically\, many people benefit from an unquantifiable inner poise and harmony. \n\n*Please take Learn to Meditate session if you are new to the practice. These sessions are offered Monthly.* https://events.umich.edu/event/128708\n\n*Event Details*\n\nHeartfulness Guided Meditation \nFridays from 12-12:30 p.m. ET (except during university season days / holidays)\nJoin Via Zoom Meeting\nRegister to receive Passcode (see “Related links”\n\n\nThis wellness program is coordinated by ITS Teaching & Learning and provided at no cost by heartfulness.org.
UID:88544-21791392@events.umich.edu
URL:https://events.umich.edu/event/88544
CLASS:PUBLIC
STATUS:CONFIRMED
CATEGORIES:Free,Health & Wellness,Well-being
LOCATION:Off Campus Location
CONTACT:
END:VEVENT
BEGIN:VEVENT
DTSTAMP:20260210T142109
DTSTART;TZID=America/Detroit:20220819T123000
DTEND;TZID=America/Detroit:20220819T131500
SUMMARY:Presentation:Expedition Reef
DESCRIPTION:Learn the secrets of the “rainforests of the sea” as you embark on an oceanic safari of the world’s most vibrant—and endangered—marine ecosystems. Expedition Reef immerses you in an undersea adventure. Along the way\, discover how corals grow\, feed\, reproduce\, and support over 25% of all marine life on Earth.\n\nThe state-of-the-art Planetarium & Dome Theater at the U-M Museum of Natural History transports visitors beyond distant stars and back in time from the comfort of reclining seats. Tickets $8. Tickets are available on the day of the show at the Museum Store.
UID:95986-21791576@events.umich.edu
URL:https://events.umich.edu/event/95986
CLASS:PUBLIC
STATUS:CONFIRMED
CATEGORIES:natural history museum,Natural Sciences
LOCATION:Museum of Natural History
CONTACT:
END:VEVENT
BEGIN:VEVENT
DTSTAMP:20220809T163248
DTSTART;TZID=America/Detroit:20220819T130000
DTEND;TZID=America/Detroit:20220819T140000
SUMMARY:Lecture / Discussion:A Conversation on Indigenous Performance and Production
DESCRIPTION:Creating\, performing\, producing\, and distributing works of art are fundamental processes for many artist. The choices artists make\, the paths they choose\, the roadblocks they face shape what is possible and what audiences can encounter. This event attempts to understand how Indigenous artists make these choices\, how they practice their creative processes\, and how they navigate the networks\, institutions\, and organizations that shape their disciplines. In a conversation moderated by Department of American Culture Assistant Professor Bethany Hughes (Choctaw Nation of Oklahoma)\, representatives from an Indigenous film festival in Virginia and an Indigenous theatre company in Michigan will discuss practice\, performance\, and production through an Indigenous creative lens. Joining the conversation will be Brad Brown (Pamunkey)\, director of Pocahontas Reframed: Native American Storytellers Film Festival\, and Colleen Medicine (Ojibwe Sault Ste. Marie)\, Executive Director of Anishinaabe Theater Exchange\, and Tomantha Sylvester (Ojibwe Sault Ste. Marie)\, artistic director of Anishinaabe Theater Exchange.
UID:96719-21793117@events.umich.edu
URL:https://events.umich.edu/event/96719
CLASS:PUBLIC
STATUS:CONFIRMED
CATEGORIES:center for world performance studies,Culture,Dance,Department Of American Culture,Discussion,Free,Native American,Native American Studies,performing arts
LOCATION:Haven Hall - 3512 Haven Hall
CONTACT:
END:VEVENT
BEGIN:VEVENT
DTSTAMP:20221109T141417
DTSTART;TZID=America/Detroit:20220819T133000
DTEND;TZID=America/Detroit:20220819T141500
SUMMARY:Presentation:Sky Tonight
DESCRIPTION:A live presentation on what to find in the sky tonight and for the coming few weeks. This presentation includes how to find the cardinal directions on your own by finding the North Star\, current and upcoming constellations\, visible planets\, a few deep sky objects depending on the season\, and other interesting astronomical visualizations. If you want to be able to look up from your own backyard and know what to look for\, this is the show for you.\n\nThe state-of-the-art Planetarium & Dome Theater at the U-M Museum of Natural History transports visitors beyond distant stars and back in time from the comfort of reclining seats. Tickets $8. Tickets are available on the day of the show at the Museum Store.\n\nThe planetarium is operating at half capacity to maximize distancing between viewers.
UID:91230-21791607@events.umich.edu
URL:https://events.umich.edu/event/91230
CLASS:PUBLIC
STATUS:CONFIRMED
CATEGORIES:Astronomy,Natural Sciences,Science
LOCATION:Museum of Natural History
CONTACT:
END:VEVENT
BEGIN:VEVENT
DTSTAMP:20220912T132709
DTSTART;TZID=America/Detroit:20220819T143000
DTEND;TZID=America/Detroit:20220819T151500
SUMMARY:Presentation:Tales of the Maya Skies
DESCRIPTION:Tales of the Maya Skies immerses viewers in the wonders of Maya science\, cosmology and myth. This beautifully illustrated story takes us back in time to the jungles of Mexico to discover how Mayan scholars developed a sophisticated understanding of astronomy\, architecture\, and mathematics that enabled them to predict solstices\, solar eclipses\, weather patterns and planetary movements.\n\nThe state-of-the-art Planetarium & Dome Theater at the U-M Museum of Natural History transports visitors beyond distant stars and back in time from the comfort of reclining seats. Tickets $8. Tickets are available on the day of the show at the Museum Store.\n\nThe planetarium is operating at half capacity to maximize distancing between viewers.
UID:95036-21791669@events.umich.edu
URL:https://events.umich.edu/event/95036
CLASS:PUBLIC
STATUS:CONFIRMED
CATEGORIES:Astronomy,Museum,Natural Sciences,Science
LOCATION:Museum of Natural History
CONTACT:
END:VEVENT
BEGIN:VEVENT
DTSTAMP:20220903T123120
DTSTART;TZID=America/Detroit:20220819T150000
DTEND;TZID=America/Detroit:20220819T163000
SUMMARY:Careers / Jobs:National Student Data Corps - Data Science Career Panel - August 19\, 2022\, 3-4:30 pm ET
DESCRIPTION:We are delighted to invite you\, your friends\, students and colleagues to the National Student Data Corps (NSDC) Data Science Career Panel taking place virtually on Friday\, August 19th at 3:00 to 4:30pm ET. This event is for students and educators interested in learning more about data science careers\, internships and education opportunities from students and professionals in academia\, industry and nonprofit organizations. We welcome learners of all ages\, including undergraduate\, graduate\, highschool and middle school students\, as well as educators. Please join us\, and share this invitation with others who might be interested. The eventis free.\n\nYou will also learn about the National Student Data Corps Learner Central for free access to online data science education\, Educator Central for curriculum development\, Career Central to prepare for internships and career opportunities\, and the NSDC Chapter System to create a local and networked community of support for data science learners. Nearly 700 people registered for the first NSDC Data Science Career Panel held in February 2021\, and the community continues to grow.\n\nThe online flyer (https://nebigdatahub.org/wp-content/uploads/2022/06/Data-Science-Career-Panel-Flyer-3.pdf) provides more information about the event\, and the inspiring students\, professors\, researchers\, and industry professionals who will share their journeys and answer questions about why to pursue data science careers and education\, how to find internships and jobs in data science\, and other questions on your mind.\n\nPlease visit the event website to view the speaker bios and register there. You can submit questions for the panelists to consider when you register for the event. (https://nebigdatahub.org/events/national-student-data-corps-august-2022-data-science-panel/)\n\nOn behalf of the National Student Data Corps Founding Committee\, thank you and we hope to see you virtually on August 19th!\n\nAny questions please email nsdc@nebigdatahub.org\, or fh2417@columbia.edu.
UID:95914-21791430@events.umich.edu
URL:https://events.umich.edu/event/95914
CLASS:PUBLIC
STATUS:CONFIRMED
CATEGORIES:
LOCATION:
CONTACT:
END:VEVENT
BEGIN:VEVENT
DTSTAMP:20221109T141417
DTSTART;TZID=America/Detroit:20220819T153000
DTEND;TZID=America/Detroit:20220819T161500
SUMMARY:Presentation:Sky Tonight
DESCRIPTION:A live presentation on what to find in the sky tonight and for the coming few weeks. This presentation includes how to find the cardinal directions on your own by finding the North Star\, current and upcoming constellations\, visible planets\, a few deep sky objects depending on the season\, and other interesting astronomical visualizations. If you want to be able to look up from your own backyard and know what to look for\, this is the show for you.\n\nThe state-of-the-art Planetarium & Dome Theater at the U-M Museum of Natural History transports visitors beyond distant stars and back in time from the comfort of reclining seats. Tickets $8. Tickets are available on the day of the show at the Museum Store.\n\nThe planetarium is operating at half capacity to maximize distancing between viewers.
UID:91230-21791638@events.umich.edu
URL:https://events.umich.edu/event/91230
CLASS:PUBLIC
STATUS:CONFIRMED
CATEGORIES:Astronomy,Natural Sciences,Science
LOCATION:Museum of Natural History
CONTACT:
END:VEVENT
BEGIN:VEVENT
DTSTAMP:20220819T181621
DTSTART;TZID=America/Detroit:20220819T180000
SUMMARY:Sporting Event:Field Hockey vs Michigan State (Ex)
DESCRIPTION:Field Hockey vs Michigan State (Ex)
UID:95824-21791031@events.umich.edu
URL:https://events.umich.edu/event/95824
CLASS:PUBLIC
STATUS:CONFIRMED
CATEGORIES:Athletics,Athletics - Field Hockey
LOCATION:Off Campus Location
CONTACT:
END:VEVENT
BEGIN:VEVENT
DTSTAMP:20220819T181015
DTSTART;TZID=America/Detroit:20220819T200000
SUMMARY:Performance:An Evening W/ Hiss Golden
DESCRIPTION:Presented by The Ark Turn Tail in the Milky Way. \nPlease visit https://mutotix.umich.edu/3408/3409 for more detail.
UID:94724-21763513@events.umich.edu
URL:https://events.umich.edu/event/94724
CLASS:PUBLIC
STATUS:CONFIRMED
CATEGORIES:Ark,Mutotix
LOCATION:ARK Reserved + Gold Circle
CONTACT:
END:VEVENT
END:VCALENDAR