BEGIN:VCALENDAR
VERSION:2.0
PRODID:-//UM//UM*Events//EN
CALSCALE:GREGORIAN
BEGIN:VTIMEZONE
TZID:America/Detroit
TZURL:http://tzurl.org/zoneinfo/America/Detroit
X-LIC-LOCATION:America/Detroit
BEGIN:DAYLIGHT
TZOFFSETFROM:-0500
TZOFFSETTO:-0400
TZNAME:EDT
DTSTART:20070311T020000
RRULE:FREQ=YEARLY;BYMONTH=3;BYDAY=2SU
END:DAYLIGHT
BEGIN:STANDARD
TZOFFSETFROM:-0400
TZOFFSETTO:-0500
TZNAME:EST
DTSTART:20071104T020000
RRULE:FREQ=YEARLY;BYMONTH=11;BYDAY=1SU
END:STANDARD
END:VTIMEZONE
BEGIN:VEVENT
DTSTAMP:20230324T120005
DTSTART;TZID=America/Detroit:20220822T000000
DTEND;TZID=America/Detroit:20220822T235959
SUMMARY:Community Service:Homework Help at The Children's Center
DESCRIPTION:The Homework Help program offers children assistance with their homework assignments. Children are encouraged to bring homework and are paired with a volunteer to assist them. This program is a critical service in helping children thrive. Volunteers give children the tools they need to be successful in school.Virtual and in-person volunteer opportunities are available. If you would like to volunteer\, please start the enrollment process by creating an account on the Children Center's Volunteer Site found HERE. After your account is created\, the Children's Center will reach out to you within 2 business days to answer any questions and discuss the next steps.In accordance with the CMS Vaccine Mandate\, those volunteering in-person at the Children’s Center are required to be fully vaccinated and must provide proof of full vaccination upon request.
UID:93885-21787919@events.umich.edu
URL:https://events.umich.edu/event/93885
CLASS:PUBLIC
STATUS:CONFIRMED
CATEGORIES:
LOCATION:The Children&#039;s Center 
CONTACT:
END:VEVENT
BEGIN:VEVENT
DTSTAMP:20220911T180007
DTSTART;TZID=America/Detroit:20220822T000000
DTEND;TZID=America/Detroit:20220822T235959
SUMMARY:Auditions:Spring Awakening Auditions Due!
DESCRIPTION:Interested in performing in Spring Awakening at the Arthur Miller Theatre? Go ahead and send in an audition to our audition form by 11:59pm on Sunday\, September 11!
UID:96360-21792329@events.umich.edu
URL:https://events.umich.edu/event/96360
CLASS:PUBLIC
STATUS:CONFIRMED
CATEGORIES:
LOCATION:Online
CONTACT:
END:VEVENT
BEGIN:VEVENT
DTSTAMP:20220627T142559
DTSTART;TZID=America/Detroit:20220822T080000
DTEND;TZID=America/Detroit:20220822T190000
SUMMARY:Exhibition:A Perfect Pairing of Cookbooks and Dinnerware
DESCRIPTION:A dozen selections from the Janice Bluestein Longone Culinary Archive from our Special Collections Research Center have been perfectly paired with dishes from the International Museum of Dinnerware Design to provide a feast for the eyes.\n\nA “perfect pairing” usually refers to a taste compatibility between wine and a food group\, such as wine and cheese. For example\, some believe a perfect pairing would be Cabernet with duck confit with turnips or Pinot Noir with bison rib eye steaks with roasted garlic — wines with sauces\, spicy food\, hors d’oeurvres\, etc. But other things can be perfectly paired such as fruit and cheese\, a couple\, or a clothing selection.\n\nSometimes pairs are made more perfect when they are catalysts for the imagination. That is what curators Margaret Carney\, Ph.D.\, and Juli McLoone are serving in \"A Perfect Pairing of Cookbooks and Dinnerware.\" The right ingredients along with an inspired recipe creates a delicious and beautiful meal that is enhanced when the cuisine is presented on a thoughtfully curated table setting\, or\, we hope\, in a thoughtfully curated exhibit. Bon Appetit!
UID:95818-21790983@events.umich.edu
URL:https://events.umich.edu/event/95818
CLASS:PUBLIC
STATUS:CONFIRMED
CATEGORIES:Exhibition,Free,Library
LOCATION:Hatcher Graduate Library - Audubon Room, 1st floor
CONTACT:
END:VEVENT
BEGIN:VEVENT
DTSTAMP:20221003T125034
DTSTART;TZID=America/Detroit:20220822T080000
DTEND;TZID=America/Detroit:20220822T190000
SUMMARY:Exhibition:The Dance for Mother Earth Powwow
DESCRIPTION:This exhibit features various aspects of the Native North American powwow. More specifically\, it features the history and culture behind Ann Arbor’s \"Dance for Mother Earth Powwow\,\" which is approaching its much-anticipated 50th celebration.\n\nThe Dance for Mother Earth Powwow is a multi-decade\, intertribal celebration of Indigenous cultures. It grew from its early beginnings as a small gathering in a field just outside of Ann Arbor into one of the largest student-led powwows in North America. The event attracts crowds of thousands — dancers\, singers\, artists\, tribal members from across the country\, and non-Indigenous members of the community.\n\nStop by to learn more about The Dance for Mother Earth Powwow\, modern Indigenous culture\, and resources to connect to today on campus.\n\nThis exhibition was curated by Michigan Library Scholar interns\, Allison Jiang and Andrea Medina. The Michigan Library Scholars internship program provides undergraduate students with the opportunity to research and develop a capstone project under the guidance of experienced library professionals at one of the largest academic research libraries in the world.
UID:96225-21792079@events.umich.edu
URL:https://events.umich.edu/event/96225
CLASS:PUBLIC
STATUS:CONFIRMED
CATEGORIES:Exhibition,Free,Library,Native American
LOCATION:Hatcher Graduate Library - North Lobby (just off the Diag)
CONTACT:
END:VEVENT
BEGIN:VEVENT
DTSTAMP:20220802T141348
DTSTART;TZID=America/Detroit:20220822T083000
DTEND;TZID=America/Detroit:20220822T170000
SUMMARY:Exhibition:Shared Humanity
DESCRIPTION:July 30 - August 31\, 2022\nMon-Fri from 8:30am-5pm and Sat-Sun 10am-2:30pm.\nGallery 100 at 100 Silver Maples Dr\, Chelsea\, MI 48118\nParking available near the main entrance. Please sign in and screen yourself in the entryway.\n\nAdditional Information: https://myumi.ch/Nmx2j\n\nBeginning Saturday\, July 30\, the exhibit Shared Humanity will be featured at Silver Maples in Chelsea from the Prison Creative Arts Project’s (PCAP) private collection. The artwork is for sale and will be on display in the 100 Gallery through August 31\, 2022.\n\nAccording to Sarah Unrath\, Curator and Arts Programming Coordinator of PCAP\, “the exhibition is designed to connect viewer to artist through the wide gamut of their human experiences. We all have dreams\, memories\, goals\, pasts. We all process emotions of anger\, joy\, grief\, nostalgia. We have specially selected works that show a culmination of ways artists in prison have dealt with complex realities of being human.”\n\nThe curatorial staff at PCAP worked closely with artists who were formerly incarcerated\, and the team at Silver Maples\, to select works that would fit the theme of this exhibition and be of interest to the broader audience. Visitors will see works from familiar artists\, including Andy Wynkoop\, An ArtsyGuy\, RIK\, Roger (Free-Hand) Stephenson\, and many others.\n\n“This exhibition centralizes intersecting themes and multi-faceted layers of what it means to be human. Our hope is to challenge the lens through which the exhibit audience looks at people in prison. Coming out of a season that has worn us thin of human connection\, this exhibit presents a unique opportunity to engage in powerful dialogue inspired by the art in Shared Humanity\,” says Unrath\n\nThe 100 Gallery is open Mon-Fri are 8:30am-5pm and Sat-Sun 10am-2:30pm. \nAdmission is free and open to the public. \nSales will be conducted in person on Saturday\, August 6 with alternative phone sale appointments available: https://myumi.ch/DJ6M5\n\nSpecial Storytelling Event: Creating Art Inside\nSaturday\, Aug 6\, 2022 @ 2:00pm\nMaples Room at 100 Silver Maples Dr\, Chelsea\, MI 48118\n\nIn this hour\, we take a look into the lives of artists that created work in the most difficult of circumstances: prison. Hear first hand about their lived experiences and the impact art-making had on their time behind the walls. Hosted by the Prison Creative Arts Project. In-person art sales will be available before and after the event.
UID:95559-21792511@events.umich.edu
URL:https://events.umich.edu/event/95559
CLASS:PUBLIC
STATUS:CONFIRMED
CATEGORIES:Activism,Anthropology,art,Exhibition,Free,In Person,Incarceration,social justice,Storytelling,visual arts
LOCATION:Off Campus Location
CONTACT:
END:VEVENT
BEGIN:VEVENT
DTSTAMP:20220823T134036
DTSTART;TZID=America/Detroit:20220822T090000
DTEND;TZID=America/Detroit:20220822T100000
SUMMARY:Lecture / Discussion:Cities on the Front Line: Urban Approaches to National Issues
DESCRIPTION:The tumult of the first years of this decade – a global pandemic\, an unprecedented presidential election\, movements for social and racial justice\, impacts of climate change\, pressures on urban infrastructure –  has played out in our nation’s cities and thrust the challenges and opportunities for mayors and their leadership into the spotlight. This special virtual event brings together mayors from cities across the states of the Big Ten in a discussion about how leadership at the city level shapes our national approaches to some of the most pressing issues of the day.\n\nWelcoming Remarks:\nJonathan Massey\, Dean\, Taubman College of Architecture & Urban Planning\, University of Michigan\nChristopher Taylor\, Mayor of Ann Arbor\, MI\n\nConfirmed Participants:\nMike Duggan\, Mayor of Detroit\, MI\nLori Lightfoot\, Mayor of Chicago\, IL\nAftab Pureval\, Mayor of Cincinnati\, OH\nBruce Teague\, Mayor of Iowa City\, IA\n\nModerated by Paul Helmke\, Director\, Civic Leaders Center\, Paul H. O’Neill School of Public and Environmental Affairs\, Indiana University and former Mayor of Fort Wayne\, IN\n\nThis virtual event will have a live watch party for the University of Michigan community in the Art & Architecture Building (2000 Bonisteel Blvd.\, Ann Arbor)\, Classroom 1360. Portions of the event will be filmed and live streamed from the watch party. All are welcome to attend.\n\nSponsored by\nBig Ten Collaboration: Democracy in the 21st Century\nCenter for Local\, State\, and Urban Policy\, University of Michigan\nDemocracy & Debate 2022-’23\, University of Michigan\nGerald R. Ford School of Public Policy\, University of Michigan\nTaubman College of Architecture & Urban Planning\, University of Michigan\n\nWatch Party Schedule\nMonday\, September 12\, 2022\n3:40PM Doors to Classroom 1360 open for seating\n3:55PM Doors to Classroom 1360 close for seating\n4:00PM Mayors Forum begins\n5:00PM Mayors Forum concludes\n\nImportant Information\nThe doors to Classroom 1360 will be open from 3:40PM - 3:55PM. Guests that arrive after 3:55PM will not be admitted into the classroom for the watch party until after the welcoming remarks have been made. Dean Jonathan Massey and Mayor Christopher Taylor will be giving the welcoming remarks for the event live from the classroom. Attendees sitting behind these presenters will be visible on-camera to the virtual panelists and public audience.
UID:97106-21794134@events.umich.edu
URL:https://events.umich.edu/event/97106
CLASS:PUBLIC
STATUS:CONFIRMED
CATEGORIES:Activism,All Majors Welcome,alumni,Architecture\, Urban Planning,cities,Civil Rights,climate,Community Engagement,Diversity,General Public,gerald r. ford school of public policy,housing,interdisciplinary,planning,Poverty,Public Policy,Social Impact,social justice,taubman college,Taubmancollege,Transportation\, Urban Planning
LOCATION:
CONTACT:
END:VEVENT
BEGIN:VEVENT
DTSTAMP:20220823T134036
DTSTART;TZID=America/Detroit:20220822T090000
DTEND;TZID=America/Detroit:20220822T100000
SUMMARY:Lecture / Discussion:Cities on the Front Line: Urban Approaches to National Issues
DESCRIPTION:The tumult of the first years of this decade – a global pandemic\, an unprecedented presidential election\, movements for social and racial justice\, impacts of climate change\, pressures on urban infrastructure –  has played out in our nation’s cities and thrust the challenges and opportunities for mayors and their leadership into the spotlight. This special virtual event brings together mayors from cities across the states of the Big Ten in a discussion about how leadership at the city level shapes our national approaches to some of the most pressing issues of the day.\n\nWelcoming Remarks:\nJonathan Massey\, Dean\, Taubman College of Architecture & Urban Planning\, University of Michigan\nChristopher Taylor\, Mayor of Ann Arbor\, MI\n\nConfirmed Participants:\nMike Duggan\, Mayor of Detroit\, MI\nLori Lightfoot\, Mayor of Chicago\, IL\nAftab Pureval\, Mayor of Cincinnati\, OH\nBruce Teague\, Mayor of Iowa City\, IA\n\nModerated by Paul Helmke\, Director\, Civic Leaders Center\, Paul H. O’Neill School of Public and Environmental Affairs\, Indiana University and former Mayor of Fort Wayne\, IN\n\nThis virtual event will have a live watch party for the University of Michigan community in the Art & Architecture Building (2000 Bonisteel Blvd.\, Ann Arbor)\, Classroom 1360. Portions of the event will be filmed and live streamed from the watch party. All are welcome to attend.\n\nSponsored by\nBig Ten Collaboration: Democracy in the 21st Century\nCenter for Local\, State\, and Urban Policy\, University of Michigan\nDemocracy & Debate 2022-’23\, University of Michigan\nGerald R. Ford School of Public Policy\, University of Michigan\nTaubman College of Architecture & Urban Planning\, University of Michigan\n\nWatch Party Schedule\nMonday\, September 12\, 2022\n3:40PM Doors to Classroom 1360 open for seating\n3:55PM Doors to Classroom 1360 close for seating\n4:00PM Mayors Forum begins\n5:00PM Mayors Forum concludes\n\nImportant Information\nThe doors to Classroom 1360 will be open from 3:40PM - 3:55PM. Guests that arrive after 3:55PM will not be admitted into the classroom for the watch party until after the welcoming remarks have been made. Dean Jonathan Massey and Mayor Christopher Taylor will be giving the welcoming remarks for the event live from the classroom. Attendees sitting behind these presenters will be visible on-camera to the virtual panelists and public audience.
UID:97106-21794135@events.umich.edu
URL:https://events.umich.edu/event/97106
CLASS:PUBLIC
STATUS:CONFIRMED
CATEGORIES:Activism,All Majors Welcome,alumni,Architecture\, Urban Planning,cities,Civil Rights,climate,Community Engagement,Diversity,General Public,gerald r. ford school of public policy,housing,interdisciplinary,planning,Poverty,Public Policy,Social Impact,social justice,taubman college,Taubmancollege,Transportation\, Urban Planning
LOCATION:
CONTACT:
END:VEVENT
BEGIN:VEVENT
DTSTAMP:20220906T123248
DTSTART;TZID=America/Detroit:20220822T100000
DTEND;TZID=America/Detroit:20220822T120000
SUMMARY:Careers / Jobs:UPS Careers - Management and More
DESCRIPTION:Learn about how careers within UPS works! Many of our top corporate team and lead management in departments such as mechanical started their careers as package handlers. UPS offers a multitude of opportunities from professional development to benefits such as a 401K.\nelizabethwood@ups.com
UID:97228-21794160@events.umich.edu
URL:https://events.umich.edu/event/97228
CLASS:PUBLIC
STATUS:CONFIRMED
CATEGORIES:
LOCATION:
CONTACT:
END:VEVENT
BEGIN:VEVENT
DTSTAMP:20220905T120034
DTSTART;TZID=America/Detroit:20220822T120000
DTEND;TZID=America/Detroit:20220822T235959
SUMMARY:Other:Annual Meeting Scheduling Poll
DESCRIPTION:During this period\, members will be able to fill out this poll to schedule meeting times for this year.
UID:95625-21790478@events.umich.edu
URL:https://events.umich.edu/event/95625
CLASS:PUBLIC
STATUS:CONFIRMED
CATEGORIES:
LOCATION:Online
CONTACT:
END:VEVENT
BEGIN:VEVENT
DTSTAMP:20220906T063245
DTSTART;TZID=America/Detroit:20220822T120000
DTEND;TZID=America/Detroit:20220822T130000
SUMMARY:Careers / Jobs:Webinar: Inhouse Consulting Opportunities with Merck KGaA\, Darmstadt\, Germany (US Based)
DESCRIPTION:Calling all final year or recent Masters/MBA/PhD graduates interested in accelerating your career in Healthcare\, Electronics\, or Life Science industries! We have an exciting 2-year leadership development program that utilizes a combination of consulting project-based learning and functional rotations to help you build your foundation as a future leader in a vibrant Science and Technology company!\n \nThe US Inhouse Consulting team of Merck KGaA\, Darmstadt\, Germany based in the Boston\, MA area will be hosting an informational webinar on August 22nd from 12:00-1:00pm ESTto discuss our accelerated global development program. Please use this link to register for the upcoming webinar: https://primetime.bluejeans.com/a2m/register/aqvzzjux \n \nJoin us to learn more about the program and receive tips on how prepare for the application process!\n
UID:96970-21793633@events.umich.edu
URL:https://events.umich.edu/event/96970
CLASS:PUBLIC
STATUS:CONFIRMED
CATEGORIES:
LOCATION:
CONTACT:
END:VEVENT
BEGIN:VEVENT
DTSTAMP:20260210T142109
DTSTART;TZID=America/Detroit:20220822T123000
DTEND;TZID=America/Detroit:20220822T131500
SUMMARY:Presentation:Expedition Reef
DESCRIPTION:Learn the secrets of the “rainforests of the sea” as you embark on an oceanic safari of the world’s most vibrant—and endangered—marine ecosystems. Expedition Reef immerses you in an undersea adventure. Along the way\, discover how corals grow\, feed\, reproduce\, and support over 25% of all marine life on Earth.\n\nThe state-of-the-art Planetarium & Dome Theater at the U-M Museum of Natural History transports visitors beyond distant stars and back in time from the comfort of reclining seats. Tickets $8. Tickets are available on the day of the show at the Museum Store.
UID:95986-21791579@events.umich.edu
URL:https://events.umich.edu/event/95986
CLASS:PUBLIC
STATUS:CONFIRMED
CATEGORIES:natural history museum,Natural Sciences
LOCATION:Museum of Natural History
CONTACT:
END:VEVENT
BEGIN:VEVENT
DTSTAMP:20220817T213846
DTSTART;TZID=America/Detroit:20220822T124500
DTEND;TZID=America/Detroit:20220822T180000
SUMMARY:Conference / Symposium:School of Education's Race & Social Justice Institute
DESCRIPTION:This year\, the Institute positions the concept of truth as fundamental to the work of social justice in education. “Truth” harbors multiple meanings within education and educational research. First and foremost\, schools\, curriculum\, teachers\, teaching\, and learning owe their very purpose to truth in knowledge. Second\, the research  and scholarship produced within the academy relies on qualifiable philosophical stances about what constitutes truth. Within the academy\, there is an on-going debate about the singularity of truth as opposed to the multiplicity of truths—the competing conceptualizations that speak to the ‘politics of reality.’  And\, yet\, distinctions must be made between the multiplicity of truths and lies. The Institute theme endeavors to fully engage the current socio political moment\, including competing discourses related to “the Big Lie” of the 2020 election\, the congressional hearings on January 6th\, local debates on critical race theory in school curriculum\, the Supreme Court overturning Roe v. Wade ruling\, as well as the distrust fomented around public health before\, during\, and after the  COVID-19 pandemic.  \n\nIn exploring the fracturing of our social relations and systems\, specifically in education\, the Institute aims to deal substantively with the question of truth. The current moment begs for education research to answer not only how people come to understand and believe different systems of knowledge across various disciplines\, but also how people come to misunderstand and disbelieve in various systems of knowledge.
UID:97074-21793804@events.umich.edu
URL:https://events.umich.edu/event/97074
CLASS:PUBLIC
STATUS:CONFIRMED
CATEGORIES:Diversity Equity And Inclusion
LOCATION:School of Education - 1005
CONTACT:
END:VEVENT
BEGIN:VEVENT
DTSTAMP:20220812T181604
DTSTART;TZID=America/Detroit:20220822T133000
DTEND;TZID=America/Detroit:20220822T143000
SUMMARY:Lecture / Discussion:Rackham Grad School 101: The Rackham DEI Certificate—Benefits and Advantages for Your Career
DESCRIPTION:\nThe Rackham Diversity\, Equity\, and Inclusion (DEI) Certificate is the preeminent professional development experience during graduate school. This presentation will define what the DEI certificate is\, what is required to obtain it\, and how it will benefit your career aspirations.\nRegistration is required at https://myumi.ch/qAPAQ.\nWe want to ensure full and equitable participation in our events. If an accommodation would promote your full participation in this event\, please follow the registration link to indicate your accommodation requirements. Please let us know as soon as possible in order to have adequate time\, preferably one week\, to arrange for your requested accommodations or an effective alternative.\n
UID:95784-21790899@events.umich.edu
URL:https://events.umich.edu/event/95784
CLASS:PUBLIC
STATUS:CONFIRMED
CATEGORIES:Graduate Students
LOCATION:Off Campus Location
CONTACT:
END:VEVENT
BEGIN:VEVENT
DTSTAMP:20221109T141417
DTSTART;TZID=America/Detroit:20220822T133000
DTEND;TZID=America/Detroit:20220822T141500
SUMMARY:Presentation:Sky Tonight
DESCRIPTION:A live presentation on what to find in the sky tonight and for the coming few weeks. This presentation includes how to find the cardinal directions on your own by finding the North Star\, current and upcoming constellations\, visible planets\, a few deep sky objects depending on the season\, and other interesting astronomical visualizations. If you want to be able to look up from your own backyard and know what to look for\, this is the show for you.\n\nThe state-of-the-art Planetarium & Dome Theater at the U-M Museum of Natural History transports visitors beyond distant stars and back in time from the comfort of reclining seats. Tickets $8. Tickets are available on the day of the show at the Museum Store.\n\nThe planetarium is operating at half capacity to maximize distancing between viewers.
UID:91230-21791610@events.umich.edu
URL:https://events.umich.edu/event/91230
CLASS:PUBLIC
STATUS:CONFIRMED
CATEGORIES:Astronomy,Natural Sciences,Science
LOCATION:Museum of Natural History
CONTACT:
END:VEVENT
BEGIN:VEVENT
DTSTAMP:20220912T132709
DTSTART;TZID=America/Detroit:20220822T143000
DTEND;TZID=America/Detroit:20220822T151500
SUMMARY:Presentation:Tales of the Maya Skies
DESCRIPTION:Tales of the Maya Skies immerses viewers in the wonders of Maya science\, cosmology and myth. This beautifully illustrated story takes us back in time to the jungles of Mexico to discover how Mayan scholars developed a sophisticated understanding of astronomy\, architecture\, and mathematics that enabled them to predict solstices\, solar eclipses\, weather patterns and planetary movements.\n\nThe state-of-the-art Planetarium & Dome Theater at the U-M Museum of Natural History transports visitors beyond distant stars and back in time from the comfort of reclining seats. Tickets $8. Tickets are available on the day of the show at the Museum Store.\n\nThe planetarium is operating at half capacity to maximize distancing between viewers.
UID:95036-21791672@events.umich.edu
URL:https://events.umich.edu/event/95036
CLASS:PUBLIC
STATUS:CONFIRMED
CATEGORIES:Astronomy,Museum,Natural Sciences,Science
LOCATION:Museum of Natural History
CONTACT:
END:VEVENT
BEGIN:VEVENT
DTSTAMP:20220906T123230
DTSTART;TZID=America/Detroit:20220822T150000
DTEND;TZID=America/Detroit:20220822T154500
SUMMARY:Careers / Jobs:Aronson Virtual Event: Launching Your Career in Accounting
DESCRIPTION:Join Aronson LLC for our Aronson Virtual Event Series - Launching Your Career in Accounting Panel!\n\nEvent Details\nWho: Accounting Students Interested in Pursuing a Career as a CPA\nWhat: Hear From Our Audit and Tax Associates About Life at Aronson and Learn About Our Open Job Opportunities!\nWhen: Monday\, August 22nd from 3:00-3:45 PM\nWhere:  https://aronsonllc.zoom.us/j/83550441905?pwd=SlY1TzVhcWs4eXlJODQ0bUtKbXFUQT09\n\nAbout Aronson\nAronson LLC provides a comprehensive platform of assurance\,tax\, and consulting solutions to today's most active industry sectors and successful individuals. For more than 55 years\, we have purposefully expanded our service offerings and deepened our industry specialties to better serve the needs of our clients\, people\, and community. From startup to exit\, we help our clients maximize opportunity\, minimize risk\, and unlock their full potential.
UID:96736-21793221@events.umich.edu
URL:https://events.umich.edu/event/96736
CLASS:PUBLIC
STATUS:CONFIRMED
CATEGORIES:
LOCATION:
CONTACT:
END:VEVENT
BEGIN:VEVENT
DTSTAMP:20221109T141417
DTSTART;TZID=America/Detroit:20220822T153000
DTEND;TZID=America/Detroit:20220822T161500
SUMMARY:Presentation:Sky Tonight
DESCRIPTION:A live presentation on what to find in the sky tonight and for the coming few weeks. This presentation includes how to find the cardinal directions on your own by finding the North Star\, current and upcoming constellations\, visible planets\, a few deep sky objects depending on the season\, and other interesting astronomical visualizations. If you want to be able to look up from your own backyard and know what to look for\, this is the show for you.\n\nThe state-of-the-art Planetarium & Dome Theater at the U-M Museum of Natural History transports visitors beyond distant stars and back in time from the comfort of reclining seats. Tickets $8. Tickets are available on the day of the show at the Museum Store.\n\nThe planetarium is operating at half capacity to maximize distancing between viewers.
UID:91230-21791641@events.umich.edu
URL:https://events.umich.edu/event/91230
CLASS:PUBLIC
STATUS:CONFIRMED
CATEGORIES:Astronomy,Natural Sciences,Science
LOCATION:Museum of Natural History
CONTACT:
END:VEVENT
END:VCALENDAR