BEGIN:VCALENDAR
VERSION:2.0
PRODID:-//UM//UM*Events//EN
CALSCALE:GREGORIAN
BEGIN:VTIMEZONE
TZID:America/Detroit
TZURL:http://tzurl.org/zoneinfo/America/Detroit
X-LIC-LOCATION:America/Detroit
BEGIN:DAYLIGHT
TZOFFSETFROM:-0500
TZOFFSETTO:-0400
TZNAME:EDT
DTSTART:20070311T020000
RRULE:FREQ=YEARLY;BYMONTH=3;BYDAY=2SU
END:DAYLIGHT
BEGIN:STANDARD
TZOFFSETFROM:-0400
TZOFFSETTO:-0500
TZNAME:EST
DTSTART:20071104T020000
RRULE:FREQ=YEARLY;BYMONTH=11;BYDAY=1SU
END:STANDARD
END:VTIMEZONE
BEGIN:VEVENT
DTSTAMP:20220905T120034
DTSTART;TZID=America/Detroit:20220828T000000
DTEND;TZID=America/Detroit:20220828T235959
SUMMARY:Other:Annual Meeting Scheduling Poll
DESCRIPTION:During this period\, members will be able to fill out this poll to schedule meeting times for this year.
UID:95625-21790484@events.umich.edu
URL:https://events.umich.edu/event/95625
CLASS:PUBLIC
STATUS:CONFIRMED
CATEGORIES:
LOCATION:Online
CONTACT:
END:VEVENT
BEGIN:VEVENT
DTSTAMP:20230324T120005
DTSTART;TZID=America/Detroit:20220828T000000
DTEND;TZID=America/Detroit:20220828T235959
SUMMARY:Community Service:Homework Help at The Children's Center
DESCRIPTION:The Homework Help program offers children assistance with their homework assignments. Children are encouraged to bring homework and are paired with a volunteer to assist them. This program is a critical service in helping children thrive. Volunteers give children the tools they need to be successful in school.Virtual and in-person volunteer opportunities are available. If you would like to volunteer\, please start the enrollment process by creating an account on the Children Center's Volunteer Site found HERE. After your account is created\, the Children's Center will reach out to you within 2 business days to answer any questions and discuss the next steps.In accordance with the CMS Vaccine Mandate\, those volunteering in-person at the Children’s Center are required to be fully vaccinated and must provide proof of full vaccination upon request.
UID:93885-21787925@events.umich.edu
URL:https://events.umich.edu/event/93885
CLASS:PUBLIC
STATUS:CONFIRMED
CATEGORIES:
LOCATION:The Children&#039;s Center 
CONTACT:
END:VEVENT
BEGIN:VEVENT
DTSTAMP:20220911T180007
DTSTART;TZID=America/Detroit:20220828T000000
DTEND;TZID=America/Detroit:20220828T235959
SUMMARY:Auditions:Spring Awakening Auditions Due!
DESCRIPTION:Interested in performing in Spring Awakening at the Arthur Miller Theatre? Go ahead and send in an audition to our audition form by 11:59pm on Sunday\, September 11!
UID:96360-21792335@events.umich.edu
URL:https://events.umich.edu/event/96360
CLASS:PUBLIC
STATUS:CONFIRMED
CATEGORIES:
LOCATION:Online
CONTACT:
END:VEVENT
BEGIN:VEVENT
DTSTAMP:20220627T142559
DTSTART;TZID=America/Detroit:20220828T080000
DTEND;TZID=America/Detroit:20220828T190000
SUMMARY:Exhibition:A Perfect Pairing of Cookbooks and Dinnerware
DESCRIPTION:A dozen selections from the Janice Bluestein Longone Culinary Archive from our Special Collections Research Center have been perfectly paired with dishes from the International Museum of Dinnerware Design to provide a feast for the eyes.\n\nA “perfect pairing” usually refers to a taste compatibility between wine and a food group\, such as wine and cheese. For example\, some believe a perfect pairing would be Cabernet with duck confit with turnips or Pinot Noir with bison rib eye steaks with roasted garlic — wines with sauces\, spicy food\, hors d’oeurvres\, etc. But other things can be perfectly paired such as fruit and cheese\, a couple\, or a clothing selection.\n\nSometimes pairs are made more perfect when they are catalysts for the imagination. That is what curators Margaret Carney\, Ph.D.\, and Juli McLoone are serving in \"A Perfect Pairing of Cookbooks and Dinnerware.\" The right ingredients along with an inspired recipe creates a delicious and beautiful meal that is enhanced when the cuisine is presented on a thoughtfully curated table setting\, or\, we hope\, in a thoughtfully curated exhibit. Bon Appetit!
UID:95818-21790989@events.umich.edu
URL:https://events.umich.edu/event/95818
CLASS:PUBLIC
STATUS:CONFIRMED
CATEGORIES:Exhibition,Free,Library
LOCATION:Hatcher Graduate Library - Audubon Room, 1st floor
CONTACT:
END:VEVENT
BEGIN:VEVENT
DTSTAMP:20221003T125034
DTSTART;TZID=America/Detroit:20220828T080000
DTEND;TZID=America/Detroit:20220828T190000
SUMMARY:Exhibition:The Dance for Mother Earth Powwow
DESCRIPTION:This exhibit features various aspects of the Native North American powwow. More specifically\, it features the history and culture behind Ann Arbor’s \"Dance for Mother Earth Powwow\,\" which is approaching its much-anticipated 50th celebration.\n\nThe Dance for Mother Earth Powwow is a multi-decade\, intertribal celebration of Indigenous cultures. It grew from its early beginnings as a small gathering in a field just outside of Ann Arbor into one of the largest student-led powwows in North America. The event attracts crowds of thousands — dancers\, singers\, artists\, tribal members from across the country\, and non-Indigenous members of the community.\n\nStop by to learn more about The Dance for Mother Earth Powwow\, modern Indigenous culture\, and resources to connect to today on campus.\n\nThis exhibition was curated by Michigan Library Scholar interns\, Allison Jiang and Andrea Medina. The Michigan Library Scholars internship program provides undergraduate students with the opportunity to research and develop a capstone project under the guidance of experienced library professionals at one of the largest academic research libraries in the world.
UID:96225-21792085@events.umich.edu
URL:https://events.umich.edu/event/96225
CLASS:PUBLIC
STATUS:CONFIRMED
CATEGORIES:Exhibition,Free,Library,Native American
LOCATION:Hatcher Graduate Library - North Lobby (just off the Diag)
CONTACT:
END:VEVENT
BEGIN:VEVENT
DTSTAMP:20220824T122844
DTSTART;TZID=America/Detroit:20220828T100000
DTEND;TZID=America/Detroit:20220828T170000
SUMMARY:Other:Poster Sale
DESCRIPTION:Check out the biggest and newest back-to-school poster sale!\n\nSunday\, 8/28-Friday\, 9/2\nSunday-Thursday 10:00am-6:00pm\nFriday-10:00am-5:00pm\n\nMichigan Union\, First Floor
UID:96745-21793231@events.umich.edu
URL:https://events.umich.edu/event/96745
CLASS:PUBLIC
STATUS:CONFIRMED
CATEGORIES:center for campus involvement,sale,Welcome to Michigan
LOCATION:Michigan Union - South Lounge, first floor
CONTACT:
END:VEVENT
BEGIN:VEVENT
DTSTAMP:20220802T141348
DTSTART;TZID=America/Detroit:20220828T100000
DTEND;TZID=America/Detroit:20220828T143000
SUMMARY:Exhibition:Shared Humanity
DESCRIPTION:July 30 - August 31\, 2022\nMon-Fri from 8:30am-5pm and Sat-Sun 10am-2:30pm.\nGallery 100 at 100 Silver Maples Dr\, Chelsea\, MI 48118\nParking available near the main entrance. Please sign in and screen yourself in the entryway.\n\nAdditional Information: https://myumi.ch/Nmx2j\n\nBeginning Saturday\, July 30\, the exhibit Shared Humanity will be featured at Silver Maples in Chelsea from the Prison Creative Arts Project’s (PCAP) private collection. The artwork is for sale and will be on display in the 100 Gallery through August 31\, 2022.\n\nAccording to Sarah Unrath\, Curator and Arts Programming Coordinator of PCAP\, “the exhibition is designed to connect viewer to artist through the wide gamut of their human experiences. We all have dreams\, memories\, goals\, pasts. We all process emotions of anger\, joy\, grief\, nostalgia. We have specially selected works that show a culmination of ways artists in prison have dealt with complex realities of being human.”\n\nThe curatorial staff at PCAP worked closely with artists who were formerly incarcerated\, and the team at Silver Maples\, to select works that would fit the theme of this exhibition and be of interest to the broader audience. Visitors will see works from familiar artists\, including Andy Wynkoop\, An ArtsyGuy\, RIK\, Roger (Free-Hand) Stephenson\, and many others.\n\n“This exhibition centralizes intersecting themes and multi-faceted layers of what it means to be human. Our hope is to challenge the lens through which the exhibit audience looks at people in prison. Coming out of a season that has worn us thin of human connection\, this exhibit presents a unique opportunity to engage in powerful dialogue inspired by the art in Shared Humanity\,” says Unrath\n\nThe 100 Gallery is open Mon-Fri are 8:30am-5pm and Sat-Sun 10am-2:30pm. \nAdmission is free and open to the public. \nSales will be conducted in person on Saturday\, August 6 with alternative phone sale appointments available: https://myumi.ch/DJ6M5\n\nSpecial Storytelling Event: Creating Art Inside\nSaturday\, Aug 6\, 2022 @ 2:00pm\nMaples Room at 100 Silver Maples Dr\, Chelsea\, MI 48118\n\nIn this hour\, we take a look into the lives of artists that created work in the most difficult of circumstances: prison. Hear first hand about their lived experiences and the impact art-making had on their time behind the walls. Hosted by the Prison Creative Arts Project. In-person art sales will be available before and after the event.
UID:95559-21792507@events.umich.edu
URL:https://events.umich.edu/event/95559
CLASS:PUBLIC
STATUS:CONFIRMED
CATEGORIES:Activism,Anthropology,art,Exhibition,Free,In Person,Incarceration,social justice,Storytelling,visual arts
LOCATION:Off Campus Location
CONTACT:
END:VEVENT
BEGIN:VEVENT
DTSTAMP:20220818T100608
DTSTART;TZID=America/Detroit:20220828T100000
DTEND;TZID=America/Detroit:20220828T120000
SUMMARY:Ceremony / Service:Sunday Celebration
DESCRIPTION:The school year is about to begin! No matter your background\, join us in kicking off this season with new expectations and hope.\n\nJoin us at 10AM every Sunday to experience church in a fresh way as we worship and seek God together. We meet at the Transformation Center (1001 E. Huron St.) which is located across the street from the Rackham Auditorium and the Power Center.\n\nCurious? Check out our website at https://annarbor.hmcc.net/ to learn more about who we are and what we value.
UID:96832-21793810@events.umich.edu
URL:https://events.umich.edu/event/96832
CLASS:PUBLIC
STATUS:CONFIRMED
CATEGORIES:christian,christianity,church,faith,religious,spiritual,welcome week
LOCATION:Off Campus Location
CONTACT:
END:VEVENT
BEGIN:VEVENT
DTSTAMP:20221011T103536
DTSTART;TZID=America/Detroit:20220828T110000
DTEND;TZID=America/Detroit:20220828T111500
SUMMARY:Presentation:Science Forum Demo
DESCRIPTION:Join us in the Science Forum for a 15-20 minute engaging science demonstration that will help you see the world in a whole new way. Demonstrations are free and appropriate for visitors ages 5 and above. Schedule subject to change.\n\nShedding Light on Magnets\nWhat makes a magnet magnetic? Why do they stick together? Join us as we explore magnetism\, magnetic fields\, and even what that has to do with your cell phone. We will highlight how researchers use light to study the magnetism of new materials. \n\nMade possible by a grant from the National Science Foundation.
UID:95985-21791557@events.umich.edu
URL:https://events.umich.edu/event/95985
CLASS:PUBLIC
STATUS:CONFIRMED
CATEGORIES:Children,Family,Free,Museum,Natural Sciences,Science
LOCATION:Museum of Natural History
CONTACT:
END:VEVENT
BEGIN:VEVENT
DTSTAMP:20260210T142109
DTSTART;TZID=America/Detroit:20220828T123000
DTEND;TZID=America/Detroit:20220828T131500
SUMMARY:Presentation:Expedition Reef
DESCRIPTION:Learn the secrets of the “rainforests of the sea” as you embark on an oceanic safari of the world’s most vibrant—and endangered—marine ecosystems. Expedition Reef immerses you in an undersea adventure. Along the way\, discover how corals grow\, feed\, reproduce\, and support over 25% of all marine life on Earth.\n\nThe state-of-the-art Planetarium & Dome Theater at the U-M Museum of Natural History transports visitors beyond distant stars and back in time from the comfort of reclining seats. Tickets $8. Tickets are available on the day of the show at the Museum Store.
UID:95986-21791585@events.umich.edu
URL:https://events.umich.edu/event/95986
CLASS:PUBLIC
STATUS:CONFIRMED
CATEGORIES:natural history museum,Natural Sciences
LOCATION:Museum of Natural History
CONTACT:
END:VEVENT
BEGIN:VEVENT
DTSTAMP:20220708T075959
DTSTART;TZID=America/Detroit:20220828T130000
DTEND;TZID=America/Detroit:20220828T160000
SUMMARY:Other:Healthy Rivers at U-M Museum of Natural History
DESCRIPTION:Join us for an afternoon of special drop-in programming about rivers and watersheds. Dip your hands into our 10-foot stream table and contribute to a collaborative art activity as we learn how rivers form and what it takes to keep these vital parts of our environment healthy. How does pollution spread? How do we limit erosion? How do different forms of settlement and land use affect a river? Build a river and watch what happens during a flood. \n \nFree\, no registration required. Recommended age: 5 and up.\n\nThis event is offered in partnership with the University of Michigan Museum of Art and the Watershed exhibition. In Watershed\, fifteen contemporary artists explore the interconnected histories\, present lives\, and imagined futures of the Great Lakes region. On view June 4th to October 23rd in the A. Alfred Taubman Gallery I at UMMA.
UID:95987-21791682@events.umich.edu
URL:https://events.umich.edu/event/95987
CLASS:PUBLIC
STATUS:CONFIRMED
CATEGORIES:Free,Museum,Natural Sciences
LOCATION:Museum of Natural History
CONTACT:
END:VEVENT
BEGIN:VEVENT
DTSTAMP:20220828T121700
DTSTART;TZID=America/Detroit:20220828T130000
SUMMARY:Sporting Event:Men's Soccer vs Gonzaga
DESCRIPTION:Men's Soccer vs Gonzaga
UID:95849-21791191@events.umich.edu
URL:https://events.umich.edu/event/95849
CLASS:PUBLIC
STATUS:CONFIRMED
CATEGORIES:Athletics,Athletics - Men's Soccer
LOCATION:U-M Soccer Stadium
CONTACT:
END:VEVENT
BEGIN:VEVENT
DTSTAMP:20220828T181639
DTSTART;TZID=America/Detroit:20220828T130000
DTEND;TZID=America/Detroit:20220828T160000
SUMMARY:Workshop / Seminar:Watershed for Families
DESCRIPTION:.\n \nIn Watershed\, fifteen contemporary artists explore the interconnected histories\, present lives\, and imagined futures of the Great Lakes region.\n \nUMMA and the U-M Natural History Museum invite families with children ages 5 and up to drop in this summer to explore the artworks and learn about what we need to make a healthy environment.\n \nFree\, no registration required. Recommended age: 5 and up.\n \nSunday\, August 28\, 2022 from 1 to 4 pm: Healthy Rivers at U-M Museum of Natural History Build a river and watch what happens during a flood! You'll learn more about rivers and watersheds at this hands-on event. Dip your hands into our 10-foot model of a river and work together with others on an art activity to learn how rivers form and what it takes to keep water fresh and safe. How does pollution spread? How do we limit erosion? How do the ways people use land affect a river?   \n\nLead support for this exhibition is provided by the U-M Office of the Provost\, the National Endowment for the Arts\, the Michigan Arts and Culture Council\, Susan and Richard Gutow\, and the U-M Institute for the Humanities. Additional generous support is provided by the U-M School for Environment and Sustainability\, Graham Sustainability Institute\, and the Department of English Language and Literature. Special thanks to Margaret Noodin and Michael Zimmerman\, Jr. for translating the gallery texts into Anishinaabemowin.  
UID:95920-21791436@events.umich.edu
URL:https://events.umich.edu/event/95920
CLASS:PUBLIC
STATUS:CONFIRMED
CATEGORIES:Art,Children,Environment,Family,Free,History,Museum,UMMA
LOCATION:Museum of Art - U-M Museum of Natural History 
CONTACT:
END:VEVENT
BEGIN:VEVENT
DTSTAMP:20221109T141417
DTSTART;TZID=America/Detroit:20220828T133000
DTEND;TZID=America/Detroit:20220828T141500
SUMMARY:Presentation:Sky Tonight
DESCRIPTION:A live presentation on what to find in the sky tonight and for the coming few weeks. This presentation includes how to find the cardinal directions on your own by finding the North Star\, current and upcoming constellations\, visible planets\, a few deep sky objects depending on the season\, and other interesting astronomical visualizations. If you want to be able to look up from your own backyard and know what to look for\, this is the show for you.\n\nThe state-of-the-art Planetarium & Dome Theater at the U-M Museum of Natural History transports visitors beyond distant stars and back in time from the comfort of reclining seats. Tickets $8. Tickets are available on the day of the show at the Museum Store.\n\nThe planetarium is operating at half capacity to maximize distancing between viewers.
UID:91230-21791616@events.umich.edu
URL:https://events.umich.edu/event/91230
CLASS:PUBLIC
STATUS:CONFIRMED
CATEGORIES:Astronomy,Natural Sciences,Science
LOCATION:Museum of Natural History
CONTACT:
END:VEVENT
BEGIN:VEVENT
DTSTAMP:20220912T132709
DTSTART;TZID=America/Detroit:20220828T143000
DTEND;TZID=America/Detroit:20220828T151500
SUMMARY:Presentation:Tales of the Maya Skies
DESCRIPTION:Tales of the Maya Skies immerses viewers in the wonders of Maya science\, cosmology and myth. This beautifully illustrated story takes us back in time to the jungles of Mexico to discover how Mayan scholars developed a sophisticated understanding of astronomy\, architecture\, and mathematics that enabled them to predict solstices\, solar eclipses\, weather patterns and planetary movements.\n\nThe state-of-the-art Planetarium & Dome Theater at the U-M Museum of Natural History transports visitors beyond distant stars and back in time from the comfort of reclining seats. Tickets $8. Tickets are available on the day of the show at the Museum Store.\n\nThe planetarium is operating at half capacity to maximize distancing between viewers.
UID:95036-21791678@events.umich.edu
URL:https://events.umich.edu/event/95036
CLASS:PUBLIC
STATUS:CONFIRMED
CATEGORIES:Astronomy,Museum,Natural Sciences,Science
LOCATION:Museum of Natural History
CONTACT:
END:VEVENT
BEGIN:VEVENT
DTSTAMP:20230908T085204
DTSTART;TZID=America/Detroit:20220828T150000
DTEND;TZID=America/Detroit:20220828T151500
SUMMARY:Presentation:Science Forum Discovery Demos
DESCRIPTION:Join us in the Science Forum for 15-20 minute engaging science demonstrations that will help you see the world in a whole new way. Demonstrations are free and appropriate for visitors ages 5 and above. Schedule subject to change.\n\nNo demos on October 14th or 15th.\n\nHow to Become a Fossil\nExplore how fossils form and what parts of animals can become fossilized! How old are the earliest fossils? How old does something have to be before it is considered a fossil? You’ll touch some real fossils\, learn the different types of fossil evidence\, and discover what is necessary to become a fossil.  Finally\, we’ll discuss what kinds of things fossils can tell us\, and how fossil casts are made in the museum!
UID:95035-21791549@events.umich.edu
URL:https://events.umich.edu/event/95035
CLASS:PUBLIC
STATUS:CONFIRMED
CATEGORIES:Children,Family,Free,Museum,natural history museum,Natural Sciences,Science
LOCATION:Museum of Natural History
CONTACT:
END:VEVENT
BEGIN:VEVENT
DTSTAMP:20221109T141417
DTSTART;TZID=America/Detroit:20220828T153000
DTEND;TZID=America/Detroit:20220828T161500
SUMMARY:Presentation:Sky Tonight
DESCRIPTION:A live presentation on what to find in the sky tonight and for the coming few weeks. This presentation includes how to find the cardinal directions on your own by finding the North Star\, current and upcoming constellations\, visible planets\, a few deep sky objects depending on the season\, and other interesting astronomical visualizations. If you want to be able to look up from your own backyard and know what to look for\, this is the show for you.\n\nThe state-of-the-art Planetarium & Dome Theater at the U-M Museum of Natural History transports visitors beyond distant stars and back in time from the comfort of reclining seats. Tickets $8. Tickets are available on the day of the show at the Museum Store.\n\nThe planetarium is operating at half capacity to maximize distancing between viewers.
UID:91230-21791647@events.umich.edu
URL:https://events.umich.edu/event/91230
CLASS:PUBLIC
STATUS:CONFIRMED
CATEGORIES:Astronomy,Natural Sciences,Science
LOCATION:Museum of Natural History
CONTACT:
END:VEVENT
BEGIN:VEVENT
DTSTAMP:20220824T134512
DTSTART;TZID=America/Detroit:20220828T180000
DTEND;TZID=America/Detroit:20220828T193000
SUMMARY:Social / Informal Gathering:Board Game Night
DESCRIPTION:Come hang out and meet our A2F mentors and fellow Michigan students! We’ll have all sorts of fun board games and card games. Bring your friends!
UID:97361-21794441@events.umich.edu
URL:https://events.umich.edu/event/97361
CLASS:PUBLIC
STATUS:CONFIRMED
CATEGORIES:Free
LOCATION:Michigan Union - 2210 AB
CONTACT:
END:VEVENT
BEGIN:VEVENT
DTSTAMP:20220824T123557
DTSTART;TZID=America/Detroit:20220828T193000
SUMMARY:Performance:The Milk Carton Kids
DESCRIPTION:Presented by The Ark Dazzling close harmony vocals & original songs. \nPlease visit https://mutotix.umich.edu/3427/3428 for more detail.
UID:94924-21785672@events.umich.edu
URL:https://events.umich.edu/event/94924
CLASS:PUBLIC
STATUS:CONFIRMED
CATEGORIES:Ark,Mutotix
LOCATION:ARK Reserved + Gold Circle
CONTACT:
END:VEVENT
BEGIN:VEVENT
DTSTAMP:20220823T141850
DTSTART;TZID=America/Detroit:20220828T200000
DTEND;TZID=America/Detroit:20220828T220000
SUMMARY:Social / Informal Gathering:Afterglow
DESCRIPTION:After the Post-Convocation Picnic\, spend time getting to know campus and make new friends through a silent disco experience\, complete with glow-in-the-dark fun! \n\nThis is a Welcome Week program.\n\n\n\n\nMCard is REQUIRED for headphone distribution
UID:95953-21791492@events.umich.edu
URL:https://events.umich.edu/event/95953
CLASS:PUBLIC
STATUS:CONFIRMED
CATEGORIES:Dance,Music,welcome to michigan,welcome week,welcome week event,WelcometoMichigan
LOCATION:Diag - Central Campus
CONTACT:
END:VEVENT
END:VCALENDAR