BEGIN:VCALENDAR
VERSION:2.0
PRODID:-//UM//UM*Events//EN
CALSCALE:GREGORIAN
BEGIN:VTIMEZONE
TZID:America/Detroit
TZURL:http://tzurl.org/zoneinfo/America/Detroit
X-LIC-LOCATION:America/Detroit
BEGIN:DAYLIGHT
TZOFFSETFROM:-0500
TZOFFSETTO:-0400
TZNAME:EDT
DTSTART:20070311T020000
RRULE:FREQ=YEARLY;BYMONTH=3;BYDAY=2SU
END:DAYLIGHT
BEGIN:STANDARD
TZOFFSETFROM:-0400
TZOFFSETTO:-0500
TZNAME:EST
DTSTART:20071104T020000
RRULE:FREQ=YEARLY;BYMONTH=11;BYDAY=1SU
END:STANDARD
END:VTIMEZONE
BEGIN:VEVENT
DTSTAMP:20220905T120034
DTSTART;TZID=America/Detroit:20220829T000000
DTEND;TZID=America/Detroit:20220829T235959
SUMMARY:Other:Annual Meeting Scheduling Poll
DESCRIPTION:During this period\, members will be able to fill out this poll to schedule meeting times for this year.
UID:95625-21790485@events.umich.edu
URL:https://events.umich.edu/event/95625
CLASS:PUBLIC
STATUS:CONFIRMED
CATEGORIES:
LOCATION:Online
CONTACT:
END:VEVENT
BEGIN:VEVENT
DTSTAMP:20230324T120005
DTSTART;TZID=America/Detroit:20220829T000000
DTEND;TZID=America/Detroit:20220829T235959
SUMMARY:Community Service:Homework Help at The Children's Center
DESCRIPTION:The Homework Help program offers children assistance with their homework assignments. Children are encouraged to bring homework and are paired with a volunteer to assist them. This program is a critical service in helping children thrive. Volunteers give children the tools they need to be successful in school.Virtual and in-person volunteer opportunities are available. If you would like to volunteer\, please start the enrollment process by creating an account on the Children Center's Volunteer Site found HERE. After your account is created\, the Children's Center will reach out to you within 2 business days to answer any questions and discuss the next steps.In accordance with the CMS Vaccine Mandate\, those volunteering in-person at the Children’s Center are required to be fully vaccinated and must provide proof of full vaccination upon request.
UID:93885-21787926@events.umich.edu
URL:https://events.umich.edu/event/93885
CLASS:PUBLIC
STATUS:CONFIRMED
CATEGORIES:
LOCATION:The Children&#039;s Center 
CONTACT:
END:VEVENT
BEGIN:VEVENT
DTSTAMP:20220911T180007
DTSTART;TZID=America/Detroit:20220829T000000
DTEND;TZID=America/Detroit:20220829T235959
SUMMARY:Auditions:Spring Awakening Auditions Due!
DESCRIPTION:Interested in performing in Spring Awakening at the Arthur Miller Theatre? Go ahead and send in an audition to our audition form by 11:59pm on Sunday\, September 11!
UID:96360-21792336@events.umich.edu
URL:https://events.umich.edu/event/96360
CLASS:PUBLIC
STATUS:CONFIRMED
CATEGORIES:
LOCATION:Online
CONTACT:
END:VEVENT
BEGIN:VEVENT
DTSTAMP:20220817T121642
DTSTART;TZID=America/Detroit:20220829T073000
DTEND;TZID=America/Detroit:20220829T210000
SUMMARY:Exercise / Fitness:Group-X Free Week
DESCRIPTION:Looking for a fun\, convenient way to fit movement into your schedule? Check out Group‑X classes! Starting August 29 – September 11 you can try any class\, anytime for free during Group‑X Free Week. You’ll find Zumba\, Yoga\, Strength\, HIIT\, Cycle and other great classes to join in-person and virtually. Download the Rec Sports app or visit our website to see our full schedule and how to register.\n\nSchedule: https://recsports.umich.edu/groupx/schedule/\n\nRegister: https://recsports.umich.edu/groupx/passes/
UID:96998-21793664@events.umich.edu
URL:https://events.umich.edu/event/96998
CLASS:PUBLIC
STATUS:CONFIRMED
CATEGORIES:exercise class,fitness,Health & Wellness,Rec Sports,welcome to michigan,Well-being
LOCATION:
CONTACT:
END:VEVENT
BEGIN:VEVENT
DTSTAMP:20220627T142559
DTSTART;TZID=America/Detroit:20220829T080000
DTEND;TZID=America/Detroit:20220829T190000
SUMMARY:Exhibition:A Perfect Pairing of Cookbooks and Dinnerware
DESCRIPTION:A dozen selections from the Janice Bluestein Longone Culinary Archive from our Special Collections Research Center have been perfectly paired with dishes from the International Museum of Dinnerware Design to provide a feast for the eyes.\n\nA “perfect pairing” usually refers to a taste compatibility between wine and a food group\, such as wine and cheese. For example\, some believe a perfect pairing would be Cabernet with duck confit with turnips or Pinot Noir with bison rib eye steaks with roasted garlic — wines with sauces\, spicy food\, hors d’oeurvres\, etc. But other things can be perfectly paired such as fruit and cheese\, a couple\, or a clothing selection.\n\nSometimes pairs are made more perfect when they are catalysts for the imagination. That is what curators Margaret Carney\, Ph.D.\, and Juli McLoone are serving in \"A Perfect Pairing of Cookbooks and Dinnerware.\" The right ingredients along with an inspired recipe creates a delicious and beautiful meal that is enhanced when the cuisine is presented on a thoughtfully curated table setting\, or\, we hope\, in a thoughtfully curated exhibit. Bon Appetit!
UID:95818-21790990@events.umich.edu
URL:https://events.umich.edu/event/95818
CLASS:PUBLIC
STATUS:CONFIRMED
CATEGORIES:Exhibition,Free,Library
LOCATION:Hatcher Graduate Library - Audubon Room, 1st floor
CONTACT:
END:VEVENT
BEGIN:VEVENT
DTSTAMP:20220809T173135
DTSTART;TZID=America/Detroit:20220829T080000
DTEND;TZID=America/Detroit:20220829T190000
SUMMARY:Exhibition:Places & Spaces: Mapping Science and A Brief History of Information Graphics
DESCRIPTION:The Places & Spaces: Mapping Science exhibit introduces science mapping techniques and data visualization to the general public and to experts across diverse disciplines\, and we hope inspires cross-disciplinary discussion on how to best track and communicate scholarly activity and scientific progress on a global scale. The exhibit includes a macroscope which showcases interactive visualizations that demonstrate the impact of different data cleaning\, analysis\, and visualization algorithms.\n\nThe Places & Spaces exhibit is curated by the Cyberinfrastructure for Network Science Center at Indiana University. The complementary exhibit\, A Brief History of Information Graphics\, was created by Clark Library staff to provide an historical context to the Places and Spaces exhibit.
UID:96720-21793119@events.umich.edu
URL:https://events.umich.edu/event/96720
CLASS:PUBLIC
STATUS:CONFIRMED
CATEGORIES:Free,Library,Maps
LOCATION:Hatcher Graduate Library - Clark Library (2nd floor)
CONTACT:
END:VEVENT
BEGIN:VEVENT
DTSTAMP:20221003T125034
DTSTART;TZID=America/Detroit:20220829T080000
DTEND;TZID=America/Detroit:20220829T190000
SUMMARY:Exhibition:The Dance for Mother Earth Powwow
DESCRIPTION:This exhibit features various aspects of the Native North American powwow. More specifically\, it features the history and culture behind Ann Arbor’s \"Dance for Mother Earth Powwow\,\" which is approaching its much-anticipated 50th celebration.\n\nThe Dance for Mother Earth Powwow is a multi-decade\, intertribal celebration of Indigenous cultures. It grew from its early beginnings as a small gathering in a field just outside of Ann Arbor into one of the largest student-led powwows in North America. The event attracts crowds of thousands — dancers\, singers\, artists\, tribal members from across the country\, and non-Indigenous members of the community.\n\nStop by to learn more about The Dance for Mother Earth Powwow\, modern Indigenous culture\, and resources to connect to today on campus.\n\nThis exhibition was curated by Michigan Library Scholar interns\, Allison Jiang and Andrea Medina. The Michigan Library Scholars internship program provides undergraduate students with the opportunity to research and develop a capstone project under the guidance of experienced library professionals at one of the largest academic research libraries in the world.
UID:96225-21792086@events.umich.edu
URL:https://events.umich.edu/event/96225
CLASS:PUBLIC
STATUS:CONFIRMED
CATEGORIES:Exhibition,Free,Library,Native American
LOCATION:Hatcher Graduate Library - North Lobby (just off the Diag)
CONTACT:
END:VEVENT
BEGIN:VEVENT
DTSTAMP:20220802T141348
DTSTART;TZID=America/Detroit:20220829T083000
DTEND;TZID=America/Detroit:20220829T170000
SUMMARY:Exhibition:Shared Humanity
DESCRIPTION:July 30 - August 31\, 2022\nMon-Fri from 8:30am-5pm and Sat-Sun 10am-2:30pm.\nGallery 100 at 100 Silver Maples Dr\, Chelsea\, MI 48118\nParking available near the main entrance. Please sign in and screen yourself in the entryway.\n\nAdditional Information: https://myumi.ch/Nmx2j\n\nBeginning Saturday\, July 30\, the exhibit Shared Humanity will be featured at Silver Maples in Chelsea from the Prison Creative Arts Project’s (PCAP) private collection. The artwork is for sale and will be on display in the 100 Gallery through August 31\, 2022.\n\nAccording to Sarah Unrath\, Curator and Arts Programming Coordinator of PCAP\, “the exhibition is designed to connect viewer to artist through the wide gamut of their human experiences. We all have dreams\, memories\, goals\, pasts. We all process emotions of anger\, joy\, grief\, nostalgia. We have specially selected works that show a culmination of ways artists in prison have dealt with complex realities of being human.”\n\nThe curatorial staff at PCAP worked closely with artists who were formerly incarcerated\, and the team at Silver Maples\, to select works that would fit the theme of this exhibition and be of interest to the broader audience. Visitors will see works from familiar artists\, including Andy Wynkoop\, An ArtsyGuy\, RIK\, Roger (Free-Hand) Stephenson\, and many others.\n\n“This exhibition centralizes intersecting themes and multi-faceted layers of what it means to be human. Our hope is to challenge the lens through which the exhibit audience looks at people in prison. Coming out of a season that has worn us thin of human connection\, this exhibit presents a unique opportunity to engage in powerful dialogue inspired by the art in Shared Humanity\,” says Unrath\n\nThe 100 Gallery is open Mon-Fri are 8:30am-5pm and Sat-Sun 10am-2:30pm. \nAdmission is free and open to the public. \nSales will be conducted in person on Saturday\, August 6 with alternative phone sale appointments available: https://myumi.ch/DJ6M5\n\nSpecial Storytelling Event: Creating Art Inside\nSaturday\, Aug 6\, 2022 @ 2:00pm\nMaples Room at 100 Silver Maples Dr\, Chelsea\, MI 48118\n\nIn this hour\, we take a look into the lives of artists that created work in the most difficult of circumstances: prison. Hear first hand about their lived experiences and the impact art-making had on their time behind the walls. Hosted by the Prison Creative Arts Project. In-person art sales will be available before and after the event.
UID:95559-21792512@events.umich.edu
URL:https://events.umich.edu/event/95559
CLASS:PUBLIC
STATUS:CONFIRMED
CATEGORIES:Activism,Anthropology,art,Exhibition,Free,In Person,Incarceration,social justice,Storytelling,visual arts
LOCATION:Off Campus Location
CONTACT:
END:VEVENT
BEGIN:VEVENT
DTSTAMP:20221122T144729
DTSTART;TZID=America/Detroit:20220829T090000
DTEND;TZID=America/Detroit:20220829T160000
SUMMARY:Exhibition:\"I have a crisis for you\": Women Artists of Ukraine Respond to War
DESCRIPTION:An exhibit curated by Grace Mahoney and Jessica Zychowicz\nFeaturing work by Kinder Album\, JT Blatty\, Oksana Briukhovetska (MFA\, Stamps School of Art and Design)\, Oksana Kazmina\, Sonya Hukaylo\, Svetlana Lavochkina\, Kateryna Lisovenko\, and Lyuba Yakimchuk.\n\nLane Hall Exhibit Space\n204 South State Street\n\nAbout the exhibit:\nIn February 2022\, the world witnessed the invasion of Ukraine and all-out war of aggression by the Russian Federation. Since this time\, massive casualties\, human rights violations\, and an unprecedented refugee crisis have ensued. Women artists of Ukraine have responded. They paint on found materials in refugee housing\, illustrate in bomb shelters\, photograph their shelled cities wearing press passes and bulletproof jackets. They document\, create\, and share. They post their daily journals and images on social media. They perform at the Grammy Awards. They know their message is powerful\, and the amplification of their voices is critical for victory in a very real battle for survival.\n\nCurated by Grace Mahoney (U-M Slavic Languages and Literatures) and Jessica Zychowicz\, Ph.D. (Fulbright Ukraine and U-M Alumna)\, \"'I have a crisis for you': Women Artists of Ukraine Respond to War\" showcases work created by women artists in response to Russia’s war in Ukraine. The involved artists are painters\, photographers\, filmmakers\, poets\, translators\, and textile artists. Many of the works exhibited demonstrate a continuity of engagement by the artists with the topic of war\, especially since 2014 when the people of Ukraine gathered in a “Revolution of Dignity” against attempts by the Russian Federation to control the country’s independence resulting in Russia’s annexation of the Crimean Peninsula and backing of pro-Russian separatists in Ukraine’s east. \n\nThe featured artists have also been selected because of their prominent interest and exploration of issues relating to gender in their works. The title for this exhibit comes from a poem of the same name by Lyuba Yakimchuk:\n\n“— our love’s gone missing\, I explain to a friend/ it vanished in one of the wars/ we waged in our kitchen/ — change the word ‘war’ to ‘crisis\,’ he suggests/ because a crisis is something everyone has from time to time.”\n\nLike in Yakimchuk’s poem\, many of these artists approach the war with personal perspectives. They intertwine\, juxtapose\, and disrupt experiences of war with the intimacies of personal relationships\, the workings interior lives\, and perceptions of social roles. The featured artworks and documents engage a range of subjects from women volunteering as combatants to the processes of grieving and reflect ongoing discourses in Ukrainian feminist scholarship. \n\nThe exhibit will be accompanied by a companion website which includes an expanded set of informational and aid-related resources. \n\n\"'I have a crisis for you': Women Artists of Ukraine Respond to War\" is hosted by the University of Michigan’s Institute for Research on Women and Gender (IRWG) and the Department of Women’s and Gender Studies with co-sponsorship from the Center for Russian\, East European & Eurasian Studies\, the Department of Slavic Languages and Literatures\, the Museum Studies Program\, the Weiser Center for Europe and Eurasia\, and the Weiser Center for Emerging Democracies.\n\nRelated Events:\n\nOpening Reception with comments by the curators\n4:00-6:00 pm ET\, Thursday\, September 15th\, 2022\nLane Hall\n\nArtists’ Roundtable (Hybrid)\n3:30-5:00pm ET\, Friday\, September 16th\, 2022\nWeiser Hall\, 1010\n\n*U-M classes may schedule visits outside of regular gallery hours by emailing LaneHallExhibits@umich.edu
UID:96538-21792758@events.umich.edu
URL:https://events.umich.edu/event/96538
CLASS:PUBLIC
STATUS:CONFIRMED
CATEGORIES:Art,eastern europe,European,Exhibition,Graduate Students,Museum,Slavic Studies,Ukraine,Ukrainian,Weiser Center For Emerging Democracies,Weiser Center For Europe And Eurasia,Women's Studies
LOCATION:Lane Hall - Exhibit Space
CONTACT:
END:VEVENT
BEGIN:VEVENT
DTSTAMP:20220824T122844
DTSTART;TZID=America/Detroit:20220829T100000
DTEND;TZID=America/Detroit:20220829T170000
SUMMARY:Other:Poster Sale
DESCRIPTION:Check out the biggest and newest back-to-school poster sale!\n\nSunday\, 8/28-Friday\, 9/2\nSunday-Thursday 10:00am-6:00pm\nFriday-10:00am-5:00pm\n\nMichigan Union\, First Floor
UID:96745-21793232@events.umich.edu
URL:https://events.umich.edu/event/96745
CLASS:PUBLIC
STATUS:CONFIRMED
CATEGORIES:center for campus involvement,sale,Welcome to Michigan
LOCATION:Michigan Union - South Lounge, first floor
CONTACT:
END:VEVENT
BEGIN:VEVENT
DTSTAMP:20260210T142109
DTSTART;TZID=America/Detroit:20220829T123000
DTEND;TZID=America/Detroit:20220829T131500
SUMMARY:Presentation:Expedition Reef
DESCRIPTION:Learn the secrets of the “rainforests of the sea” as you embark on an oceanic safari of the world’s most vibrant—and endangered—marine ecosystems. Expedition Reef immerses you in an undersea adventure. Along the way\, discover how corals grow\, feed\, reproduce\, and support over 25% of all marine life on Earth.\n\nThe state-of-the-art Planetarium & Dome Theater at the U-M Museum of Natural History transports visitors beyond distant stars and back in time from the comfort of reclining seats. Tickets $8. Tickets are available on the day of the show at the Museum Store.
UID:95986-21791586@events.umich.edu
URL:https://events.umich.edu/event/95986
CLASS:PUBLIC
STATUS:CONFIRMED
CATEGORIES:natural history museum,Natural Sciences
LOCATION:Museum of Natural History
CONTACT:
END:VEVENT
BEGIN:VEVENT
DTSTAMP:20220913T123133
DTSTART;TZID=America/Detroit:20220829T130000
DTEND;TZID=America/Detroit:20220829T140000
SUMMARY:Careers / Jobs:A Day in the Life: Business Focused Majors
DESCRIPTION:Are you interested in a career with FTI?  Please join us to learn more about how your academic background could be a fit for multiple opportunities with us!  FTI is currently recruiting for 2023 summer internships\, post-grad opportunities\, and sophomore leadership conferences.  We look forward to meeting you.
UID:97226-21794158@events.umich.edu
URL:https://events.umich.edu/event/97226
CLASS:PUBLIC
STATUS:CONFIRMED
CATEGORIES:
LOCATION:
CONTACT:
END:VEVENT
BEGIN:VEVENT
DTSTAMP:20221109T141417
DTSTART;TZID=America/Detroit:20220829T133000
DTEND;TZID=America/Detroit:20220829T141500
SUMMARY:Presentation:Sky Tonight
DESCRIPTION:A live presentation on what to find in the sky tonight and for the coming few weeks. This presentation includes how to find the cardinal directions on your own by finding the North Star\, current and upcoming constellations\, visible planets\, a few deep sky objects depending on the season\, and other interesting astronomical visualizations. If you want to be able to look up from your own backyard and know what to look for\, this is the show for you.\n\nThe state-of-the-art Planetarium & Dome Theater at the U-M Museum of Natural History transports visitors beyond distant stars and back in time from the comfort of reclining seats. Tickets $8. Tickets are available on the day of the show at the Museum Store.\n\nThe planetarium is operating at half capacity to maximize distancing between viewers.
UID:91230-21791617@events.umich.edu
URL:https://events.umich.edu/event/91230
CLASS:PUBLIC
STATUS:CONFIRMED
CATEGORIES:Astronomy,Natural Sciences,Science
LOCATION:Museum of Natural History
CONTACT:
END:VEVENT
BEGIN:VEVENT
DTSTAMP:20220603T134658
DTSTART;TZID=America/Detroit:20220829T140000
DTEND;TZID=America/Detroit:20220829T160000
SUMMARY:Reception / Open House:Party For Your Mind
DESCRIPTION:Join the Library for Food\, Fun and Information!  Library staff and students welcome you to the library and to campus.  Come learn more about all that the library has to offer!\n\n* Information tables with library info\, swag\, and more\n* Free The Wolverine - Escape Room\n* Map It!  Where do you and your fellow students come from?  Mark your hometown on our world map\n* Recreational reading - check out some new reads\n* Giant Jenga on the lawn\n* Photos with the Block M\n* Pizza!
UID:95423-21789911@events.umich.edu
URL:https://events.umich.edu/event/95423
CLASS:PUBLIC
STATUS:CONFIRMED
CATEGORIES:Free,Graduate Students,Library,Pizza,Transfer Students,Undergraduate,Welcome to Michigan
LOCATION:Shapiro Library - Inside and outside
CONTACT:
END:VEVENT
BEGIN:VEVENT
DTSTAMP:20220801T181539
DTSTART;TZID=America/Detroit:20220829T140000
DTEND;TZID=America/Detroit:20220829T150000
SUMMARY:Livestream / Virtual:Rackham Resolution Office: Virtual Office Hours
DESCRIPTION:If you have a quick question or have a time sensitive matter\, attend the Rackham’s Resolution Office’s open office hours weekly on Monday and Wednesday from 2:00 to 3:00 p.m. via Zoom. In the interest of providing students as much privacy as possible\, you may spend a brief time in a waiting room if the resolution officer is engaged with another student. They will be with you as quickly as possible.\nJoin Zoom Meeting\nhttps://umich.zoom.us/j/96728733675\nMeeting ID: 967 2873 3675\nOne tap mobile\n+13126266799\,\,96728733675# US (Chicago)\n+16468769923\,\,96728733675# US (New York)\nDial by your location\n+1 312 626 6799 US (Chicago)\n+1 646 876 9923 US (New York)\n+1 646 931 3860 US\n+1 301 715 8592 US (Washington DC)\n+1 564 217 2000 US\n+1 669 444 9171 US\n+1 669 900 6833 US (San Jose)\n+1 253 215 8782 US (Tacoma)\n+1 346 248 7799 US (Houston)\n+1 386 347 5053 US\n+1 204 272 7920 Canada\n+1 438 809 7799 Canada\n+1 587 328 1099 Canada\n+1 647 374 4685 Canada\n+1 647 558 0588 Canada\n+1 778 907 2071 Canada\n+1 780 666 0144 Canada\nMeeting ID: 967 2873 3675\nFind your local number: https://umich.zoom.us/u/adu3aHINf\nJoin by SIP\n96728733675@zoomcrc.com\nJoin by H.323\n162.255.37.11 (US West)\n162.255.36.11 (US East)\n115.114.131.7 (India Mumbai)\n115.114.115.7 (India Hyderabad)\n213.19.144.110 (Amsterdam Netherlands)\n213.244.140.110 (Germany)\n103.122.166.55 (Australia Sydney)\n103.122.167.55 (Australia Melbourne)\n149.137.40.110 (Singapore)\n64.211.144.160 (Brazil)\n149.137.68.253 (Mexico)\n69.174.57.160 (Canada Toronto)\n65.39.152.160 (Canada Vancouver)\n207.226.132.110 (Japan Tokyo)\n149.137.24.110 (Japan Osaka)\nMeeting ID: 967 2873 3675
UID:96389-21792452@events.umich.edu
URL:https://events.umich.edu/event/96389
CLASS:PUBLIC
STATUS:CONFIRMED
CATEGORIES:Graduate Students
LOCATION:Off Campus Location
CONTACT:
END:VEVENT
BEGIN:VEVENT
DTSTAMP:20220912T132709
DTSTART;TZID=America/Detroit:20220829T143000
DTEND;TZID=America/Detroit:20220829T151500
SUMMARY:Presentation:Tales of the Maya Skies
DESCRIPTION:Tales of the Maya Skies immerses viewers in the wonders of Maya science\, cosmology and myth. This beautifully illustrated story takes us back in time to the jungles of Mexico to discover how Mayan scholars developed a sophisticated understanding of astronomy\, architecture\, and mathematics that enabled them to predict solstices\, solar eclipses\, weather patterns and planetary movements.\n\nThe state-of-the-art Planetarium & Dome Theater at the U-M Museum of Natural History transports visitors beyond distant stars and back in time from the comfort of reclining seats. Tickets $8. Tickets are available on the day of the show at the Museum Store.\n\nThe planetarium is operating at half capacity to maximize distancing between viewers.
UID:95036-21791679@events.umich.edu
URL:https://events.umich.edu/event/95036
CLASS:PUBLIC
STATUS:CONFIRMED
CATEGORIES:Astronomy,Museum,Natural Sciences,Science
LOCATION:Museum of Natural History
CONTACT:
END:VEVENT
BEGIN:VEVENT
DTSTAMP:20220913T123140
DTSTART;TZID=America/Detroit:20220829T150000
DTEND;TZID=America/Detroit:20220829T160000
SUMMARY:Careers / Jobs:Resume Lab
DESCRIPTION:*RSVP through Handshake is required to attend. Not in Handshake? Click \"Join Event\" here: https://umich.joinhandshake.com/edu/events/1076504\n\nJust getting started building a resume? Have a draft but not sure how to make it better? Want to learn about resources available to revise your resume? Wherever you’re at Resume Lab is a great next step for you.\n\nGet real-time\, personalized support in a small group setting by checking out the Resume Lab. \n\nWe will discuss and educate you on…\n- Designand format\n- Writing a great bullet point\n- Targeting your resume for specific internships/jobs\n\nIf you're a Graduate Student\, please make a 1:1 appointment instead of attending the Lab because this event is designedfor undergraduates.\n
UID:96417-21792480@events.umich.edu
URL:https://events.umich.edu/event/96417
CLASS:PUBLIC
STATUS:CONFIRMED
CATEGORIES:
LOCATION:University Career Center, 3200 Student Activities Building, Program Room (3003), 515 E Jefferson St, Ann Arbor, MI, United States
CONTACT:
END:VEVENT
BEGIN:VEVENT
DTSTAMP:20221109T141417
DTSTART;TZID=America/Detroit:20220829T153000
DTEND;TZID=America/Detroit:20220829T161500
SUMMARY:Presentation:Sky Tonight
DESCRIPTION:A live presentation on what to find in the sky tonight and for the coming few weeks. This presentation includes how to find the cardinal directions on your own by finding the North Star\, current and upcoming constellations\, visible planets\, a few deep sky objects depending on the season\, and other interesting astronomical visualizations. If you want to be able to look up from your own backyard and know what to look for\, this is the show for you.\n\nThe state-of-the-art Planetarium & Dome Theater at the U-M Museum of Natural History transports visitors beyond distant stars and back in time from the comfort of reclining seats. Tickets $8. Tickets are available on the day of the show at the Museum Store.\n\nThe planetarium is operating at half capacity to maximize distancing between viewers.
UID:91230-21791648@events.umich.edu
URL:https://events.umich.edu/event/91230
CLASS:PUBLIC
STATUS:CONFIRMED
CATEGORIES:Astronomy,Natural Sciences,Science
LOCATION:Museum of Natural History
CONTACT:
END:VEVENT
BEGIN:VEVENT
DTSTAMP:20220824T142412
DTSTART;TZID=America/Detroit:20220829T160000
DTEND;TZID=America/Detroit:20220829T163000
SUMMARY:Livestream / Virtual:CGIS Virtual First Step Sessions
DESCRIPTION:CGIS offers First Steps sessions virtually (via Zoom) every Monday and Thursday from 4:00pm to 4:30pm during the academic year while classes are in session\, with the exception of holidays. \n\nFirst Step sessions are a great opportunity to learn more about the application process prior to meeting with an advisor. You can learn about all of our programs around the world\, scholarships and other financial aid resources\, the CGIS application process\, and more! \n\n*Attending a First Step session is no longer a required component of the CGIS application process.*
UID:97348-21794410@events.umich.edu
URL:https://events.umich.edu/event/97348
CLASS:PUBLIC
STATUS:CONFIRMED
CATEGORIES:Africa,anthropology,Asia,Asia-pacific,Business,Central America,Central European Studies,Chinese Studies,Classical Studies,Cognitive Science,cuba,Culture,Dance,Deadlines,Ecology,Economics,Education,Environment,Europe,European,French,Funding,German,global,global engagement,global opportunities,Health,History,Humanities,Iceland,intercultural,international,International Education,internships,Italian Studies,Japanese Studies,Kinesiology,Korea,Language,Latin America,Law,Literature,Majors,Mathematics,Middle East Studies,multicultural,Museum,Networking,Oxford,Philosophy,Physics,Pre Law,Pre Med,Pre-Health,Pre-Law,Psychology,Public Health,Public Policy,race,Romance Language,Scholarship,Scholarships,Science,sexuality,social justice,Social Sciences,Sociology,South Africa,South America,South Asia,Southeast Asia,Spanish Studies,study abroad,Sustainability,Tanzania,Travel,Undergraduate,Undergraduate Students,Vietnam,Women's Studies,Writing
LOCATION:Off Campus Location
CONTACT:
END:VEVENT
BEGIN:VEVENT
DTSTAMP:20220913T123138
DTSTART;TZID=America/Detroit:20220829T173000
SUMMARY:Careers / Jobs:Administrative Fellowship Program Webinar
DESCRIPTION:Inova's Administrative Fellowship Program provides exposure tohealthcare management and leadership development to highly qualified early careerists through a 12-month rotational program and structured learningseries.\n\nFellows are partnered with senior level preceptors and mentorsto foster their learning while also leading priority work for Inova. Program rotations across administration\, operations\, strategy and the clinical enterprise will serve as robust learning opportunities to foster an understanding of overall health system governance\, leadership and operations.
UID:96335-21792281@events.umich.edu
URL:https://events.umich.edu/event/96335
CLASS:PUBLIC
STATUS:CONFIRMED
CATEGORIES:
LOCATION:
CONTACT:
END:VEVENT
BEGIN:VEVENT
DTSTAMP:20220810T150306
DTSTART;TZID=America/Detroit:20220829T173000
DTEND;TZID=America/Detroit:20220829T183000
SUMMARY:Other:Robotics Undergraduate Community Meeting
DESCRIPTION:Interested in taking Robotics courses or learning about the new Robotics undergraduate major? \n\nJoin Michigan Robotics faculty\, staff\, and students for an interactive community meeting covering: \n-what's new in the Robotics Department\n-an overview of the degree requirements\n-what courses are being offered\n-and how you can get involved!\n\nJoin us in the Ford Robotics Building\, 1060 or via Zoom. No RSVP needed\, all undergrads welcome!
UID:96755-21793264@events.umich.edu
URL:https://events.umich.edu/event/96755
CLASS:PUBLIC
STATUS:CONFIRMED
CATEGORIES:Michigan Robotics,Robotics,Undergraduate,Undergraduate Students
LOCATION:Off Campus Location - 1060
CONTACT:
END:VEVENT
BEGIN:VEVENT
DTSTAMP:20220824T134058
DTSTART;TZID=America/Detroit:20220829T183000
DTEND;TZID=America/Detroit:20220829T193000
SUMMARY:Meeting:Trivia Night
DESCRIPTION:Show what you know! Join A2F’s free trivia night to compete for an M Den gift card grand prize. Get to know A2F staff and fellow Michigan students. Free pizza after. Bring your friends!
UID:97359-21794440@events.umich.edu
URL:https://events.umich.edu/event/97359
CLASS:PUBLIC
STATUS:CONFIRMED
CATEGORIES:Free
LOCATION:Michigan Union - Anderson ABC
CONTACT:
END:VEVENT
BEGIN:VEVENT
DTSTAMP:20220829T180010
DTSTART;TZID=America/Detroit:20220829T190000
DTEND;TZID=America/Detroit:20220829T203000
SUMMARY:Exercise / Fitness:Bujinkan Budo Training Session
DESCRIPTION:Bujinkan Budo Club training will be held on Wednesdays from 19:00 - 20:30 at CCRB 2275 during the Fall 2022 semester.--For more information\, email us at michiganbujinkan@gmail.com or checkout our website\, which also includes a training schedule!
UID:97109-21793925@events.umich.edu
URL:https://events.umich.edu/event/97109
CLASS:PUBLIC
STATUS:CONFIRMED
CATEGORIES:
LOCATION:Central Campus Recreation Building
CONTACT:
END:VEVENT
END:VCALENDAR