BEGIN:VCALENDAR
VERSION:2.0
PRODID:-//UM//UM*Events//EN
CALSCALE:GREGORIAN
BEGIN:VTIMEZONE
TZID:America/Detroit
TZURL:http://tzurl.org/zoneinfo/America/Detroit
X-LIC-LOCATION:America/Detroit
BEGIN:DAYLIGHT
TZOFFSETFROM:-0500
TZOFFSETTO:-0400
TZNAME:EDT
DTSTART:20070311T020000
RRULE:FREQ=YEARLY;BYMONTH=3;BYDAY=2SU
END:DAYLIGHT
BEGIN:STANDARD
TZOFFSETFROM:-0400
TZOFFSETTO:-0500
TZNAME:EST
DTSTART:20071104T020000
RRULE:FREQ=YEARLY;BYMONTH=11;BYDAY=1SU
END:STANDARD
END:VTIMEZONE
BEGIN:VEVENT
DTSTAMP:20220905T120034
DTSTART;TZID=America/Detroit:20220903T000000
DTEND;TZID=America/Detroit:20220903T235959
SUMMARY:Other:Annual Meeting Scheduling Poll
DESCRIPTION:During this period\, members will be able to fill out this poll to schedule meeting times for this year.
UID:95625-21790490@events.umich.edu
URL:https://events.umich.edu/event/95625
CLASS:PUBLIC
STATUS:CONFIRMED
CATEGORIES:
LOCATION:Online
CONTACT:
END:VEVENT
BEGIN:VEVENT
DTSTAMP:20230324T120005
DTSTART;TZID=America/Detroit:20220903T000000
DTEND;TZID=America/Detroit:20220903T235959
SUMMARY:Community Service:Homework Help at The Children's Center
DESCRIPTION:The Homework Help program offers children assistance with their homework assignments. Children are encouraged to bring homework and are paired with a volunteer to assist them. This program is a critical service in helping children thrive. Volunteers give children the tools they need to be successful in school.Virtual and in-person volunteer opportunities are available. If you would like to volunteer\, please start the enrollment process by creating an account on the Children Center's Volunteer Site found HERE. After your account is created\, the Children's Center will reach out to you within 2 business days to answer any questions and discuss the next steps.In accordance with the CMS Vaccine Mandate\, those volunteering in-person at the Children’s Center are required to be fully vaccinated and must provide proof of full vaccination upon request.
UID:93885-21787931@events.umich.edu
URL:https://events.umich.edu/event/93885
CLASS:PUBLIC
STATUS:CONFIRMED
CATEGORIES:
LOCATION:The Children&#039;s Center 
CONTACT:
END:VEVENT
BEGIN:VEVENT
DTSTAMP:20220911T180007
DTSTART;TZID=America/Detroit:20220903T000000
DTEND;TZID=America/Detroit:20220903T235959
SUMMARY:Auditions:Spring Awakening Auditions Due!
DESCRIPTION:Interested in performing in Spring Awakening at the Arthur Miller Theatre? Go ahead and send in an audition to our audition form by 11:59pm on Sunday\, September 11!
UID:96360-21792341@events.umich.edu
URL:https://events.umich.edu/event/96360
CLASS:PUBLIC
STATUS:CONFIRMED
CATEGORIES:
LOCATION:Online
CONTACT:
END:VEVENT
BEGIN:VEVENT
DTSTAMP:20220817T121642
DTSTART;TZID=America/Detroit:20220903T073000
DTEND;TZID=America/Detroit:20220903T210000
SUMMARY:Exercise / Fitness:Group-X Free Week
DESCRIPTION:Looking for a fun\, convenient way to fit movement into your schedule? Check out Group‑X classes! Starting August 29 – September 11 you can try any class\, anytime for free during Group‑X Free Week. You’ll find Zumba\, Yoga\, Strength\, HIIT\, Cycle and other great classes to join in-person and virtually. Download the Rec Sports app or visit our website to see our full schedule and how to register.\n\nSchedule: https://recsports.umich.edu/groupx/schedule/\n\nRegister: https://recsports.umich.edu/groupx/passes/
UID:96998-21793669@events.umich.edu
URL:https://events.umich.edu/event/96998
CLASS:PUBLIC
STATUS:CONFIRMED
CATEGORIES:exercise class,fitness,Health & Wellness,Rec Sports,welcome to michigan,Well-being
LOCATION:
CONTACT:
END:VEVENT
BEGIN:VEVENT
DTSTAMP:20221003T125034
DTSTART;TZID=America/Detroit:20220903T080000
DTEND;TZID=America/Detroit:20220903T190000
SUMMARY:Exhibition:The Dance for Mother Earth Powwow
DESCRIPTION:This exhibit features various aspects of the Native North American powwow. More specifically\, it features the history and culture behind Ann Arbor’s \"Dance for Mother Earth Powwow\,\" which is approaching its much-anticipated 50th celebration.\n\nThe Dance for Mother Earth Powwow is a multi-decade\, intertribal celebration of Indigenous cultures. It grew from its early beginnings as a small gathering in a field just outside of Ann Arbor into one of the largest student-led powwows in North America. The event attracts crowds of thousands — dancers\, singers\, artists\, tribal members from across the country\, and non-Indigenous members of the community.\n\nStop by to learn more about The Dance for Mother Earth Powwow\, modern Indigenous culture\, and resources to connect to today on campus.\n\nThis exhibition was curated by Michigan Library Scholar interns\, Allison Jiang and Andrea Medina. The Michigan Library Scholars internship program provides undergraduate students with the opportunity to research and develop a capstone project under the guidance of experienced library professionals at one of the largest academic research libraries in the world.
UID:96225-21792091@events.umich.edu
URL:https://events.umich.edu/event/96225
CLASS:PUBLIC
STATUS:CONFIRMED
CATEGORIES:Exhibition,Free,Library,Native American
LOCATION:Hatcher Graduate Library - North Lobby (just off the Diag)
CONTACT:
END:VEVENT
BEGIN:VEVENT
DTSTAMP:20220627T142559
DTSTART;TZID=America/Detroit:20220903T100000
DTEND;TZID=America/Detroit:20220903T180000
SUMMARY:Exhibition:A Perfect Pairing of Cookbooks and Dinnerware
DESCRIPTION:A dozen selections from the Janice Bluestein Longone Culinary Archive from our Special Collections Research Center have been perfectly paired with dishes from the International Museum of Dinnerware Design to provide a feast for the eyes.\n\nA “perfect pairing” usually refers to a taste compatibility between wine and a food group\, such as wine and cheese. For example\, some believe a perfect pairing would be Cabernet with duck confit with turnips or Pinot Noir with bison rib eye steaks with roasted garlic — wines with sauces\, spicy food\, hors d’oeurvres\, etc. But other things can be perfectly paired such as fruit and cheese\, a couple\, or a clothing selection.\n\nSometimes pairs are made more perfect when they are catalysts for the imagination. That is what curators Margaret Carney\, Ph.D.\, and Juli McLoone are serving in \"A Perfect Pairing of Cookbooks and Dinnerware.\" The right ingredients along with an inspired recipe creates a delicious and beautiful meal that is enhanced when the cuisine is presented on a thoughtfully curated table setting\, or\, we hope\, in a thoughtfully curated exhibit. Bon Appetit!
UID:95818-21790995@events.umich.edu
URL:https://events.umich.edu/event/95818
CLASS:PUBLIC
STATUS:CONFIRMED
CATEGORIES:Exhibition,Free,Library
LOCATION:Hatcher Graduate Library - Audubon Room, 1st floor
CONTACT:
END:VEVENT
BEGIN:VEVENT
DTSTAMP:20220817T171620
DTSTART;TZID=America/Detroit:20220903T100000
DTEND;TZID=America/Detroit:20220903T235900
SUMMARY:Recreational / Games:Intramural Sports Registration: Fall A
DESCRIPTION:Sign up with a team or join as a free agent!\n\nRegular Season:  September 11 – September 29\nPlayoffs: October 2 – October 13\n\nSports Offered:\nKickball\nSpikeball\nPickleball\n4 v 4 Sand Volleyball\nTennis\n\nRegister Here: https://webstore.recsports.umich.edu/
UID:87866-21793720@events.umich.edu
URL:https://events.umich.edu/event/87866
CLASS:PUBLIC
STATUS:CONFIRMED
CATEGORIES:Games,Outdoors,Rec Sports,Well-being
LOCATION:
CONTACT:
END:VEVENT
BEGIN:VEVENT
DTSTAMP:20221219T181506
DTSTART;TZID=America/Detroit:20220903T110000
DTEND;TZID=America/Detroit:20220903T170000
SUMMARY:Exhibition:LaToya Ruby Frazier: Flint Is Family In Three Acts
DESCRIPTION:Organized by Stamps Gallery in partnership with the Eli and Edythe Broad Art Museum\, Michigan State University\, and the Flint Institute of Arts.\n“No matter how dark a situation may be\, a camera can extract the light and turn a negative into a positive. In creating Flint Is Family In Three Acts\, I see the role of photographs as empowering and enacting visible change: in Act I\, the photographs bear witness and reclaim history\; in Act II\, the photographs reveal a hidden narrative\; in Act III\, the photographs are a catalyst for obtaining resources.”\n—LaToya Ruby Frazier \nFlint Is Family In Three Acts is a multi-part exhibition by renowned artist LaToya Ruby Frazier. For five years\, Frazier researched and collaborated with two poets\, activists\, mothers and residents of Flint\, Michigan\, Shea Cobb and Amber Hasan\, as they endured one of the most devastating ecological crises in U.S. history. Resulting in a monumental oeuvre of photographs\, video\, and texts Frazier developed Flint Is Family In Three Acts (2016-2021) to advocate for access to clean and safe drinking water for all regardless of race\, religion and economic status. The series records stories of surviving and thriving\, especially within racialized and marginalized neighborhoods in Flint\, to ensure that they remained visible in national debates concerning environmental justice. Drawing inspiration from the urgency in Frazier’s work\, which also sheds light on building equitable and inclusive futures\, Stamps Gallery\, part of the Penny W. Stamps School of Art &amp\; Design at the University of Michigan\, initiated a partnership with the Flint Institute of Arts and the Eli and Edythe Broad Art Museum at Michigan State University to bring this important exhibition together for the first time in Michigan. As co-presenters of this landmark exhibition\, our goal is to offer a creative pedagogical platform that reaches broader audiences across Michigan and beyond - Flint is Family: Act I (2016-2017) will take place at the Flint Institute of Arts\, Act II (2017-2019) at the Eli and Edythe Broad Art Museum\, and Act III (2019) at Stamps Gallery. The exhibition served as a catalyst to bring three disparate institutions together to deepen our understanding of individual and institutional agency in advocating for equity\, transparency and environmental justice in our respective communities\, while also highlighting the role of the artist as an agent for enacting positive social change.\n\nCurated by Srimoyee Mitra\, Tracee Glab\, and Steven L. Bridges with the assistance of Jennifer Junkermeier-Khan\, Rachel Winter\, and Rachael Holstege.
UID:95590-21790366@events.umich.edu
URL:https://events.umich.edu/event/95590
CLASS:PUBLIC
STATUS:CONFIRMED
CATEGORIES:Art
LOCATION:Off Campus Location
CONTACT:
END:VEVENT
BEGIN:VEVENT
DTSTAMP:20221011T103536
DTSTART;TZID=America/Detroit:20220903T110000
DTEND;TZID=America/Detroit:20220903T111500
SUMMARY:Presentation:Science Forum Demo
DESCRIPTION:Join us in the Science Forum for a 15-20 minute engaging science demonstration that will help you see the world in a whole new way. Demonstrations are free and appropriate for visitors ages 5 and above. Schedule subject to change.\n\nShedding Light on Magnets\nWhat makes a magnet magnetic? Why do they stick together? Join us as we explore magnetism\, magnetic fields\, and even what that has to do with your cell phone. We will highlight how researchers use light to study the magnetism of new materials. \n\nMade possible by a grant from the National Science Foundation.
UID:95985-21793444@events.umich.edu
URL:https://events.umich.edu/event/95985
CLASS:PUBLIC
STATUS:CONFIRMED
CATEGORIES:Children,Family,Free,Museum,Natural Sciences,Science
LOCATION:Museum of Natural History
CONTACT:
END:VEVENT
BEGIN:VEVENT
DTSTAMP:20260210T142109
DTSTART;TZID=America/Detroit:20220903T113000
DTEND;TZID=America/Detroit:20220903T121500
SUMMARY:Presentation:Expedition Reef
DESCRIPTION:Learn the secrets of the “rainforests of the sea” as you embark on an oceanic safari of the world’s most vibrant—and endangered—marine ecosystems. Expedition Reef immerses you in an undersea adventure. Along the way\, discover how corals grow\, feed\, reproduce\, and support over 25% of all marine life on Earth.\n\nThe state-of-the-art Planetarium & Dome Theater at the U-M Museum of Natural History transports visitors beyond distant stars and back in time from the comfort of reclining seats. Tickets $8. Tickets are available on the day of the show at the Museum Store.
UID:95986-21793457@events.umich.edu
URL:https://events.umich.edu/event/95986
CLASS:PUBLIC
STATUS:CONFIRMED
CATEGORIES:natural history museum,Natural Sciences
LOCATION:Museum of Natural History
CONTACT:
END:VEVENT
BEGIN:VEVENT
DTSTAMP:20220903T121639
DTSTART;TZID=America/Detroit:20220903T120000
SUMMARY:Sporting Event:Football vs Colorado State
DESCRIPTION:Football vs Colorado State
UID:95330-21789172@events.umich.edu
URL:https://events.umich.edu/event/95330
CLASS:PUBLIC
STATUS:CONFIRMED
CATEGORIES:Athletics,Athletics - Football
LOCATION:Michigan Stadium
CONTACT:
END:VEVENT
BEGIN:VEVENT
DTSTAMP:20221109T141417
DTSTART;TZID=America/Detroit:20220903T123000
DTEND;TZID=America/Detroit:20220903T131500
SUMMARY:Presentation:Sky Tonight
DESCRIPTION:A live presentation on what to find in the sky tonight and for the coming few weeks. This presentation includes how to find the cardinal directions on your own by finding the North Star\, current and upcoming constellations\, visible planets\, a few deep sky objects depending on the season\, and other interesting astronomical visualizations. If you want to be able to look up from your own backyard and know what to look for\, this is the show for you.\n\nThe state-of-the-art Planetarium & Dome Theater at the U-M Museum of Natural History transports visitors beyond distant stars and back in time from the comfort of reclining seats. Tickets $8. Tickets are available on the day of the show at the Museum Store.\n\nThe planetarium is operating at half capacity to maximize distancing between viewers.
UID:91230-21793488@events.umich.edu
URL:https://events.umich.edu/event/91230
CLASS:PUBLIC
STATUS:CONFIRMED
CATEGORIES:Astronomy,Natural Sciences,Science
LOCATION:Museum of Natural History
CONTACT:
END:VEVENT
BEGIN:VEVENT
DTSTAMP:20220912T132709
DTSTART;TZID=America/Detroit:20220903T133000
DTEND;TZID=America/Detroit:20220903T141500
SUMMARY:Presentation:Tales of the Maya Skies
DESCRIPTION:Tales of the Maya Skies immerses viewers in the wonders of Maya science\, cosmology and myth. This beautifully illustrated story takes us back in time to the jungles of Mexico to discover how Mayan scholars developed a sophisticated understanding of astronomy\, architecture\, and mathematics that enabled them to predict solstices\, solar eclipses\, weather patterns and planetary movements.\n\nThe state-of-the-art Planetarium & Dome Theater at the U-M Museum of Natural History transports visitors beyond distant stars and back in time from the comfort of reclining seats. Tickets $8. Tickets are available on the day of the show at the Museum Store.\n\nThe planetarium is operating at half capacity to maximize distancing between viewers.
UID:95036-21793470@events.umich.edu
URL:https://events.umich.edu/event/95036
CLASS:PUBLIC
STATUS:CONFIRMED
CATEGORIES:Astronomy,Museum,Natural Sciences,Science
LOCATION:Museum of Natural History
CONTACT:
END:VEVENT
BEGIN:VEVENT
DTSTAMP:20220805T162420
DTSTART;TZID=America/Detroit:20220903T140000
DTEND;TZID=America/Detroit:20220903T150000
SUMMARY:Other:In-Person Saturday Sampler Tour | The Military in the Ancient World
DESCRIPTION:For the last weekend of this summer’s Blue Star Museum program\, the Kelsey Museum is offering a public tour focusing on soldiers\, armies\, and military leaders in the ancient world. \n\nMasks are optional inside the Kelsey. For more information about our COVID procedures and how to prepare for your visit\, please visit our website\, https://myumi.ch/9PG1P.\n\nSaturday Sampler tours are free and open to all visitors. If you are a person with a disability who requires accommodation to attend this tour\, please contact the education office (734-647-4167 or kelsey.ed@umich.edu) at least two weeks in advance. We ask for advance notice as some accommodations may require more time for the University to arrange.
UID:96575-21792902@events.umich.edu
URL:https://events.umich.edu/event/96575
CLASS:PUBLIC
STATUS:CONFIRMED
CATEGORIES:Ancient Egypt,Archaeology,Classical Studies,Free,Museum,Tour
LOCATION:Kelsey Museum of Archaeology
CONTACT:
END:VEVENT
BEGIN:VEVENT
DTSTAMP:20221109T141417
DTSTART;TZID=America/Detroit:20220903T143000
DTEND;TZID=America/Detroit:20220903T151500
SUMMARY:Presentation:Sky Tonight
DESCRIPTION:A live presentation on what to find in the sky tonight and for the coming few weeks. This presentation includes how to find the cardinal directions on your own by finding the North Star\, current and upcoming constellations\, visible planets\, a few deep sky objects depending on the season\, and other interesting astronomical visualizations. If you want to be able to look up from your own backyard and know what to look for\, this is the show for you.\n\nThe state-of-the-art Planetarium & Dome Theater at the U-M Museum of Natural History transports visitors beyond distant stars and back in time from the comfort of reclining seats. Tickets $8. Tickets are available on the day of the show at the Museum Store.\n\nThe planetarium is operating at half capacity to maximize distancing between viewers.
UID:91230-21793492@events.umich.edu
URL:https://events.umich.edu/event/91230
CLASS:PUBLIC
STATUS:CONFIRMED
CATEGORIES:Astronomy,Natural Sciences,Science
LOCATION:Museum of Natural History
CONTACT:
END:VEVENT
BEGIN:VEVENT
DTSTAMP:20230908T085204
DTSTART;TZID=America/Detroit:20220903T150000
DTEND;TZID=America/Detroit:20220903T151500
SUMMARY:Presentation:Science Forum Discovery Demos
DESCRIPTION:Join us in the Science Forum for 15-20 minute engaging science demonstrations that will help you see the world in a whole new way. Demonstrations are free and appropriate for visitors ages 5 and above. Schedule subject to change.\n\nNo demos on October 14th or 15th.\n\nHow to Become a Fossil\nExplore how fossils form and what parts of animals can become fossilized! How old are the earliest fossils? How old does something have to be before it is considered a fossil? You’ll touch some real fossils\, learn the different types of fossil evidence\, and discover what is necessary to become a fossil.  Finally\, we’ll discuss what kinds of things fossils can tell us\, and how fossil casts are made in the museum!
UID:95035-21793436@events.umich.edu
URL:https://events.umich.edu/event/95035
CLASS:PUBLIC
STATUS:CONFIRMED
CATEGORIES:Children,Family,Free,Museum,natural history museum,Natural Sciences,Science
LOCATION:Museum of Natural History
CONTACT:
END:VEVENT
BEGIN:VEVENT
DTSTAMP:20220903T180007
DTSTART;TZID=America/Detroit:20220903T160000
DTEND;TZID=America/Detroit:20220903T210000
SUMMARY:Recreational / Games:Campus Kick Off BBQ
DESCRIPTION:Looking to meet more people and get plugged into a church community? Don't miss out on this opportunity to connect with other students – there will be plenty of FREE FOOD and good times to go around. The BBQ will occur at 1420 Island Drive\, but we will be providing rides! Rides will be available at CCRB and Bursley between 3:40pm and 4:00pm. There should be someone with a sign at each location. See you there!
UID:97108-21793924@events.umich.edu
URL:https://events.umich.edu/event/97108
CLASS:PUBLIC
STATUS:CONFIRMED
CATEGORIES:
LOCATION:Island Drive Park
CONTACT:
END:VEVENT
BEGIN:VEVENT
DTSTAMP:20220903T181642
DTSTART;TZID=America/Detroit:20220903T163000
SUMMARY:Sporting Event:Volleyball vs Loyola Chicago
DESCRIPTION:Volleyball vs Loyola Chicago
UID:96500-21792596@events.umich.edu
URL:https://events.umich.edu/event/96500
CLASS:PUBLIC
STATUS:CONFIRMED
CATEGORIES:Athletics,Athletics - Volleyball
LOCATION:Off Campus Location
CONTACT:
END:VEVENT
BEGIN:VEVENT
DTSTAMP:20220829T142129
DTSTART;TZID=America/Detroit:20220903T170000
DTEND;TZID=America/Detroit:20220903T230000
SUMMARY:Social / Informal Gathering:Attending Figure 8 Races
DESCRIPTION:We will be driving to the Flat Rock Speedway to watch the figure 8 races (including cars\, boat trailers\, and school buses). We will be coordinating rides and tickets\, so please let us know if you plan on attending by Thursday 9/1. The event starts at 6pm\, so we will be leaving Ann Arbor around 5 pm.\n\nDM us on instagram or email rachel@hhcf.org if you're interested!
UID:97643-21794840@events.umich.edu
URL:https://events.umich.edu/event/97643
CLASS:PUBLIC
STATUS:CONFIRMED
CATEGORIES:Graduate and Professional Students,In Person,Religious,Student Org,Undergraduate Students,Welcome to Michigan
LOCATION:Off Campus Location
CONTACT:
END:VEVENT
BEGIN:VEVENT
DTSTAMP:20220526T121525
DTSTART;TZID=America/Detroit:20220903T190000
SUMMARY:Sporting Event:Football vs Colorado State
DESCRIPTION:Football vs Colorado State
UID:94878-21779354@events.umich.edu
URL:https://events.umich.edu/event/94878
CLASS:PUBLIC
STATUS:CONFIRMED
CATEGORIES:Athletics,Athletics - Football
LOCATION:Michigan Stadium
CONTACT:
END:VEVENT
BEGIN:VEVENT
DTSTAMP:20220804T061605
DTSTART;TZID=America/Detroit:20220903T190000
SUMMARY:Sporting Event:Volleyball vs Loyola Chicago
DESCRIPTION:Volleyball vs Loyola Chicago
UID:95211-21789005@events.umich.edu
URL:https://events.umich.edu/event/95211
CLASS:PUBLIC
STATUS:CONFIRMED
CATEGORIES:Athletics,Athletics - Volleyball
LOCATION:Off Campus Location
CONTACT:
END:VEVENT
BEGIN:VEVENT
DTSTAMP:20220823T140836
DTSTART;TZID=America/Detroit:20220903T200000
DTEND;TZID=America/Detroit:20220903T235900
SUMMARY:Recreational / Games:Go Blue Mix
DESCRIPTION:Celebrate the Michigan vs. Colorado State football game with us at Ingalls Mall with an excitement-filled evening featuring a zip line\, snacks\, a mechanical riding football\, music\, glow games\, and other activities! Go Blue Mix will be the first Umix Late Night event of the year\, a series that takes place on Friday nights across campus. Welcome to the University of Michigan!
UID:96635-21792961@events.umich.edu
URL:https://events.umich.edu/event/96635
CLASS:PUBLIC
STATUS:CONFIRMED
CATEGORIES:CCI,cciprograms,food,free,games,social,umix,umix late night
LOCATION:Ingalls Mall
CONTACT:
END:VEVENT
END:VCALENDAR