BEGIN:VCALENDAR
VERSION:2.0
PRODID:-//UM//UM*Events//EN
CALSCALE:GREGORIAN
BEGIN:VTIMEZONE
TZID:America/Detroit
TZURL:http://tzurl.org/zoneinfo/America/Detroit
X-LIC-LOCATION:America/Detroit
BEGIN:DAYLIGHT
TZOFFSETFROM:-0500
TZOFFSETTO:-0400
TZNAME:EDT
DTSTART:20070311T020000
RRULE:FREQ=YEARLY;BYMONTH=3;BYDAY=2SU
END:DAYLIGHT
BEGIN:STANDARD
TZOFFSETFROM:-0400
TZOFFSETTO:-0500
TZNAME:EST
DTSTART:20071104T020000
RRULE:FREQ=YEARLY;BYMONTH=11;BYDAY=1SU
END:STANDARD
END:VTIMEZONE
BEGIN:VEVENT
DTSTAMP:20220905T120034
DTSTART;TZID=America/Detroit:20220905T000000
DTEND;TZID=America/Detroit:20220905T235959
SUMMARY:Other:Annual Meeting Scheduling Poll
DESCRIPTION:During this period\, members will be able to fill out this poll to schedule meeting times for this year.
UID:95625-21790492@events.umich.edu
URL:https://events.umich.edu/event/95625
CLASS:PUBLIC
STATUS:CONFIRMED
CATEGORIES:
LOCATION:Online
CONTACT:
END:VEVENT
BEGIN:VEVENT
DTSTAMP:20230324T120005
DTSTART;TZID=America/Detroit:20220905T000000
DTEND;TZID=America/Detroit:20220905T235959
SUMMARY:Community Service:Homework Help at The Children's Center
DESCRIPTION:The Homework Help program offers children assistance with their homework assignments. Children are encouraged to bring homework and are paired with a volunteer to assist them. This program is a critical service in helping children thrive. Volunteers give children the tools they need to be successful in school.Virtual and in-person volunteer opportunities are available. If you would like to volunteer\, please start the enrollment process by creating an account on the Children Center's Volunteer Site found HERE. After your account is created\, the Children's Center will reach out to you within 2 business days to answer any questions and discuss the next steps.In accordance with the CMS Vaccine Mandate\, those volunteering in-person at the Children’s Center are required to be fully vaccinated and must provide proof of full vaccination upon request.
UID:93885-21787933@events.umich.edu
URL:https://events.umich.edu/event/93885
CLASS:PUBLIC
STATUS:CONFIRMED
CATEGORIES:
LOCATION:The Children&#039;s Center 
CONTACT:
END:VEVENT
BEGIN:VEVENT
DTSTAMP:20220911T180007
DTSTART;TZID=America/Detroit:20220905T000000
DTEND;TZID=America/Detroit:20220905T235959
SUMMARY:Auditions:Spring Awakening Auditions Due!
DESCRIPTION:Interested in performing in Spring Awakening at the Arthur Miller Theatre? Go ahead and send in an audition to our audition form by 11:59pm on Sunday\, September 11!
UID:96360-21792343@events.umich.edu
URL:https://events.umich.edu/event/96360
CLASS:PUBLIC
STATUS:CONFIRMED
CATEGORIES:
LOCATION:Online
CONTACT:
END:VEVENT
BEGIN:VEVENT
DTSTAMP:20220920T063202
DTSTART;TZID=America/Detroit:20220905T080000
DTEND;TZID=America/Detroit:20220905T110000
SUMMARY:Careers / Jobs:University of Michigan Strategy Coffee Chats
DESCRIPTION:Registration for this event closes at 11:59pm ET on Wednesday\, August 31st. \n\nAre you interested in exploring the Strategy Analyst orStrategy Summer Scholar Consulting career at Deloitte? Please submit yourresume for an opportunity to join us for a coffee chat! Coffee chats willbe offered both virtually and on campus this fall. Please find more information & register using the link below.\n\nTO REGISTER: https://rsvp.deloitte.com/eventlisting/Eventdetail?jobId=113022&tags=kwoodruff%40deloitte.com\n\nPlease note\, this event is invite only. After registering\, you willreceive a \"waitlist\" confirmation. We will reach out and confirm your registration if you are selected for Coffee Chats.
UID:96802-21793325@events.umich.edu
URL:https://events.umich.edu/event/96802
CLASS:PUBLIC
STATUS:CONFIRMED
CATEGORIES:
LOCATION:
CONTACT:
END:VEVENT
BEGIN:VEVENT
DTSTAMP:20220509T084552
DTSTART;TZID=America/Detroit:20220905T090000
DTEND;TZID=America/Detroit:20220905T170000
SUMMARY:Other:Closed for Labor Day
DESCRIPTION:The Museum of Natural History will be closed on Monday\, September 5\, 2022 for Labor Day.
UID:95031-21788287@events.umich.edu
URL:https://events.umich.edu/event/95031
CLASS:PUBLIC
STATUS:CONFIRMED
CATEGORIES:Museum
LOCATION:
CONTACT:
END:VEVENT
BEGIN:VEVENT
DTSTAMP:20220817T171620
DTSTART;TZID=America/Detroit:20220905T100000
DTEND;TZID=America/Detroit:20220905T235900
SUMMARY:Recreational / Games:Intramural Sports Registration: Fall A
DESCRIPTION:Sign up with a team or join as a free agent!\n\nRegular Season:  September 11 – September 29\nPlayoffs: October 2 – October 13\n\nSports Offered:\nKickball\nSpikeball\nPickleball\n4 v 4 Sand Volleyball\nTennis\n\nRegister Here: https://webstore.recsports.umich.edu/
UID:87866-21793722@events.umich.edu
URL:https://events.umich.edu/event/87866
CLASS:PUBLIC
STATUS:CONFIRMED
CATEGORIES:Games,Rec Sports,Outdoors,Well-being
LOCATION:
CONTACT:
END:VEVENT
BEGIN:VEVENT
DTSTAMP:20220824T133909
DTSTART;TZID=America/Detroit:20220905T100000
DTEND;TZID=America/Detroit:20220905T180000
SUMMARY:Other:Poster Sale
DESCRIPTION:Check out the biggest and newest back-to-school poster sale!\n\nMonday\, 9/5-Thursday\, 9/8\n10:00am-6:00pm each day
UID:96750-21793239@events.umich.edu
URL:https://events.umich.edu/event/96750
CLASS:PUBLIC
STATUS:CONFIRMED
CATEGORIES:welcome to michigan,sale,center for campus involvement
LOCATION:Pierpont Commons - Atrium, main level
CONTACT:
END:VEVENT
BEGIN:VEVENT
DTSTAMP:20220920T123143
DTSTART;TZID=America/Detroit:20220905T130000
DTEND;TZID=America/Detroit:20220905T143000
SUMMARY:Careers / Jobs:Taking Control of Your Career Growth
DESCRIPTION:In many roles and industries\, a significant amount of experience is needed in order to really understand the full scope of any job and do well in the position. High barriers of entry for many roles can make ittough to find the right job for you\; leaving many roles unfilled\, even in a candidate-driven market.\n\nAs you prepare and plan for life and yourcareer after graduation\, what can you do to improve your chances of success?\n\nWe'd like to invite you to explore how to Take Control of Your Career Growth. Designed for working students and professionals in the middle of a career transition\, this workshop will help you discover little-knowntechniques and practices that accelerate the process of taking control ofhow you live and work.\n\nThrough this workshop you'll learn how to:\n\nEmbrace the Unknown\n- Get properly prepared for the career change that's coming. Develop the right habits & start earning to support your transitioninto a better you.\n\nBuild the Right Skills\n- Gain the most desired skill for any profession. Take drastic measures and understand how to apply your existing skills and experience.\n\nMaximize Each Day\n- Improve your decision making and learn how to make the best of each day.\n\nGet Noticed\n- Adopt the right way of thinking and generate demand for your skills without getting overwhelmed.\n\nSet the Right Priorities for Long-term CareerGrowth\n- Become a confident decision maker. Understand what your next steps should be. Learn how to manage your thoughts and get action steps for continued personal growth.
UID:95571-21790346@events.umich.edu
URL:https://events.umich.edu/event/95571
CLASS:PUBLIC
STATUS:CONFIRMED
CATEGORIES:
LOCATION:
CONTACT:
END:VEVENT
BEGIN:VEVENT
DTSTAMP:20220905T121643
DTSTART;TZID=America/Detroit:20220905T140000
SUMMARY:Sporting Event:Men's Soccer vs Bowling Green
DESCRIPTION:Men's Soccer vs Bowling Green
UID:95850-21791192@events.umich.edu
URL:https://events.umich.edu/event/95850
CLASS:PUBLIC
STATUS:CONFIRMED
CATEGORIES:Athletics,Athletics - Men's Soccer
LOCATION:U-M Soccer Stadium
CONTACT:
END:VEVENT
BEGIN:VEVENT
DTSTAMP:20220821T142030
DTSTART;TZID=America/Detroit:20220905T160000
DTEND;TZID=America/Detroit:20220905T200000
SUMMARY:Social / Informal Gathering:Labor Day BBQ
DESCRIPTION:Enjoy your favorite BBQ foods at all dining halls today! For full menus visit dining.umich.edu and navigate to each dining hall page to view more.
UID:97203-21794127@events.umich.edu
URL:https://events.umich.edu/event/97203
CLASS:PUBLIC
STATUS:CONFIRMED
CATEGORIES:Food,Welcome to Michigan,Dinner,Michigan Dining,Social
LOCATION:
CONTACT:
END:VEVENT
BEGIN:VEVENT
DTSTAMP:20220802T114535
DTSTART;TZID=America/Detroit:20220905T190000
DTEND;TZID=America/Detroit:20220905T200000
SUMMARY:Rally / Mass Meeting:Mass Meeting
DESCRIPTION:Come to our Mass Meeting in Mason Hall to learn more about Ethical Investments and the Fall 2022 New Analyst Recruiting Process!
UID:96437-21792533@events.umich.edu
URL:https://events.umich.edu/event/96437
CLASS:PUBLIC
STATUS:CONFIRMED
CATEGORIES:Student Org,Welcome to Michigan,Undergraduate Students,Undergraduate,Business,Social Impact,Professional Development
LOCATION:Mason Hall - See our Website! (eicumich.com)
CONTACT:
END:VEVENT
END:VCALENDAR