BEGIN:VCALENDAR
VERSION:2.0
PRODID:-//UM//UM*Events//EN
CALSCALE:GREGORIAN
BEGIN:VTIMEZONE
TZID:America/Detroit
TZURL:http://tzurl.org/zoneinfo/America/Detroit
X-LIC-LOCATION:America/Detroit
BEGIN:DAYLIGHT
TZOFFSETFROM:-0500
TZOFFSETTO:-0400
TZNAME:EDT
DTSTART:20070311T020000
RRULE:FREQ=YEARLY;BYMONTH=3;BYDAY=2SU
END:DAYLIGHT
BEGIN:STANDARD
TZOFFSETFROM:-0400
TZOFFSETTO:-0500
TZNAME:EST
DTSTART:20071104T020000
RRULE:FREQ=YEARLY;BYMONTH=11;BYDAY=1SU
END:STANDARD
END:VTIMEZONE
BEGIN:VEVENT
DTSTAMP:20220914T180027
DTSTART;TZID=America/Detroit:20220910T000000
DTEND;TZID=America/Detroit:20220910T235959
SUMMARY:Exercise / Fitness:Club Team Tryouts
DESCRIPTION:We will be hosting tryouts on Wednesday 9/7\, Sunday 9/11\, and again on Wednesday 9/14 at the Sports Coliseum located at 721 S 5th Ave\, Ann Arbor\, MI 48104. Tryouts will cost $10 per person (one-time fee). Keep an eye out for our table at Festifall.
UID:97764-21795106@events.umich.edu
URL:https://events.umich.edu/event/97764
CLASS:PUBLIC
STATUS:CONFIRMED
CATEGORIES:
LOCATION:Sports Coliseum
CONTACT:
END:VEVENT
BEGIN:VEVENT
DTSTAMP:20220911T180017
DTSTART;TZID=America/Detroit:20220910T000000
DTEND;TZID=America/Detroit:20220910T235959
SUMMARY:Sporting Event:Fall Fury 
DESCRIPTION:MCSA Fleet Race Regatta
UID:97513-21794668@events.umich.edu
URL:https://events.umich.edu/event/97513
CLASS:PUBLIC
STATUS:CONFIRMED
CATEGORIES:
LOCATION:University of Wisconsin - Madison, Madison, WI
CONTACT:
END:VEVENT
BEGIN:VEVENT
DTSTAMP:20230324T120005
DTSTART;TZID=America/Detroit:20220910T000000
DTEND;TZID=America/Detroit:20220910T235959
SUMMARY:Community Service:Homework Help at The Children's Center
DESCRIPTION:The Homework Help program offers children assistance with their homework assignments. Children are encouraged to bring homework and are paired with a volunteer to assist them. This program is a critical service in helping children thrive. Volunteers give children the tools they need to be successful in school.Virtual and in-person volunteer opportunities are available. If you would like to volunteer\, please start the enrollment process by creating an account on the Children Center's Volunteer Site found HERE. After your account is created\, the Children's Center will reach out to you within 2 business days to answer any questions and discuss the next steps.In accordance with the CMS Vaccine Mandate\, those volunteering in-person at the Children’s Center are required to be fully vaccinated and must provide proof of full vaccination upon request.
UID:93885-21787938@events.umich.edu
URL:https://events.umich.edu/event/93885
CLASS:PUBLIC
STATUS:CONFIRMED
CATEGORIES:
LOCATION:The Children&#039;s Center 
CONTACT:
END:VEVENT
BEGIN:VEVENT
DTSTAMP:20220911T180007
DTSTART;TZID=America/Detroit:20220910T000000
DTEND;TZID=America/Detroit:20220910T235959
SUMMARY:Auditions:Spring Awakening Auditions Due!
DESCRIPTION:Interested in performing in Spring Awakening at the Arthur Miller Theatre? Go ahead and send in an audition to our audition form by 11:59pm on Sunday\, September 11!
UID:96360-21792348@events.umich.edu
URL:https://events.umich.edu/event/96360
CLASS:PUBLIC
STATUS:CONFIRMED
CATEGORIES:
LOCATION:Online
CONTACT:
END:VEVENT
BEGIN:VEVENT
DTSTAMP:20220913T094905
DTSTART;TZID=America/Detroit:20220910T070000
DTEND;TZID=America/Detroit:20220910T120000
SUMMARY:Social / Informal Gathering:Game Day Cider and Donuts
DESCRIPTION:Stop by any dining hall before you root on the Wolverines! All dining halls will have fresh donuts and cider for you to enjoy!
UID:97204-21794128@events.umich.edu
URL:https://events.umich.edu/event/97204
CLASS:PUBLIC
STATUS:CONFIRMED
CATEGORIES:Athletics - Football,Food,Michigan Dining,Welcome to Michigan
LOCATION:
CONTACT:
END:VEVENT
BEGIN:VEVENT
DTSTAMP:20220817T121642
DTSTART;TZID=America/Detroit:20220910T073000
DTEND;TZID=America/Detroit:20220910T210000
SUMMARY:Exercise / Fitness:Group-X Free Week
DESCRIPTION:Looking for a fun\, convenient way to fit movement into your schedule? Check out Group‑X classes! Starting August 29 – September 11 you can try any class\, anytime for free during Group‑X Free Week. You’ll find Zumba\, Yoga\, Strength\, HIIT\, Cycle and other great classes to join in-person and virtually. Download the Rec Sports app or visit our website to see our full schedule and how to register.\n\nSchedule: https://recsports.umich.edu/groupx/schedule/\n\nRegister: https://recsports.umich.edu/groupx/passes/
UID:96998-21793676@events.umich.edu
URL:https://events.umich.edu/event/96998
CLASS:PUBLIC
STATUS:CONFIRMED
CATEGORIES:exercise class,fitness,Health & Wellness,Rec Sports,welcome to michigan,Well-being
LOCATION:
CONTACT:
END:VEVENT
BEGIN:VEVENT
DTSTAMP:20220809T173135
DTSTART;TZID=America/Detroit:20220910T080000
DTEND;TZID=America/Detroit:20220910T190000
SUMMARY:Exhibition:Places & Spaces: Mapping Science and A Brief History of Information Graphics
DESCRIPTION:The Places & Spaces: Mapping Science exhibit introduces science mapping techniques and data visualization to the general public and to experts across diverse disciplines\, and we hope inspires cross-disciplinary discussion on how to best track and communicate scholarly activity and scientific progress on a global scale. The exhibit includes a macroscope which showcases interactive visualizations that demonstrate the impact of different data cleaning\, analysis\, and visualization algorithms.\n\nThe Places & Spaces exhibit is curated by the Cyberinfrastructure for Network Science Center at Indiana University. The complementary exhibit\, A Brief History of Information Graphics\, was created by Clark Library staff to provide an historical context to the Places and Spaces exhibit.
UID:96720-21793131@events.umich.edu
URL:https://events.umich.edu/event/96720
CLASS:PUBLIC
STATUS:CONFIRMED
CATEGORIES:Free,Library,Maps
LOCATION:Hatcher Graduate Library - Clark Library (2nd floor)
CONTACT:
END:VEVENT
BEGIN:VEVENT
DTSTAMP:20221003T125034
DTSTART;TZID=America/Detroit:20220910T080000
DTEND;TZID=America/Detroit:20220910T190000
SUMMARY:Exhibition:The Dance for Mother Earth Powwow
DESCRIPTION:This exhibit features various aspects of the Native North American powwow. More specifically\, it features the history and culture behind Ann Arbor’s \"Dance for Mother Earth Powwow\,\" which is approaching its much-anticipated 50th celebration.\n\nThe Dance for Mother Earth Powwow is a multi-decade\, intertribal celebration of Indigenous cultures. It grew from its early beginnings as a small gathering in a field just outside of Ann Arbor into one of the largest student-led powwows in North America. The event attracts crowds of thousands — dancers\, singers\, artists\, tribal members from across the country\, and non-Indigenous members of the community.\n\nStop by to learn more about The Dance for Mother Earth Powwow\, modern Indigenous culture\, and resources to connect to today on campus.\n\nThis exhibition was curated by Michigan Library Scholar interns\, Allison Jiang and Andrea Medina. The Michigan Library Scholars internship program provides undergraduate students with the opportunity to research and develop a capstone project under the guidance of experienced library professionals at one of the largest academic research libraries in the world.
UID:96225-21792098@events.umich.edu
URL:https://events.umich.edu/event/96225
CLASS:PUBLIC
STATUS:CONFIRMED
CATEGORIES:Exhibition,Free,Library,Native American
LOCATION:Hatcher Graduate Library - North Lobby (just off the Diag)
CONTACT:
END:VEVENT
BEGIN:VEVENT
DTSTAMP:20220925T063312
DTSTART;TZID=America/Detroit:20220910T090000
DTEND;TZID=America/Detroit:20220910T140000
SUMMARY:Careers / Jobs:USP Thomson Career Fair
DESCRIPTION:At the Federal Bureau of Prisons\, each employee is vital to the success of achieving the mission to change the lives of those in our care. Learn more about a career in Federal Law Enforcement at USP Thomson's hiring event September 10\, 2022. \n\nJoin us at the Camberia Hotel for this event.
UID:97740-21795035@events.umich.edu
URL:https://events.umich.edu/event/97740
CLASS:PUBLIC
STATUS:CONFIRMED
CATEGORIES:
LOCATION:Bettendorf, Iowa, United States
CONTACT:
END:VEVENT
BEGIN:VEVENT
DTSTAMP:20220627T142559
DTSTART;TZID=America/Detroit:20220910T100000
DTEND;TZID=America/Detroit:20220910T180000
SUMMARY:Exhibition:A Perfect Pairing of Cookbooks and Dinnerware
DESCRIPTION:A dozen selections from the Janice Bluestein Longone Culinary Archive from our Special Collections Research Center have been perfectly paired with dishes from the International Museum of Dinnerware Design to provide a feast for the eyes.\n\nA “perfect pairing” usually refers to a taste compatibility between wine and a food group\, such as wine and cheese. For example\, some believe a perfect pairing would be Cabernet with duck confit with turnips or Pinot Noir with bison rib eye steaks with roasted garlic — wines with sauces\, spicy food\, hors d’oeurvres\, etc. But other things can be perfectly paired such as fruit and cheese\, a couple\, or a clothing selection.\n\nSometimes pairs are made more perfect when they are catalysts for the imagination. That is what curators Margaret Carney\, Ph.D.\, and Juli McLoone are serving in \"A Perfect Pairing of Cookbooks and Dinnerware.\" The right ingredients along with an inspired recipe creates a delicious and beautiful meal that is enhanced when the cuisine is presented on a thoughtfully curated table setting\, or\, we hope\, in a thoughtfully curated exhibit. Bon Appetit!
UID:95818-21791002@events.umich.edu
URL:https://events.umich.edu/event/95818
CLASS:PUBLIC
STATUS:CONFIRMED
CATEGORIES:Exhibition,Free,Library
LOCATION:Hatcher Graduate Library - Audubon Room, 1st floor
CONTACT:
END:VEVENT
BEGIN:VEVENT
DTSTAMP:20220817T171443
DTSTART;TZID=America/Detroit:20220910T100000
DTEND;TZID=America/Detroit:20220910T235900
SUMMARY:Recreational / Games:Intramural Sports Registration: Fall X
DESCRIPTION:Sign up with a team or join as a free agent!\n\nRegular Season:  September 18 – October 25\nPlayoffs: October 30 – November 22\n\nSports Offered:\n-Soccer\n-Flag Football\n-Ultimate\n\nRegister Here: https://webstore.recsports.umich.edu/
UID:89964-21793729@events.umich.edu
URL:https://events.umich.edu/event/89964
CLASS:PUBLIC
STATUS:CONFIRMED
CATEGORIES:Games,Outdoors,Rec Sports,Well-being
LOCATION:
CONTACT:
END:VEVENT
BEGIN:VEVENT
DTSTAMP:20220824T111922
DTSTART;TZID=America/Detroit:20220910T100000
DTEND;TZID=America/Detroit:20220910T210000
SUMMARY:Exhibition:Kristina Sheufelt: Here Nor There
DESCRIPTION:Reception: Friday\, September 9th\, 5-7 pm.  ALL ARE WELCOME!\n\nSeptember 9 - October 14\, 2022\n\nHere Nor There is a new solo exhibition by multidisciplinary artist and environmentalist Kristina Sheufelt. Sheufelt is based in Detroit\, Michigan\, and recently received her MFA from the Penny W. Stamps School of Art and Design. In Here Nor There\, Sheufelt uses a variety of media to blur the lines between land and body. \n\nFor the past several years\, Sheufelt has spent her summers living in remote backcountry locations throughout the United States working on research projects ranging from self-directed study of emotional psychology in the wilderness to monitoring marine wildlife populations. In Here Nor There\, Sheufelt processes the emotional and ecological implications of returning to life in the city between reunions with the wild.\n\n\nKristina Sheufelt received her BFA from the College for Creative Studies in 2013 and her MFA from the University of Michigan in 2022.
UID:97342-21794342@events.umich.edu
URL:https://events.umich.edu/event/97342
CLASS:PUBLIC
STATUS:CONFIRMED
CATEGORIES:Activism,Alumni,Ann Arbor,art,artists,artists and curators,arts,arts at michigan,Climate and Space Sciences and Engineering,Culture,Diversity,Diversity Equity and Inclusion,Ecology,Environment,exhibition,free,Humanities,Life Science,multicultural,Museum,Sustainability,Virtual,visual arts
LOCATION:East Quadrangle - RC Art Gallery
CONTACT:
END:VEVENT
BEGIN:VEVENT
DTSTAMP:20220925T063313
DTSTART;TZID=America/Detroit:20220910T100000
DTEND;TZID=America/Detroit:20220910T150000
SUMMARY:Careers / Jobs:USP Leavenworth Career Fair
DESCRIPTION:ACTIVELY HIRING \nCORRECTIONAL \nOFFICERS \nStarting salary $45\,109 to $64\,933 \n\nFederal Law Enforcement Retirement \n401(k) 5% matching \n10 paid Federal holidays annually \nUp to 39 days paid time off\n\nAPPLY ONLINE AT WWW.USAJOBS.GOV \nSearch Keywords “Correctional Officer” and apply to the nationwide posting\n\nFor more information email LVN-HumanResources-S@bop.gov\n\nWhen: \nSEPTEMBER 10\, 2022 — 10:00AM - 3:00PM\nWhere: USP Leavenworth\n 1300 Metropolitan Avenue\, Leavenworth\, KS 66048\n
UID:97742-21795037@events.umich.edu
URL:https://events.umich.edu/event/97742
CLASS:PUBLIC
STATUS:CONFIRMED
CATEGORIES:
LOCATION:1300 Metropolitan Avenue, Leavenworth, Kansas 66048, United States
CONTACT:
END:VEVENT
BEGIN:VEVENT
DTSTAMP:20221219T181506
DTSTART;TZID=America/Detroit:20220910T110000
DTEND;TZID=America/Detroit:20220910T170000
SUMMARY:Exhibition:LaToya Ruby Frazier: Flint Is Family In Three Acts
DESCRIPTION:Organized by Stamps Gallery in partnership with the Eli and Edythe Broad Art Museum\, Michigan State University\, and the Flint Institute of Arts.\n“No matter how dark a situation may be\, a camera can extract the light and turn a negative into a positive. In creating Flint Is Family In Three Acts\, I see the role of photographs as empowering and enacting visible change: in Act I\, the photographs bear witness and reclaim history\; in Act II\, the photographs reveal a hidden narrative\; in Act III\, the photographs are a catalyst for obtaining resources.”\n—LaToya Ruby Frazier \nFlint Is Family In Three Acts is a multi-part exhibition by renowned artist LaToya Ruby Frazier. For five years\, Frazier researched and collaborated with two poets\, activists\, mothers and residents of Flint\, Michigan\, Shea Cobb and Amber Hasan\, as they endured one of the most devastating ecological crises in U.S. history. Resulting in a monumental oeuvre of photographs\, video\, and texts Frazier developed Flint Is Family In Three Acts (2016-2021) to advocate for access to clean and safe drinking water for all regardless of race\, religion and economic status. The series records stories of surviving and thriving\, especially within racialized and marginalized neighborhoods in Flint\, to ensure that they remained visible in national debates concerning environmental justice. Drawing inspiration from the urgency in Frazier’s work\, which also sheds light on building equitable and inclusive futures\, Stamps Gallery\, part of the Penny W. Stamps School of Art &amp\; Design at the University of Michigan\, initiated a partnership with the Flint Institute of Arts and the Eli and Edythe Broad Art Museum at Michigan State University to bring this important exhibition together for the first time in Michigan. As co-presenters of this landmark exhibition\, our goal is to offer a creative pedagogical platform that reaches broader audiences across Michigan and beyond - Flint is Family: Act I (2016-2017) will take place at the Flint Institute of Arts\, Act II (2017-2019) at the Eli and Edythe Broad Art Museum\, and Act III (2019) at Stamps Gallery. The exhibition served as a catalyst to bring three disparate institutions together to deepen our understanding of individual and institutional agency in advocating for equity\, transparency and environmental justice in our respective communities\, while also highlighting the role of the artist as an agent for enacting positive social change.\n\nCurated by Srimoyee Mitra\, Tracee Glab\, and Steven L. Bridges with the assistance of Jennifer Junkermeier-Khan\, Rachel Winter\, and Rachael Holstege.
UID:95590-21790370@events.umich.edu
URL:https://events.umich.edu/event/95590
CLASS:PUBLIC
STATUS:CONFIRMED
CATEGORIES:Art
LOCATION:Off Campus Location
CONTACT:
END:VEVENT
BEGIN:VEVENT
DTSTAMP:20221011T103536
DTSTART;TZID=America/Detroit:20220910T110000
DTEND;TZID=America/Detroit:20220910T111500
SUMMARY:Presentation:Science Forum Demo
DESCRIPTION:Join us in the Science Forum for a 15-20 minute engaging science demonstration that will help you see the world in a whole new way. Demonstrations are free and appropriate for visitors ages 5 and above. Schedule subject to change.\n\nShedding Light on Magnets\nWhat makes a magnet magnetic? Why do they stick together? Join us as we explore magnetism\, magnetic fields\, and even what that has to do with your cell phone. We will highlight how researchers use light to study the magnetism of new materials. \n\nMade possible by a grant from the National Science Foundation.
UID:95985-21793445@events.umich.edu
URL:https://events.umich.edu/event/95985
CLASS:PUBLIC
STATUS:CONFIRMED
CATEGORIES:Children,Family,Free,Museum,Natural Sciences,Science
LOCATION:Museum of Natural History
CONTACT:
END:VEVENT
BEGIN:VEVENT
DTSTAMP:20260210T142109
DTSTART;TZID=America/Detroit:20220910T113000
DTEND;TZID=America/Detroit:20220910T121500
SUMMARY:Presentation:Expedition Reef
DESCRIPTION:Learn the secrets of the “rainforests of the sea” as you embark on an oceanic safari of the world’s most vibrant—and endangered—marine ecosystems. Expedition Reef immerses you in an undersea adventure. Along the way\, discover how corals grow\, feed\, reproduce\, and support over 25% of all marine life on Earth.\n\nThe state-of-the-art Planetarium & Dome Theater at the U-M Museum of Natural History transports visitors beyond distant stars and back in time from the comfort of reclining seats. Tickets $8. Tickets are available on the day of the show at the Museum Store.
UID:95986-21793458@events.umich.edu
URL:https://events.umich.edu/event/95986
CLASS:PUBLIC
STATUS:CONFIRMED
CATEGORIES:natural history museum,Natural Sciences
LOCATION:Museum of Natural History
CONTACT:
END:VEVENT
BEGIN:VEVENT
DTSTAMP:20220911T120031
DTSTART;TZID=America/Detroit:20220910T120000
DTEND;TZID=America/Detroit:20220910T235959
SUMMARY:Other:Zoom RedHawks Tri Festival
DESCRIPTION:Zoom Hawks Triathlon
UID:98067-21795550@events.umich.edu
URL:https://events.umich.edu/event/98067
CLASS:PUBLIC
STATUS:CONFIRMED
CATEGORIES:
LOCATION:Oxford, Ohio
CONTACT:
END:VEVENT
BEGIN:VEVENT
DTSTAMP:20221109T141417
DTSTART;TZID=America/Detroit:20220910T123000
DTEND;TZID=America/Detroit:20220910T131500
SUMMARY:Presentation:Sky Tonight
DESCRIPTION:A live presentation on what to find in the sky tonight and for the coming few weeks. This presentation includes how to find the cardinal directions on your own by finding the North Star\, current and upcoming constellations\, visible planets\, a few deep sky objects depending on the season\, and other interesting astronomical visualizations. If you want to be able to look up from your own backyard and know what to look for\, this is the show for you.\n\nThe state-of-the-art Planetarium & Dome Theater at the U-M Museum of Natural History transports visitors beyond distant stars and back in time from the comfort of reclining seats. Tickets $8. Tickets are available on the day of the show at the Museum Store.\n\nThe planetarium is operating at half capacity to maximize distancing between viewers.
UID:91230-21793489@events.umich.edu
URL:https://events.umich.edu/event/91230
CLASS:PUBLIC
STATUS:CONFIRMED
CATEGORIES:Astronomy,Natural Sciences,Science
LOCATION:Museum of Natural History
CONTACT:
END:VEVENT
BEGIN:VEVENT
DTSTAMP:20220909T181520
DTSTART;TZID=America/Detroit:20220910T130000
DTEND;TZID=America/Detroit:20220910T153000
SUMMARY:Performance:Fellows Masterclass: Thomas Hampson\, voice
DESCRIPTION:Trevor Scott\, tenor\, and John Morefield\, piano\nJoshua Thomas\, bass-baritone\, and Sarah Thune\, piano\nCameron Johnson\, tenor\, and Sarah Thune\nAndrew Smith\, baritone\, and John Morefield\n\nwatch livestream at https://myumi.ch/BrittonWatch
UID:97815-21795193@events.umich.edu
URL:https://events.umich.edu/event/97815
CLASS:PUBLIC
STATUS:CONFIRMED
CATEGORIES:Free
LOCATION:Earl V. Moore Building - Britton Recital Hall
CONTACT:
END:VEVENT
BEGIN:VEVENT
DTSTAMP:20220912T132709
DTSTART;TZID=America/Detroit:20220910T133000
DTEND;TZID=America/Detroit:20220910T141500
SUMMARY:Presentation:Tales of the Maya Skies
DESCRIPTION:Tales of the Maya Skies immerses viewers in the wonders of Maya science\, cosmology and myth. This beautifully illustrated story takes us back in time to the jungles of Mexico to discover how Mayan scholars developed a sophisticated understanding of astronomy\, architecture\, and mathematics that enabled them to predict solstices\, solar eclipses\, weather patterns and planetary movements.\n\nThe state-of-the-art Planetarium & Dome Theater at the U-M Museum of Natural History transports visitors beyond distant stars and back in time from the comfort of reclining seats. Tickets $8. Tickets are available on the day of the show at the Museum Store.\n\nThe planetarium is operating at half capacity to maximize distancing between viewers.
UID:95036-21793471@events.umich.edu
URL:https://events.umich.edu/event/95036
CLASS:PUBLIC
STATUS:CONFIRMED
CATEGORIES:Astronomy,Museum,Natural Sciences,Science
LOCATION:Museum of Natural History
CONTACT:
END:VEVENT
BEGIN:VEVENT
DTSTAMP:20220808T104141
DTSTART;TZID=America/Detroit:20220910T140000
DTEND;TZID=America/Detroit:20220910T150000
SUMMARY:Other:Read and Look | \"Tickle Tut's Toes\"
DESCRIPTION:Join us for a kid-friendly tour of the Egyptian exhibits at the Kelsey Museum! We begin by reading aloud \"Tickle Tut's Toes\,\" by Julie Appel and Amy Guglielmo. Then we explore the galleries to find artifacts pictured in the book\, like a miniature boat\, desk and pens\, sandals\, painted hieroglyphs\, real ancient food\, and Egyptian jewelry. During the tour\, replica artifacts will be available for kids to touch and learn from. Take home a scavenger hunt\, Egyptian hieroglyphs ID sheet\, and senet game board for further discovery! This tour is great for our younger visitors\, ages 4–7. All children must be accompanied by an adult.\n\nMasks are optional inside the Kelsey. For more information about our COVID procedures and how to prepare for your visit\, please visit our website\, https://myumi.ch/9PG1P.\n\nThis event is free and open to all visitors. If you are a person with a disability who requires an accommodation to attend\, please contact the education office (734-647-4167) at least two weeks in advance. We ask for advance notice as some accommodations may require more time for the university to arrange.
UID:96640-21792967@events.umich.edu
URL:https://events.umich.edu/event/96640
CLASS:PUBLIC
STATUS:CONFIRMED
CATEGORIES:Ancient Egypt,Children,Free,Museum,Tour
LOCATION:Kelsey Museum of Archaeology
CONTACT:
END:VEVENT
BEGIN:VEVENT
DTSTAMP:20220910T120022
DTSTART;TZID=America/Detroit:20220910T140000
DTEND;TZID=America/Detroit:20220910T153000
SUMMARY:Rally / Mass Meeting:Tech for Social Good Welcome Meeting
DESCRIPTION:Come through to learn about what we do and how you can get involved!Hybrid EventIn person: Michigan League\, Henderson RoomVirtual: https://umich.zoom.us/j/96015330553   
UID:97807-21795186@events.umich.edu
URL:https://events.umich.edu/event/97807
CLASS:PUBLIC
STATUS:CONFIRMED
CATEGORIES:
LOCATION:Michigan League: Henderson Room
CONTACT:
END:VEVENT
BEGIN:VEVENT
DTSTAMP:20221109T141417
DTSTART;TZID=America/Detroit:20220910T143000
DTEND;TZID=America/Detroit:20220910T151500
SUMMARY:Presentation:Sky Tonight
DESCRIPTION:A live presentation on what to find in the sky tonight and for the coming few weeks. This presentation includes how to find the cardinal directions on your own by finding the North Star\, current and upcoming constellations\, visible planets\, a few deep sky objects depending on the season\, and other interesting astronomical visualizations. If you want to be able to look up from your own backyard and know what to look for\, this is the show for you.\n\nThe state-of-the-art Planetarium & Dome Theater at the U-M Museum of Natural History transports visitors beyond distant stars and back in time from the comfort of reclining seats. Tickets $8. Tickets are available on the day of the show at the Museum Store.\n\nThe planetarium is operating at half capacity to maximize distancing between viewers.
UID:91230-21793493@events.umich.edu
URL:https://events.umich.edu/event/91230
CLASS:PUBLIC
STATUS:CONFIRMED
CATEGORIES:Astronomy,Natural Sciences,Science
LOCATION:Museum of Natural History
CONTACT:
END:VEVENT
BEGIN:VEVENT
DTSTAMP:20230908T085204
DTSTART;TZID=America/Detroit:20220910T150000
DTEND;TZID=America/Detroit:20220910T151500
SUMMARY:Presentation:Science Forum Discovery Demos
DESCRIPTION:Join us in the Science Forum for 15-20 minute engaging science demonstrations that will help you see the world in a whole new way. Demonstrations are free and appropriate for visitors ages 5 and above. Schedule subject to change.\n\nNo demos on October 14th or 15th.\n\nHow to Become a Fossil\nExplore how fossils form and what parts of animals can become fossilized! How old are the earliest fossils? How old does something have to be before it is considered a fossil? You’ll touch some real fossils\, learn the different types of fossil evidence\, and discover what is necessary to become a fossil.  Finally\, we’ll discuss what kinds of things fossils can tell us\, and how fossil casts are made in the museum!
UID:95035-21793437@events.umich.edu
URL:https://events.umich.edu/event/95035
CLASS:PUBLIC
STATUS:CONFIRMED
CATEGORIES:Children,Family,Free,Museum,natural history museum,Natural Sciences,Science
LOCATION:Museum of Natural History
CONTACT:
END:VEVENT
BEGIN:VEVENT
DTSTAMP:20220909T181520
DTSTART;TZID=America/Detroit:20220910T160000
DTEND;TZID=America/Detroit:20220910T173000
SUMMARY:Performance:Singing Justice: An Interactive Recital
DESCRIPTION:Program will include:\n“School Daze” (premiere) - Jerrell R. Gray\nI. “What I Pray For” - Kandice Jackson\,  Lyricist \nII. “School” - Henry Putnam\, Lyricist \nIII. “Mirror” - Vanessa Jackson\, Lyricist \n\ntexts by students from Marygrove High School\n\nOrganized by Louise Toppin
UID:97816-21795194@events.umich.edu
URL:https://events.umich.edu/event/97816
CLASS:PUBLIC
STATUS:CONFIRMED
CATEGORIES:Free
LOCATION:Earl V. Moore Building - Britton Recital Hall
CONTACT:
END:VEVENT
BEGIN:VEVENT
DTSTAMP:20220818T163104
DTSTART;TZID=America/Detroit:20220910T170000
DTEND;TZID=America/Detroit:20220910T190000
SUMMARY:Social / Informal Gathering:Game Day at the Union
DESCRIPTION:Ready to cheer on your Michigan Wolverines? Stop by on September 10th for free food\, lawn games\, and giveaways on the Front Lawn of the Michigan Union before heading over to the stadium to watch UofM take on Hawaii!
UID:97104-21793919@events.umich.edu
URL:https://events.umich.edu/event/97104
CLASS:PUBLIC
STATUS:CONFIRMED
CATEGORIES:Food,Free,Game Day,Games,Social
LOCATION:Michigan Union - Front Lawn
CONTACT:
END:VEVENT
BEGIN:VEVENT
DTSTAMP:20220526T121526
DTSTART;TZID=America/Detroit:20220910T190000
SUMMARY:Sporting Event:Football vs Hawaii
DESCRIPTION:Football vs Hawaii
UID:94897-21780617@events.umich.edu
URL:https://events.umich.edu/event/94897
CLASS:PUBLIC
STATUS:CONFIRMED
CATEGORIES:Athletics,Athletics - Football
LOCATION:Michigan Stadium
CONTACT:
END:VEVENT
BEGIN:VEVENT
DTSTAMP:20220910T181654
DTSTART;TZID=America/Detroit:20220910T200000
SUMMARY:Sporting Event:Football vs Hawai'i
DESCRIPTION:Football vs Hawai'i
UID:95331-21789173@events.umich.edu
URL:https://events.umich.edu/event/95331
CLASS:PUBLIC
STATUS:CONFIRMED
CATEGORIES:Athletics,Athletics - Football
LOCATION:Michigan Stadium
CONTACT:
END:VEVENT
BEGIN:VEVENT
DTSTAMP:20220909T181520
DTSTART;TZID=America/Detroit:20220910T200000
SUMMARY:Performance:Thomas Hampson and Hampsong Fellows\, voice with Martin Katz\, piano
DESCRIPTION:watch livestream at https://myumi.ch/StampsWatch
UID:97817-21795195@events.umich.edu
URL:https://events.umich.edu/event/97817
CLASS:PUBLIC
STATUS:CONFIRMED
CATEGORIES:Free
LOCATION:Walgreen Drama Center - Stamps Auditorium
CONTACT:
END:VEVENT
BEGIN:VEVENT
DTSTAMP:20220910T205344
DTSTART;TZID=America/Detroit:20220910T230000
DTEND;TZID=America/Detroit:20220911T010000
SUMMARY:Social / Informal Gathering:CANCELLED: Late Night Bite
DESCRIPTION:*This event has been CANCELLED due to the delay of the game*\nHungry after a couple hours of Michigan Football? Join us in the Rogel Ballroom at the Union for a late night nacho bar to celebrate the first late game of the year!
UID:97105-21793920@events.umich.edu
URL:https://events.umich.edu/event/97105
CLASS:PUBLIC
STATUS:CONFIRMED
CATEGORIES:Food,Social
LOCATION:Michigan Union - Rogel Ballroom
CONTACT:
END:VEVENT
END:VCALENDAR