BEGIN:VCALENDAR
VERSION:2.0
PRODID:-//UM//UM*Events//EN
CALSCALE:GREGORIAN
BEGIN:VTIMEZONE
TZID:America/Detroit
TZURL:http://tzurl.org/zoneinfo/America/Detroit
X-LIC-LOCATION:America/Detroit
BEGIN:DAYLIGHT
TZOFFSETFROM:-0500
TZOFFSETTO:-0400
TZNAME:EDT
DTSTART:20070311T020000
RRULE:FREQ=YEARLY;BYMONTH=3;BYDAY=2SU
END:DAYLIGHT
BEGIN:STANDARD
TZOFFSETFROM:-0400
TZOFFSETTO:-0500
TZNAME:EST
DTSTART:20071104T020000
RRULE:FREQ=YEARLY;BYMONTH=11;BYDAY=1SU
END:STANDARD
END:VTIMEZONE
BEGIN:VEVENT
DTSTAMP:20220910T205344
DTSTART;TZID=America/Detroit:20220910T230000
DTEND;TZID=America/Detroit:20220911T010000
SUMMARY:Social / Informal Gathering:CANCELLED: Late Night Bite
DESCRIPTION:*This event has been CANCELLED due to the delay of the game*\nHungry after a couple hours of Michigan Football? Join us in the Rogel Ballroom at the Union for a late night nacho bar to celebrate the first late game of the year!
UID:97105-21793920@events.umich.edu
URL:https://events.umich.edu/event/97105
CLASS:PUBLIC
STATUS:CONFIRMED
CATEGORIES:Food,Social
LOCATION:Michigan Union - Rogel Ballroom
CONTACT:
END:VEVENT
BEGIN:VEVENT
DTSTAMP:20220914T180027
DTSTART;TZID=America/Detroit:20220911T000000
DTEND;TZID=America/Detroit:20220911T235959
SUMMARY:Exercise / Fitness:Club Team Tryouts
DESCRIPTION:We will be hosting tryouts on Wednesday 9/7\, Sunday 9/11\, and again on Wednesday 9/14 at the Sports Coliseum located at 721 S 5th Ave\, Ann Arbor\, MI 48104. Tryouts will cost $10 per person (one-time fee). Keep an eye out for our table at Festifall.
UID:97764-21795107@events.umich.edu
URL:https://events.umich.edu/event/97764
CLASS:PUBLIC
STATUS:CONFIRMED
CATEGORIES:
LOCATION:Sports Coliseum
CONTACT:
END:VEVENT
BEGIN:VEVENT
DTSTAMP:20220911T180017
DTSTART;TZID=America/Detroit:20220911T000000
DTEND;TZID=America/Detroit:20220911T235959
SUMMARY:Sporting Event:Fall Fury 
DESCRIPTION:MCSA Fleet Race Regatta
UID:97513-21794669@events.umich.edu
URL:https://events.umich.edu/event/97513
CLASS:PUBLIC
STATUS:CONFIRMED
CATEGORIES:
LOCATION:University of Wisconsin - Madison, Madison, WI
CONTACT:
END:VEVENT
BEGIN:VEVENT
DTSTAMP:20230324T120005
DTSTART;TZID=America/Detroit:20220911T000000
DTEND;TZID=America/Detroit:20220911T235959
SUMMARY:Community Service:Homework Help at The Children's Center
DESCRIPTION:The Homework Help program offers children assistance with their homework assignments. Children are encouraged to bring homework and are paired with a volunteer to assist them. This program is a critical service in helping children thrive. Volunteers give children the tools they need to be successful in school.Virtual and in-person volunteer opportunities are available. If you would like to volunteer\, please start the enrollment process by creating an account on the Children Center's Volunteer Site found HERE. After your account is created\, the Children's Center will reach out to you within 2 business days to answer any questions and discuss the next steps.In accordance with the CMS Vaccine Mandate\, those volunteering in-person at the Children’s Center are required to be fully vaccinated and must provide proof of full vaccination upon request.
UID:93885-21787939@events.umich.edu
URL:https://events.umich.edu/event/93885
CLASS:PUBLIC
STATUS:CONFIRMED
CATEGORIES:
LOCATION:The Children&#039;s Center 
CONTACT:
END:VEVENT
BEGIN:VEVENT
DTSTAMP:20220911T180007
DTSTART;TZID=America/Detroit:20220911T000000
DTEND;TZID=America/Detroit:20220911T235959
SUMMARY:Auditions:Spring Awakening Auditions Due!
DESCRIPTION:Interested in performing in Spring Awakening at the Arthur Miller Theatre? Go ahead and send in an audition to our audition form by 11:59pm on Sunday\, September 11!
UID:96360-21792349@events.umich.edu
URL:https://events.umich.edu/event/96360
CLASS:PUBLIC
STATUS:CONFIRMED
CATEGORIES:
LOCATION:Online
CONTACT:
END:VEVENT
BEGIN:VEVENT
DTSTAMP:20220911T120031
DTSTART;TZID=America/Detroit:20220911T000000
DTEND;TZID=America/Detroit:20220911T235959
SUMMARY:Other:Zoom RedHawks Tri Festival
DESCRIPTION:Zoom Hawks Triathlon
UID:98067-21795551@events.umich.edu
URL:https://events.umich.edu/event/98067
CLASS:PUBLIC
STATUS:CONFIRMED
CATEGORIES:
LOCATION:Oxford, Ohio
CONTACT:
END:VEVENT
BEGIN:VEVENT
DTSTAMP:20220817T121642
DTSTART;TZID=America/Detroit:20220911T073000
DTEND;TZID=America/Detroit:20220911T210000
SUMMARY:Exercise / Fitness:Group-X Free Week
DESCRIPTION:Looking for a fun\, convenient way to fit movement into your schedule? Check out Group‑X classes! Starting August 29 – September 11 you can try any class\, anytime for free during Group‑X Free Week. You’ll find Zumba\, Yoga\, Strength\, HIIT\, Cycle and other great classes to join in-person and virtually. Download the Rec Sports app or visit our website to see our full schedule and how to register.\n\nSchedule: https://recsports.umich.edu/groupx/schedule/\n\nRegister: https://recsports.umich.edu/groupx/passes/
UID:96998-21793677@events.umich.edu
URL:https://events.umich.edu/event/96998
CLASS:PUBLIC
STATUS:CONFIRMED
CATEGORIES:exercise class,fitness,Health & Wellness,Rec Sports,welcome to michigan,Well-being
LOCATION:
CONTACT:
END:VEVENT
BEGIN:VEVENT
DTSTAMP:20220627T142559
DTSTART;TZID=America/Detroit:20220911T080000
DTEND;TZID=America/Detroit:20220911T190000
SUMMARY:Exhibition:A Perfect Pairing of Cookbooks and Dinnerware
DESCRIPTION:A dozen selections from the Janice Bluestein Longone Culinary Archive from our Special Collections Research Center have been perfectly paired with dishes from the International Museum of Dinnerware Design to provide a feast for the eyes.\n\nA “perfect pairing” usually refers to a taste compatibility between wine and a food group\, such as wine and cheese. For example\, some believe a perfect pairing would be Cabernet with duck confit with turnips or Pinot Noir with bison rib eye steaks with roasted garlic — wines with sauces\, spicy food\, hors d’oeurvres\, etc. But other things can be perfectly paired such as fruit and cheese\, a couple\, or a clothing selection.\n\nSometimes pairs are made more perfect when they are catalysts for the imagination. That is what curators Margaret Carney\, Ph.D.\, and Juli McLoone are serving in \"A Perfect Pairing of Cookbooks and Dinnerware.\" The right ingredients along with an inspired recipe creates a delicious and beautiful meal that is enhanced when the cuisine is presented on a thoughtfully curated table setting\, or\, we hope\, in a thoughtfully curated exhibit. Bon Appetit!
UID:95818-21791003@events.umich.edu
URL:https://events.umich.edu/event/95818
CLASS:PUBLIC
STATUS:CONFIRMED
CATEGORIES:Exhibition,Free,Library
LOCATION:Hatcher Graduate Library - Audubon Room, 1st floor
CONTACT:
END:VEVENT
BEGIN:VEVENT
DTSTAMP:20220809T173135
DTSTART;TZID=America/Detroit:20220911T080000
DTEND;TZID=America/Detroit:20220911T190000
SUMMARY:Exhibition:Places & Spaces: Mapping Science and A Brief History of Information Graphics
DESCRIPTION:The Places & Spaces: Mapping Science exhibit introduces science mapping techniques and data visualization to the general public and to experts across diverse disciplines\, and we hope inspires cross-disciplinary discussion on how to best track and communicate scholarly activity and scientific progress on a global scale. The exhibit includes a macroscope which showcases interactive visualizations that demonstrate the impact of different data cleaning\, analysis\, and visualization algorithms.\n\nThe Places & Spaces exhibit is curated by the Cyberinfrastructure for Network Science Center at Indiana University. The complementary exhibit\, A Brief History of Information Graphics\, was created by Clark Library staff to provide an historical context to the Places and Spaces exhibit.
UID:96720-21793132@events.umich.edu
URL:https://events.umich.edu/event/96720
CLASS:PUBLIC
STATUS:CONFIRMED
CATEGORIES:Free,Library,Maps
LOCATION:Hatcher Graduate Library - Clark Library (2nd floor)
CONTACT:
END:VEVENT
BEGIN:VEVENT
DTSTAMP:20221003T125034
DTSTART;TZID=America/Detroit:20220911T080000
DTEND;TZID=America/Detroit:20220911T190000
SUMMARY:Exhibition:The Dance for Mother Earth Powwow
DESCRIPTION:This exhibit features various aspects of the Native North American powwow. More specifically\, it features the history and culture behind Ann Arbor’s \"Dance for Mother Earth Powwow\,\" which is approaching its much-anticipated 50th celebration.\n\nThe Dance for Mother Earth Powwow is a multi-decade\, intertribal celebration of Indigenous cultures. It grew from its early beginnings as a small gathering in a field just outside of Ann Arbor into one of the largest student-led powwows in North America. The event attracts crowds of thousands — dancers\, singers\, artists\, tribal members from across the country\, and non-Indigenous members of the community.\n\nStop by to learn more about The Dance for Mother Earth Powwow\, modern Indigenous culture\, and resources to connect to today on campus.\n\nThis exhibition was curated by Michigan Library Scholar interns\, Allison Jiang and Andrea Medina. The Michigan Library Scholars internship program provides undergraduate students with the opportunity to research and develop a capstone project under the guidance of experienced library professionals at one of the largest academic research libraries in the world.
UID:96225-21792099@events.umich.edu
URL:https://events.umich.edu/event/96225
CLASS:PUBLIC
STATUS:CONFIRMED
CATEGORIES:Exhibition,Free,Library,Native American
LOCATION:Hatcher Graduate Library - North Lobby (just off the Diag)
CONTACT:
END:VEVENT
BEGIN:VEVENT
DTSTAMP:20220911T060006
DTSTART;TZID=America/Detroit:20220911T090000
DTEND;TZID=America/Detroit:20220911T113000
SUMMARY:Other:Game vs Maize FC
DESCRIPTION:Home game between Michigan and Maize FC
UID:96191-21792008@events.umich.edu
URL:https://events.umich.edu/event/96191
CLASS:PUBLIC
STATUS:CONFIRMED
CATEGORIES:
LOCATION:TBD
CONTACT:
END:VEVENT
BEGIN:VEVENT
DTSTAMP:20220817T171443
DTSTART;TZID=America/Detroit:20220911T100000
DTEND;TZID=America/Detroit:20220911T235900
SUMMARY:Recreational / Games:Intramural Sports Registration: Fall X
DESCRIPTION:Sign up with a team or join as a free agent!\n\nRegular Season:  September 18 – October 25\nPlayoffs: October 30 – November 22\n\nSports Offered:\n-Soccer\n-Flag Football\n-Ultimate\n\nRegister Here: https://webstore.recsports.umich.edu/
UID:89964-21793730@events.umich.edu
URL:https://events.umich.edu/event/89964
CLASS:PUBLIC
STATUS:CONFIRMED
CATEGORIES:Games,Outdoors,Rec Sports,Well-being
LOCATION:
CONTACT:
END:VEVENT
BEGIN:VEVENT
DTSTAMP:20220824T111922
DTSTART;TZID=America/Detroit:20220911T100000
DTEND;TZID=America/Detroit:20220911T210000
SUMMARY:Exhibition:Kristina Sheufelt: Here Nor There
DESCRIPTION:Reception: Friday\, September 9th\, 5-7 pm.  ALL ARE WELCOME!\n\nSeptember 9 - October 14\, 2022\n\nHere Nor There is a new solo exhibition by multidisciplinary artist and environmentalist Kristina Sheufelt. Sheufelt is based in Detroit\, Michigan\, and recently received her MFA from the Penny W. Stamps School of Art and Design. In Here Nor There\, Sheufelt uses a variety of media to blur the lines between land and body. \n\nFor the past several years\, Sheufelt has spent her summers living in remote backcountry locations throughout the United States working on research projects ranging from self-directed study of emotional psychology in the wilderness to monitoring marine wildlife populations. In Here Nor There\, Sheufelt processes the emotional and ecological implications of returning to life in the city between reunions with the wild.\n\n\nKristina Sheufelt received her BFA from the College for Creative Studies in 2013 and her MFA from the University of Michigan in 2022.
UID:97342-21794343@events.umich.edu
URL:https://events.umich.edu/event/97342
CLASS:PUBLIC
STATUS:CONFIRMED
CATEGORIES:Activism,Alumni,Ann Arbor,art,artists,artists and curators,arts,arts at michigan,Climate and Space Sciences and Engineering,Culture,Diversity,Diversity Equity and Inclusion,Ecology,Environment,exhibition,free,Humanities,Life Science,multicultural,Museum,Sustainability,Virtual,visual arts
LOCATION:East Quadrangle - RC Art Gallery
CONTACT:
END:VEVENT
BEGIN:VEVENT
DTSTAMP:20220911T060027
DTSTART;TZID=America/Detroit:20220911T100000
DTEND;TZID=America/Detroit:20220911T110000
SUMMARY:Exercise / Fitness:Michigan Yoga Club Mass Meeting + Free Class
DESCRIPTION:Join Michigan Yoga Club for a mass meeting to learn more about the club\, their classes\, and social events. Join our instructors as they take you through an ALL levels vinyasa practice. These classes are FREE and do not yet require dues. However\, they are only available to University of Michigan Affiliates. Please register on the link below! Please only attend one mass meeting so that we are able to accommodate everyone who is interested in becoming a member! Pre-registration is required. Please bring your own mat. Rental mats are limited but available for $5.00.9/7/22: https://clients.mindbodyonline.com/classic/ws?studioid=180893&stype=-7&sView=week&sLoc=0&date=09/07/229/11/22: https://clients.mindbodyonline.com/classic/ws?studioid=180893&stype=-7&sView=week&sLoc=0&date=09/11/229/14/22: https://clients.mindbodyonline.com/classic/ws?studioid=180893&stype=-7&sView=day&sLoc=0&date=09/14/229/18/22: https://clients.mindbodyonline.com/classic/ws?studioid=180893&stype=-7&sView=week&sLoc=0&date=09/18/22
UID:96835-21793385@events.umich.edu
URL:https://events.umich.edu/event/96835
CLASS:PUBLIC
STATUS:CONFIRMED
CATEGORIES:
LOCATION:aUM Yoga
CONTACT:
END:VEVENT
BEGIN:VEVENT
DTSTAMP:20220818T100608
DTSTART;TZID=America/Detroit:20220911T100000
DTEND;TZID=America/Detroit:20220911T120000
SUMMARY:Ceremony / Service:Sunday Celebration
DESCRIPTION:The school year is about to begin! No matter your background\, join us in kicking off this season with new expectations and hope.\n\nJoin us at 10AM every Sunday to experience church in a fresh way as we worship and seek God together. We meet at the Transformation Center (1001 E. Huron St.) which is located across the street from the Rackham Auditorium and the Power Center.\n\nCurious? Check out our website at https://annarbor.hmcc.net/ to learn more about who we are and what we value.
UID:96832-21793812@events.umich.edu
URL:https://events.umich.edu/event/96832
CLASS:PUBLIC
STATUS:CONFIRMED
CATEGORIES:christian,christianity,church,faith,religious,spiritual,welcome week
LOCATION:Off Campus Location
CONTACT:
END:VEVENT
BEGIN:VEVENT
DTSTAMP:20220911T120034
DTSTART;TZID=America/Detroit:20220911T110000
DTEND;TZID=America/Detroit:20220911T133000
SUMMARY:Sporting Event:Game vs Ferris State University
DESCRIPTION:Home game between Michigan and Ferris State University
UID:96183-21791998@events.umich.edu
URL:https://events.umich.edu/event/96183
CLASS:PUBLIC
STATUS:CONFIRMED
CATEGORIES:
LOCATION:Mitchell Field
CONTACT:
END:VEVENT
BEGIN:VEVENT
DTSTAMP:20221011T103536
DTSTART;TZID=America/Detroit:20220911T110000
DTEND;TZID=America/Detroit:20220911T111500
SUMMARY:Presentation:Science Forum Demo
DESCRIPTION:Join us in the Science Forum for a 15-20 minute engaging science demonstration that will help you see the world in a whole new way. Demonstrations are free and appropriate for visitors ages 5 and above. Schedule subject to change.\n\nShedding Light on Magnets\nWhat makes a magnet magnetic? Why do they stick together? Join us as we explore magnetism\, magnetic fields\, and even what that has to do with your cell phone. We will highlight how researchers use light to study the magnetism of new materials. \n\nMade possible by a grant from the National Science Foundation.
UID:95985-21793449@events.umich.edu
URL:https://events.umich.edu/event/95985
CLASS:PUBLIC
STATUS:CONFIRMED
CATEGORIES:Children,Family,Free,Museum,Natural Sciences,Science
LOCATION:Museum of Natural History
CONTACT:
END:VEVENT
BEGIN:VEVENT
DTSTAMP:20260210T142109
DTSTART;TZID=America/Detroit:20220911T113000
DTEND;TZID=America/Detroit:20220911T121500
SUMMARY:Presentation:Expedition Reef
DESCRIPTION:Learn the secrets of the “rainforests of the sea” as you embark on an oceanic safari of the world’s most vibrant—and endangered—marine ecosystems. Expedition Reef immerses you in an undersea adventure. Along the way\, discover how corals grow\, feed\, reproduce\, and support over 25% of all marine life on Earth.\n\nThe state-of-the-art Planetarium & Dome Theater at the U-M Museum of Natural History transports visitors beyond distant stars and back in time from the comfort of reclining seats. Tickets $8. Tickets are available on the day of the show at the Museum Store.
UID:95986-21793462@events.umich.edu
URL:https://events.umich.edu/event/95986
CLASS:PUBLIC
STATUS:CONFIRMED
CATEGORIES:natural history museum,Natural Sciences
LOCATION:Museum of Natural History
CONTACT:
END:VEVENT
BEGIN:VEVENT
DTSTAMP:20220911T120034
DTSTART;TZID=America/Detroit:20220911T120000
DTEND;TZID=America/Detroit:20220911T130000
SUMMARY:Exercise / Fitness:Michigan Yoga Club Mass Meeting + Free Class
DESCRIPTION:Join Michigan Yoga Club for a mass meeting to learn more about the club\, their classes\, and social events. Join our instructors as they take you through an ALL levels vinyasa practice. These classes are FREE and do not yet require dues. However\, they are only available to University of Michigan Affiliates. Please register on the link below! Please only attend one mass meeting so that we are able to accommodate everyone who is interested in becoming a member! Pre-registration is required. Please bring your own mat. Rental mats are limited but available for $5.00.9/7/22: https://clients.mindbodyonline.com/classic/ws?studioid=180893&stype=-7&sView=week&sLoc=0&date=09/07/229/11/22: https://clients.mindbodyonline.com/classic/ws?studioid=180893&stype=-7&sView=week&sLoc=0&date=09/11/229/14/22: https://clients.mindbodyonline.com/classic/ws?studioid=180893&stype=-7&sView=day&sLoc=0&date=09/14/229/18/22: https://clients.mindbodyonline.com/classic/ws?studioid=180893&stype=-7&sView=week&sLoc=0&date=09/18/22
UID:96836-21793386@events.umich.edu
URL:https://events.umich.edu/event/96836
CLASS:PUBLIC
STATUS:CONFIRMED
CATEGORIES:
LOCATION:aUM Yoga
CONTACT:
END:VEVENT
BEGIN:VEVENT
DTSTAMP:20221109T141417
DTSTART;TZID=America/Detroit:20220911T123000
DTEND;TZID=America/Detroit:20220911T131500
SUMMARY:Presentation:Sky Tonight
DESCRIPTION:A live presentation on what to find in the sky tonight and for the coming few weeks. This presentation includes how to find the cardinal directions on your own by finding the North Star\, current and upcoming constellations\, visible planets\, a few deep sky objects depending on the season\, and other interesting astronomical visualizations. If you want to be able to look up from your own backyard and know what to look for\, this is the show for you.\n\nThe state-of-the-art Planetarium & Dome Theater at the U-M Museum of Natural History transports visitors beyond distant stars and back in time from the comfort of reclining seats. Tickets $8. Tickets are available on the day of the show at the Museum Store.\n\nThe planetarium is operating at half capacity to maximize distancing between viewers.
UID:91230-21793497@events.umich.edu
URL:https://events.umich.edu/event/91230
CLASS:PUBLIC
STATUS:CONFIRMED
CATEGORIES:Astronomy,Natural Sciences,Science
LOCATION:Museum of Natural History
CONTACT:
END:VEVENT
BEGIN:VEVENT
DTSTAMP:20220911T120031
DTSTART;TZID=America/Detroit:20220911T130000
DTEND;TZID=America/Detroit:20220911T133000
SUMMARY:Other:Onboarding Session #2
DESCRIPTION:Overview of WBC Operation (must come to 1 of the 2!). We will also leave time for questions and provide context surrounding the development of our club!To be comprehensive\, here is the link to our Google CalendarHere is the link to our club Notion page...and here is the schedule as a Notion page See? Comprehensive!
UID:98080-21795569@events.umich.edu
URL:https://events.umich.edu/event/98080
CLASS:PUBLIC
STATUS:CONFIRMED
CATEGORIES:
LOCATION:Online
CONTACT:
END:VEVENT
BEGIN:VEVENT
DTSTAMP:20220912T132709
DTSTART;TZID=America/Detroit:20220911T133000
DTEND;TZID=America/Detroit:20220911T141500
SUMMARY:Presentation:Tales of the Maya Skies
DESCRIPTION:Tales of the Maya Skies immerses viewers in the wonders of Maya science\, cosmology and myth. This beautifully illustrated story takes us back in time to the jungles of Mexico to discover how Mayan scholars developed a sophisticated understanding of astronomy\, architecture\, and mathematics that enabled them to predict solstices\, solar eclipses\, weather patterns and planetary movements.\n\nThe state-of-the-art Planetarium & Dome Theater at the U-M Museum of Natural History transports visitors beyond distant stars and back in time from the comfort of reclining seats. Tickets $8. Tickets are available on the day of the show at the Museum Store.\n\nThe planetarium is operating at half capacity to maximize distancing between viewers.
UID:95036-21793475@events.umich.edu
URL:https://events.umich.edu/event/95036
CLASS:PUBLIC
STATUS:CONFIRMED
CATEGORIES:Astronomy,Museum,Natural Sciences,Science
LOCATION:Museum of Natural History
CONTACT:
END:VEVENT
BEGIN:VEVENT
DTSTAMP:20220911T120017
DTSTART;TZID=America/Detroit:20220911T140000
DTEND;TZID=America/Detroit:20220911T160000
SUMMARY:Other:CMU
DESCRIPTION:League Match
UID:98079-21795568@events.umich.edu
URL:https://events.umich.edu/event/98079
CLASS:PUBLIC
STATUS:CONFIRMED
CATEGORIES:
LOCATION:Central Michigan University 
CONTACT:
END:VEVENT
BEGIN:VEVENT
DTSTAMP:20220911T120023
DTSTART;TZID=America/Detroit:20220911T140000
DTEND;TZID=America/Detroit:20220911T150000
SUMMARY:Other:Fall 2022 Mass Meeting
DESCRIPTION:Join our Fall 2022 mass meeting to learn more about the club\, ask any questions you may have\, and figure out next steps for joining. This meeting will be recorded and posted on this event page afterwards.
UID:97718-21795014@events.umich.edu
URL:https://events.umich.edu/event/97718
CLASS:PUBLIC
STATUS:CONFIRMED
CATEGORIES:
LOCATION:Online
CONTACT:
END:VEVENT
BEGIN:VEVENT
DTSTAMP:20220911T120023
DTSTART;TZID=America/Detroit:20220911T140000
DTEND;TZID=America/Detroit:20220911T150000
SUMMARY:Rally / Mass Meeting:MPDS Mass Meeting
DESCRIPTION:Join Michigan Pole Dance Society for a mass meeting to learn about the club\, our classes\, and social events. Join Laura M. as she takes you through mini classes that you will build on over the course of the semester. These are FREE classes that do not require dues. Plan to arrive to each class 10-15 minutes early. Please only attend one class so that we may accommodate for everyone who is interested in becoming a member. Pre-registration is required!https://www.polarityannarbor.com/mpds.html 
UID:97843-21795223@events.umich.edu
URL:https://events.umich.edu/event/97843
CLASS:PUBLIC
STATUS:CONFIRMED
CATEGORIES:
LOCATION:Polarity
CONTACT:
END:VEVENT
BEGIN:VEVENT
DTSTAMP:20221109T141417
DTSTART;TZID=America/Detroit:20220911T143000
DTEND;TZID=America/Detroit:20220911T151500
SUMMARY:Presentation:Sky Tonight
DESCRIPTION:A live presentation on what to find in the sky tonight and for the coming few weeks. This presentation includes how to find the cardinal directions on your own by finding the North Star\, current and upcoming constellations\, visible planets\, a few deep sky objects depending on the season\, and other interesting astronomical visualizations. If you want to be able to look up from your own backyard and know what to look for\, this is the show for you.\n\nThe state-of-the-art Planetarium & Dome Theater at the U-M Museum of Natural History transports visitors beyond distant stars and back in time from the comfort of reclining seats. Tickets $8. Tickets are available on the day of the show at the Museum Store.\n\nThe planetarium is operating at half capacity to maximize distancing between viewers.
UID:91230-21793501@events.umich.edu
URL:https://events.umich.edu/event/91230
CLASS:PUBLIC
STATUS:CONFIRMED
CATEGORIES:Astronomy,Natural Sciences,Science
LOCATION:Museum of Natural History
CONTACT:
END:VEVENT
BEGIN:VEVENT
DTSTAMP:20220911T120016
DTSTART;TZID=America/Detroit:20220911T150000
DTEND;TZID=America/Detroit:20220911T170000
SUMMARY:Other:Free Newcomer Lessons!
DESCRIPTION:Come learn some dances and meet our team! Open to all students in a degree seeking program- no partner or experience needed! Thursdays the 15th\, 22nd\, and 29th  will also have showcases by current members.
UID:97546-21794700@events.umich.edu
URL:https://events.umich.edu/event/97546
CLASS:PUBLIC
STATUS:CONFIRMED
CATEGORIES:
LOCATION:CCRB 3275 (mirror room)
CONTACT:
END:VEVENT
BEGIN:VEVENT
DTSTAMP:20230908T085204
DTSTART;TZID=America/Detroit:20220911T150000
DTEND;TZID=America/Detroit:20220911T151500
SUMMARY:Presentation:Science Forum Discovery Demos
DESCRIPTION:Join us in the Science Forum for 15-20 minute engaging science demonstrations that will help you see the world in a whole new way. Demonstrations are free and appropriate for visitors ages 5 and above. Schedule subject to change.\n\nNo demos on October 14th or 15th.\n\nHow to Become a Fossil\nExplore how fossils form and what parts of animals can become fossilized! How old are the earliest fossils? How old does something have to be before it is considered a fossil? You’ll touch some real fossils\, learn the different types of fossil evidence\, and discover what is necessary to become a fossil.  Finally\, we’ll discuss what kinds of things fossils can tell us\, and how fossil casts are made in the museum!
UID:95035-21793441@events.umich.edu
URL:https://events.umich.edu/event/95035
CLASS:PUBLIC
STATUS:CONFIRMED
CATEGORIES:Children,Family,Free,Museum,natural history museum,Natural Sciences,Science
LOCATION:Museum of Natural History
CONTACT:
END:VEVENT
BEGIN:VEVENT
DTSTAMP:20220805T181512
DTSTART;TZID=America/Detroit:20220911T160000
SUMMARY:Livestream / Virtual:James Kibbie: The Complete Organ Works of J.S. Bach Program 1
DESCRIPTION:4:00 pm\n3:40 pm: Introduction to the program\n\nLivestreamed (real time only)\n\nJames Kibbie performs the 281 extant organ works of Johann Sebastian Bach in 18 concerts. An informal introduction to the music to be performed precedes each program. Additional information is available on the Bach Series website (http://www-personal.umich.edu/~jkibbie/kibbie-bach.html). \n\nDonations may be made to the James Kibbie Endowed Scholarship Fund or at the Donations page https://leadersandbest.umich.edu/find/#!/give/basket/fund/570523.\n\nProgram http://smtd.umich.edu/wp-content/uploads/2022/08/Program-1.pdf
UID:96548-21792876@events.umich.edu
URL:https://events.umich.edu/event/96548
CLASS:PUBLIC
STATUS:CONFIRMED
CATEGORIES:Free,Music
LOCATION:Earl V. Moore Building - Blanche Anderson Moore Hall
CONTACT:
END:VEVENT
BEGIN:VEVENT
DTSTAMP:20220911T120024
DTSTART;TZID=America/Detroit:20220911T160000
DTEND;TZID=America/Detroit:20220911T170000
SUMMARY:Rally / Mass Meeting:MPDS Mass Meeting
DESCRIPTION:Join Michigan Pole Dance Society for a mass meeting to learn about the club\, our classes\, and social events. Join Laura M. as she takes you through mini classes that you will build on over the course of the semester. These are FREE classes that do not require dues. Plan to arrive to each class 10-15 minutes early. Please only attend one class so that we may accommodate for everyone who is interested in becoming a member. Pre-registration is required!https://www.polarityannarbor.com/mpds.html 
UID:97844-21795224@events.umich.edu
URL:https://events.umich.edu/event/97844
CLASS:PUBLIC
STATUS:CONFIRMED
CATEGORIES:
LOCATION:Polarity
CONTACT:
END:VEVENT
BEGIN:VEVENT
DTSTAMP:20220911T181009
DTSTART;TZID=America/Detroit:20220911T193000
SUMMARY:Performance:CANCELLED - Andrea Gibson
DESCRIPTION:Presented by The Ark Poetry that oscillates between activism and love. \nPlease visit https://mutotix.umich.edu/3347/3348 for more detail.
UID:93862-21709196@events.umich.edu
URL:https://events.umich.edu/event/93862
CLASS:PUBLIC
STATUS:CONFIRMED
CATEGORIES:Ark,Mutotix,Poetry
LOCATION:ARK Reserved
CONTACT:
END:VEVENT
BEGIN:VEVENT
DTSTAMP:20220911T180027
DTSTART;TZID=America/Detroit:20220911T210000
DTEND;TZID=America/Detroit:20220911T223000
SUMMARY:Other:Open Practice #1
DESCRIPTION:We'll be hosting our first open practice on September 11th! This practice will be split into two 45 minute sessions\, and we will send out sign up info via our mailing list / groupme later. Come see what MCS practice is like and get a good workout in! (NOTE: You MUST sign up ahead of time)
UID:97929-21795327@events.umich.edu
URL:https://events.umich.edu/event/97929
CLASS:PUBLIC
STATUS:CONFIRMED
CATEGORIES:
LOCATION:Unavailable
CONTACT:
END:VEVENT
BEGIN:VEVENT
DTSTAMP:20220804T234626
DTSTART;TZID=America/Detroit:20220911T235900
SUMMARY:Auditions:SPRING AWAKENING AUDITIONS!
DESCRIPTION:Send in an audition for *SPRING AWAKENING* at In the Round Prod! Audition forms and videos are due by Sunday\, September 11. Callbacks will be held Tuesday\, September 13 and Wednesday\, September 14. Our performances will be December 2-4 in the Arthur Miller Theatre! \n\nFor more information\, check out our LinkTree!
UID:96527-21792623@events.umich.edu
URL:https://events.umich.edu/event/96527
CLASS:PUBLIC
STATUS:CONFIRMED
CATEGORIES:Activism,Art,Books,Concert,Culture,Dance,Discussion,Diversity,Diversity Equity and Inclusion,Graduate,Graduate and Professional Students,Graduate School,Graduate Students,Humanities,In Person,LGBT,LGBTQ Graduate Student,Literature,Majors,Media,Mindfulness,Multidisciplinary Design,Music,Prospective Graduate Students,Prospective Undergraduate Students,Social,Social Impact,Social Justice,Social Sciences,Student Org,Theater,Transfer Students,Undergraduate,Undergraduate Students,Virtual,Visual Arts,Well-being,Women's Studies,Writing
LOCATION:Off Campus Location
CONTACT:
END:VEVENT
END:VCALENDAR