BEGIN:VCALENDAR
VERSION:2.0
PRODID:-//UM//UM*Events//EN
CALSCALE:GREGORIAN
BEGIN:VTIMEZONE
TZID:America/Detroit
TZURL:http://tzurl.org/zoneinfo/America/Detroit
X-LIC-LOCATION:America/Detroit
BEGIN:DAYLIGHT
TZOFFSETFROM:-0500
TZOFFSETTO:-0400
TZNAME:EDT
DTSTART:20070311T020000
RRULE:FREQ=YEARLY;BYMONTH=3;BYDAY=2SU
END:DAYLIGHT
BEGIN:STANDARD
TZOFFSETFROM:-0400
TZOFFSETTO:-0500
TZNAME:EST
DTSTART:20071104T020000
RRULE:FREQ=YEARLY;BYMONTH=11;BYDAY=1SU
END:STANDARD
END:VTIMEZONE
BEGIN:VEVENT
DTSTAMP:20220925T180024
DTSTART;TZID=America/Detroit:20220925T000000
DTEND;TZID=America/Detroit:20220925T235959
SUMMARY:Sporting Event:Great Lakes Intercollegiate Off-Shore Regatta (GLIOR)
DESCRIPTION:Keelboat Regatta
UID:98348-21796527@events.umich.edu
URL:https://events.umich.edu/event/98348
CLASS:PUBLIC
STATUS:CONFIRMED
CATEGORIES:
LOCATION:Chicago, IL
CONTACT:
END:VEVENT
BEGIN:VEVENT
DTSTAMP:20230324T120005
DTSTART;TZID=America/Detroit:20220925T000000
DTEND;TZID=America/Detroit:20220925T235959
SUMMARY:Community Service:Homework Help at The Children's Center
DESCRIPTION:The Homework Help program offers children assistance with their homework assignments. Children are encouraged to bring homework and are paired with a volunteer to assist them. This program is a critical service in helping children thrive. Volunteers give children the tools they need to be successful in school.Virtual and in-person volunteer opportunities are available. If you would like to volunteer\, please start the enrollment process by creating an account on the Children Center's Volunteer Site found HERE. After your account is created\, the Children's Center will reach out to you within 2 business days to answer any questions and discuss the next steps.In accordance with the CMS Vaccine Mandate\, those volunteering in-person at the Children’s Center are required to be fully vaccinated and must provide proof of full vaccination upon request.
UID:93885-21787953@events.umich.edu
URL:https://events.umich.edu/event/93885
CLASS:PUBLIC
STATUS:CONFIRMED
CATEGORIES:
LOCATION:The Children&#039;s Center 
CONTACT:
END:VEVENT
BEGIN:VEVENT
DTSTAMP:20220920T151901
DTSTART;TZID=America/Detroit:20220925T000000
DTEND;TZID=America/Detroit:20220925T235900
SUMMARY:Class / Instruction:SAPAC Volunteer Training Applications Open
DESCRIPTION:SAPAC Fall 2022 Volunteer Training Applications are OPEN! \n\nThe SAPAC Volunteer Training program is an intensive training that provides in-depth information on issues related to sexual violence prevention.  Volunteer Training is a requirement if you are interested in volunteering with any of our 5 volunteer programs! Learn more here: https://sapac.umich.edu/volunteer-programs\n\n\nWhat will be covered?\n\nSAPAC Volunteer Training is an intensive program spread over multiple sessions and weeks. Volunteer Training will provide participants with pertinent information they can utilize to be effective SAPAC volunteers on campus. Training will provide a framework for how one's role as a volunteer within a SAPAC program fits into our University's comprehensive public health plan (primary\, secondary\, tertiary) to prevent sexual violence.This training provides a foundation for volunteers to develop their skills throughout their time volunteering with SAPAC.  \n\n\nWho can participate?\n\nSAPAC Volunteer Training is open to all currently enrolled students at the University of Michigan\, including undergraduate and graduate students. To be able to volunteer with SAPAC\, we require at least a two (2) semester commitment (Fall and Winter).\n\n\nWhat can you do after SAPAC Volunteer Training?\n\nVolunteer Training is required to participate in one of the five student volunteer groups! After you participate in Volunteer Training\, you can join one of these groups to continue your knowledge and skill development as well as be actively involved in the movement to prevent sexual violence at the University of Michigan.\n\nRegardless of which volunteer group you join\, you will also have the opportunity to apply to facilitate our bystander intervention program for local bars\, Raise The Bar as well as many other leadership opportunities like applying to be a co-coordinator for a volunteer program\, applying to be a Peer Led Support Group (PLSG) facilitator\, applying to be a multimedia coordinator\, and more!\n\nVolunteers attend weekly volunteer program meetings during the academic year and provide peer-to-peer education programming such as tabling\, events\, and workshops. Current volunteers are required to attend additional day-long training for their continuing education once a year.\n\n\n\nWhen is the next SAPAC Volunteer Training?\n\nFall 2022 SAPAC Volunteer Training applications are open! You can apply to participate here: https://forms.gle/MrRzuUNoi7vGcRjU7. The application deadline is 11:59m\, Sunday\, September 25th!\n\nVolunteer training will take place throughout the month of October and a more detailed schedule will be shared before applicants confirm their participation.
UID:99097-21797573@events.umich.edu
URL:https://events.umich.edu/event/99097
CLASS:PUBLIC
STATUS:CONFIRMED
CATEGORIES:Gender Based Violence,peer education,sapac,Social Justice,Student Org,training,Volunteer
LOCATION:Off Campus Location
CONTACT:
END:VEVENT
BEGIN:VEVENT
DTSTAMP:20220925T120022
DTSTART;TZID=America/Detroit:20220925T000000
DTEND;TZID=America/Detroit:20220925T235959
SUMMARY:Other:Tri the Illini
DESCRIPTION:Triathlon
UID:98213-21795731@events.umich.edu
URL:https://events.umich.edu/event/98213
CLASS:PUBLIC
STATUS:CONFIRMED
CATEGORIES:
LOCATION:Champagne, IL
CONTACT:
END:VEVENT
BEGIN:VEVENT
DTSTAMP:20220925T120021
DTSTART;TZID=America/Detroit:20220925T000000
DTEND;TZID=America/Detroit:20220925T235959
SUMMARY:Other:University of Missouri MTB Race
DESCRIPTION:Mountain bike race at Mizzou
UID:98049-21795524@events.umich.edu
URL:https://events.umich.edu/event/98049
CLASS:PUBLIC
STATUS:CONFIRMED
CATEGORIES:
LOCATION:University of Missouri
CONTACT:
END:VEVENT
BEGIN:VEVENT
DTSTAMP:20220809T173135
DTSTART;TZID=America/Detroit:20220925T080000
DTEND;TZID=America/Detroit:20220925T190000
SUMMARY:Exhibition:Places & Spaces: Mapping Science and A Brief History of Information Graphics
DESCRIPTION:The Places & Spaces: Mapping Science exhibit introduces science mapping techniques and data visualization to the general public and to experts across diverse disciplines\, and we hope inspires cross-disciplinary discussion on how to best track and communicate scholarly activity and scientific progress on a global scale. The exhibit includes a macroscope which showcases interactive visualizations that demonstrate the impact of different data cleaning\, analysis\, and visualization algorithms.\n\nThe Places & Spaces exhibit is curated by the Cyberinfrastructure for Network Science Center at Indiana University. The complementary exhibit\, A Brief History of Information Graphics\, was created by Clark Library staff to provide an historical context to the Places and Spaces exhibit.
UID:96720-21793146@events.umich.edu
URL:https://events.umich.edu/event/96720
CLASS:PUBLIC
STATUS:CONFIRMED
CATEGORIES:Free,Library,Maps
LOCATION:Hatcher Graduate Library - Clark Library (2nd floor)
CONTACT:
END:VEVENT
BEGIN:VEVENT
DTSTAMP:20221003T125034
DTSTART;TZID=America/Detroit:20220925T080000
DTEND;TZID=America/Detroit:20220925T190000
SUMMARY:Exhibition:The Dance for Mother Earth Powwow
DESCRIPTION:This exhibit features various aspects of the Native North American powwow. More specifically\, it features the history and culture behind Ann Arbor’s \"Dance for Mother Earth Powwow\,\" which is approaching its much-anticipated 50th celebration.\n\nThe Dance for Mother Earth Powwow is a multi-decade\, intertribal celebration of Indigenous cultures. It grew from its early beginnings as a small gathering in a field just outside of Ann Arbor into one of the largest student-led powwows in North America. The event attracts crowds of thousands — dancers\, singers\, artists\, tribal members from across the country\, and non-Indigenous members of the community.\n\nStop by to learn more about The Dance for Mother Earth Powwow\, modern Indigenous culture\, and resources to connect to today on campus.\n\nThis exhibition was curated by Michigan Library Scholar interns\, Allison Jiang and Andrea Medina. The Michigan Library Scholars internship program provides undergraduate students with the opportunity to research and develop a capstone project under the guidance of experienced library professionals at one of the largest academic research libraries in the world.
UID:96225-21792113@events.umich.edu
URL:https://events.umich.edu/event/96225
CLASS:PUBLIC
STATUS:CONFIRMED
CATEGORIES:Exhibition,Free,Library,Native American
LOCATION:Hatcher Graduate Library - North Lobby (just off the Diag)
CONTACT:
END:VEVENT
BEGIN:VEVENT
DTSTAMP:20220824T111922
DTSTART;TZID=America/Detroit:20220925T100000
DTEND;TZID=America/Detroit:20220925T210000
SUMMARY:Exhibition:Kristina Sheufelt: Here Nor There
DESCRIPTION:Reception: Friday\, September 9th\, 5-7 pm.  ALL ARE WELCOME!\n\nSeptember 9 - October 14\, 2022\n\nHere Nor There is a new solo exhibition by multidisciplinary artist and environmentalist Kristina Sheufelt. Sheufelt is based in Detroit\, Michigan\, and recently received her MFA from the Penny W. Stamps School of Art and Design. In Here Nor There\, Sheufelt uses a variety of media to blur the lines between land and body. \n\nFor the past several years\, Sheufelt has spent her summers living in remote backcountry locations throughout the United States working on research projects ranging from self-directed study of emotional psychology in the wilderness to monitoring marine wildlife populations. In Here Nor There\, Sheufelt processes the emotional and ecological implications of returning to life in the city between reunions with the wild.\n\n\nKristina Sheufelt received her BFA from the College for Creative Studies in 2013 and her MFA from the University of Michigan in 2022.
UID:97342-21794357@events.umich.edu
URL:https://events.umich.edu/event/97342
CLASS:PUBLIC
STATUS:CONFIRMED
CATEGORIES:Activism,Alumni,Ann Arbor,art,artists,artists and curators,arts,arts at michigan,Climate and Space Sciences and Engineering,Culture,Diversity,Diversity Equity and Inclusion,Ecology,Environment,exhibition,free,Humanities,Life Science,multicultural,Museum,Sustainability,Virtual,visual arts
LOCATION:East Quadrangle - RC Art Gallery
CONTACT:
END:VEVENT
BEGIN:VEVENT
DTSTAMP:20220818T100608
DTSTART;TZID=America/Detroit:20220925T100000
DTEND;TZID=America/Detroit:20220925T120000
SUMMARY:Ceremony / Service:Sunday Celebration
DESCRIPTION:The school year is about to begin! No matter your background\, join us in kicking off this season with new expectations and hope.\n\nJoin us at 10AM every Sunday to experience church in a fresh way as we worship and seek God together. We meet at the Transformation Center (1001 E. Huron St.) which is located across the street from the Rackham Auditorium and the Power Center.\n\nCurious? Check out our website at https://annarbor.hmcc.net/ to learn more about who we are and what we value.
UID:96832-21793814@events.umich.edu
URL:https://events.umich.edu/event/96832
CLASS:PUBLIC
STATUS:CONFIRMED
CATEGORIES:christian,christianity,church,faith,religious,spiritual,welcome week
LOCATION:Off Campus Location
CONTACT:
END:VEVENT
BEGIN:VEVENT
DTSTAMP:20220925T120023
DTSTART;TZID=America/Detroit:20220925T100000
DTEND;TZID=America/Detroit:20220925T160000
SUMMARY:Other:Triple header vs. Adrian
DESCRIPTION:The University of Michigan Club Softball team will be playing at home at Alumni Field against Adrian College. Game times are 10am\, 12pm and 2pm. GO BLUE!!
UID:98688-21797070@events.umich.edu
URL:https://events.umich.edu/event/98688
CLASS:PUBLIC
STATUS:CONFIRMED
CATEGORIES:
LOCATION:Alumni Field
CONTACT:
END:VEVENT
BEGIN:VEVENT
DTSTAMP:20221011T103536
DTSTART;TZID=America/Detroit:20220925T110000
DTEND;TZID=America/Detroit:20220925T111500
SUMMARY:Presentation:Science Forum Demo
DESCRIPTION:Join us in the Science Forum for a 15-20 minute engaging science demonstration that will help you see the world in a whole new way. Demonstrations are free and appropriate for visitors ages 5 and above. Schedule subject to change.\n\nShedding Light on Magnets\nWhat makes a magnet magnetic? Why do they stick together? Join us as we explore magnetism\, magnetic fields\, and even what that has to do with your cell phone. We will highlight how researchers use light to study the magnetism of new materials. \n\nMade possible by a grant from the National Science Foundation.
UID:95985-21793451@events.umich.edu
URL:https://events.umich.edu/event/95985
CLASS:PUBLIC
STATUS:CONFIRMED
CATEGORIES:Children,Family,Free,Museum,Natural Sciences,Science
LOCATION:Museum of Natural History
CONTACT:
END:VEVENT
BEGIN:VEVENT
DTSTAMP:20260210T142109
DTSTART;TZID=America/Detroit:20220925T113000
DTEND;TZID=America/Detroit:20220925T121500
SUMMARY:Presentation:Expedition Reef
DESCRIPTION:Learn the secrets of the “rainforests of the sea” as you embark on an oceanic safari of the world’s most vibrant—and endangered—marine ecosystems. Expedition Reef immerses you in an undersea adventure. Along the way\, discover how corals grow\, feed\, reproduce\, and support over 25% of all marine life on Earth.\n\nThe state-of-the-art Planetarium & Dome Theater at the U-M Museum of Natural History transports visitors beyond distant stars and back in time from the comfort of reclining seats. Tickets $8. Tickets are available on the day of the show at the Museum Store.
UID:95986-21793464@events.umich.edu
URL:https://events.umich.edu/event/95986
CLASS:PUBLIC
STATUS:CONFIRMED
CATEGORIES:natural history museum,Natural Sciences
LOCATION:Museum of Natural History
CONTACT:
END:VEVENT
BEGIN:VEVENT
DTSTAMP:20221109T141417
DTSTART;TZID=America/Detroit:20220925T123000
DTEND;TZID=America/Detroit:20220925T131500
SUMMARY:Presentation:Sky Tonight
DESCRIPTION:A live presentation on what to find in the sky tonight and for the coming few weeks. This presentation includes how to find the cardinal directions on your own by finding the North Star\, current and upcoming constellations\, visible planets\, a few deep sky objects depending on the season\, and other interesting astronomical visualizations. If you want to be able to look up from your own backyard and know what to look for\, this is the show for you.\n\nThe state-of-the-art Planetarium & Dome Theater at the U-M Museum of Natural History transports visitors beyond distant stars and back in time from the comfort of reclining seats. Tickets $8. Tickets are available on the day of the show at the Museum Store.\n\nThe planetarium is operating at half capacity to maximize distancing between viewers.
UID:91230-21793499@events.umich.edu
URL:https://events.umich.edu/event/91230
CLASS:PUBLIC
STATUS:CONFIRMED
CATEGORIES:Astronomy,Natural Sciences,Science
LOCATION:Museum of Natural History
CONTACT:
END:VEVENT
BEGIN:VEVENT
DTSTAMP:20220627T142559
DTSTART;TZID=America/Detroit:20220925T130000
DTEND;TZID=America/Detroit:20220925T190000
SUMMARY:Exhibition:A Perfect Pairing of Cookbooks and Dinnerware
DESCRIPTION:A dozen selections from the Janice Bluestein Longone Culinary Archive from our Special Collections Research Center have been perfectly paired with dishes from the International Museum of Dinnerware Design to provide a feast for the eyes.\n\nA “perfect pairing” usually refers to a taste compatibility between wine and a food group\, such as wine and cheese. For example\, some believe a perfect pairing would be Cabernet with duck confit with turnips or Pinot Noir with bison rib eye steaks with roasted garlic — wines with sauces\, spicy food\, hors d’oeurvres\, etc. But other things can be perfectly paired such as fruit and cheese\, a couple\, or a clothing selection.\n\nSometimes pairs are made more perfect when they are catalysts for the imagination. That is what curators Margaret Carney\, Ph.D.\, and Juli McLoone are serving in \"A Perfect Pairing of Cookbooks and Dinnerware.\" The right ingredients along with an inspired recipe creates a delicious and beautiful meal that is enhanced when the cuisine is presented on a thoughtfully curated table setting\, or\, we hope\, in a thoughtfully curated exhibit. Bon Appetit!
UID:95818-21791017@events.umich.edu
URL:https://events.umich.edu/event/95818
CLASS:PUBLIC
STATUS:CONFIRMED
CATEGORIES:Exhibition,Free,Library
LOCATION:Hatcher Graduate Library - Audubon Room, 1st floor
CONTACT:
END:VEVENT
BEGIN:VEVENT
DTSTAMP:20220918T232113
DTSTART;TZID=America/Detroit:20220925T130000
DTEND;TZID=America/Detroit:20220925T140000
SUMMARY:Well-being:Self-Care Sunday with WSN
DESCRIPTION:Come picnic in the Arb with WSN! Take care of yourself\, meet a supportive community\, and enjoy snacks\, games\, and more! Completely free and open to the entire UofM Community!\n\nSeptember 25th| Nichols Arboretum\nMEET AT THE OBSERVATORY ENTRANCE @ 1 PM\n1:00 to 2:00 PM
UID:98962-21797401@events.umich.edu
URL:https://events.umich.edu/event/98962
CLASS:PUBLIC
STATUS:CONFIRMED
CATEGORIES:Food,Free,Games,Mindfulness,Outdoors,Picnic,Social,Student Org,Welcome to Michigan,Well-being
LOCATION:Off Campus Location
CONTACT:
END:VEVENT
BEGIN:VEVENT
DTSTAMP:20220925T121739
DTSTART;TZID=America/Detroit:20220925T130000
SUMMARY:Sporting Event:Women's Soccer vs Nebraska
DESCRIPTION:Women's Soccer vs Nebraska
UID:95759-21790875@events.umich.edu
URL:https://events.umich.edu/event/95759
CLASS:PUBLIC
STATUS:CONFIRMED
CATEGORIES:Athletics,Athletics - Women's Soccer
LOCATION:U-M Soccer Stadium
CONTACT:
END:VEVENT
BEGIN:VEVENT
DTSTAMP:20220912T132709
DTSTART;TZID=America/Detroit:20220925T133000
DTEND;TZID=America/Detroit:20220925T141500
SUMMARY:Presentation:Tales of the Maya Skies
DESCRIPTION:Tales of the Maya Skies immerses viewers in the wonders of Maya science\, cosmology and myth. This beautifully illustrated story takes us back in time to the jungles of Mexico to discover how Mayan scholars developed a sophisticated understanding of astronomy\, architecture\, and mathematics that enabled them to predict solstices\, solar eclipses\, weather patterns and planetary movements.\n\nThe state-of-the-art Planetarium & Dome Theater at the U-M Museum of Natural History transports visitors beyond distant stars and back in time from the comfort of reclining seats. Tickets $8. Tickets are available on the day of the show at the Museum Store.\n\nThe planetarium is operating at half capacity to maximize distancing between viewers.
UID:95036-21793477@events.umich.edu
URL:https://events.umich.edu/event/95036
CLASS:PUBLIC
STATUS:CONFIRMED
CATEGORIES:Astronomy,Museum,Natural Sciences,Science
LOCATION:Museum of Natural History
CONTACT:
END:VEVENT
BEGIN:VEVENT
DTSTAMP:20220822T161713
DTSTART;TZID=America/Detroit:20220925T140000
DTEND;TZID=America/Detroit:20220925T160000
SUMMARY:Social / Informal Gathering:Nam Center Chuseok Dae Party 2022
DESCRIPTION:The Chuseok Dae Party 2022 is the Nam Center's twelfth annual celebration of Korean Thanksgiving.\n\nFeaturing an afternoon of Korean culture and arts with traditional games\, crafts\, performances\, and holiday food\, all members of the U-M community and area residents of all ages are welcomed to enjoy Korean hospitality and traditions at this festival.\n\nIf you are a person with a disability who requires accommodation to attend this event\, please reach out to us at least 2 weeks in advance of this event. Please be aware that advance notice is necessary as some accommodations may require more time for the university to arrange.\n\nQuestions? outreachkorea@umich.edu
UID:96327-21792273@events.umich.edu
URL:https://events.umich.edu/event/96327
CLASS:PUBLIC
STATUS:CONFIRMED
CATEGORIES:Asia,Dance,Games,Korea,Korean Studies,Music
LOCATION:Weiser Hall - First Floor and Weiser Courtyard
CONTACT:
END:VEVENT
BEGIN:VEVENT
DTSTAMP:20220916T114411
DTSTART;TZID=America/Detroit:20220925T140000
DTEND;TZID=America/Detroit:20220925T150000
SUMMARY:Tours:Sunday Drop-In Tour | Highlights of the Collection
DESCRIPTION:This tour looks at the Kelsey's objects from our exhibitions on Karanis\, Egypt\, and the Villa of the Mysteries in our Rome Galleries.\n\nMasks are optional inside the Kelsey. For more information about our COVID procedures and how to prepare for your visit\, please visit our website\, https://myumi.ch/9PG1P.\n\nThis event is free and open to all visitors. If you are a person with a disability who requires an accommodation to attend\, please contact the education office (734-647-4167) at least two weeks in advance. We ask for advance notice as some accommodations may require more time for the university to arrange.
UID:98649-21797017@events.umich.edu
URL:https://events.umich.edu/event/98649
CLASS:PUBLIC
STATUS:CONFIRMED
CATEGORIES:Archaeology,Free,Museum,Tour
LOCATION:Kelsey Museum of Archaeology
CONTACT:
END:VEVENT
BEGIN:VEVENT
DTSTAMP:20221109T141417
DTSTART;TZID=America/Detroit:20220925T143000
DTEND;TZID=America/Detroit:20220925T151500
SUMMARY:Presentation:Sky Tonight
DESCRIPTION:A live presentation on what to find in the sky tonight and for the coming few weeks. This presentation includes how to find the cardinal directions on your own by finding the North Star\, current and upcoming constellations\, visible planets\, a few deep sky objects depending on the season\, and other interesting astronomical visualizations. If you want to be able to look up from your own backyard and know what to look for\, this is the show for you.\n\nThe state-of-the-art Planetarium & Dome Theater at the U-M Museum of Natural History transports visitors beyond distant stars and back in time from the comfort of reclining seats. Tickets $8. Tickets are available on the day of the show at the Museum Store.\n\nThe planetarium is operating at half capacity to maximize distancing between viewers.
UID:91230-21793503@events.umich.edu
URL:https://events.umich.edu/event/91230
CLASS:PUBLIC
STATUS:CONFIRMED
CATEGORIES:Astronomy,Natural Sciences,Science
LOCATION:Museum of Natural History
CONTACT:
END:VEVENT
BEGIN:VEVENT
DTSTAMP:20220925T120013
DTSTART;TZID=America/Detroit:20220925T150000
DTEND;TZID=America/Detroit:20220925T170000
SUMMARY:Other:Free Newcomer Lessons!
DESCRIPTION:Come learn some dances and meet our team! Open to all students in a degree seeking program- no partner or experience needed! Thursdays the 15th\, 22nd\, and 29th  will also have showcases by current members.
UID:97550-21794704@events.umich.edu
URL:https://events.umich.edu/event/97550
CLASS:PUBLIC
STATUS:CONFIRMED
CATEGORIES:
LOCATION:CCRB 3275 (mirror room)
CONTACT:
END:VEVENT
BEGIN:VEVENT
DTSTAMP:20230908T085204
DTSTART;TZID=America/Detroit:20220925T150000
DTEND;TZID=America/Detroit:20220925T151500
SUMMARY:Presentation:Science Forum Discovery Demos
DESCRIPTION:Join us in the Science Forum for 15-20 minute engaging science demonstrations that will help you see the world in a whole new way. Demonstrations are free and appropriate for visitors ages 5 and above. Schedule subject to change.\n\nNo demos on October 14th or 15th.\n\nHow to Become a Fossil\nExplore how fossils form and what parts of animals can become fossilized! How old are the earliest fossils? How old does something have to be before it is considered a fossil? You’ll touch some real fossils\, learn the different types of fossil evidence\, and discover what is necessary to become a fossil.  Finally\, we’ll discuss what kinds of things fossils can tell us\, and how fossil casts are made in the museum!
UID:95035-21793443@events.umich.edu
URL:https://events.umich.edu/event/95035
CLASS:PUBLIC
STATUS:CONFIRMED
CATEGORIES:Children,Family,Free,Museum,natural history museum,Natural Sciences,Science
LOCATION:Museum of Natural History
CONTACT:
END:VEVENT
BEGIN:VEVENT
DTSTAMP:20220805T181513
DTSTART;TZID=America/Detroit:20220925T160000
SUMMARY:Performance:James Kibbie: The Complete Organ Works of J.S. Bach Program 3
DESCRIPTION:4:00 pm\n3:40 pm: Introduction to the program\n\nLivestreamed (real time only)\n\nJames Kibbie performs the 281 extant organ works of Johann Sebastian Bach in 18 concerts. An informal introduction to the music to be performed precedes each program. Additional information is available on the Bach Series website (http://www-personal.umich.edu/~jkibbie/kibbie-bach.html). \n\nDonations may be made to the James Kibbie Endowed Scholarship Fund or at the Donations page https://leadersandbest.umich.edu/find/#!/give/basket/fund/570523.\n\nhttp://smtd.umich.edu/wp-content/uploads/2022/08/Program-3.pdf
UID:96550-21792878@events.umich.edu
URL:https://events.umich.edu/event/96550
CLASS:PUBLIC
STATUS:CONFIRMED
CATEGORIES:Free,Music
LOCATION:Earl V. Moore Building - Blanche Anderson Moore Hall
CONTACT:
END:VEVENT
BEGIN:VEVENT
DTSTAMP:20220921T150709
DTSTART;TZID=America/Detroit:20220925T160000
DTEND;TZID=America/Detroit:20220925T180000
SUMMARY:Workshop / Seminar:The Premodern Colloquium. Arboreal Aesthetics: Trees\, Traces\, and Trails in the Art of Wen Zhengming (1470–1559)
DESCRIPTION:This is an essay extended from my larger project considering an ecocritical approach to Chinese painting. I look at Wen Zhengming's *Seven Junipers* as an example. My discussion illustrates how the artist reimagined place (a Daoist temple in Changshu) with a sense of deeper time by reconstituting the constellation of old trees in a holistic composition. \n\nBy this means\, I argue\, Wen revealed the limitations of an anthropocentric worldview: the torn and twisted web of arboreal imprint stands for the vicissitudes of the living world and the cosmos. The challenge of the project is to situate the case study in a global context. Can we relate it to current intellectual debates about the human-world relationship and its politics?
UID:97918-21795317@events.umich.edu
URL:https://events.umich.edu/event/97918
CLASS:PUBLIC
STATUS:CONFIRMED
CATEGORIES:Art History,China,Environment,history
LOCATION:Off Campus Location
CONTACT:
END:VEVENT
BEGIN:VEVENT
DTSTAMP:20220916T132640
DTSTART;TZID=America/Detroit:20220925T160000
DTEND;TZID=America/Detroit:20220925T180000
SUMMARY:Film Screening:Twice a Stranger
DESCRIPTION:The Modern Greek Program Presents the film\nTwice a Stranger (51 minutes)\n\nSunday\, September 25\, 2022 at 4pm\nRackham Amphitheatre\, 4th floor Rackham\n\n915 E. Washington Street \n(Parking in the Thayer and Fletcher Lots)\, Ann Arbor\, Michigan\n\nFollowed by a discussion led by Will Stroebel\, \nAssistant Professor of Modern Greek and Comparative Literature\n\n“Twice a Stranger” is about people uprooted from their homes on both sides of the Greek and Turkish border and about their common experience of being “Twice a Stranger.” Part of the multi-ethnic Ottoman Empire in the early twentieth century\, by 1924 their world was violently torn asunder. Half a million Muslims were expelled from Greece\, and 1.3 million Greek Orthodox Christians were forced to flee their homes in Turkey. The story unfolds through rare archive footage\, interviews with historians and testimonies from both Turkish and Greek refugees.\n\nThe film inaugurates a series we are planning over the next three years to mark the 1922 Asia Minor disaster and commemorate the 100 year anniversary of the Treaty of Lausanne and Convention on the Exchange of Greek and Turkish Population of 1923\, an event with devastating long-term effects that expelled almost 2\,000\,000 people from their homes. It transformed the Eastern Mediterranean and set the stage for future events of ethnic cleansing. There is much to explore\, learn\, and think about.
UID:98497-21796720@events.umich.edu
URL:https://events.umich.edu/event/98497
CLASS:PUBLIC
STATUS:CONFIRMED
CATEGORIES:Film,History,Humanities,Interdisciplinary,International,Modern Greek,Multicultural
LOCATION:Rackham Graduate School (Horace H.) - Amphitheatre, 4th floor
CONTACT:
END:VEVENT
END:VCALENDAR