BEGIN:VCALENDAR
VERSION:2.0
PRODID:-//UM//UM*Events//EN
CALSCALE:GREGORIAN
BEGIN:VTIMEZONE
TZID:America/Detroit
TZURL:http://tzurl.org/zoneinfo/America/Detroit
X-LIC-LOCATION:America/Detroit
BEGIN:DAYLIGHT
TZOFFSETFROM:-0500
TZOFFSETTO:-0400
TZNAME:EDT
DTSTART:20070311T020000
RRULE:FREQ=YEARLY;BYMONTH=3;BYDAY=2SU
END:DAYLIGHT
BEGIN:STANDARD
TZOFFSETFROM:-0400
TZOFFSETTO:-0500
TZNAME:EST
DTSTART:20071104T020000
RRULE:FREQ=YEARLY;BYMONTH=11;BYDAY=1SU
END:STANDARD
END:VTIMEZONE
BEGIN:VEVENT
DTSTAMP:20221002T120021
DTSTART;TZID=America/Detroit:20221002T000000
DTEND;TZID=America/Detroit:20221002T235959
SUMMARY:Other:Battle Creek  Blast Tournament
DESCRIPTION:3 game tournament in Battle Creek Michigan from 9/30-10/2. Playoffs are on 10/2 if we make it there.
UID:98798-21797200@events.umich.edu
URL:https://events.umich.edu/event/98798
CLASS:PUBLIC
STATUS:CONFIRMED
CATEGORIES:
LOCATION:Bailey Park
CONTACT:
END:VEVENT
BEGIN:VEVENT
DTSTAMP:20221002T120020
DTSTART;TZID=America/Detroit:20221002T000000
DTEND;TZID=America/Detroit:20221002T235959
SUMMARY:Sporting Event:Big Ten Crossover
DESCRIPTION:Tournament at Indiana University
UID:98549-21796905@events.umich.edu
URL:https://events.umich.edu/event/98549
CLASS:PUBLIC
STATUS:CONFIRMED
CATEGORIES:
LOCATION:Indiana University
CONTACT:
END:VEVENT
BEGIN:VEVENT
DTSTAMP:20221002T120021
DTSTART;TZID=America/Detroit:20221002T000000
DTEND;TZID=America/Detroit:20221002T235959
SUMMARY:Other:Boilerman Triathlon
DESCRIPTION:Conference Champs
UID:98985-21797426@events.umich.edu
URL:https://events.umich.edu/event/98985
CLASS:PUBLIC
STATUS:CONFIRMED
CATEGORIES:
LOCATION:Monticello, IN
CONTACT:
END:VEVENT
BEGIN:VEVENT
DTSTAMP:20221002T120021
DTSTART;TZID=America/Detroit:20221002T000000
DTEND;TZID=America/Detroit:20221002T235959
SUMMARY:Sporting Event:Cary Price 2022
DESCRIPTION:MCSA Dingy Fleet Race Memorial Regatta 
UID:99036-21797486@events.umich.edu
URL:https://events.umich.edu/event/99036
CLASS:PUBLIC
STATUS:CONFIRMED
CATEGORIES:
LOCATION:University of Michigan, Ann Arbor, Michigan
CONTACT:
END:VEVENT
BEGIN:VEVENT
DTSTAMP:20230324T120005
DTSTART;TZID=America/Detroit:20221002T000000
DTEND;TZID=America/Detroit:20221002T235959
SUMMARY:Community Service:Homework Help at The Children's Center
DESCRIPTION:The Homework Help program offers children assistance with their homework assignments. Children are encouraged to bring homework and are paired with a volunteer to assist them. This program is a critical service in helping children thrive. Volunteers give children the tools they need to be successful in school.Virtual and in-person volunteer opportunities are available. If you would like to volunteer\, please start the enrollment process by creating an account on the Children Center's Volunteer Site found HERE. After your account is created\, the Children's Center will reach out to you within 2 business days to answer any questions and discuss the next steps.In accordance with the CMS Vaccine Mandate\, those volunteering in-person at the Children’s Center are required to be fully vaccinated and must provide proof of full vaccination upon request.
UID:93885-21787960@events.umich.edu
URL:https://events.umich.edu/event/93885
CLASS:PUBLIC
STATUS:CONFIRMED
CATEGORIES:
LOCATION:The Children&#039;s Center 
CONTACT:
END:VEVENT
BEGIN:VEVENT
DTSTAMP:20221002T120021
DTSTART;TZID=America/Detroit:20221002T000000
DTEND;TZID=America/Detroit:20221002T235959
SUMMARY:Other:Lindenwood University MTB Race
DESCRIPTION:Race at Lindenwood 9/30-10/2
UID:98906-21797341@events.umich.edu
URL:https://events.umich.edu/event/98906
CLASS:PUBLIC
STATUS:CONFIRMED
CATEGORIES:
LOCATION:Lindenwood University
CONTACT:
END:VEVENT
BEGIN:VEVENT
DTSTAMP:20221002T120019
DTSTART;TZID=America/Detroit:20221002T000000
DTEND;TZID=America/Detroit:20221002T235959
SUMMARY:Sporting Event:Michigan State Championship -2022
DESCRIPTION:The Michigan State Championship is an annual competition to determine the best Weightlifters in the State. The event is hosted by the The Michigan Weightlifting Federation as a subset of USA Weightlifting and will be occuring on the 1st and 2nd of October at Mercy Elite in Livonia\, MI. 
UID:98439-21796661@events.umich.edu
URL:https://events.umich.edu/event/98439
CLASS:PUBLIC
STATUS:CONFIRMED
CATEGORIES:
LOCATION:Mercy Elite 
CONTACT:
END:VEVENT
BEGIN:VEVENT
DTSTAMP:20220927T085223
DTSTART;TZID=America/Detroit:20221002T000000
DTEND;TZID=America/Detroit:20221002T235900
SUMMARY:Workshop / Seminar:PNC Student Banking Spotlight Series Videos: Julien and Kiersten Saunders of rich & REGULAR®
DESCRIPTION:PNC’s Spotlight Series features four short videos from Julien and Kiersten Saunders of rich & REGULAR®\, who share their top tips for students on investing\, saving\, protecting yourself from fraud\, and using credit responsibly.  Watch the pre-recorded videos at your convenience.
UID:99374-21797940@events.umich.edu
URL:https://events.umich.edu/event/99374
CLASS:PUBLIC
STATUS:CONFIRMED
CATEGORIES:Business,Graduate Students,Transfer Students,Undergraduate,Virtual,Workshop
LOCATION:Off Campus Location
CONTACT:
END:VEVENT
BEGIN:VEVENT
DTSTAMP:20221001T120021
DTSTART;TZID=America/Detroit:20221002T000000
DTEND;TZID=America/Detroit:20221002T180000
SUMMARY:Other:Purdue Tournament
DESCRIPTION:Purdue Invitational Volleyball tournament. 24 team members will be traveling and we will leave Friday 09/30 at noon and return Saturday 10/01 at 6pm.
UID:98986-21797430@events.umich.edu
URL:https://events.umich.edu/event/98986
CLASS:PUBLIC
STATUS:CONFIRMED
CATEGORIES:
LOCATION:Purdue University
CONTACT:
END:VEVENT
BEGIN:VEVENT
DTSTAMP:20221002T180023
DTSTART;TZID=America/Detroit:20221002T000000
DTEND;TZID=America/Detroit:20221002T235959
SUMMARY:Other:Purdue University Boiler Bash Tournament
DESCRIPTION:Tournament hosted by Purdue University
UID:99137-21797619@events.umich.edu
URL:https://events.umich.edu/event/99137
CLASS:PUBLIC
STATUS:CONFIRMED
CATEGORIES:
LOCATION:Purdue University
CONTACT:
END:VEVENT
BEGIN:VEVENT
DTSTAMP:20220829T182332
DTSTART;TZID=America/Detroit:20221002T000000
DTEND;TZID=America/Detroit:20221002T230000
SUMMARY:Exhibition:To Be Heard: Public Mural Project
DESCRIPTION:To Be Heard at the University of Michigan is a public mural project and exhibition by Brooklyn-based street artist\, painter\, and activist Tatyana Fazlalizadeh.\n\nThe public murals will be displayed on Angell Hall\, Shapiro Undergraduate Library\, Trotter Multicultural Center\, and MLB.\n\nThe public mural component utilizes community engagement\, public art\, and social practice to listen to and amplify the voices of marginalized groups\, particularly women and non-white students at the University of Michigan. Through class workshops and interviews\, Fazlalizadeh will engage with Black and brown\, queer\, and women-identified students on the ways that they experience race and gender on campus\, exploring how students are treated based on their identities. The engagement will culminate in public art installation across campus using drawings and photos to present the experiences and stories from these students back to the public.\n\nAbout the Exhibition\n*Pressed Against My Own Glass*\, exhibition\, September 15-October 21\, 2022. Location: Institute for the Humanities Gallery\, 202 S. Thayer.\n\nThe exhibition *Pressed Against My Own Glass* will be installed in the Institute for the Humanities Gallery. In this multimedia installation on Black womanhood within the home space\, Fazlalizadeh explores her childhood and adulthood within the domestic space and how it connects to the experiences of other Black women and those who had a girlhood. Using paintings\, drawings\, video\, and reappropriated home objects\, she examines her experiences of joy\, rest\, sadness\, and fellowship in the home. While doing so\, she makes connections to her Black women peers\, even those like Breonna Taylor and Atatiana Jefferson who show how racist violence is a threat to Black women even in their homes.
UID:97676-21794929@events.umich.edu
URL:https://events.umich.edu/event/97676
CLASS:PUBLIC
STATUS:CONFIRMED
CATEGORIES:African American,Art,Exhibition,Humanities,Social Justice,Visual Arts,Women's Studies
LOCATION:
CONTACT:
END:VEVENT
BEGIN:VEVENT
DTSTAMP:20221003T060019
DTSTART;TZID=America/Detroit:20221002T000000
DTEND;TZID=America/Detroit:20221002T235959
SUMMARY:Sporting Event:Women's ACCS
DESCRIPTION:Inter-Conference Women's Dingy Regatta
UID:98905-21797336@events.umich.edu
URL:https://events.umich.edu/event/98905
CLASS:PUBLIC
STATUS:CONFIRMED
CATEGORIES:
LOCATION:Brown University, Providence, RI
CONTACT:
END:VEVENT
BEGIN:VEVENT
DTSTAMP:20220809T173135
DTSTART;TZID=America/Detroit:20221002T080000
DTEND;TZID=America/Detroit:20221002T190000
SUMMARY:Exhibition:Places & Spaces: Mapping Science and A Brief History of Information Graphics
DESCRIPTION:The Places & Spaces: Mapping Science exhibit introduces science mapping techniques and data visualization to the general public and to experts across diverse disciplines\, and we hope inspires cross-disciplinary discussion on how to best track and communicate scholarly activity and scientific progress on a global scale. The exhibit includes a macroscope which showcases interactive visualizations that demonstrate the impact of different data cleaning\, analysis\, and visualization algorithms.\n\nThe Places & Spaces exhibit is curated by the Cyberinfrastructure for Network Science Center at Indiana University. The complementary exhibit\, A Brief History of Information Graphics\, was created by Clark Library staff to provide an historical context to the Places and Spaces exhibit.
UID:96720-21793153@events.umich.edu
URL:https://events.umich.edu/event/96720
CLASS:PUBLIC
STATUS:CONFIRMED
CATEGORIES:Free,Library,Maps
LOCATION:Hatcher Graduate Library - Clark Library (2nd floor)
CONTACT:
END:VEVENT
BEGIN:VEVENT
DTSTAMP:20220930T132239
DTSTART;TZID=America/Detroit:20221002T080000
DTEND;TZID=America/Detroit:20221002T230000
SUMMARY:Class / Instruction:Semester in Detroit Application Open!
DESCRIPTION:Semester in Detroit uses the MCompass system for applications. All applications are accepted on a rolling basis\, which means that the earlier you apply\, the better chance you have of getting in. \n\nApplication Due Dates:\n1/31/23 for the spring 2023 program\n\nProgram Eligibility:\nThe Semester in Detroit spring/summer and fall programs accept undergraduate students from all schools and departments at the University of Michigan-Ann Arbor. All students\, from First years to Seniors or Super Seniors are eligible to apply.\n\nStudents from Grand Valley State University\, UM-Dearborn\, and UM-Flint are eligible to apply for fall programs only. The same application eligibility applies to GVSU\, Dearborn\, and Flint students (all departments\, all class standings). \n\nApplicants should have a strong interest in the city of Detroit and in questioning dominant narratives\; engaging with challenging new perspectives on contemporary issues\; and building community with one another\, SiD faculty and staff\, and community members at internship sites and beyond.\n\nQuestions?\nEmail semesterindetroit@umich.edu.
UID:99614-21798421@events.umich.edu
URL:https://events.umich.edu/event/99614
CLASS:PUBLIC
STATUS:CONFIRMED
CATEGORIES:Activism,Advocacy,civil rights,Community Engagement,Community Organzing,Community-based Learning,detroit,Diversity Equity and Inclusion,Education
LOCATION:
CONTACT:
END:VEVENT
BEGIN:VEVENT
DTSTAMP:20221003T125034
DTSTART;TZID=America/Detroit:20221002T080000
DTEND;TZID=America/Detroit:20221002T190000
SUMMARY:Exhibition:The Dance for Mother Earth Powwow
DESCRIPTION:This exhibit features various aspects of the Native North American powwow. More specifically\, it features the history and culture behind Ann Arbor’s \"Dance for Mother Earth Powwow\,\" which is approaching its much-anticipated 50th celebration.\n\nThe Dance for Mother Earth Powwow is a multi-decade\, intertribal celebration of Indigenous cultures. It grew from its early beginnings as a small gathering in a field just outside of Ann Arbor into one of the largest student-led powwows in North America. The event attracts crowds of thousands — dancers\, singers\, artists\, tribal members from across the country\, and non-Indigenous members of the community.\n\nStop by to learn more about The Dance for Mother Earth Powwow\, modern Indigenous culture\, and resources to connect to today on campus.\n\nThis exhibition was curated by Michigan Library Scholar interns\, Allison Jiang and Andrea Medina. The Michigan Library Scholars internship program provides undergraduate students with the opportunity to research and develop a capstone project under the guidance of experienced library professionals at one of the largest academic research libraries in the world.
UID:96225-21792120@events.umich.edu
URL:https://events.umich.edu/event/96225
CLASS:PUBLIC
STATUS:CONFIRMED
CATEGORIES:Exhibition,Free,Library,Native American
LOCATION:Hatcher Graduate Library - North Lobby (just off the Diag)
CONTACT:
END:VEVENT
BEGIN:VEVENT
DTSTAMP:20220826T194656
DTSTART;TZID=America/Detroit:20221002T093000
DTEND;TZID=America/Detroit:20221002T150000
SUMMARY:Conference / Symposium:UMMAA at 100: Michigan's Mark - Past\, Present\, Future
DESCRIPTION:The University of Michigan Museum of Anthropological Archaeology (UMMAA) was founded in 1922. Over the course of a century\, its curators\, students\, and staff have made indelible marks on archaeological theory and practice\, the world over. At the “UMMAA at 100” conference we will take time to celebrate these accomplishments\, consider the current state of the discipline\, and chart possible futures. Where has archaeology been\, where is it going? What roles will UMMAA and its legacy play in defining archaeology for the next 100 years?\n\nClick here to see the speaker list and learn more about the conference and events: https://sites.lsa.umich.edu/ummaa-at-100/\n\nRegistration is required in advance to attend in person. Register here: https://docs.google.com/forms/d/e/1FAIpQLScRD7Fd-PIvMNif-KR2e8bOgnlPAASYCutOKfKkSGB3S_srOw/viewform\n\nThe conference will also be livestreamed\, and registration is not required to access the livestream feeds. The livestream links are posted on the right\, on the UMMAA website (https://lsa.umich.edu/ummaa) and the Conference's website (https://sites.lsa.umich.edu/ummaa-at-100/).\n\nUMMAA gratefully acknowledges generous support from the University of Michigan College of LSA and from ​The University of Michigan Office of Research.
UID:96268-21792208@events.umich.edu
URL:https://events.umich.edu/event/96268
CLASS:PUBLIC
STATUS:CONFIRMED
CATEGORIES:Anthropology,Archaeology
LOCATION:Rackham Graduate School (Horace H.) - 4th floor Amphitheatre
CONTACT:
END:VEVENT
BEGIN:VEVENT
DTSTAMP:20220919T145854
DTSTART;TZID=America/Detroit:20221002T100000
DTEND;TZID=America/Detroit:20221002T140000
SUMMARY:Social / Informal Gathering:Honors Coffee Crawl
DESCRIPTION:You have probably seen that Ann Arbor has so many coffee shops around town\, and it's almost impossible to try them all. But you can get one step closer to trying them all with your HRAs on October 2 at 10am. Meet at the South Quad CC and we will walk to Vertex for the first stop on our coffee crawl.
UID:99019-21797464@events.umich.edu
URL:https://events.umich.edu/event/99019
CLASS:PUBLIC
STATUS:CONFIRMED
CATEGORIES:#Honors Program
LOCATION:South Quad
CONTACT:
END:VEVENT
BEGIN:VEVENT
DTSTAMP:20220824T111922
DTSTART;TZID=America/Detroit:20221002T100000
DTEND;TZID=America/Detroit:20221002T210000
SUMMARY:Exhibition:Kristina Sheufelt: Here Nor There
DESCRIPTION:Reception: Friday\, September 9th\, 5-7 pm.  ALL ARE WELCOME!\n\nSeptember 9 - October 14\, 2022\n\nHere Nor There is a new solo exhibition by multidisciplinary artist and environmentalist Kristina Sheufelt. Sheufelt is based in Detroit\, Michigan\, and recently received her MFA from the Penny W. Stamps School of Art and Design. In Here Nor There\, Sheufelt uses a variety of media to blur the lines between land and body. \n\nFor the past several years\, Sheufelt has spent her summers living in remote backcountry locations throughout the United States working on research projects ranging from self-directed study of emotional psychology in the wilderness to monitoring marine wildlife populations. In Here Nor There\, Sheufelt processes the emotional and ecological implications of returning to life in the city between reunions with the wild.\n\n\nKristina Sheufelt received her BFA from the College for Creative Studies in 2013 and her MFA from the University of Michigan in 2022.
UID:97342-21794364@events.umich.edu
URL:https://events.umich.edu/event/97342
CLASS:PUBLIC
STATUS:CONFIRMED
CATEGORIES:Activism,Alumni,Ann Arbor,art,artists,artists and curators,arts,arts at michigan,Climate and Space Sciences and Engineering,Culture,Diversity,Diversity Equity and Inclusion,Ecology,Environment,exhibition,free,Humanities,Life Science,multicultural,Museum,Sustainability,Virtual,visual arts
LOCATION:East Quadrangle - RC Art Gallery
CONTACT:
END:VEVENT
BEGIN:VEVENT
DTSTAMP:20220922T113023
DTSTART;TZID=America/Detroit:20221002T100000
DTEND;TZID=America/Detroit:20221002T160000
SUMMARY:Community Service:Social Justice Leadership Retreat
DESCRIPTION:There is still time to apply to our first ever Social Justice Leadership Retreat that will take place on October 2nd from 10 AM to 4 PM at the Botanical Gardens!  We'd love to build community with you! This will be a fantastic opportunity to build a social justice community on campus\, learn from social justice practitioners\, and dig deeper into your own passion and leadership goals. Please forward this opportunity to your networks and invite a friend to apply and come along with you! Check out the whole newsletter for some amazing Social Justice opportunities within CASC and around campus. Apply here: https://docs.google.com/forms/d/e/1FAIpQLSc-Xf5q0ulDQvmHwnzaQyIMKJqwYX2h6Djko6URxUgT4GYj2Q/viewform?usp=sf_link
UID:99184-21797677@events.umich.edu
URL:https://events.umich.edu/event/99184
CLASS:PUBLIC
STATUS:CONFIRMED
CATEGORIES:Activism,activist,advocacy,Community,community activism,Community Engagement,Community Organzing,Community Service,Discussion,Diversity,Diversity Equity and Inclusion,Environment,Food,Free,Inclusion,Interdisciplinary,Leadership,Mindfulness,Multicultural,Networking,Outdoors,school of social work,Social Impact,Social Justice,Social Work,Sustainability,Undergraduate,Undergraduate Students,Workshop
LOCATION:Matthaei Botanical Gardens
CONTACT:
END:VEVENT
BEGIN:VEVENT
DTSTAMP:20220818T100608
DTSTART;TZID=America/Detroit:20221002T100000
DTEND;TZID=America/Detroit:20221002T120000
SUMMARY:Ceremony / Service:Sunday Celebration
DESCRIPTION:The school year is about to begin! No matter your background\, join us in kicking off this season with new expectations and hope.\n\nJoin us at 10AM every Sunday to experience church in a fresh way as we worship and seek God together. We meet at the Transformation Center (1001 E. Huron St.) which is located across the street from the Rackham Auditorium and the Power Center.\n\nCurious? Check out our website at https://annarbor.hmcc.net/ to learn more about who we are and what we value.
UID:96832-21793815@events.umich.edu
URL:https://events.umich.edu/event/96832
CLASS:PUBLIC
STATUS:CONFIRMED
CATEGORIES:christian,christianity,church,faith,religious,spiritual,welcome week
LOCATION:Off Campus Location
CONTACT:
END:VEVENT
BEGIN:VEVENT
DTSTAMP:20221011T103536
DTSTART;TZID=America/Detroit:20221002T110000
DTEND;TZID=America/Detroit:20221002T111500
SUMMARY:Presentation:Science Forum Demo
DESCRIPTION:Join us in the Science Forum for a 15-20 minute engaging science demonstration that will help you see the world in a whole new way. Demonstrations are free and appropriate for visitors ages 5 and above. Schedule subject to change.\n\nShedding Light on Magnets\nWhat makes a magnet magnetic? Why do they stick together? Join us as we explore magnetism\, magnetic fields\, and even what that has to do with your cell phone. We will highlight how researchers use light to study the magnetism of new materials. \n\nMade possible by a grant from the National Science Foundation.
UID:95985-21796790@events.umich.edu
URL:https://events.umich.edu/event/95985
CLASS:PUBLIC
STATUS:CONFIRMED
CATEGORIES:Children,Family,Free,Museum,Natural Sciences,Science
LOCATION:Museum of Natural History
CONTACT:
END:VEVENT
BEGIN:VEVENT
DTSTAMP:20260210T142109
DTSTART;TZID=America/Detroit:20221002T113000
DTEND;TZID=America/Detroit:20221002T121500
SUMMARY:Presentation:Expedition Reef
DESCRIPTION:Learn the secrets of the “rainforests of the sea” as you embark on an oceanic safari of the world’s most vibrant—and endangered—marine ecosystems. Expedition Reef immerses you in an undersea adventure. Along the way\, discover how corals grow\, feed\, reproduce\, and support over 25% of all marine life on Earth.\n\nThe state-of-the-art Planetarium & Dome Theater at the U-M Museum of Natural History transports visitors beyond distant stars and back in time from the comfort of reclining seats. Tickets $8. Tickets are available on the day of the show at the Museum Store.
UID:95986-21796814@events.umich.edu
URL:https://events.umich.edu/event/95986
CLASS:PUBLIC
STATUS:CONFIRMED
CATEGORIES:natural history museum,Natural Sciences
LOCATION:Museum of Natural History
CONTACT:
END:VEVENT
BEGIN:VEVENT
DTSTAMP:20221109T141417
DTSTART;TZID=America/Detroit:20221002T123000
DTEND;TZID=America/Detroit:20221002T131500
SUMMARY:Presentation:Sky Tonight
DESCRIPTION:A live presentation on what to find in the sky tonight and for the coming few weeks. This presentation includes how to find the cardinal directions on your own by finding the North Star\, current and upcoming constellations\, visible planets\, a few deep sky objects depending on the season\, and other interesting astronomical visualizations. If you want to be able to look up from your own backyard and know what to look for\, this is the show for you.\n\nThe state-of-the-art Planetarium & Dome Theater at the U-M Museum of Natural History transports visitors beyond distant stars and back in time from the comfort of reclining seats. Tickets $8. Tickets are available on the day of the show at the Museum Store.\n\nThe planetarium is operating at half capacity to maximize distancing between viewers.
UID:91230-21796858@events.umich.edu
URL:https://events.umich.edu/event/91230
CLASS:PUBLIC
STATUS:CONFIRMED
CATEGORIES:Astronomy,Natural Sciences,Science
LOCATION:Museum of Natural History
CONTACT:
END:VEVENT
BEGIN:VEVENT
DTSTAMP:20221002T121700
DTSTART;TZID=America/Detroit:20221002T130000
SUMMARY:Sporting Event:Field Hockey vs Ball State
DESCRIPTION:Field Hockey vs Ball State
UID:95829-21791036@events.umich.edu
URL:https://events.umich.edu/event/95829
CLASS:PUBLIC
STATUS:CONFIRMED
CATEGORIES:Athletics,Athletics - Field Hockey
LOCATION:Off Campus Location
CONTACT:
END:VEVENT
BEGIN:VEVENT
DTSTAMP:20221002T120025
DTSTART;TZID=America/Detroit:20221002T130000
DTEND;TZID=America/Detroit:20221002T153000
SUMMARY:Other:Game @ Western Michigan University
DESCRIPTION:Away game between Michigan and Western Michigan University
UID:96196-21792013@events.umich.edu
URL:https://events.umich.edu/event/96196
CLASS:PUBLIC
STATUS:CONFIRMED
CATEGORIES:
LOCATION:Western Michigan University
CONTACT:
END:VEVENT
BEGIN:VEVENT
DTSTAMP:20220808T121623
DTSTART;TZID=America/Detroit:20221002T130000
SUMMARY:Sporting Event:Men's Soccer vs Indiana
DESCRIPTION:Men's Soccer vs Indiana
UID:95854-21791196@events.umich.edu
URL:https://events.umich.edu/event/95854
CLASS:PUBLIC
STATUS:CONFIRMED
CATEGORIES:Athletics,Athletics - Men's Soccer
LOCATION:U-M Soccer Stadium
CONTACT:
END:VEVENT
BEGIN:VEVENT
DTSTAMP:20220912T132709
DTSTART;TZID=America/Detroit:20221002T133000
DTEND;TZID=America/Detroit:20221002T141500
SUMMARY:Presentation:Tales of the Maya Skies
DESCRIPTION:Tales of the Maya Skies immerses viewers in the wonders of Maya science\, cosmology and myth. This beautifully illustrated story takes us back in time to the jungles of Mexico to discover how Mayan scholars developed a sophisticated understanding of astronomy\, architecture\, and mathematics that enabled them to predict solstices\, solar eclipses\, weather patterns and planetary movements.\n\nThe state-of-the-art Planetarium & Dome Theater at the U-M Museum of Natural History transports visitors beyond distant stars and back in time from the comfort of reclining seats. Tickets $8. Tickets are available on the day of the show at the Museum Store.\n\nThe planetarium is operating at half capacity to maximize distancing between viewers.
UID:95036-21796828@events.umich.edu
URL:https://events.umich.edu/event/95036
CLASS:PUBLIC
STATUS:CONFIRMED
CATEGORIES:Astronomy,Museum,Natural Sciences,Science
LOCATION:Museum of Natural History
CONTACT:
END:VEVENT
BEGIN:VEVENT
DTSTAMP:20220928T181512
DTSTART;TZID=America/Detroit:20221002T140000
SUMMARY:Performance:Moscow Moscow Moscow Moscow Moscow Moscow
DESCRIPTION:It's Chekhov's \"Three Sisters\" for the Fleabag generation. A deftly comedic (and undisputedly raunchy) exploration of unchecked privilege. \nWritten by Halley Feiffer. Directed by Ryan Dobrin.\n\nFOR AGES 17+. contains suicidal ideation/mental illness\; physical violence\; homophobic language\; depicted sexual content\; foul language\; misogyny\; alcohol abuse
UID:95733-21790816@events.umich.edu
URL:https://events.umich.edu/event/95733
CLASS:PUBLIC
STATUS:CONFIRMED
CATEGORIES:North Campus,Theater
LOCATION:Walgreen Drama Center - Arthur Miller Theatre
CONTACT:
END:VEVENT
BEGIN:VEVENT
DTSTAMP:20221109T141417
DTSTART;TZID=America/Detroit:20221002T143000
DTEND;TZID=America/Detroit:20221002T151500
SUMMARY:Presentation:Sky Tonight
DESCRIPTION:A live presentation on what to find in the sky tonight and for the coming few weeks. This presentation includes how to find the cardinal directions on your own by finding the North Star\, current and upcoming constellations\, visible planets\, a few deep sky objects depending on the season\, and other interesting astronomical visualizations. If you want to be able to look up from your own backyard and know what to look for\, this is the show for you.\n\nThe state-of-the-art Planetarium & Dome Theater at the U-M Museum of Natural History transports visitors beyond distant stars and back in time from the comfort of reclining seats. Tickets $8. Tickets are available on the day of the show at the Museum Store.\n\nThe planetarium is operating at half capacity to maximize distancing between viewers.
UID:91230-21796872@events.umich.edu
URL:https://events.umich.edu/event/91230
CLASS:PUBLIC
STATUS:CONFIRMED
CATEGORIES:Astronomy,Natural Sciences,Science
LOCATION:Museum of Natural History
CONTACT:
END:VEVENT
BEGIN:VEVENT
DTSTAMP:20221109T133538
DTSTART;TZID=America/Detroit:20221002T150000
DTEND;TZID=America/Detroit:20221002T151500
SUMMARY:Lecture / Discussion:Science Forum Demos
DESCRIPTION:Take a journey through deep time as we explore a story that has taken millions of years to unfold\, and then examine a brand new discovery! Where did life begin? How did the first four-footed land animals emerge? And why do fossil whales have feet? Participants examine the museum’s fossil whales and related species as they learn about the evolutionary processes responsible for the diversity of life on earth.\n\nJoin us in the Science Forum for this 15-20 minute engaging science demonstration that will help you see the world in a whole new way. Demonstrations are free and appropriate for visitors ages 5 and above. Schedule subject to change.
UID:98531-21796798@events.umich.edu
URL:https://events.umich.edu/event/98531
CLASS:PUBLIC
STATUS:CONFIRMED
CATEGORIES:Free,Museum,Natural Sciences,Science
LOCATION:Museum of Natural History
CONTACT:
END:VEVENT
BEGIN:VEVENT
DTSTAMP:20221002T121700
DTSTART;TZID=America/Detroit:20221002T160000
SUMMARY:Sporting Event:Men's Soccer vs Indiana
DESCRIPTION:Men's Soccer vs Indiana
UID:96653-21793016@events.umich.edu
URL:https://events.umich.edu/event/96653
CLASS:PUBLIC
STATUS:CONFIRMED
CATEGORIES:Athletics,Athletics - Men's Soccer
LOCATION:U-M Soccer Stadium
CONTACT:
END:VEVENT
BEGIN:VEVENT
DTSTAMP:20220927T164036
DTSTART;TZID=America/Detroit:20221002T180000
DTEND;TZID=America/Detroit:20221002T200000
SUMMARY:Social / Informal Gathering:METS Pizza Night
DESCRIPTION:Join other new engineering transfer students for classic pizza at this campus landmark\, The Original Cottage Inn. Arrive between 6-6:30pm for good food\, conversation and connections\, advice and perspective. RSVP Required! rsvp link was emailed to you Tues\, Sept 27
UID:99397-21798162@events.umich.edu
URL:https://events.umich.edu/event/99397
CLASS:PUBLIC
STATUS:CONFIRMED
CATEGORIES:Engineering,Mets,Transfer Students
LOCATION:Off Campus Location
CONTACT:
END:VEVENT
BEGIN:VEVENT
DTSTAMP:20221002T180013
DTSTART;TZID=America/Detroit:20221002T190000
DTEND;TZID=America/Detroit:20221002T210000
SUMMARY:Other:University of Michigan Women’s Ice Hockey at Adrian College
DESCRIPTION:Away
UID:97680-21794952@events.umich.edu
URL:https://events.umich.edu/event/97680
CLASS:PUBLIC
STATUS:CONFIRMED
CATEGORIES:
LOCATION:Arrington Ice Arena
CONTACT:
END:VEVENT
END:VCALENDAR