BEGIN:VCALENDAR
VERSION:2.0
PRODID:-//UM//UM*Events//EN
CALSCALE:GREGORIAN
BEGIN:VTIMEZONE
TZID:America/Detroit
TZURL:http://tzurl.org/zoneinfo/America/Detroit
X-LIC-LOCATION:America/Detroit
BEGIN:DAYLIGHT
TZOFFSETFROM:-0500
TZOFFSETTO:-0400
TZNAME:EDT
DTSTART:20070311T020000
RRULE:FREQ=YEARLY;BYMONTH=3;BYDAY=2SU
END:DAYLIGHT
BEGIN:STANDARD
TZOFFSETFROM:-0400
TZOFFSETTO:-0500
TZNAME:EST
DTSTART:20071104T020000
RRULE:FREQ=YEARLY;BYMONTH=11;BYDAY=1SU
END:STANDARD
END:VTIMEZONE
BEGIN:VEVENT
DTSTAMP:20221017T060015
DTSTART;TZID=America/Detroit:20221016T000000
DTEND;TZID=America/Detroit:20221016T235959
SUMMARY:Sporting Event:David Lee Arnoff
DESCRIPTION:ICSA Fleet Race Dingy Regatta
UID:99225-21797741@events.umich.edu
URL:https://events.umich.edu/event/99225
CLASS:PUBLIC
STATUS:CONFIRMED
CATEGORIES:
LOCATION:Hobart and William Smith, Geneva, NY
CONTACT:
END:VEVENT
BEGIN:VEVENT
DTSTAMP:20221016T120024
DTSTART;TZID=America/Detroit:20221016T000000
DTEND;TZID=America/Detroit:20221016T235959
SUMMARY:Sporting Event:East Regional
DESCRIPTION:East regional polo tournament
UID:99796-21798697@events.umich.edu
URL:https://events.umich.edu/event/99796
CLASS:PUBLIC
STATUS:CONFIRMED
CATEGORIES:
LOCATION:East kentwood high school
CONTACT:
END:VEVENT
BEGIN:VEVENT
DTSTAMP:20221017T180026
DTSTART;TZID=America/Detroit:20221016T000000
DTEND;TZID=America/Detroit:20221016T235959
SUMMARY:Other:Fall Break Dual Match
DESCRIPTION:Dual Match with Vanderbilt University
UID:99781-21798678@events.umich.edu
URL:https://events.umich.edu/event/99781
CLASS:PUBLIC
STATUS:CONFIRMED
CATEGORIES:
LOCATION:Vanderbilt University
CONTACT:
END:VEVENT
BEGIN:VEVENT
DTSTAMP:20221017T180027
DTSTART;TZID=America/Detroit:20221016T000000
DTEND;TZID=America/Detroit:20221016T235959
SUMMARY:Other:Fall Break MTB Trip
DESCRIPTION:trip up to copper harbor over fall break
UID:100023-21799004@events.umich.edu
URL:https://events.umich.edu/event/100023
CLASS:PUBLIC
STATUS:CONFIRMED
CATEGORIES:
LOCATION:Zach&#039;s Cabin
CONTACT:
END:VEVENT
BEGIN:VEVENT
DTSTAMP:20230324T120005
DTSTART;TZID=America/Detroit:20221016T000000
DTEND;TZID=America/Detroit:20221016T235959
SUMMARY:Community Service:Homework Help at The Children's Center
DESCRIPTION:The Homework Help program offers children assistance with their homework assignments. Children are encouraged to bring homework and are paired with a volunteer to assist them. This program is a critical service in helping children thrive. Volunteers give children the tools they need to be successful in school.Virtual and in-person volunteer opportunities are available. If you would like to volunteer\, please start the enrollment process by creating an account on the Children Center's Volunteer Site found HERE. After your account is created\, the Children's Center will reach out to you within 2 business days to answer any questions and discuss the next steps.In accordance with the CMS Vaccine Mandate\, those volunteering in-person at the Children’s Center are required to be fully vaccinated and must provide proof of full vaccination upon request.
UID:93885-21787974@events.umich.edu
URL:https://events.umich.edu/event/93885
CLASS:PUBLIC
STATUS:CONFIRMED
CATEGORIES:
LOCATION:The Children&#039;s Center 
CONTACT:
END:VEVENT
BEGIN:VEVENT
DTSTAMP:20220927T085223
DTSTART;TZID=America/Detroit:20221016T000000
DTEND;TZID=America/Detroit:20221016T235900
SUMMARY:Workshop / Seminar:PNC Student Banking Spotlight Series Videos: Julien and Kiersten Saunders of rich & REGULAR®
DESCRIPTION:PNC’s Spotlight Series features four short videos from Julien and Kiersten Saunders of rich & REGULAR®\, who share their top tips for students on investing\, saving\, protecting yourself from fraud\, and using credit responsibly.  Watch the pre-recorded videos at your convenience.
UID:99374-21797954@events.umich.edu
URL:https://events.umich.edu/event/99374
CLASS:PUBLIC
STATUS:CONFIRMED
CATEGORIES:Business,Graduate Students,Transfer Students,Undergraduate,Virtual,Workshop
LOCATION:Off Campus Location
CONTACT:
END:VEVENT
BEGIN:VEVENT
DTSTAMP:20220829T182332
DTSTART;TZID=America/Detroit:20221016T000000
DTEND;TZID=America/Detroit:20221016T230000
SUMMARY:Exhibition:To Be Heard: Public Mural Project
DESCRIPTION:To Be Heard at the University of Michigan is a public mural project and exhibition by Brooklyn-based street artist\, painter\, and activist Tatyana Fazlalizadeh.\n\nThe public murals will be displayed on Angell Hall\, Shapiro Undergraduate Library\, Trotter Multicultural Center\, and MLB.\n\nThe public mural component utilizes community engagement\, public art\, and social practice to listen to and amplify the voices of marginalized groups\, particularly women and non-white students at the University of Michigan. Through class workshops and interviews\, Fazlalizadeh will engage with Black and brown\, queer\, and women-identified students on the ways that they experience race and gender on campus\, exploring how students are treated based on their identities. The engagement will culminate in public art installation across campus using drawings and photos to present the experiences and stories from these students back to the public.\n\nAbout the Exhibition\n*Pressed Against My Own Glass*\, exhibition\, September 15-October 21\, 2022. Location: Institute for the Humanities Gallery\, 202 S. Thayer.\n\nThe exhibition *Pressed Against My Own Glass* will be installed in the Institute for the Humanities Gallery. In this multimedia installation on Black womanhood within the home space\, Fazlalizadeh explores her childhood and adulthood within the domestic space and how it connects to the experiences of other Black women and those who had a girlhood. Using paintings\, drawings\, video\, and reappropriated home objects\, she examines her experiences of joy\, rest\, sadness\, and fellowship in the home. While doing so\, she makes connections to her Black women peers\, even those like Breonna Taylor and Atatiana Jefferson who show how racist violence is a threat to Black women even in their homes.
UID:97676-21794943@events.umich.edu
URL:https://events.umich.edu/event/97676
CLASS:PUBLIC
STATUS:CONFIRMED
CATEGORIES:African American,Art,Exhibition,Humanities,Social Justice,Visual Arts,Women's Studies
LOCATION:
CONTACT:
END:VEVENT
BEGIN:VEVENT
DTSTAMP:20221017T060019
DTSTART;TZID=America/Detroit:20221016T000000
DTEND;TZID=America/Detroit:20221016T235959
SUMMARY:Sporting Event:Women's ACTs
DESCRIPTION:ICSA Fleet Race Dingy Regatta
UID:99836-21798779@events.umich.edu
URL:https://events.umich.edu/event/99836
CLASS:PUBLIC
STATUS:CONFIRMED
CATEGORIES:
LOCATION:SUNY Maritime University, Bronx, NY
CONTACT:
END:VEVENT
BEGIN:VEVENT
DTSTAMP:20221006T121703
DTSTART;TZID=America/Detroit:20221016T040000
SUMMARY:Sporting Event:Ice Hockey vs Boston University
DESCRIPTION:Ice Hockey vs Boston University
UID:98698-21797086@events.umich.edu
URL:https://events.umich.edu/event/98698
CLASS:PUBLIC
STATUS:CONFIRMED
CATEGORIES:Athletics,Athletics - Ice Hockey
LOCATION:Off Campus Location
CONTACT:
END:VEVENT
BEGIN:VEVENT
DTSTAMP:20221004T101739
DTSTART;TZID=America/Detroit:20221016T080000
DTEND;TZID=America/Detroit:20221016T235900
SUMMARY:Film Screening:Halaloween: A Muslim Horror Film Festival
DESCRIPTION:Welcome to Halaloween: A Muslim Film Festival 2022\n \nWhat's Halaloween? Halaloween screens horror films from across the globe that were made by\, for\, or about Muslims with the hopes of understanding “What scares Muslim audiences? Are horror movies halal?”\n \nThis year’s 2022 festival will be both in person and online\, screening one film a week during the month of October\, and ending with an in-person screening at the State Theater\, Friday\, October 28\, 2022\, at 7:00 PM. Each online screening will be available to watch for a week\, all screenings are free. \n \nThe 2022 Halaloween Lineup:\n \n* October 6: Roh | 2019 | Malaysia\n* October 13: Beddua: The Curse | 2018 | Turkey\n* October 20: Satan’s Slaves | 2017 | Indonesia\n* October 28: Saloum | 2021 | Senegal (this screening will be in person at the State Theater)\n \nWe'll wrap up the month of October with a live panel discussion on Muslim Horror\, the use of Islam and the Quran\, and how each region differs in its creation of horror films. Stay tuned for the 2022 lineup of films and an announcement on the Muslim Horror Panel discussion!\nMore info: watch.eventive.org/halaloween\n__________________\nTHIS WEEK’S FEATURE\nFrom Oct 13th to the 20th\, stream the Turkish horror film Beddua: The Curse | Üç Harfliler: Beddua on demand at watch.eventive.org/halaloween. Pre-order the film anytime\, and check out the rest of the months Halaloween Horror selection!\n \n2018 | 90 minutes | Turkish | Turkey\nDirected by:  Alper Mestçi\n \nHalaloween Horror Rating 2/5 \nRating explanation: Female-centered folk horror and psychological thriller. Contains violence\, bullying\, misogyny\, body horror\, and witches. \nReligious content: This film invokes Turkish cultural and gender mores on marriage\, relationships\, and women that intersect with Islam.\n \nMelek\, Burcu\, Eda and Ayla are four high school friends. Even though years have passed since their graduation\, they are still friends. Their lives will change completely after they meet a shaman woman named Havel\, and their lives dramatically change.\n__________________\n \nHalaloween is brought to you by the Global Islamic Studies Center and cosponsored by the Middle Eastern Studies Department\, the Center for Middle Eastern and North African Studies\, the Digital Islamic Studies Curriculum\, the African Studies Center\, Department of Communication and Media\, The Department of Film\, Television\, and Media\, American Culture\, the Center for Southeast Asian Studies\, the Center for South Asian Studies\, Department of Afroamerican and African Studies\, Arab and Muslim American Studies\, Asian Languages and Cultures\,  the Center for Arab American Studies at UM-Dearborn\, and Shudder.\n \nVisit http://watch.eventive.org/halaloween for more details.\n \n \nLove Horror Films? Shudder streams the best in new independent and international horror. Try Shudder free for 14 days with promo code HALALOWEEN2022 when you sign up at Shudder.com.\n \nWant to hear about similar events from U-M Islamic Studies? Sign up for the GISC Newsletter (https://myumi.ch/nbW83)! We send out a monthly newsletter in collaboration with the Center for Middle Eastern and North African Studies\, and the Digital Islamic Studies Curriculum.\n \nStay updated on our upcoming events by following our socials here:\n \nFacebook: UmichGISC\nhttps://www.facebook.com/UmichGISC/\n \nTwitter: @umichgisc\nhttps://twitter.com/umichGISC\n \nIf you have any questions\, feel free to reach out to islamicstudies@umich.edu.
UID:99800-21798711@events.umich.edu
URL:https://events.umich.edu/event/99800
CLASS:PUBLIC
STATUS:CONFIRMED
CATEGORIES:Film,Global Islamic Studies,Halaloween
LOCATION:Off Campus Location
CONTACT:
END:VEVENT
BEGIN:VEVENT
DTSTAMP:20220809T173135
DTSTART;TZID=America/Detroit:20221016T080000
DTEND;TZID=America/Detroit:20221016T190000
SUMMARY:Exhibition:Places & Spaces: Mapping Science and A Brief History of Information Graphics
DESCRIPTION:The Places & Spaces: Mapping Science exhibit introduces science mapping techniques and data visualization to the general public and to experts across diverse disciplines\, and we hope inspires cross-disciplinary discussion on how to best track and communicate scholarly activity and scientific progress on a global scale. The exhibit includes a macroscope which showcases interactive visualizations that demonstrate the impact of different data cleaning\, analysis\, and visualization algorithms.\n\nThe Places & Spaces exhibit is curated by the Cyberinfrastructure for Network Science Center at Indiana University. The complementary exhibit\, A Brief History of Information Graphics\, was created by Clark Library staff to provide an historical context to the Places and Spaces exhibit.
UID:96720-21793167@events.umich.edu
URL:https://events.umich.edu/event/96720
CLASS:PUBLIC
STATUS:CONFIRMED
CATEGORIES:Free,Library,Maps
LOCATION:Hatcher Graduate Library - Clark Library (2nd floor)
CONTACT:
END:VEVENT
BEGIN:VEVENT
DTSTAMP:20220930T132239
DTSTART;TZID=America/Detroit:20221016T080000
DTEND;TZID=America/Detroit:20221016T230000
SUMMARY:Class / Instruction:Semester in Detroit Application Open!
DESCRIPTION:Semester in Detroit uses the MCompass system for applications. All applications are accepted on a rolling basis\, which means that the earlier you apply\, the better chance you have of getting in. \n\nApplication Due Dates:\n1/31/23 for the spring 2023 program\n\nProgram Eligibility:\nThe Semester in Detroit spring/summer and fall programs accept undergraduate students from all schools and departments at the University of Michigan-Ann Arbor. All students\, from First years to Seniors or Super Seniors are eligible to apply.\n\nStudents from Grand Valley State University\, UM-Dearborn\, and UM-Flint are eligible to apply for fall programs only. The same application eligibility applies to GVSU\, Dearborn\, and Flint students (all departments\, all class standings). \n\nApplicants should have a strong interest in the city of Detroit and in questioning dominant narratives\; engaging with challenging new perspectives on contemporary issues\; and building community with one another\, SiD faculty and staff\, and community members at internship sites and beyond.\n\nQuestions?\nEmail semesterindetroit@umich.edu.
UID:99614-21798423@events.umich.edu
URL:https://events.umich.edu/event/99614
CLASS:PUBLIC
STATUS:CONFIRMED
CATEGORIES:Activism,Advocacy,civil rights,Community Engagement,Community Organzing,Community-based Learning,detroit,Diversity Equity and Inclusion,Education
LOCATION:
CONTACT:
END:VEVENT
BEGIN:VEVENT
DTSTAMP:20221003T125034
DTSTART;TZID=America/Detroit:20221016T080000
DTEND;TZID=America/Detroit:20221016T190000
SUMMARY:Exhibition:The Dance for Mother Earth Powwow
DESCRIPTION:This exhibit features various aspects of the Native North American powwow. More specifically\, it features the history and culture behind Ann Arbor’s \"Dance for Mother Earth Powwow\,\" which is approaching its much-anticipated 50th celebration.\n\nThe Dance for Mother Earth Powwow is a multi-decade\, intertribal celebration of Indigenous cultures. It grew from its early beginnings as a small gathering in a field just outside of Ann Arbor into one of the largest student-led powwows in North America. The event attracts crowds of thousands — dancers\, singers\, artists\, tribal members from across the country\, and non-Indigenous members of the community.\n\nStop by to learn more about The Dance for Mother Earth Powwow\, modern Indigenous culture\, and resources to connect to today on campus.\n\nThis exhibition was curated by Michigan Library Scholar interns\, Allison Jiang and Andrea Medina. The Michigan Library Scholars internship program provides undergraduate students with the opportunity to research and develop a capstone project under the guidance of experienced library professionals at one of the largest academic research libraries in the world.
UID:96225-21792134@events.umich.edu
URL:https://events.umich.edu/event/96225
CLASS:PUBLIC
STATUS:CONFIRMED
CATEGORIES:Exhibition,Free,Library,Native American
LOCATION:Hatcher Graduate Library - North Lobby (just off the Diag)
CONTACT:
END:VEVENT
BEGIN:VEVENT
DTSTAMP:20221016T181855
DTSTART;TZID=America/Detroit:20221016T090000
SUMMARY:Sporting Event:Rowing vs Ohio State
DESCRIPTION:Rowing vs Ohio State
UID:99890-21798849@events.umich.edu
URL:https://events.umich.edu/event/99890
CLASS:PUBLIC
STATUS:CONFIRMED
CATEGORIES:Athletics,Athletics - Rowing
LOCATION:Michigan Boathouse
CONTACT:
END:VEVENT
BEGIN:VEVENT
DTSTAMP:20220817T172747
DTSTART;TZID=America/Detroit:20221016T100000
DTEND;TZID=America/Detroit:20221016T235900
SUMMARY:Recreational / Games:Intramural Sports Registration: Fall B
DESCRIPTION:Sign up with a team or join as a free agent!\n\nRegular Season: September 11 – September 29\nPlayoffs: October 2 – October 13\n\nSports Offered:\n-3 v 3 Basketball\n-Dodgeball\n-Wallyball\n-3 v 3 Wheelchair Basketball\n-Pickleball\n-Badminton\n\nRegister Here: https://webstore.recsports.umich.edu/
UID:97039-21793738@events.umich.edu
URL:https://events.umich.edu/event/97039
CLASS:PUBLIC
STATUS:CONFIRMED
CATEGORIES:Games,Outdoors,Rec Sports,Well-being
LOCATION:
CONTACT:
END:VEVENT
BEGIN:VEVENT
DTSTAMP:20220818T100608
DTSTART;TZID=America/Detroit:20221016T100000
DTEND;TZID=America/Detroit:20221016T120000
SUMMARY:Ceremony / Service:Sunday Celebration
DESCRIPTION:The school year is about to begin! No matter your background\, join us in kicking off this season with new expectations and hope.\n\nJoin us at 10AM every Sunday to experience church in a fresh way as we worship and seek God together. We meet at the Transformation Center (1001 E. Huron St.) which is located across the street from the Rackham Auditorium and the Power Center.\n\nCurious? Check out our website at https://annarbor.hmcc.net/ to learn more about who we are and what we value.
UID:96832-21793817@events.umich.edu
URL:https://events.umich.edu/event/96832
CLASS:PUBLIC
STATUS:CONFIRMED
CATEGORIES:christian,christianity,church,faith,religious,spiritual,welcome week
LOCATION:Off Campus Location
CONTACT:
END:VEVENT
BEGIN:VEVENT
DTSTAMP:20221011T103536
DTSTART;TZID=America/Detroit:20221016T110000
DTEND;TZID=America/Detroit:20221016T111500
SUMMARY:Presentation:Science Forum Demo
DESCRIPTION:Join us in the Science Forum for a 15-20 minute engaging science demonstration that will help you see the world in a whole new way. Demonstrations are free and appropriate for visitors ages 5 and above. Schedule subject to change.\n\nShedding Light on Magnets\nWhat makes a magnet magnetic? Why do they stick together? Join us as we explore magnetism\, magnetic fields\, and even what that has to do with your cell phone. We will highlight how researchers use light to study the magnetism of new materials. \n\nMade possible by a grant from the National Science Foundation.
UID:95985-21796793@events.umich.edu
URL:https://events.umich.edu/event/95985
CLASS:PUBLIC
STATUS:CONFIRMED
CATEGORIES:Children,Family,Free,Museum,Natural Sciences,Science
LOCATION:Museum of Natural History
CONTACT:
END:VEVENT
BEGIN:VEVENT
DTSTAMP:20260210T142109
DTSTART;TZID=America/Detroit:20221016T113000
DTEND;TZID=America/Detroit:20221016T121500
SUMMARY:Presentation:Expedition Reef
DESCRIPTION:Learn the secrets of the “rainforests of the sea” as you embark on an oceanic safari of the world’s most vibrant—and endangered—marine ecosystems. Expedition Reef immerses you in an undersea adventure. Along the way\, discover how corals grow\, feed\, reproduce\, and support over 25% of all marine life on Earth.\n\nThe state-of-the-art Planetarium & Dome Theater at the U-M Museum of Natural History transports visitors beyond distant stars and back in time from the comfort of reclining seats. Tickets $8. Tickets are available on the day of the show at the Museum Store.
UID:95986-21796816@events.umich.edu
URL:https://events.umich.edu/event/95986
CLASS:PUBLIC
STATUS:CONFIRMED
CATEGORIES:natural history museum,Natural Sciences
LOCATION:Museum of Natural History
CONTACT:
END:VEVENT
BEGIN:VEVENT
DTSTAMP:20220916T115611
DTSTART;TZID=America/Detroit:20221016T120000
DTEND;TZID=America/Detroit:20221016T150000
SUMMARY:Other:Family Day | Trade Throughout the Ancient Mediterranean
DESCRIPTION:Grab your Kelsey Passport Book and join us on a journey through time as we explore trade in the ancient Mediterranean. Discover the routes traders took\, over land and sea. Explore a Graeco-Roman marketplace and learn how money was used in the ancient world. There will be plenty of hands-on activities for kids of all ages\, as well as docent-led tours of the galleries. Don't miss this unique event that is fun for the whole family.
UID:97220-21794153@events.umich.edu
URL:https://events.umich.edu/event/97220
CLASS:PUBLIC
STATUS:CONFIRMED
CATEGORIES:Archaeology,Children,Free,Museum
LOCATION:Kelsey Museum of Archaeology
CONTACT:
END:VEVENT
BEGIN:VEVENT
DTSTAMP:20221016T121652
DTSTART;TZID=America/Detroit:20221016T120000
SUMMARY:Sporting Event:Field Hockey vs Iowa
DESCRIPTION:Field Hockey vs Iowa
UID:95831-21791038@events.umich.edu
URL:https://events.umich.edu/event/95831
CLASS:PUBLIC
STATUS:CONFIRMED
CATEGORIES:Athletics,Athletics - Field Hockey
LOCATION:Off Campus Location
CONTACT:
END:VEVENT
BEGIN:VEVENT
DTSTAMP:20221109T141417
DTSTART;TZID=America/Detroit:20221016T123000
DTEND;TZID=America/Detroit:20221016T131500
SUMMARY:Presentation:Sky Tonight
DESCRIPTION:A live presentation on what to find in the sky tonight and for the coming few weeks. This presentation includes how to find the cardinal directions on your own by finding the North Star\, current and upcoming constellations\, visible planets\, a few deep sky objects depending on the season\, and other interesting astronomical visualizations. If you want to be able to look up from your own backyard and know what to look for\, this is the show for you.\n\nThe state-of-the-art Planetarium & Dome Theater at the U-M Museum of Natural History transports visitors beyond distant stars and back in time from the comfort of reclining seats. Tickets $8. Tickets are available on the day of the show at the Museum Store.\n\nThe planetarium is operating at half capacity to maximize distancing between viewers.
UID:91230-21796860@events.umich.edu
URL:https://events.umich.edu/event/91230
CLASS:PUBLIC
STATUS:CONFIRMED
CATEGORIES:Astronomy,Natural Sciences,Science
LOCATION:Museum of Natural History
CONTACT:
END:VEVENT
BEGIN:VEVENT
DTSTAMP:20221016T120026
DTSTART;TZID=America/Detroit:20221016T130000
DTEND;TZID=America/Detroit:20221016T153000
SUMMARY:Other:Game @ Michigan State University
DESCRIPTION:Away game between Michigan and Michigan State University
UID:96199-21792016@events.umich.edu
URL:https://events.umich.edu/event/96199
CLASS:PUBLIC
STATUS:CONFIRMED
CATEGORIES:
LOCATION:Michigan State University
CONTACT:
END:VEVENT
BEGIN:VEVENT
DTSTAMP:20221008T154151
DTSTART;TZID=America/Detroit:20221016T130000
DTEND;TZID=America/Detroit:20221016T143000
SUMMARY:Meeting:International Student Church Service
DESCRIPTION:Join us for our weekly church service for international students! We go through different chapters of the Bible each week in English and it is a chance to everyone of all backgrounds to come learn about Christianity\, ask questions about the Bible and just meet some new friends and have a nice lunch. \n\nCome check it out!\n\nWe meet weekly at:\n\n1:00 - 2:30PM\nMichigan Union\nPond Room
UID:100000-21798981@events.umich.edu
URL:https://events.umich.edu/event/100000
CLASS:PUBLIC
STATUS:CONFIRMED
CATEGORIES:Graduate Students,International
LOCATION:Michigan Union - Pond Room
CONTACT:
END:VEVENT
BEGIN:VEVENT
DTSTAMP:20220912T132709
DTSTART;TZID=America/Detroit:20221016T133000
DTEND;TZID=America/Detroit:20221016T141500
SUMMARY:Presentation:Tales of the Maya Skies
DESCRIPTION:Tales of the Maya Skies immerses viewers in the wonders of Maya science\, cosmology and myth. This beautifully illustrated story takes us back in time to the jungles of Mexico to discover how Mayan scholars developed a sophisticated understanding of astronomy\, architecture\, and mathematics that enabled them to predict solstices\, solar eclipses\, weather patterns and planetary movements.\n\nThe state-of-the-art Planetarium & Dome Theater at the U-M Museum of Natural History transports visitors beyond distant stars and back in time from the comfort of reclining seats. Tickets $8. Tickets are available on the day of the show at the Museum Store.\n\nThe planetarium is operating at half capacity to maximize distancing between viewers.
UID:95036-21796830@events.umich.edu
URL:https://events.umich.edu/event/95036
CLASS:PUBLIC
STATUS:CONFIRMED
CATEGORIES:Astronomy,Museum,Natural Sciences,Science
LOCATION:Museum of Natural History
CONTACT:
END:VEVENT
BEGIN:VEVENT
DTSTAMP:20220929T181512
DTSTART;TZID=America/Detroit:20221016T140000
SUMMARY:Performance:Sophisticated Ladies
DESCRIPTION:An exploration of the legendary music of Duke Ellington\, directed & choregraphed by Torya Beard (assistant director for the current revival of “Funny Girl” on Broadway) & Ayodele Casel (choreographer for the current revival of \"Funny Girl\" on Broadway). Music Direction by Maurice Draughn.
UID:95732-21790812@events.umich.edu
URL:https://events.umich.edu/event/95732
CLASS:PUBLIC
STATUS:CONFIRMED
CATEGORIES:Music,Theater
LOCATION:Lydia Mendelssohn Theatre
CONTACT:
END:VEVENT
BEGIN:VEVENT
DTSTAMP:20221109T141417
DTSTART;TZID=America/Detroit:20221016T143000
DTEND;TZID=America/Detroit:20221016T151500
SUMMARY:Presentation:Sky Tonight
DESCRIPTION:A live presentation on what to find in the sky tonight and for the coming few weeks. This presentation includes how to find the cardinal directions on your own by finding the North Star\, current and upcoming constellations\, visible planets\, a few deep sky objects depending on the season\, and other interesting astronomical visualizations. If you want to be able to look up from your own backyard and know what to look for\, this is the show for you.\n\nThe state-of-the-art Planetarium & Dome Theater at the U-M Museum of Natural History transports visitors beyond distant stars and back in time from the comfort of reclining seats. Tickets $8. Tickets are available on the day of the show at the Museum Store.\n\nThe planetarium is operating at half capacity to maximize distancing between viewers.
UID:91230-21796874@events.umich.edu
URL:https://events.umich.edu/event/91230
CLASS:PUBLIC
STATUS:CONFIRMED
CATEGORIES:Astronomy,Natural Sciences,Science
LOCATION:Museum of Natural History
CONTACT:
END:VEVENT
BEGIN:VEVENT
DTSTAMP:20221109T133538
DTSTART;TZID=America/Detroit:20221016T150000
DTEND;TZID=America/Detroit:20221016T151500
SUMMARY:Lecture / Discussion:Science Forum Demos
DESCRIPTION:Take a journey through deep time as we explore a story that has taken millions of years to unfold\, and then examine a brand new discovery! Where did life begin? How did the first four-footed land animals emerge? And why do fossil whales have feet? Participants examine the museum’s fossil whales and related species as they learn about the evolutionary processes responsible for the diversity of life on earth.\n\nJoin us in the Science Forum for this 15-20 minute engaging science demonstration that will help you see the world in a whole new way. Demonstrations are free and appropriate for visitors ages 5 and above. Schedule subject to change.
UID:98531-21796801@events.umich.edu
URL:https://events.umich.edu/event/98531
CLASS:PUBLIC
STATUS:CONFIRMED
CATEGORIES:Free,Museum,Natural Sciences,Science
LOCATION:Museum of Natural History
CONTACT:
END:VEVENT
BEGIN:VEVENT
DTSTAMP:20221016T181856
DTSTART;TZID=America/Detroit:20221016T170000
SUMMARY:Sporting Event:Ice Hockey vs Boston University
DESCRIPTION:Ice Hockey vs Boston University
UID:99940-21798914@events.umich.edu
URL:https://events.umich.edu/event/99940
CLASS:PUBLIC
STATUS:CONFIRMED
CATEGORIES:Athletics,Athletics - Ice Hockey
LOCATION:Off Campus Location
CONTACT:
END:VEVENT
BEGIN:VEVENT
DTSTAMP:20220913T121703
DTSTART;TZID=America/Detroit:20221016T190000
SUMMARY:Sporting Event:Ice Hockey vs Boston University
DESCRIPTION:Ice Hockey vs Boston University
UID:96141-21791957@events.umich.edu
URL:https://events.umich.edu/event/96141
CLASS:PUBLIC
STATUS:CONFIRMED
CATEGORIES:Athletics,Athletics - Ice Hockey
LOCATION:Off Campus Location
CONTACT:
END:VEVENT
BEGIN:VEVENT
DTSTAMP:20220921T134642
DTSTART;TZID=America/Detroit:20221016T200000
SUMMARY:Performance:Josh Ritter
DESCRIPTION:The Ark helped spread Josh Ritter’s name among Michigan audiences when he made a standout performance at the Ann Arbor Folk Festival in 2003\, and we’re proud that we\, along with Emmylou Harris and Paste magazine\, which named Josh one of the 100 greatest living songwriters in 2006\, spotted this monster talent in the making. Josh has gone on to record a dozen albums\, write a book\, tour with Jason Isbell\, and play much larger halls than The Ark. So it’s very special to us to invite Josh to perform at The Ark’s 2022 Fall Fundraiser\, solo\, in a rare small club appearance. He’s an entrancing performer\, a true master of the songwriter’s art.\n\n---\n\nJosh writes:\n\nHi everyone! I don’t know about you\, but for me this last year has had more than its fair share of long nights of the soul. Whether in song or prose or one of those weird creatures between\, I’ve returned to stories over and over again for sustenance and counsel and forgetting. I’ve also found myself dreaming of touring again\, being on stage\, performing my songs – my stories – like I did for so long before the world turned on its head. I’ve lived in those memories when I couldn’t be on stage in any other way. \n\nNow I get the chance to perform again. I’m so excited I almost can’t contain it. I want my first set of shows in a year and a half to be in places that will allow me sing some of the stranger\, quieter\, more narrative songs that I may not always get to at a rock show. I want the venues to be special and beautiful\; I want laughter and music and stories that are true even if they’re unreal. Finally\, I want to perform again\, stomp the dust off\, see what new appendages and teeth and claws have grown from this time in the wilderness\, see what joy can come from sorrow and what tears can come from joy. \n\nI’m so excited to see you again.\n\nRock on\,\nJosh
UID:99161-21797646@events.umich.edu
URL:https://events.umich.edu/event/99161
CLASS:PUBLIC
STATUS:CONFIRMED
CATEGORIES:Music,Mutotix
LOCATION:Off Campus Location
CONTACT:
END:VEVENT
END:VCALENDAR