BEGIN:VCALENDAR
VERSION:2.0
PRODID:-//UM//UM*Events//EN
CALSCALE:GREGORIAN
BEGIN:VTIMEZONE
TZID:America/Detroit
TZURL:http://tzurl.org/zoneinfo/America/Detroit
X-LIC-LOCATION:America/Detroit
BEGIN:DAYLIGHT
TZOFFSETFROM:-0500
TZOFFSETTO:-0400
TZNAME:EDT
DTSTART:20070311T020000
RRULE:FREQ=YEARLY;BYMONTH=3;BYDAY=2SU
END:DAYLIGHT
BEGIN:STANDARD
TZOFFSETFROM:-0400
TZOFFSETTO:-0500
TZNAME:EST
DTSTART:20071104T020000
RRULE:FREQ=YEARLY;BYMONTH=11;BYDAY=1SU
END:STANDARD
END:VTIMEZONE
BEGIN:VEVENT
DTSTAMP:20230324T120005
DTSTART;TZID=America/Detroit:20221029T000000
DTEND;TZID=America/Detroit:20221029T235959
SUMMARY:Community Service:Homework Help at The Children's Center
DESCRIPTION:The Homework Help program offers children assistance with their homework assignments. Children are encouraged to bring homework and are paired with a volunteer to assist them. This program is a critical service in helping children thrive. Volunteers give children the tools they need to be successful in school.Virtual and in-person volunteer opportunities are available. If you would like to volunteer\, please start the enrollment process by creating an account on the Children Center's Volunteer Site found HERE. After your account is created\, the Children's Center will reach out to you within 2 business days to answer any questions and discuss the next steps.In accordance with the CMS Vaccine Mandate\, those volunteering in-person at the Children’s Center are required to be fully vaccinated and must provide proof of full vaccination upon request.
UID:93885-21787987@events.umich.edu
URL:https://events.umich.edu/event/93885
CLASS:PUBLIC
STATUS:CONFIRMED
CATEGORIES:
LOCATION:The Children&#039;s Center 
CONTACT:
END:VEVENT
BEGIN:VEVENT
DTSTAMP:20221030T120019
DTSTART;TZID=America/Detroit:20221029T000000
DTEND;TZID=America/Detroit:20221029T235959
SUMMARY:Other:MASC Regional Tournament
DESCRIPTION:2-day tournament in Indianapolis
UID:100401-21799709@events.umich.edu
URL:https://events.umich.edu/event/100401
CLASS:PUBLIC
STATUS:CONFIRMED
CATEGORIES:
LOCATION:Sonesta Select Indianapolis
CONTACT:
END:VEVENT
BEGIN:VEVENT
DTSTAMP:20221030T000020
DTSTART;TZID=America/Detroit:20221029T000000
DTEND;TZID=America/Detroit:20221029T235959
SUMMARY:Other:Music City Head Race
DESCRIPTION:The Varsity chauffeur the Frosh to Nashville.
UID:100583-21800100@events.umich.edu
URL:https://events.umich.edu/event/100583
CLASS:PUBLIC
STATUS:CONFIRMED
CATEGORIES:
LOCATION:Nashville, TN
CONTACT:
END:VEVENT
BEGIN:VEVENT
DTSTAMP:20221031T060014
DTSTART;TZID=America/Detroit:20221029T000000
DTEND;TZID=America/Detroit:20221029T235959
SUMMARY:Sporting Event:Nickerson Trophy
DESCRIPTION:ICSA Fleet Race Dingy Regatta for First Year Sailors
UID:100350-21799636@events.umich.edu
URL:https://events.umich.edu/event/100350
CLASS:PUBLIC
STATUS:CONFIRMED
CATEGORIES:
LOCATION:Tufts University
CONTACT:
END:VEVENT
BEGIN:VEVENT
DTSTAMP:20220927T085223
DTSTART;TZID=America/Detroit:20221029T000000
DTEND;TZID=America/Detroit:20221029T235900
SUMMARY:Workshop / Seminar:PNC Student Banking Spotlight Series Videos: Julien and Kiersten Saunders of rich & REGULAR®
DESCRIPTION:PNC’s Spotlight Series features four short videos from Julien and Kiersten Saunders of rich & REGULAR®\, who share their top tips for students on investing\, saving\, protecting yourself from fraud\, and using credit responsibly.  Watch the pre-recorded videos at your convenience.
UID:99374-21797967@events.umich.edu
URL:https://events.umich.edu/event/99374
CLASS:PUBLIC
STATUS:CONFIRMED
CATEGORIES:Business,Graduate Students,Transfer Students,Undergraduate,Virtual,Workshop
LOCATION:Off Campus Location
CONTACT:
END:VEVENT
BEGIN:VEVENT
DTSTAMP:20221027T060017
DTSTART;TZID=America/Detroit:20221029T000000
DTEND;TZID=America/Detroit:20221029T235959
SUMMARY:Social / Informal Gathering:Star Wars Lightsaber Battle 
DESCRIPTION:Join us for a fun lightsaber fight at the Diag! Bring a lightsaber if you have one\, if not we have a few of them to borrow!
UID:100460-21799972@events.umich.edu
URL:https://events.umich.edu/event/100460
CLASS:PUBLIC
STATUS:CONFIRMED
CATEGORIES:
LOCATION:The Diag
CONTACT:
END:VEVENT
BEGIN:VEVENT
DTSTAMP:20220809T173135
DTSTART;TZID=America/Detroit:20221029T080000
DTEND;TZID=America/Detroit:20221029T190000
SUMMARY:Exhibition:Places & Spaces: Mapping Science and A Brief History of Information Graphics
DESCRIPTION:The Places & Spaces: Mapping Science exhibit introduces science mapping techniques and data visualization to the general public and to experts across diverse disciplines\, and we hope inspires cross-disciplinary discussion on how to best track and communicate scholarly activity and scientific progress on a global scale. The exhibit includes a macroscope which showcases interactive visualizations that demonstrate the impact of different data cleaning\, analysis\, and visualization algorithms.\n\nThe Places & Spaces exhibit is curated by the Cyberinfrastructure for Network Science Center at Indiana University. The complementary exhibit\, A Brief History of Information Graphics\, was created by Clark Library staff to provide an historical context to the Places and Spaces exhibit.
UID:96720-21793180@events.umich.edu
URL:https://events.umich.edu/event/96720
CLASS:PUBLIC
STATUS:CONFIRMED
CATEGORIES:Free,Library,Maps
LOCATION:Hatcher Graduate Library - Clark Library (2nd floor)
CONTACT:
END:VEVENT
BEGIN:VEVENT
DTSTAMP:20221003T125034
DTSTART;TZID=America/Detroit:20221029T080000
DTEND;TZID=America/Detroit:20221029T190000
SUMMARY:Exhibition:The Dance for Mother Earth Powwow
DESCRIPTION:This exhibit features various aspects of the Native North American powwow. More specifically\, it features the history and culture behind Ann Arbor’s \"Dance for Mother Earth Powwow\,\" which is approaching its much-anticipated 50th celebration.\n\nThe Dance for Mother Earth Powwow is a multi-decade\, intertribal celebration of Indigenous cultures. It grew from its early beginnings as a small gathering in a field just outside of Ann Arbor into one of the largest student-led powwows in North America. The event attracts crowds of thousands — dancers\, singers\, artists\, tribal members from across the country\, and non-Indigenous members of the community.\n\nStop by to learn more about The Dance for Mother Earth Powwow\, modern Indigenous culture\, and resources to connect to today on campus.\n\nThis exhibition was curated by Michigan Library Scholar interns\, Allison Jiang and Andrea Medina. The Michigan Library Scholars internship program provides undergraduate students with the opportunity to research and develop a capstone project under the guidance of experienced library professionals at one of the largest academic research libraries in the world.
UID:96225-21798602@events.umich.edu
URL:https://events.umich.edu/event/96225
CLASS:PUBLIC
STATUS:CONFIRMED
CATEGORIES:Exhibition,Free,Library,Native American
LOCATION:Hatcher Graduate Library - North Lobby
CONTACT:
END:VEVENT
BEGIN:VEVENT
DTSTAMP:20221113T063056
DTSTART;TZID=America/Detroit:20221029T100000
SUMMARY:Careers / Jobs:Walt Disney World Resort Character Auditions!
DESCRIPTION:Disney Live Entertainment is seeking performers for character roles! Candidates should be outgoing\, energetic and enthusiastic. Character performers appear before thousands of guests each day in meet and greets across Walt Disney World Resort. HEIGHT RANGE BETWEEN 4'8\"-5'\n\nDisney's Animal Kingdom-Rehearsal Facility \n3271 Sherberth  Road\, Kissimmee\, FL 34747\n\nFor full details\, please visit: DISNEYAUDITIONS.COM
UID:99984-21798964@events.umich.edu
URL:https://events.umich.edu/event/99984
CLASS:PUBLIC
STATUS:CONFIRMED
CATEGORIES:
LOCATION:3271 Sherberth Road, Kissimmee, Florida 34747, United States
CONTACT:
END:VEVENT
BEGIN:VEVENT
DTSTAMP:20221026T174615
DTSTART;TZID=America/Detroit:20221029T103000
DTEND;TZID=America/Detroit:20221029T113000
SUMMARY:Lecture / Discussion:Saturday Morning Physics | From Nobel Prize Research to the Breakthrough Technologies Transforming our Lives
DESCRIPTION:New developments in technology have revolutionized the way we live\, from smartphones and devices to the internet\, artificial intelligence\, virtual reality\, clean energy\, big data\, and much more. These inventions have one thing in common: they originate from key discoveries in physics made decades earlier in research driven by curiosity. In this lecture\, I will invite you to share your ranking of the most important technological developments of the new millennium\, and I will explain which Nobel prize in physics made each of these innovations possible\, how we continue to explore these physics questions today\, and how current research may transform our lives in the future. To conclude\, I will share my pick of the most important recent technology breakthrough and track its origin to the historical debate about the foundation of quantum physics: Einstein vs. the Copenhagen interpretation of whether or not God plays dice.\n\nLecture and Q&A\, live-streamed on: TBA
UID:99186-21797679@events.umich.edu
URL:https://events.umich.edu/event/99186
CLASS:PUBLIC
STATUS:CONFIRMED
CATEGORIES:AEM Featured,Basic Science,biophysics,Complex Systems,Faculty,Family,Free,Graduate Students,Lecture,Lifelong Learning,Physics,Science,Talk,the society of physics students,Undergraduate,Undergraduate Students
LOCATION:Weiser Hall - 170 and 182
CONTACT:
END:VEVENT
BEGIN:VEVENT
DTSTAMP:20221219T181506
DTSTART;TZID=America/Detroit:20221029T110000
DTEND;TZID=America/Detroit:20221029T170000
SUMMARY:Exhibition:LaToya Ruby Frazier: Flint Is Family In Three Acts
DESCRIPTION:Organized by Stamps Gallery in partnership with the Eli and Edythe Broad Art Museum\, Michigan State University\, and the Flint Institute of Arts.\n“No matter how dark a situation may be\, a camera can extract the light and turn a negative into a positive. In creating Flint Is Family In Three Acts\, I see the role of photographs as empowering and enacting visible change: in Act I\, the photographs bear witness and reclaim history\; in Act II\, the photographs reveal a hidden narrative\; in Act III\, the photographs are a catalyst for obtaining resources.”\n—LaToya Ruby Frazier \nFlint Is Family In Three Acts is a multi-part exhibition by renowned artist LaToya Ruby Frazier. For five years\, Frazier researched and collaborated with two poets\, activists\, mothers and residents of Flint\, Michigan\, Shea Cobb and Amber Hasan\, as they endured one of the most devastating ecological crises in U.S. history. Resulting in a monumental oeuvre of photographs\, video\, and texts Frazier developed Flint Is Family In Three Acts (2016-2021) to advocate for access to clean and safe drinking water for all regardless of race\, religion and economic status. The series records stories of surviving and thriving\, especially within racialized and marginalized neighborhoods in Flint\, to ensure that they remained visible in national debates concerning environmental justice. Drawing inspiration from the urgency in Frazier’s work\, which also sheds light on building equitable and inclusive futures\, Stamps Gallery\, part of the Penny W. Stamps School of Art &amp\; Design at the University of Michigan\, initiated a partnership with the Flint Institute of Arts and the Eli and Edythe Broad Art Museum at Michigan State University to bring this important exhibition together for the first time in Michigan. As co-presenters of this landmark exhibition\, our goal is to offer a creative pedagogical platform that reaches broader audiences across Michigan and beyond - Flint is Family: Act I (2016-2017) will take place at the Flint Institute of Arts\, Act II (2017-2019) at the Eli and Edythe Broad Art Museum\, and Act III (2019) at Stamps Gallery. The exhibition served as a catalyst to bring three disparate institutions together to deepen our understanding of individual and institutional agency in advocating for equity\, transparency and environmental justice in our respective communities\, while also highlighting the role of the artist as an agent for enacting positive social change.\n\nCurated by Srimoyee Mitra\, Tracee Glab\, and Steven L. Bridges with the assistance of Jennifer Junkermeier-Khan\, Rachel Winter\, and Rachael Holstege.
UID:95590-21790398@events.umich.edu
URL:https://events.umich.edu/event/95590
CLASS:PUBLIC
STATUS:CONFIRMED
CATEGORIES:Art
LOCATION:Off Campus Location
CONTACT:
END:VEVENT
BEGIN:VEVENT
DTSTAMP:20220901T181526
DTSTART;TZID=America/Detroit:20221029T110000
DTEND;TZID=America/Detroit:20221029T170000
SUMMARY:Exhibition:Respond/ Resist/ Rethink 2022
DESCRIPTION:Water is the lifeblood of civilizations\, the center of cities\, the foundation of creation stories and the connective tissue of culture. Water is a life force\, without it humanity will cease to exist. Fresh water is necessary for the survival of all living organisms on Earth. The human body is made up of over 60% water and humanity cannot survive without it. Water is a vital life source that holds (and generates) power. It is nourishing\, quenching\, and refreshing but has also been commodified\, polluted\, and politicized. From the Standing Rock\, Leech Lake and Fond du Lac reservations\, to the straits of Mackinac where oil pipelines threaten important waterways\, to the polluted Mississippi River and drying Colorado River Basin\, to water shutoffs in Detroit\, PFAs in Ann Arbor\, and the Flint Water crisis (to name just a few)\, ensuring access to clean water (and the sustainable ecologies it supports) is an ongoing struggle that requires intersectional\, intergenerational\, and collective knowledge sharing\, discussion and action to protect. \nCall for Work\nStamps Gallery invites the undergraduate and graduate students of Penny W. Stamps School of Art &amp\; Design to participate in a poster and video exhibition that responds to the prompt: The care\, sustainability\, and access to free and clean water is arguably one of the most urgent and challenging issues of our time “What can you do to spread awareness of water issues and conservation measures?”\nEligible students: submit your work using our online form by Friday\, August 19\, 2022 →\nEligibility\nMust be a currently enrolled undergraduate or graduate major in the Penny W. Stamps School of Art &amp\; Design.Eligible students may submit one work (poster or video).Time-based work must be submitted as a YouTube/Vimeo link.Timeline\nThe deadline for submitting work is Friday\, August 19\, 2022\, 5pm\, EST. A selection committee composed of students\, faculty\, and Stamps Gallery staff will review submitted work in the weeks following the deadline.Students whose works are selected will be notified by September 2\, 2022. The exhibition will take place from September 15\, 2022 - January 14\, 2023.Why posters &amp\; videos? \nPosters can function as catalysts for change. For generations\, posters have served as an effective tool to circulate ideas and messages to the public. Visually striking\, and designed to draw attention from passersby\, posters can be conversation starters\, invite people to pause\, reflect\, spread the word\, get involved. They have been a powerful medium for many conceptual artists and graphic designers to create powerful images and messages that could respond to immediate issues and be distributed widely. Similarly\, video art was another exciting immediate medium for conceptual artists in the 1960s and 1970s as the technology became more accessible to the masses. Video art provided an alternative to the dominant broadcasting corporations. Artists made experimental films\, recorded performances\, and first-person narratives that were then exhibited and screened at galleries\, museums\, and events. Posters and videos continue to be salient features in the 21st Century to respond to urgent issues and questions facing the present moment. \nContext\nStamps Gallery is an incubator and lab for contemporary artists and designers to explore ideas and projects that catalyze positive social change. As the pandemic grips our nation it has exposed the social\, political\, and economic disparities that have disproportionately impacted Black\, Indigenous\, and People of Color. The world witnessed in horror and sadness the meaningless loss of African American lives with George Floyd\, Breonna Taylor\, Ahmaud Arbery\, among many others that we will never know. National and international outcries brought people together from multiple races\, genders\, and generations - on social media and in the streets - to publicly demand an end to police brutality\, structural racism\, and emphasizing that Black Lives Matter. What is the role of a university gallery in this time of crisis? How can we foster an inclusive platform for the students in our community to voice their ideas and foster a community based on equality\, belonging\, respect? We launched Respond/ Resist/ Rethink in the fall 2020 to kick off the fall semester with student work paired with the work of leading artists exhibiting at the Gallery.
UID:96386-21792405@events.umich.edu
URL:https://events.umich.edu/event/96386
CLASS:PUBLIC
STATUS:CONFIRMED
CATEGORIES:Art
LOCATION:Off Campus Location
CONTACT:
END:VEVENT
BEGIN:VEVENT
DTSTAMP:20221011T103536
DTSTART;TZID=America/Detroit:20221029T110000
DTEND;TZID=America/Detroit:20221029T111500
SUMMARY:Presentation:Science Forum Demo
DESCRIPTION:Join us in the Science Forum for a 15-20 minute engaging science demonstration that will help you see the world in a whole new way. Demonstrations are free and appropriate for visitors ages 5 and above. Schedule subject to change.\n\nShedding Light on Magnets\nWhat makes a magnet magnetic? Why do they stick together? Join us as we explore magnetism\, magnetic fields\, and even what that has to do with your cell phone. We will highlight how researchers use light to study the magnetism of new materials. \n\nMade possible by a grant from the National Science Foundation.
UID:95985-21796795@events.umich.edu
URL:https://events.umich.edu/event/95985
CLASS:PUBLIC
STATUS:CONFIRMED
CATEGORIES:Children,Family,Free,Museum,Natural Sciences,Science
LOCATION:Museum of Natural History
CONTACT:
END:VEVENT
BEGIN:VEVENT
DTSTAMP:20260210T142109
DTSTART;TZID=America/Detroit:20221029T113000
DTEND;TZID=America/Detroit:20221029T121500
SUMMARY:Presentation:Expedition Reef
DESCRIPTION:Learn the secrets of the “rainforests of the sea” as you embark on an oceanic safari of the world’s most vibrant—and endangered—marine ecosystems. Expedition Reef immerses you in an undersea adventure. Along the way\, discover how corals grow\, feed\, reproduce\, and support over 25% of all marine life on Earth.\n\nThe state-of-the-art Planetarium & Dome Theater at the U-M Museum of Natural History transports visitors beyond distant stars and back in time from the comfort of reclining seats. Tickets $8. Tickets are available on the day of the show at the Museum Store.
UID:95986-21796813@events.umich.edu
URL:https://events.umich.edu/event/95986
CLASS:PUBLIC
STATUS:CONFIRMED
CATEGORIES:natural history museum,Natural Sciences
LOCATION:Museum of Natural History
CONTACT:
END:VEVENT
BEGIN:VEVENT
DTSTAMP:20221109T141417
DTSTART;TZID=America/Detroit:20221029T123000
DTEND;TZID=America/Detroit:20221029T131500
SUMMARY:Presentation:Sky Tonight
DESCRIPTION:A live presentation on what to find in the sky tonight and for the coming few weeks. This presentation includes how to find the cardinal directions on your own by finding the North Star\, current and upcoming constellations\, visible planets\, a few deep sky objects depending on the season\, and other interesting astronomical visualizations. If you want to be able to look up from your own backyard and know what to look for\, this is the show for you.\n\nThe state-of-the-art Planetarium & Dome Theater at the U-M Museum of Natural History transports visitors beyond distant stars and back in time from the comfort of reclining seats. Tickets $8. Tickets are available on the day of the show at the Museum Store.\n\nThe planetarium is operating at half capacity to maximize distancing between viewers.
UID:91230-21796855@events.umich.edu
URL:https://events.umich.edu/event/91230
CLASS:PUBLIC
STATUS:CONFIRMED
CATEGORIES:Astronomy,Natural Sciences,Science
LOCATION:Museum of Natural History
CONTACT:
END:VEVENT
BEGIN:VEVENT
DTSTAMP:20220912T132709
DTSTART;TZID=America/Detroit:20221029T133000
DTEND;TZID=America/Detroit:20221029T141500
SUMMARY:Presentation:Tales of the Maya Skies
DESCRIPTION:Tales of the Maya Skies immerses viewers in the wonders of Maya science\, cosmology and myth. This beautifully illustrated story takes us back in time to the jungles of Mexico to discover how Mayan scholars developed a sophisticated understanding of astronomy\, architecture\, and mathematics that enabled them to predict solstices\, solar eclipses\, weather patterns and planetary movements.\n\nThe state-of-the-art Planetarium & Dome Theater at the U-M Museum of Natural History transports visitors beyond distant stars and back in time from the comfort of reclining seats. Tickets $8. Tickets are available on the day of the show at the Museum Store.\n\nThe planetarium is operating at half capacity to maximize distancing between viewers.
UID:95036-21796827@events.umich.edu
URL:https://events.umich.edu/event/95036
CLASS:PUBLIC
STATUS:CONFIRMED
CATEGORIES:Astronomy,Museum,Natural Sciences,Science
LOCATION:Museum of Natural History
CONTACT:
END:VEVENT
BEGIN:VEVENT
DTSTAMP:20220909T125750
DTSTART;TZID=America/Detroit:20221029T140000
DTEND;TZID=America/Detroit:20221029T150000
SUMMARY:Other:In-Person Saturday Sampler Tour | Spooky\, Weird\, and Magical: Halloween with the Kelsey
DESCRIPTION:This tour explores a variety of objects in the Kelsey through the lens of Halloween. We'll look at animals\, mummies\, funerary inscriptions\, headless sculptures\, and more from the ancient Middle East\, Greece\, Egypt\, and Rome.\n\nMasks are optional inside the Kelsey. For more information about our COVID procedures and how to prepare for your visit\, please visit our website\, https://myumi.ch/9PG1P.\n\nSaturday Sampler tours are free and open to all visitors. If you are a person with a disability who requires accommodation to attend this tour\, please contact the education office (734-647-4167 or kelsey.ed@umich.edu) at least two weeks in advance. We ask for advance notice as some accommodations may require more time for the University to arrange.
UID:97224-21794157@events.umich.edu
URL:https://events.umich.edu/event/97224
CLASS:PUBLIC
STATUS:CONFIRMED
CATEGORIES:Archaeology,Free,Museum,Tour
LOCATION:Kelsey Museum of Archaeology
CONTACT:
END:VEVENT
BEGIN:VEVENT
DTSTAMP:20221109T141417
DTSTART;TZID=America/Detroit:20221029T143000
DTEND;TZID=America/Detroit:20221029T151500
SUMMARY:Presentation:Sky Tonight
DESCRIPTION:A live presentation on what to find in the sky tonight and for the coming few weeks. This presentation includes how to find the cardinal directions on your own by finding the North Star\, current and upcoming constellations\, visible planets\, a few deep sky objects depending on the season\, and other interesting astronomical visualizations. If you want to be able to look up from your own backyard and know what to look for\, this is the show for you.\n\nThe state-of-the-art Planetarium & Dome Theater at the U-M Museum of Natural History transports visitors beyond distant stars and back in time from the comfort of reclining seats. Tickets $8. Tickets are available on the day of the show at the Museum Store.\n\nThe planetarium is operating at half capacity to maximize distancing between viewers.
UID:91230-21796871@events.umich.edu
URL:https://events.umich.edu/event/91230
CLASS:PUBLIC
STATUS:CONFIRMED
CATEGORIES:Astronomy,Natural Sciences,Science
LOCATION:Museum of Natural History
CONTACT:
END:VEVENT
BEGIN:VEVENT
DTSTAMP:20221029T120009
DTSTART;TZID=America/Detroit:20221029T150000
DTEND;TZID=America/Detroit:20221029T170000
SUMMARY:Other:League Match Vs. Indiana
DESCRIPTION:15s game against the University of Indiana
UID:97554-21794708@events.umich.edu
URL:https://events.umich.edu/event/97554
CLASS:PUBLIC
STATUS:CONFIRMED
CATEGORIES:
LOCATION:University of Indiana
CONTACT:
END:VEVENT
BEGIN:VEVENT
DTSTAMP:20221109T133538
DTSTART;TZID=America/Detroit:20221029T150000
DTEND;TZID=America/Detroit:20221029T151500
SUMMARY:Lecture / Discussion:Science Forum Demos
DESCRIPTION:Take a journey through deep time as we explore a story that has taken millions of years to unfold\, and then examine a brand new discovery! Where did life begin? How did the first four-footed land animals emerge? And why do fossil whales have feet? Participants examine the museum’s fossil whales and related species as they learn about the evolutionary processes responsible for the diversity of life on earth.\n\nJoin us in the Science Forum for this 15-20 minute engaging science demonstration that will help you see the world in a whole new way. Demonstrations are free and appropriate for visitors ages 5 and above. Schedule subject to change.
UID:98531-21796803@events.umich.edu
URL:https://events.umich.edu/event/98531
CLASS:PUBLIC
STATUS:CONFIRMED
CATEGORIES:Free,Museum,Natural Sciences,Science
LOCATION:Museum of Natural History
CONTACT:
END:VEVENT
BEGIN:VEVENT
DTSTAMP:20221029T120018
DTSTART;TZID=America/Detroit:20221029T150000
DTEND;TZID=America/Detroit:20221029T180000
SUMMARY:Film Screening:STAR WARS BOO BASH
DESCRIPTION:Join us for some Star Wars Halloween Fun! We will watch the film Lego Star Wars: Terrifying Tales and eat some treats. We will hold a presentation night where you can come and talk about what is in your opinion the scariest things in Star Wars lore! Learn more here: tinyurl.com/SWPNST \n\n
UID:100461-21799974@events.umich.edu
URL:https://events.umich.edu/event/100461
CLASS:PUBLIC
STATUS:CONFIRMED
CATEGORIES:
LOCATION:Mason Hall
CONTACT:
END:VEVENT
BEGIN:VEVENT
DTSTAMP:20221025T083904
DTSTART;TZID=America/Detroit:20221029T170000
DTEND;TZID=America/Detroit:20221029T190000
SUMMARY:Social / Informal Gathering:Game Day at the Union
DESCRIPTION:Stop by the Michigan Union Front Lawn on the way to the big game for free food\, fun activities\, and giveaways!
UID:100446-21799943@events.umich.edu
URL:https://events.umich.edu/event/100446
CLASS:PUBLIC
STATUS:CONFIRMED
CATEGORIES:athletics,football,Game Day
LOCATION:Michigan Union - Front Lawn
CONTACT:
END:VEVENT
BEGIN:VEVENT
DTSTAMP:20220719T121606
DTSTART;TZID=America/Detroit:20221029T190000
SUMMARY:Sporting Event:Football vs Michigan State
DESCRIPTION:Football vs Michigan State
UID:94901-21781038@events.umich.edu
URL:https://events.umich.edu/event/94901
CLASS:PUBLIC
STATUS:CONFIRMED
CATEGORIES:Athletics,Athletics - Football
LOCATION:Michigan Stadium
CONTACT:
END:VEVENT
BEGIN:VEVENT
DTSTAMP:20221017T121706
DTSTART;TZID=America/Detroit:20221029T190000
SUMMARY:Sporting Event:Football vs Michigan State
DESCRIPTION:Football vs Michigan State
UID:99277-21797803@events.umich.edu
URL:https://events.umich.edu/event/99277
CLASS:PUBLIC
STATUS:CONFIRMED
CATEGORIES:Athletics,Athletics - Football
LOCATION:Michigan Stadium
CONTACT:
END:VEVENT
BEGIN:VEVENT
DTSTAMP:20221029T181653
DTSTART;TZID=America/Detroit:20221029T193000
SUMMARY:Sporting Event:Football vs Michigan State
DESCRIPTION:Football vs Michigan State
UID:100361-21799663@events.umich.edu
URL:https://events.umich.edu/event/100361
CLASS:PUBLIC
STATUS:CONFIRMED
CATEGORIES:Athletics,Athletics - Football
LOCATION:Michigan Stadium
CONTACT:
END:VEVENT
BEGIN:VEVENT
DTSTAMP:20221029T181011
DTSTART;TZID=America/Detroit:20221029T200000
SUMMARY:Performance:Erin Zindle & The Ragbirds
DESCRIPTION: Positive\, richly rhythmic\, globally oriented sound. \nPlease visit https://mutotix.umich.edu/3483/3484 for more detail.
UID:95901-21791415@events.umich.edu
URL:https://events.umich.edu/event/95901
CLASS:PUBLIC
STATUS:CONFIRMED
CATEGORIES:Ark,Mutotix
LOCATION:ARK Reserved
CONTACT:
END:VEVENT
BEGIN:VEVENT
DTSTAMP:20221025T122257
DTSTART;TZID=America/Detroit:20221029T230000
DTEND;TZID=America/Detroit:20221030T010000
SUMMARY:Social / Informal Gathering:Late Night Bite
DESCRIPTION:Hungry after the big game? Late Night Bite's got you covered! Stop by the Michigan Union and grab some food from the nacho bar!
UID:100448-21799945@events.umich.edu
URL:https://events.umich.edu/event/100448
CLASS:PUBLIC
STATUS:CONFIRMED
CATEGORIES:food,football,Game Day,late night
LOCATION:Michigan Union
CONTACT:
END:VEVENT
END:VCALENDAR