BEGIN:VCALENDAR
VERSION:2.0
PRODID:-//UM//UM*Events//EN
CALSCALE:GREGORIAN
BEGIN:VTIMEZONE
TZID:America/Detroit
TZURL:http://tzurl.org/zoneinfo/America/Detroit
X-LIC-LOCATION:America/Detroit
BEGIN:DAYLIGHT
TZOFFSETFROM:-0500
TZOFFSETTO:-0400
TZNAME:EDT
DTSTART:20070311T020000
RRULE:FREQ=YEARLY;BYMONTH=3;BYDAY=2SU
END:DAYLIGHT
BEGIN:STANDARD
TZOFFSETFROM:-0400
TZOFFSETTO:-0500
TZNAME:EST
DTSTART:20071104T020000
RRULE:FREQ=YEARLY;BYMONTH=11;BYDAY=1SU
END:STANDARD
END:VTIMEZONE
BEGIN:VEVENT
DTSTAMP:20221025T122257
DTSTART;TZID=America/Detroit:20221029T230000
DTEND;TZID=America/Detroit:20221030T010000
SUMMARY:Social / Informal Gathering:Late Night Bite
DESCRIPTION:Hungry after the big game? Late Night Bite's got you covered! Stop by the Michigan Union and grab some food from the nacho bar!
UID:100448-21799945@events.umich.edu
URL:https://events.umich.edu/event/100448
CLASS:PUBLIC
STATUS:CONFIRMED
CATEGORIES:food,football,Game Day,late night
LOCATION:Michigan Union
CONTACT:
END:VEVENT
BEGIN:VEVENT
DTSTAMP:20230324T120005
DTSTART;TZID=America/Detroit:20221030T000000
DTEND;TZID=America/Detroit:20221030T235959
SUMMARY:Community Service:Homework Help at The Children's Center
DESCRIPTION:The Homework Help program offers children assistance with their homework assignments. Children are encouraged to bring homework and are paired with a volunteer to assist them. This program is a critical service in helping children thrive. Volunteers give children the tools they need to be successful in school.Virtual and in-person volunteer opportunities are available. If you would like to volunteer\, please start the enrollment process by creating an account on the Children Center's Volunteer Site found HERE. After your account is created\, the Children's Center will reach out to you within 2 business days to answer any questions and discuss the next steps.In accordance with the CMS Vaccine Mandate\, those volunteering in-person at the Children’s Center are required to be fully vaccinated and must provide proof of full vaccination upon request.
UID:93885-21787988@events.umich.edu
URL:https://events.umich.edu/event/93885
CLASS:PUBLIC
STATUS:CONFIRMED
CATEGORIES:
LOCATION:The Children&#039;s Center 
CONTACT:
END:VEVENT
BEGIN:VEVENT
DTSTAMP:20221030T120019
DTSTART;TZID=America/Detroit:20221030T000000
DTEND;TZID=America/Detroit:20221030T235959
SUMMARY:Other:MASC Regional Tournament
DESCRIPTION:2-day tournament in Indianapolis
UID:100401-21799710@events.umich.edu
URL:https://events.umich.edu/event/100401
CLASS:PUBLIC
STATUS:CONFIRMED
CATEGORIES:
LOCATION:Sonesta Select Indianapolis
CONTACT:
END:VEVENT
BEGIN:VEVENT
DTSTAMP:20221030T000020
DTSTART;TZID=America/Detroit:20221030T000000
DTEND;TZID=America/Detroit:20221030T013000
SUMMARY:Other:Music City Head Race
DESCRIPTION:The Varsity chauffeur the Frosh to Nashville.
UID:100583-21800101@events.umich.edu
URL:https://events.umich.edu/event/100583
CLASS:PUBLIC
STATUS:CONFIRMED
CATEGORIES:
LOCATION:Nashville, TN
CONTACT:
END:VEVENT
BEGIN:VEVENT
DTSTAMP:20221031T060014
DTSTART;TZID=America/Detroit:20221030T000000
DTEND;TZID=America/Detroit:20221030T235959
SUMMARY:Sporting Event:Nickerson Trophy
DESCRIPTION:ICSA Fleet Race Dingy Regatta for First Year Sailors
UID:100350-21799637@events.umich.edu
URL:https://events.umich.edu/event/100350
CLASS:PUBLIC
STATUS:CONFIRMED
CATEGORIES:
LOCATION:Tufts University
CONTACT:
END:VEVENT
BEGIN:VEVENT
DTSTAMP:20220927T085223
DTSTART;TZID=America/Detroit:20221030T000000
DTEND;TZID=America/Detroit:20221030T235900
SUMMARY:Workshop / Seminar:PNC Student Banking Spotlight Series Videos: Julien and Kiersten Saunders of rich & REGULAR®
DESCRIPTION:PNC’s Spotlight Series features four short videos from Julien and Kiersten Saunders of rich & REGULAR®\, who share their top tips for students on investing\, saving\, protecting yourself from fraud\, and using credit responsibly.  Watch the pre-recorded videos at your convenience.
UID:99374-21797968@events.umich.edu
URL:https://events.umich.edu/event/99374
CLASS:PUBLIC
STATUS:CONFIRMED
CATEGORIES:Business,Graduate Students,Transfer Students,Undergraduate,Virtual,Workshop
LOCATION:Off Campus Location
CONTACT:
END:VEVENT
BEGIN:VEVENT
DTSTAMP:20221027T060017
DTSTART;TZID=America/Detroit:20221030T000000
DTEND;TZID=America/Detroit:20221030T160000
SUMMARY:Social / Informal Gathering:Star Wars Lightsaber Battle 
DESCRIPTION:Join us for a fun lightsaber fight at the Diag! Bring a lightsaber if you have one\, if not we have a few of them to borrow!
UID:100460-21799973@events.umich.edu
URL:https://events.umich.edu/event/100460
CLASS:PUBLIC
STATUS:CONFIRMED
CATEGORIES:
LOCATION:The Diag
CONTACT:
END:VEVENT
BEGIN:VEVENT
DTSTAMP:20220809T173135
DTSTART;TZID=America/Detroit:20221030T080000
DTEND;TZID=America/Detroit:20221030T190000
SUMMARY:Exhibition:Places & Spaces: Mapping Science and A Brief History of Information Graphics
DESCRIPTION:The Places & Spaces: Mapping Science exhibit introduces science mapping techniques and data visualization to the general public and to experts across diverse disciplines\, and we hope inspires cross-disciplinary discussion on how to best track and communicate scholarly activity and scientific progress on a global scale. The exhibit includes a macroscope which showcases interactive visualizations that demonstrate the impact of different data cleaning\, analysis\, and visualization algorithms.\n\nThe Places & Spaces exhibit is curated by the Cyberinfrastructure for Network Science Center at Indiana University. The complementary exhibit\, A Brief History of Information Graphics\, was created by Clark Library staff to provide an historical context to the Places and Spaces exhibit.
UID:96720-21793181@events.umich.edu
URL:https://events.umich.edu/event/96720
CLASS:PUBLIC
STATUS:CONFIRMED
CATEGORIES:Free,Library,Maps
LOCATION:Hatcher Graduate Library - Clark Library (2nd floor)
CONTACT:
END:VEVENT
BEGIN:VEVENT
DTSTAMP:20220930T132239
DTSTART;TZID=America/Detroit:20221030T080000
DTEND;TZID=America/Detroit:20221030T230000
SUMMARY:Class / Instruction:Semester in Detroit Application Open!
DESCRIPTION:Semester in Detroit uses the MCompass system for applications. All applications are accepted on a rolling basis\, which means that the earlier you apply\, the better chance you have of getting in. \n\nApplication Due Dates:\n1/31/23 for the spring 2023 program\n\nProgram Eligibility:\nThe Semester in Detroit spring/summer and fall programs accept undergraduate students from all schools and departments at the University of Michigan-Ann Arbor. All students\, from First years to Seniors or Super Seniors are eligible to apply.\n\nStudents from Grand Valley State University\, UM-Dearborn\, and UM-Flint are eligible to apply for fall programs only. The same application eligibility applies to GVSU\, Dearborn\, and Flint students (all departments\, all class standings). \n\nApplicants should have a strong interest in the city of Detroit and in questioning dominant narratives\; engaging with challenging new perspectives on contemporary issues\; and building community with one another\, SiD faculty and staff\, and community members at internship sites and beyond.\n\nQuestions?\nEmail semesterindetroit@umich.edu.
UID:99614-21798425@events.umich.edu
URL:https://events.umich.edu/event/99614
CLASS:PUBLIC
STATUS:CONFIRMED
CATEGORIES:Activism,Advocacy,civil rights,Community Engagement,Community Organzing,Community-based Learning,detroit,Diversity Equity and Inclusion,Education
LOCATION:
CONTACT:
END:VEVENT
BEGIN:VEVENT
DTSTAMP:20221003T125034
DTSTART;TZID=America/Detroit:20221030T080000
DTEND;TZID=America/Detroit:20221030T190000
SUMMARY:Exhibition:The Dance for Mother Earth Powwow
DESCRIPTION:This exhibit features various aspects of the Native North American powwow. More specifically\, it features the history and culture behind Ann Arbor’s \"Dance for Mother Earth Powwow\,\" which is approaching its much-anticipated 50th celebration.\n\nThe Dance for Mother Earth Powwow is a multi-decade\, intertribal celebration of Indigenous cultures. It grew from its early beginnings as a small gathering in a field just outside of Ann Arbor into one of the largest student-led powwows in North America. The event attracts crowds of thousands — dancers\, singers\, artists\, tribal members from across the country\, and non-Indigenous members of the community.\n\nStop by to learn more about The Dance for Mother Earth Powwow\, modern Indigenous culture\, and resources to connect to today on campus.\n\nThis exhibition was curated by Michigan Library Scholar interns\, Allison Jiang and Andrea Medina. The Michigan Library Scholars internship program provides undergraduate students with the opportunity to research and develop a capstone project under the guidance of experienced library professionals at one of the largest academic research libraries in the world.
UID:96225-21798603@events.umich.edu
URL:https://events.umich.edu/event/96225
CLASS:PUBLIC
STATUS:CONFIRMED
CATEGORIES:Exhibition,Free,Library,Native American
LOCATION:Hatcher Graduate Library - North Lobby
CONTACT:
END:VEVENT
BEGIN:VEVENT
DTSTAMP:20221030T181702
DTSTART;TZID=America/Detroit:20221030T090000
SUMMARY:Sporting Event:Rowing vs Michigan State (Novice)
DESCRIPTION:Rowing vs Michigan State (Novice)
UID:99891-21798850@events.umich.edu
URL:https://events.umich.edu/event/99891
CLASS:PUBLIC
STATUS:CONFIRMED
CATEGORIES:Athletics,Athletics - Rowing
LOCATION:Michigan Boathouse
CONTACT:
END:VEVENT
BEGIN:VEVENT
DTSTAMP:20220929T111454
DTSTART;TZID=America/Detroit:20221030T100000
DTEND;TZID=America/Detroit:20221030T160000
SUMMARY:Recreational / Games:Hiking in Hell
DESCRIPTION:Enjoy the fall with a hiking trip in the same zip code as Hell\, MI with the Director of the Honors Program\, Prof. Mika LaVaque-Manty. We will hike at Pinckney Recreation Area\, and then grab donuts & cider from Dexter Cider Mill. We are meeting on the South Quad steps at 10 AM on October 22nd. There is a $5 buy-in for this event\, and spots are limited. See you there!
UID:99545-21798313@events.umich.edu
URL:https://events.umich.edu/event/99545
CLASS:PUBLIC
STATUS:CONFIRMED
CATEGORIES:#Honors Program,Outdoors,Social
LOCATION:South Quad
CONTACT:
END:VEVENT
BEGIN:VEVENT
DTSTAMP:20220818T100608
DTSTART;TZID=America/Detroit:20221030T100000
DTEND;TZID=America/Detroit:20221030T120000
SUMMARY:Ceremony / Service:Sunday Celebration
DESCRIPTION:The school year is about to begin! No matter your background\, join us in kicking off this season with new expectations and hope.\n\nJoin us at 10AM every Sunday to experience church in a fresh way as we worship and seek God together. We meet at the Transformation Center (1001 E. Huron St.) which is located across the street from the Rackham Auditorium and the Power Center.\n\nCurious? Check out our website at https://annarbor.hmcc.net/ to learn more about who we are and what we value.
UID:96832-21793819@events.umich.edu
URL:https://events.umich.edu/event/96832
CLASS:PUBLIC
STATUS:CONFIRMED
CATEGORIES:christian,christianity,church,faith,religious,spiritual,welcome week
LOCATION:Off Campus Location
CONTACT:
END:VEVENT
BEGIN:VEVENT
DTSTAMP:20221011T103536
DTSTART;TZID=America/Detroit:20221030T110000
DTEND;TZID=America/Detroit:20221030T111500
SUMMARY:Presentation:Science Forum Demo
DESCRIPTION:Join us in the Science Forum for a 15-20 minute engaging science demonstration that will help you see the world in a whole new way. Demonstrations are free and appropriate for visitors ages 5 and above. Schedule subject to change.\n\nShedding Light on Magnets\nWhat makes a magnet magnetic? Why do they stick together? Join us as we explore magnetism\, magnetic fields\, and even what that has to do with your cell phone. We will highlight how researchers use light to study the magnetism of new materials. \n\nMade possible by a grant from the National Science Foundation.
UID:95985-21796796@events.umich.edu
URL:https://events.umich.edu/event/95985
CLASS:PUBLIC
STATUS:CONFIRMED
CATEGORIES:Children,Family,Free,Museum,Natural Sciences,Science
LOCATION:Museum of Natural History
CONTACT:
END:VEVENT
BEGIN:VEVENT
DTSTAMP:20260210T142109
DTSTART;TZID=America/Detroit:20221030T113000
DTEND;TZID=America/Detroit:20221030T121500
SUMMARY:Presentation:Expedition Reef
DESCRIPTION:Learn the secrets of the “rainforests of the sea” as you embark on an oceanic safari of the world’s most vibrant—and endangered—marine ecosystems. Expedition Reef immerses you in an undersea adventure. Along the way\, discover how corals grow\, feed\, reproduce\, and support over 25% of all marine life on Earth.\n\nThe state-of-the-art Planetarium & Dome Theater at the U-M Museum of Natural History transports visitors beyond distant stars and back in time from the comfort of reclining seats. Tickets $8. Tickets are available on the day of the show at the Museum Store.
UID:95986-21796818@events.umich.edu
URL:https://events.umich.edu/event/95986
CLASS:PUBLIC
STATUS:CONFIRMED
CATEGORIES:natural history museum,Natural Sciences
LOCATION:Museum of Natural History
CONTACT:
END:VEVENT
BEGIN:VEVENT
DTSTAMP:20221109T141417
DTSTART;TZID=America/Detroit:20221030T123000
DTEND;TZID=America/Detroit:20221030T131500
SUMMARY:Presentation:Sky Tonight
DESCRIPTION:A live presentation on what to find in the sky tonight and for the coming few weeks. This presentation includes how to find the cardinal directions on your own by finding the North Star\, current and upcoming constellations\, visible planets\, a few deep sky objects depending on the season\, and other interesting astronomical visualizations. If you want to be able to look up from your own backyard and know what to look for\, this is the show for you.\n\nThe state-of-the-art Planetarium & Dome Theater at the U-M Museum of Natural History transports visitors beyond distant stars and back in time from the comfort of reclining seats. Tickets $8. Tickets are available on the day of the show at the Museum Store.\n\nThe planetarium is operating at half capacity to maximize distancing between viewers.
UID:91230-21796862@events.umich.edu
URL:https://events.umich.edu/event/91230
CLASS:PUBLIC
STATUS:CONFIRMED
CATEGORIES:Astronomy,Natural Sciences,Science
LOCATION:Museum of Natural History
CONTACT:
END:VEVENT
BEGIN:VEVENT
DTSTAMP:20221030T121745
DTSTART;TZID=America/Detroit:20221030T130000
SUMMARY:Sporting Event:Men's Soccer vs Penn State
DESCRIPTION:Men's Soccer vs Penn State
UID:95857-21791199@events.umich.edu
URL:https://events.umich.edu/event/95857
CLASS:PUBLIC
STATUS:CONFIRMED
CATEGORIES:Athletics,Athletics - Men's Soccer
LOCATION:U-M Soccer Stadium
CONTACT:
END:VEVENT
BEGIN:VEVENT
DTSTAMP:20220912T132709
DTSTART;TZID=America/Detroit:20221030T133000
DTEND;TZID=America/Detroit:20221030T141500
SUMMARY:Presentation:Tales of the Maya Skies
DESCRIPTION:Tales of the Maya Skies immerses viewers in the wonders of Maya science\, cosmology and myth. This beautifully illustrated story takes us back in time to the jungles of Mexico to discover how Mayan scholars developed a sophisticated understanding of astronomy\, architecture\, and mathematics that enabled them to predict solstices\, solar eclipses\, weather patterns and planetary movements.\n\nThe state-of-the-art Planetarium & Dome Theater at the U-M Museum of Natural History transports visitors beyond distant stars and back in time from the comfort of reclining seats. Tickets $8. Tickets are available on the day of the show at the Museum Store.\n\nThe planetarium is operating at half capacity to maximize distancing between viewers.
UID:95036-21796832@events.umich.edu
URL:https://events.umich.edu/event/95036
CLASS:PUBLIC
STATUS:CONFIRMED
CATEGORIES:Astronomy,Museum,Natural Sciences,Science
LOCATION:Museum of Natural History
CONTACT:
END:VEVENT
BEGIN:VEVENT
DTSTAMP:20221027T101250
DTSTART;TZID=America/Detroit:20221030T133000
DTEND;TZID=America/Detroit:20221030T163000
SUMMARY:Social / Informal Gathering:Volleyball with Honors
DESCRIPTION:Join Honors RAs to watch the UM vs. MSU Volleyball game! Meet at South Quad CC at 1:30pm on October 30th! Sign up to let our RAs know you're coming!
UID:100773-21800339@events.umich.edu
URL:https://events.umich.edu/event/100773
CLASS:PUBLIC
STATUS:CONFIRMED
CATEGORIES:#Honors Program
LOCATION:South Quad
CONTACT:
END:VEVENT
BEGIN:VEVENT
DTSTAMP:20221030T121746
DTSTART;TZID=America/Detroit:20221030T140000
SUMMARY:Sporting Event:Volleyball vs Michigan State
DESCRIPTION:Volleyball vs Michigan State
UID:99638-21798490@events.umich.edu
URL:https://events.umich.edu/event/99638
CLASS:PUBLIC
STATUS:CONFIRMED
CATEGORIES:Athletics,Athletics - Volleyball
LOCATION:Off Campus Location
CONTACT:
END:VEVENT
BEGIN:VEVENT
DTSTAMP:20221109T141417
DTSTART;TZID=America/Detroit:20221030T143000
DTEND;TZID=America/Detroit:20221030T151500
SUMMARY:Presentation:Sky Tonight
DESCRIPTION:A live presentation on what to find in the sky tonight and for the coming few weeks. This presentation includes how to find the cardinal directions on your own by finding the North Star\, current and upcoming constellations\, visible planets\, a few deep sky objects depending on the season\, and other interesting astronomical visualizations. If you want to be able to look up from your own backyard and know what to look for\, this is the show for you.\n\nThe state-of-the-art Planetarium & Dome Theater at the U-M Museum of Natural History transports visitors beyond distant stars and back in time from the comfort of reclining seats. Tickets $8. Tickets are available on the day of the show at the Museum Store.\n\nThe planetarium is operating at half capacity to maximize distancing between viewers.
UID:91230-21796876@events.umich.edu
URL:https://events.umich.edu/event/91230
CLASS:PUBLIC
STATUS:CONFIRMED
CATEGORIES:Astronomy,Natural Sciences,Science
LOCATION:Museum of Natural History
CONTACT:
END:VEVENT
BEGIN:VEVENT
DTSTAMP:20221027T140345
DTSTART;TZID=America/Detroit:20221030T150000
DTEND;TZID=America/Detroit:20221030T160000
SUMMARY:Performance:Haunted Tower Halloween Carillon Studio
DESCRIPTION:Watch spooky Halloween selections played on the eerily decorated 53-bell carillon in Burton Tower\, if you dare! All visitors welcome in the 10th-floor observation chamber\; costumes encouraged!
UID:100642-21800178@events.umich.edu
URL:https://events.umich.edu/event/100642
CLASS:PUBLIC
STATUS:CONFIRMED
CATEGORIES:Free,Music
LOCATION:Burton Memorial Tower
CONTACT:
END:VEVENT
BEGIN:VEVENT
DTSTAMP:20221109T133538
DTSTART;TZID=America/Detroit:20221030T150000
DTEND;TZID=America/Detroit:20221030T151500
SUMMARY:Lecture / Discussion:Science Forum Demos
DESCRIPTION:Take a journey through deep time as we explore a story that has taken millions of years to unfold\, and then examine a brand new discovery! Where did life begin? How did the first four-footed land animals emerge? And why do fossil whales have feet? Participants examine the museum’s fossil whales and related species as they learn about the evolutionary processes responsible for the diversity of life on earth.\n\nJoin us in the Science Forum for this 15-20 minute engaging science demonstration that will help you see the world in a whole new way. Demonstrations are free and appropriate for visitors ages 5 and above. Schedule subject to change.
UID:98531-21796804@events.umich.edu
URL:https://events.umich.edu/event/98531
CLASS:PUBLIC
STATUS:CONFIRMED
CATEGORIES:Free,Museum,Natural Sciences,Science
LOCATION:Museum of Natural History
CONTACT:
END:VEVENT
BEGIN:VEVENT
DTSTAMP:20220918T181511
DTSTART;TZID=America/Detroit:20221030T160000
SUMMARY:Performance:Halloween Concert
DESCRIPTION:The U-M tradition returns with spooks and scares (and fan favorite tunes) for all ages. Conducted by Kenneth Kiesler.
UID:95735-21790822@events.umich.edu
URL:https://events.umich.edu/event/95735
CLASS:PUBLIC
STATUS:CONFIRMED
CATEGORIES:Music
LOCATION:Hill Auditorium
CONTACT:
END:VEVENT
BEGIN:VEVENT
DTSTAMP:20221030T180018
DTSTART;TZID=America/Detroit:20221030T161500
DTEND;TZID=America/Detroit:20221030T233000
SUMMARY:Other:10/30: Away Game Vs. BGSU
DESCRIPTION:Away Game at Bowling Green State University
UID:100101-21799210@events.umich.edu
URL:https://events.umich.edu/event/100101
CLASS:PUBLIC
STATUS:CONFIRMED
CATEGORIES:
LOCATION:Slater Family Ice Arena
CONTACT:
END:VEVENT
BEGIN:VEVENT
DTSTAMP:20220719T121606
DTSTART;TZID=America/Detroit:20221030T190000
SUMMARY:Sporting Event:Volleyball vs Michigan State
DESCRIPTION:Volleyball vs Michigan State
UID:95596-21790448@events.umich.edu
URL:https://events.umich.edu/event/95596
CLASS:PUBLIC
STATUS:CONFIRMED
CATEGORIES:Athletics,Athletics - Volleyball
LOCATION:Off Campus Location
CONTACT:
END:VEVENT
END:VCALENDAR