BEGIN:VCALENDAR
VERSION:2.0
PRODID:-//UM//UM*Events//EN
CALSCALE:GREGORIAN
BEGIN:VTIMEZONE
TZID:America/Detroit
TZURL:http://tzurl.org/zoneinfo/America/Detroit
X-LIC-LOCATION:America/Detroit
BEGIN:DAYLIGHT
TZOFFSETFROM:-0500
TZOFFSETTO:-0400
TZNAME:EDT
DTSTART:20070311T020000
RRULE:FREQ=YEARLY;BYMONTH=3;BYDAY=2SU
END:DAYLIGHT
BEGIN:STANDARD
TZOFFSETFROM:-0400
TZOFFSETTO:-0500
TZNAME:EST
DTSTART:20071104T020000
RRULE:FREQ=YEARLY;BYMONTH=11;BYDAY=1SU
END:STANDARD
END:VTIMEZONE
BEGIN:VEVENT
DTSTAMP:20221106T120013
DTSTART;TZID=America/Detroit:20221106T000000
DTEND;TZID=America/Detroit:20221106T235959
SUMMARY:Other:32nd Annual Hardwood Classic Tournament
DESCRIPTION:50+ team Hardwood Classic Tournament at Michigan State University
UID:98394-21796597@events.umich.edu
URL:https://events.umich.edu/event/98394
CLASS:PUBLIC
STATUS:CONFIRMED
CATEGORIES:
LOCATION:IM West
CONTACT:
END:VEVENT
BEGIN:VEVENT
DTSTAMP:20221106T180020
DTSTART;TZID=America/Detroit:20221106T000000
DTEND;TZID=America/Detroit:20221106T235959
SUMMARY:Other:Bald Eagle Collegiate Invitational
DESCRIPTION:The Team gets acquainted with the meat of the 2022-2023 ACRA competition.
UID:100585-21800106@events.umich.edu
URL:https://events.umich.edu/event/100585
CLASS:PUBLIC
STATUS:CONFIRMED
CATEGORIES:
LOCATION:Indianapolis, IN
CONTACT:
END:VEVENT
BEGIN:VEVENT
DTSTAMP:20221107T060015
DTSTART;TZID=America/Detroit:20221106T000000
DTEND;TZID=America/Detroit:20221106T235959
SUMMARY:Other:Blue Ridge Finale
DESCRIPTION:playing frisbee at our fav place --> virginia!!
UID:99936-21798908@events.umich.edu
URL:https://events.umich.edu/event/99936
CLASS:PUBLIC
STATUS:CONFIRMED
CATEGORIES:
LOCATION:Smith River Sports Complex
CONTACT:
END:VEVENT
BEGIN:VEVENT
DTSTAMP:20221107T180013
DTSTART;TZID=America/Detroit:20221106T000000
DTEND;TZID=America/Detroit:20221106T235959
SUMMARY:Other:Cornell Tournament Fall ECTC 2022
DESCRIPTION:Come join us at Cornell University for Sparring and Poomsae competitions!
UID:99290-21797817@events.umich.edu
URL:https://events.umich.edu/event/99290
CLASS:PUBLIC
STATUS:CONFIRMED
CATEGORIES:
LOCATION:Cornell University
CONTACT:
END:VEVENT
BEGIN:VEVENT
DTSTAMP:20221107T060016
DTSTART;TZID=America/Detroit:20221106T000000
DTEND;TZID=America/Detroit:20221106T235959
SUMMARY:Sporting Event:Fall Champs
DESCRIPTION:ICSA Fleet Race Dingy Regatta
UID:100352-21799647@events.umich.edu
URL:https://events.umich.edu/event/100352
CLASS:PUBLIC
STATUS:CONFIRMED
CATEGORIES:
LOCATION:Chicago, IL
CONTACT:
END:VEVENT
BEGIN:VEVENT
DTSTAMP:20221106T180025
DTSTART;TZID=America/Detroit:20221106T000000
DTEND;TZID=America/Detroit:20221106T235959
SUMMARY:Other:Fall Easterns
DESCRIPTION:Premier fall college tournament hosted by UNC-Wilmington.
UID:100856-21800442@events.umich.edu
URL:https://events.umich.edu/event/100856
CLASS:PUBLIC
STATUS:CONFIRMED
CATEGORIES:
LOCATION:UNC Wilmington
CONTACT:
END:VEVENT
BEGIN:VEVENT
DTSTAMP:20230324T120005
DTSTART;TZID=America/Detroit:20221106T000000
DTEND;TZID=America/Detroit:20221106T235959
SUMMARY:Community Service:Homework Help at The Children's Center
DESCRIPTION:The Homework Help program offers children assistance with their homework assignments. Children are encouraged to bring homework and are paired with a volunteer to assist them. This program is a critical service in helping children thrive. Volunteers give children the tools they need to be successful in school.Virtual and in-person volunteer opportunities are available. If you would like to volunteer\, please start the enrollment process by creating an account on the Children Center's Volunteer Site found HERE. After your account is created\, the Children's Center will reach out to you within 2 business days to answer any questions and discuss the next steps.In accordance with the CMS Vaccine Mandate\, those volunteering in-person at the Children’s Center are required to be fully vaccinated and must provide proof of full vaccination upon request.
UID:93885-21787995@events.umich.edu
URL:https://events.umich.edu/event/93885
CLASS:PUBLIC
STATUS:CONFIRMED
CATEGORIES:
LOCATION:The Children&#039;s Center 
CONTACT:
END:VEVENT
BEGIN:VEVENT
DTSTAMP:20221107T060015
DTSTART;TZID=America/Detroit:20221106T000000
DTEND;TZID=America/Detroit:20221106T235959
SUMMARY:Sporting Event:ICSA Singlehanded Nationals
DESCRIPTION:ICSA Laser National Regatta
UID:100351-21799642@events.umich.edu
URL:https://events.umich.edu/event/100351
CLASS:PUBLIC
STATUS:CONFIRMED
CATEGORIES:
LOCATION:Old Dominion University, Norfolk, VA
CONTACT:
END:VEVENT
BEGIN:VEVENT
DTSTAMP:20221107T060016
DTSTART;TZID=America/Detroit:20221106T000000
DTEND;TZID=America/Detroit:20221106T235959
SUMMARY:Other:Kennedy Cup
DESCRIPTION:ICSA Keelboat Regatta
UID:100353-21799653@events.umich.edu
URL:https://events.umich.edu/event/100353
CLASS:PUBLIC
STATUS:CONFIRMED
CATEGORIES:
LOCATION:United States Naval Academy
CONTACT:
END:VEVENT
BEGIN:VEVENT
DTSTAMP:20220809T173135
DTSTART;TZID=America/Detroit:20221106T080000
DTEND;TZID=America/Detroit:20221106T190000
SUMMARY:Exhibition:Places & Spaces: Mapping Science and A Brief History of Information Graphics
DESCRIPTION:The Places & Spaces: Mapping Science exhibit introduces science mapping techniques and data visualization to the general public and to experts across diverse disciplines\, and we hope inspires cross-disciplinary discussion on how to best track and communicate scholarly activity and scientific progress on a global scale. The exhibit includes a macroscope which showcases interactive visualizations that demonstrate the impact of different data cleaning\, analysis\, and visualization algorithms.\n\nThe Places & Spaces exhibit is curated by the Cyberinfrastructure for Network Science Center at Indiana University. The complementary exhibit\, A Brief History of Information Graphics\, was created by Clark Library staff to provide an historical context to the Places and Spaces exhibit.
UID:96720-21793188@events.umich.edu
URL:https://events.umich.edu/event/96720
CLASS:PUBLIC
STATUS:CONFIRMED
CATEGORIES:Free,Library,Maps
LOCATION:Hatcher Graduate Library - Clark Library (2nd floor)
CONTACT:
END:VEVENT
BEGIN:VEVENT
DTSTAMP:20220930T132239
DTSTART;TZID=America/Detroit:20221106T080000
DTEND;TZID=America/Detroit:20221106T230000
SUMMARY:Class / Instruction:Semester in Detroit Application Open!
DESCRIPTION:Semester in Detroit uses the MCompass system for applications. All applications are accepted on a rolling basis\, which means that the earlier you apply\, the better chance you have of getting in. \n\nApplication Due Dates:\n1/31/23 for the spring 2023 program\n\nProgram Eligibility:\nThe Semester in Detroit spring/summer and fall programs accept undergraduate students from all schools and departments at the University of Michigan-Ann Arbor. All students\, from First years to Seniors or Super Seniors are eligible to apply.\n\nStudents from Grand Valley State University\, UM-Dearborn\, and UM-Flint are eligible to apply for fall programs only. The same application eligibility applies to GVSU\, Dearborn\, and Flint students (all departments\, all class standings). \n\nApplicants should have a strong interest in the city of Detroit and in questioning dominant narratives\; engaging with challenging new perspectives on contemporary issues\; and building community with one another\, SiD faculty and staff\, and community members at internship sites and beyond.\n\nQuestions?\nEmail semesterindetroit@umich.edu.
UID:99614-21798426@events.umich.edu
URL:https://events.umich.edu/event/99614
CLASS:PUBLIC
STATUS:CONFIRMED
CATEGORIES:Activism,Advocacy,civil rights,Community Engagement,Community Organzing,Community-based Learning,detroit,Diversity Equity and Inclusion,Education
LOCATION:
CONTACT:
END:VEVENT
BEGIN:VEVENT
DTSTAMP:20221003T125034
DTSTART;TZID=America/Detroit:20221106T080000
DTEND;TZID=America/Detroit:20221106T190000
SUMMARY:Exhibition:The Dance for Mother Earth Powwow
DESCRIPTION:This exhibit features various aspects of the Native North American powwow. More specifically\, it features the history and culture behind Ann Arbor’s \"Dance for Mother Earth Powwow\,\" which is approaching its much-anticipated 50th celebration.\n\nThe Dance for Mother Earth Powwow is a multi-decade\, intertribal celebration of Indigenous cultures. It grew from its early beginnings as a small gathering in a field just outside of Ann Arbor into one of the largest student-led powwows in North America. The event attracts crowds of thousands — dancers\, singers\, artists\, tribal members from across the country\, and non-Indigenous members of the community.\n\nStop by to learn more about The Dance for Mother Earth Powwow\, modern Indigenous culture\, and resources to connect to today on campus.\n\nThis exhibition was curated by Michigan Library Scholar interns\, Allison Jiang and Andrea Medina. The Michigan Library Scholars internship program provides undergraduate students with the opportunity to research and develop a capstone project under the guidance of experienced library professionals at one of the largest academic research libraries in the world.
UID:96225-21798610@events.umich.edu
URL:https://events.umich.edu/event/96225
CLASS:PUBLIC
STATUS:CONFIRMED
CATEGORIES:Exhibition,Free,Library,Native American
LOCATION:Hatcher Graduate Library - North Lobby
CONTACT:
END:VEVENT
BEGIN:VEVENT
DTSTAMP:20221105T001702
DTSTART;TZID=America/Detroit:20221106T090000
SUMMARY:Sporting Event:Men's Tennis vs Big Ten Singles and Doubles Championships
DESCRIPTION:Men's Tennis vs Big Ten Singles and Doubles Championships
UID:101026-21800706@events.umich.edu
URL:https://events.umich.edu/event/101026
CLASS:PUBLIC
STATUS:CONFIRMED
CATEGORIES:Athletics,Athletics - Men's Tennis
LOCATION:Varsity Tennis Bldg
CONTACT:
END:VEVENT
BEGIN:VEVENT
DTSTAMP:20221106T121643
DTSTART;TZID=America/Detroit:20221106T090000
SUMMARY:Sporting Event:Men's Tennis vs Big Ten Singles and Doubles Championships
DESCRIPTION:Men's Tennis vs Big Ten Singles and Doubles Championships
UID:101100-21800796@events.umich.edu
URL:https://events.umich.edu/event/101100
CLASS:PUBLIC
STATUS:CONFIRMED
CATEGORIES:Athletics,Athletics - Men's Tennis
LOCATION:Varsity Tennis Bldg
CONTACT:
END:VEVENT
BEGIN:VEVENT
DTSTAMP:20220926T162925
DTSTART;TZID=America/Detroit:20221106T100000
DTEND;TZID=America/Detroit:20221106T170000
SUMMARY:Film Screening:29th Ann Arbor Polish Film Festival
DESCRIPTION:The Ann Arbor Polish Film Festival is an annual event organized by the Polish Cultural Fund in cooperation with the Ann Arbor Polonia Association and the U-M Polish Student Association. Since its inception in 1993\, the festival has featured contemporary Polish documentaries\, animated shorts\, and feature films offering diverse perspectives on a range of Polish and global issues. The festival features a juried film competition in three categories: documentary film\, short narrative film\, and film debut.\n   \nFor this year's full program and to purchase tickets\, please see the festival website: https://www.annarborpolishfilmfestival.com/
UID:99323-21797878@events.umich.edu
URL:https://events.umich.edu/event/99323
CLASS:PUBLIC
STATUS:CONFIRMED
CATEGORIES:European,Film,International
LOCATION:Off Campus Location
CONTACT:
END:VEVENT
BEGIN:VEVENT
DTSTAMP:20220818T100608
DTSTART;TZID=America/Detroit:20221106T100000
DTEND;TZID=America/Detroit:20221106T120000
SUMMARY:Ceremony / Service:Sunday Celebration
DESCRIPTION:The school year is about to begin! No matter your background\, join us in kicking off this season with new expectations and hope.\n\nJoin us at 10AM every Sunday to experience church in a fresh way as we worship and seek God together. We meet at the Transformation Center (1001 E. Huron St.) which is located across the street from the Rackham Auditorium and the Power Center.\n\nCurious? Check out our website at https://annarbor.hmcc.net/ to learn more about who we are and what we value.
UID:96832-21793820@events.umich.edu
URL:https://events.umich.edu/event/96832
CLASS:PUBLIC
STATUS:CONFIRMED
CATEGORIES:christian,christianity,church,faith,religious,spiritual,welcome week
LOCATION:Off Campus Location
CONTACT:
END:VEVENT
BEGIN:VEVENT
DTSTAMP:20221106T120012
DTSTART;TZID=America/Detroit:20221106T100000
DTEND;TZID=America/Detroit:20221106T160000
SUMMARY:Sporting Event:Tripleheader at Eastern Michigan University
DESCRIPTION:The University of Michigan club softball team will be playing a triple header away against Eastern Michigan University. Game times are scheduled for 10 am\, 12 pm\, and 2 pm. GO BLUE!
UID:97975-21795414@events.umich.edu
URL:https://events.umich.edu/event/97975
CLASS:PUBLIC
STATUS:CONFIRMED
CATEGORIES:
LOCATION:Eastern Michigan University
CONTACT:
END:VEVENT
BEGIN:VEVENT
DTSTAMP:20221011T103536
DTSTART;TZID=America/Detroit:20221106T110000
DTEND;TZID=America/Detroit:20221106T112000
SUMMARY:Presentation:Science Forum Demo
DESCRIPTION:Join us in the Science Forum for a 15-20 minute engaging science demonstration that will help you see the world in a whole new way. Demonstrations are free and appropriate for visitors ages 5 and above. Schedule subject to change.\n\nShedding Light on Magnets\nWhat makes a magnet magnetic? Why do they stick together? Join us as we explore magnetism\, magnetic fields\, and even what that has to do with your cell phone. We will highlight how researchers use light to study the magnetism of new materials. \n\nMade possible by a grant from the National Science Foundation.
UID:95985-21799100@events.umich.edu
URL:https://events.umich.edu/event/95985
CLASS:PUBLIC
STATUS:CONFIRMED
CATEGORIES:Children,Family,Free,Museum,Natural Sciences,Science
LOCATION:Museum of Natural History
CONTACT:
END:VEVENT
BEGIN:VEVENT
DTSTAMP:20221106T120019
DTSTART;TZID=America/Detroit:20221106T120000
DTEND;TZID=America/Detroit:20221106T160000
SUMMARY:Other:FA Station Square Qualifier Comp
DESCRIPTION:This is a USA Climbing sanctioned qualifying comp\, participation will make you eligible for Divisionals sometime in March. You need to have your PA and Dues submitted to participate\, as well as your USA Climbing Collegiate Membership.Climbing is from 12-4\, therefore we will be leaving Ann Arbor around 7am and returning around 9pm. Direct any questions to mclimbingleaders@umich.edu.  
UID:100613-21800132@events.umich.edu
URL:https://events.umich.edu/event/100613
CLASS:PUBLIC
STATUS:CONFIRMED
CATEGORIES:
LOCATION:FA Climbing - Station Square
CONTACT:
END:VEVENT
BEGIN:VEVENT
DTSTAMP:20221103T195036
DTSTART;TZID=America/Detroit:20221106T120000
DTEND;TZID=America/Detroit:20221106T150000
SUMMARY:Well-being:Wellness Event
DESCRIPTION:Midterm season got you down? Looking for a way to destress while being productive? Well look no further than our wellness event this coming Sunday 11/6! BSA will be having a chill\, 3 hour study session for those needing a nice\, relaxing atmosphere to focus. There will be tea\, study music\, and fellow BSA members to help you concentrate and unwind. We will also have a brief presentation at the beginning of the session\, giving out study and wellness tips and techniques.\n\nLocation: GG Brown Lab\, Blue Lounge
UID:100909-21800744@events.umich.edu
URL:https://events.umich.edu/event/100909
CLASS:PUBLIC
STATUS:CONFIRMED
CATEGORIES:Aerospace,aerospace engineering,In Person,Well-being
LOCATION:GG Brown Laboratory - Blue Lounge
CONTACT:
END:VEVENT
BEGIN:VEVENT
DTSTAMP:20221109T141417
DTSTART;TZID=America/Detroit:20221106T123000
DTEND;TZID=America/Detroit:20221106T131500
SUMMARY:Presentation:Sky Tonight
DESCRIPTION:A live presentation on what to find in the sky tonight and for the coming few weeks. This presentation includes how to find the cardinal directions on your own by finding the North Star\, current and upcoming constellations\, visible planets\, a few deep sky objects depending on the season\, and other interesting astronomical visualizations. If you want to be able to look up from your own backyard and know what to look for\, this is the show for you.\n\nThe state-of-the-art Planetarium & Dome Theater at the U-M Museum of Natural History transports visitors beyond distant stars and back in time from the comfort of reclining seats. Tickets $8. Tickets are available on the day of the show at the Museum Store.\n\nThe planetarium is operating at half capacity to maximize distancing between viewers.
UID:91230-21799120@events.umich.edu
URL:https://events.umich.edu/event/91230
CLASS:PUBLIC
STATUS:CONFIRMED
CATEGORIES:Astronomy,Natural Sciences,Science
LOCATION:Museum of Natural History - Planetarium &amp; Dome Theater
CONTACT:
END:VEVENT
BEGIN:VEVENT
DTSTAMP:20221104T141446
DTSTART;TZID=America/Detroit:20221106T130000
DTEND;TZID=America/Detroit:20221106T140000
SUMMARY:Well-being:Self-Care Sunday
DESCRIPTION:Join Wolverine Support Network for our Self-Care Sunday event on Sunday\, November 6 from 1-2 pm in Mason Hall Room G437. We'll decorate cookies\, sip hot cocoa\, and do guided journaling (please bring your own journal if possible). Free & open to the entire U-M community!
UID:100974-21800621@events.umich.edu
URL:https://events.umich.edu/event/100974
CLASS:PUBLIC
STATUS:CONFIRMED
CATEGORIES:Food,Free,Graduate,In Person,Inclusion,Mindfulness,Social,Social Impact,Social Justice,Student Org,Transfer Students,Undergraduate,Well-being
LOCATION:Mason Hall - G437
CONTACT:
END:VEVENT
BEGIN:VEVENT
DTSTAMP:20221106T120021
DTSTART;TZID=America/Detroit:20221106T130000
DTEND;TZID=America/Detroit:20221106T150000
SUMMARY:Meeting:Star Wars Book Club
DESCRIPTION:Come join some fellow Star Wars fans and read some of the amazing Star Wars books and novels!
UID:100789-21800356@events.umich.edu
URL:https://events.umich.edu/event/100789
CLASS:PUBLIC
STATUS:CONFIRMED
CATEGORIES:
LOCATION:Mason Hall
CONTACT:
END:VEVENT
BEGIN:VEVENT
DTSTAMP:20230309T110228
DTSTART;TZID=America/Detroit:20221106T133000
DTEND;TZID=America/Detroit:20221106T141500
SUMMARY:Presentation:Mars: One Thousand One
DESCRIPTION:Mars: One Thousand One tells a story of what humans might face with the first manned journey to Mars. Reporter Miles O'Brien is reporting live from his Space Headquarters TV Studio in New York while events unfold for the crew on their 1001-day long mission. You will witness firsthand their brave attempts to put human footprints on Mars and return safely to Earth. This journey is made possible by the biggest engineering feat ever and loaded with scientific experiments.\n\nThe state-of-the-art Planetarium & Dome Theater at the U-M Museum of Natural History transports visitors beyond distant stars and back in time from the comfort of reclining seats. Tickets $8. Tickets are available on the day of the show at the Museum Store.\n\nThe planetarium is operating at half capacity to maximize distancing between viewers.
UID:100073-21799161@events.umich.edu
URL:https://events.umich.edu/event/100073
CLASS:PUBLIC
STATUS:CONFIRMED
CATEGORIES:Astronomy,Family,natural history museum,Natural Sciences
LOCATION:Museum of Natural History - Planetarium &amp; Dome Theater
CONTACT:
END:VEVENT
BEGIN:VEVENT
DTSTAMP:20221018T181511
DTSTART;TZID=America/Detroit:20221106T140000
SUMMARY:Performance:The Cunning Little Vixen
DESCRIPTION:Incorporating elements of Moravian folk music and exploring man’s relationship with nature\, Leoš Janáček’s opera about a female fox and a hunter is a bittersweet-yet-comic tale for all ages. \n\nDirected by Tara Faircloth and conducted by Kirk Severtson.
UID:95736-21790826@events.umich.edu
URL:https://events.umich.edu/event/95736
CLASS:PUBLIC
STATUS:CONFIRMED
CATEGORIES:Music,Theater
LOCATION:Power Center for the Performing Arts
CONTACT:
END:VEVENT
BEGIN:VEVENT
DTSTAMP:20221106T121643
DTSTART;TZID=America/Detroit:20221106T140000
SUMMARY:Sporting Event:Volleyball vs Purdue
DESCRIPTION:Volleyball vs Purdue
UID:99999-21798979@events.umich.edu
URL:https://events.umich.edu/event/99999
CLASS:PUBLIC
STATUS:CONFIRMED
CATEGORIES:Athletics,Athletics - Volleyball
LOCATION:Off Campus Location
CONTACT:
END:VEVENT
BEGIN:VEVENT
DTSTAMP:20221109T141417
DTSTART;TZID=America/Detroit:20221106T143000
DTEND;TZID=America/Detroit:20221106T151500
SUMMARY:Presentation:Sky Tonight
DESCRIPTION:A live presentation on what to find in the sky tonight and for the coming few weeks. This presentation includes how to find the cardinal directions on your own by finding the North Star\, current and upcoming constellations\, visible planets\, a few deep sky objects depending on the season\, and other interesting astronomical visualizations. If you want to be able to look up from your own backyard and know what to look for\, this is the show for you.\n\nThe state-of-the-art Planetarium & Dome Theater at the U-M Museum of Natural History transports visitors beyond distant stars and back in time from the comfort of reclining seats. Tickets $8. Tickets are available on the day of the show at the Museum Store.\n\nThe planetarium is operating at half capacity to maximize distancing between viewers.
UID:91230-21799124@events.umich.edu
URL:https://events.umich.edu/event/91230
CLASS:PUBLIC
STATUS:CONFIRMED
CATEGORIES:Astronomy,Natural Sciences,Science
LOCATION:Museum of Natural History - Planetarium &amp; Dome Theater
CONTACT:
END:VEVENT
BEGIN:VEVENT
DTSTAMP:20221027T001248
DTSTART;TZID=America/Detroit:20221106T143000
DTEND;TZID=America/Detroit:20221106T163000
SUMMARY:Film Screening:Ukrainian Film Series — November Film: Julie Blue at the State Theatre
DESCRIPTION:A variety of Ukrainian films are shown monthly including:\n\nJulia Blue (Film screening and meeting with filmmaker Roxy Toporowych) on Sunday\, November 6\, 2022 at the\nState Theater\, 233 State Street\, downtown Ann Arbor\n\nAwaiting a response from an esteemed Germany-based photography institute\, Julia develops a special bond with a PTSD-ridden soldier from a war zone in post-revolution Ukraine\n\nSeptember Film:\nCyborgs: Heroes Never Die (Кiборги: Герої не вмирають) \non Thursday\, September 22\, 2022 from 6-8 pm in MLB Auditorium 1200 (First floor\, Modern Language Building).\n\nA 2017 Ukrainian war drama film about the Second Battle of Donetsk Airport during the war in Donbas.\n\nOctober Film:\nTHE EARTH IS BLUE AS AN ORANGE \nThursday\, October 20\, 2022\n6-8 PM in MLB Auditorium 3\n (1st floor\, Modern Language Building).\n\nTo cope with the daily trauma of living in a war-zone\, Anna and her children are making a film together about their life in the most surreal surroundings. The creative process raises the question of what kind of impact cinema might have during times of disaster\, and how to picture war through the camera’s lens. For Anna and the children\, transforming trauma into a work of art is the ultimate way to stay human.\nDirector/ Script: Iryna Tsilyk\, Ukraine\nProducer: Anna Kapustina / Albatros Communicos\, Ukraine\nProducer: Giedrė Žickytė / Moonmakers\, Lithuania\n\nWinner of the Directing Award for World Cinema Documentary at the 2020 Sundance Film Festival\, THE EARTH IS AS BLUE AS AN ORANGE stands not only as a remarkable document of the Russo-Ukrainian War through the lens - literally - of this family's creative process\, but as an optimistic testament to the power of art and beauty in the face of destruction.
UID:99010-21797457@events.umich.edu
URL:https://events.umich.edu/event/99010
CLASS:PUBLIC
STATUS:CONFIRMED
CATEGORIES:Film,International,Russian,Slavic,Ukraine,Ukrainian
LOCATION:Off Campus Location - TBD (November)
CONTACT:
END:VEVENT
BEGIN:VEVENT
DTSTAMP:20221109T133538
DTSTART;TZID=America/Detroit:20221106T150000
DTEND;TZID=America/Detroit:20221106T152000
SUMMARY:Lecture / Discussion:Science Forum Demos
DESCRIPTION:Take a journey through deep time as we explore a story that has taken millions of years to unfold\, and then examine a brand new discovery! Where did life begin? How did the first four-footed land animals emerge? And why do fossil whales have feet? Participants examine the museum’s fossil whales and related species as they learn about the evolutionary processes responsible for the diversity of life on earth.\n\nJoin us in the Science Forum for this 15-20 minute engaging science demonstration that will help you see the world in a whole new way. Demonstrations are free and appropriate for visitors ages 5 and above. Schedule subject to change.
UID:98531-21799094@events.umich.edu
URL:https://events.umich.edu/event/98531
CLASS:PUBLIC
STATUS:CONFIRMED
CATEGORIES:Free,Museum,Natural Sciences,Science
LOCATION:Museum of Natural History
CONTACT:
END:VEVENT
BEGIN:VEVENT
DTSTAMP:20221106T120009
DTSTART;TZID=America/Detroit:20221106T153000
DTEND;TZID=America/Detroit:20221106T173000
SUMMARY:Other:University of Michigan Women’s Ice Hockey vs LSSU
DESCRIPTION:Home
UID:97687-21794959@events.umich.edu
URL:https://events.umich.edu/event/97687
CLASS:PUBLIC
STATUS:CONFIRMED
CATEGORIES:
LOCATION:Yost Ice Arena
CONTACT:
END:VEVENT
BEGIN:VEVENT
DTSTAMP:20220805T181514
DTSTART;TZID=America/Detroit:20221106T160000
SUMMARY:Performance:James Kibbie: The Complete Organ Works of J.S. Bach Program 6
DESCRIPTION:4:00 pm\n3:40 pm: Introduction to the program\n\nLivestreamed (real time only)\n\nJames Kibbie performs the 281 extant organ works of Johann Sebastian Bach in 18 concerts. An informal introduction to the music to be performed precedes each program. Additional information is available on the Bach Series website (http://www-personal.umich.edu/~jkibbie/kibbie-bach.html). \n\nDonations may be made to the James Kibbie Endowed Scholarship Fund or at the Donations page https://leadersandbest.umich.edu/find/#!/give/basket/fund/570523.\n\nProgram\nhttp://smtd.umich.edu/wp-content/uploads/2022/08/Program-6.pdf
UID:96553-21792881@events.umich.edu
URL:https://events.umich.edu/event/96553
CLASS:PUBLIC
STATUS:CONFIRMED
CATEGORIES:Free,Music
LOCATION:Earl V. Moore Building - Blanche Anderson Moore Hall
CONTACT:
END:VEVENT
BEGIN:VEVENT
DTSTAMP:20220708T121554
DTSTART;TZID=America/Detroit:20221106T190000
SUMMARY:Sporting Event:Volleyball vs Purdue
DESCRIPTION:Volleyball vs Purdue
UID:95597-21790449@events.umich.edu
URL:https://events.umich.edu/event/95597
CLASS:PUBLIC
STATUS:CONFIRMED
CATEGORIES:Athletics,Athletics - Volleyball
LOCATION:Off Campus Location
CONTACT:
END:VEVENT
BEGIN:VEVENT
DTSTAMP:20221106T181012
DTSTART;TZID=America/Detroit:20221106T193000
SUMMARY:Performance:Peter Madcat Ruth's
DESCRIPTION:Presented by The Ark Extraordinary blues harmonica from a Michigander. \nPlease visit https://mutotix.umich.edu/3505/3506 for more detail.
UID:96439-21792536@events.umich.edu
URL:https://events.umich.edu/event/96439
CLASS:PUBLIC
STATUS:CONFIRMED
CATEGORIES:Ark,Art,Mutotix
LOCATION:ARK Reserved
CONTACT:
END:VEVENT
END:VCALENDAR