BEGIN:VCALENDAR
VERSION:2.0
PRODID:-//UM//UM*Events//EN
CALSCALE:GREGORIAN
BEGIN:VTIMEZONE
TZID:America/Detroit
TZURL:http://tzurl.org/zoneinfo/America/Detroit
X-LIC-LOCATION:America/Detroit
BEGIN:DAYLIGHT
TZOFFSETFROM:-0500
TZOFFSETTO:-0400
TZNAME:EDT
DTSTART:20070311T020000
RRULE:FREQ=YEARLY;BYMONTH=3;BYDAY=2SU
END:DAYLIGHT
BEGIN:STANDARD
TZOFFSETFROM:-0400
TZOFFSETTO:-0500
TZNAME:EST
DTSTART:20071104T020000
RRULE:FREQ=YEARLY;BYMONTH=11;BYDAY=1SU
END:STANDARD
END:VTIMEZONE
BEGIN:VEVENT
DTSTAMP:20221127T183036
DTSTART;TZID=America/Detroit:20221113T000000
SUMMARY:Careers / Jobs:2022 Women in Technology Intern and Analyst Conference
DESCRIPTION:The Wells Fargo Women in Technology Intern/Analyst Conference is an exclusive two-day program designed to encourage and inspire women who have an interest in pursuing a career in Technology. A select group of high-performing students from diverse backgrounds will be invited to participate.\n\nDuring this conference\, you will have the opportunity to learn from successful women in technology at Wells Fargo who will share their expertise and knowledge to help you become a future leader. You will developan understanding of Wells Fargo’s unique values and culture\, which youwill experience first-hand in your interactions with highly talented teammembers. You will have an accelerated opportunity to interview with hiring managers for intern/analyst program positions across the Wells Fargo Technology platform.\n\nConference Activities\n    •    Consideration for Openings in the 2023 Intern/Analyst Program\n    •    Panel Discussions with Alumni from the Technology Program\n    •    Professional Development Workshop\n    •    Networking with Technology Leaders and Program Alumni\n    •    Presentation about Wells Fargo\, Technology\, and Career Paths\n\nEvent Details\n    •    Dates: November 13th - 15th\n    •    Location: Charlotte\, NC\n\nInvitation and attendance at the conference does not guarantee an intern/analyst position placement. Interviews for the various 2023 openings will take place during the conference on the 2nd day.\n\nImportant Conference Details\n\nThe conference is open to all studentswho are currently pursuing a bachelor’s degree in a STEM related major (examples: Computer Science and Computer Engineering) and graduating between December 2022-June 2025\n    •    Cover letter not required\, but accepted. If submitting a cover \n          letter\, please bundle with your resume into ONE document(PDF)\, \n          and upload in the Resume section of your submission\n    •    If a cover letter is included\, explain why you are interested in \n          attending the Wells Fargo Women in Technology Conference\, \n          highlighting qualities that make you a competitive candidate\n    •    Candidates invited to the conference will be contacted \n          individually with additional information and details\n    •    To express interest\, visit this website: \n          https://pages.beamery.com/wellsfargo/page/2022-women-in- \n          technology-conference-_ovwb9bp18.   \nSubmissions will be accepted through Sunday\, October 2\, 2022 until 11:59pm EST.\n
UID:99209-21797710@events.umich.edu
URL:https://events.umich.edu/event/99209
CLASS:PUBLIC
STATUS:CONFIRMED
CATEGORIES:
LOCATION:Charlotte, North Carolina, United States
CONTACT:
END:VEVENT
BEGIN:VEVENT
DTSTAMP:20221113T180012
DTSTART;TZID=America/Detroit:20221113T000000
DTEND;TZID=America/Detroit:20221113T235959
SUMMARY:Other:Badger Classic
DESCRIPTION:Tournament hosted by UW-Madison
UID:100117-21799232@events.umich.edu
URL:https://events.umich.edu/event/100117
CLASS:PUBLIC
STATUS:CONFIRMED
CATEGORIES:
LOCATION:Nielsen Tennis Stadium
CONTACT:
END:VEVENT
BEGIN:VEVENT
DTSTAMP:20230324T120005
DTSTART;TZID=America/Detroit:20221113T000000
DTEND;TZID=America/Detroit:20221113T235959
SUMMARY:Community Service:Homework Help at The Children's Center
DESCRIPTION:The Homework Help program offers children assistance with their homework assignments. Children are encouraged to bring homework and are paired with a volunteer to assist them. This program is a critical service in helping children thrive. Volunteers give children the tools they need to be successful in school.Virtual and in-person volunteer opportunities are available. If you would like to volunteer\, please start the enrollment process by creating an account on the Children Center's Volunteer Site found HERE. After your account is created\, the Children's Center will reach out to you within 2 business days to answer any questions and discuss the next steps.In accordance with the CMS Vaccine Mandate\, those volunteering in-person at the Children’s Center are required to be fully vaccinated and must provide proof of full vaccination upon request.
UID:93885-21788002@events.umich.edu
URL:https://events.umich.edu/event/93885
CLASS:PUBLIC
STATUS:CONFIRMED
CATEGORIES:
LOCATION:The Children&#039;s Center 
CONTACT:
END:VEVENT
BEGIN:VEVENT
DTSTAMP:20221114T120021
DTSTART;TZID=America/Detroit:20221113T000000
DTEND;TZID=America/Detroit:20221113T235959
SUMMARY:Sporting Event:NATIONALS
DESCRIPTION:NATTYS
UID:101050-21800733@events.umich.edu
URL:https://events.umich.edu/event/101050
CLASS:PUBLIC
STATUS:CONFIRMED
CATEGORIES:
LOCATION:Newberg OR
CONTACT:
END:VEVENT
BEGIN:VEVENT
DTSTAMP:20221113T120007
DTSTART;TZID=America/Detroit:20221113T000000
DTEND;TZID=America/Detroit:20221113T235959
SUMMARY:Other:NIRCA Cross Country National Championships
DESCRIPTION:NIRCA glory is in reach! Let's go!!
UID:95927-21791449@events.umich.edu
URL:https://events.umich.edu/event/95927
CLASS:PUBLIC
STATUS:CONFIRMED
CATEGORIES:
LOCATION:Pole Green Park
CONTACT:
END:VEVENT
BEGIN:VEVENT
DTSTAMP:20220809T173135
DTSTART;TZID=America/Detroit:20221113T080000
DTEND;TZID=America/Detroit:20221113T190000
SUMMARY:Exhibition:Places & Spaces: Mapping Science and A Brief History of Information Graphics
DESCRIPTION:The Places & Spaces: Mapping Science exhibit introduces science mapping techniques and data visualization to the general public and to experts across diverse disciplines\, and we hope inspires cross-disciplinary discussion on how to best track and communicate scholarly activity and scientific progress on a global scale. The exhibit includes a macroscope which showcases interactive visualizations that demonstrate the impact of different data cleaning\, analysis\, and visualization algorithms.\n\nThe Places & Spaces exhibit is curated by the Cyberinfrastructure for Network Science Center at Indiana University. The complementary exhibit\, A Brief History of Information Graphics\, was created by Clark Library staff to provide an historical context to the Places and Spaces exhibit.
UID:96720-21793195@events.umich.edu
URL:https://events.umich.edu/event/96720
CLASS:PUBLIC
STATUS:CONFIRMED
CATEGORIES:Free,Library,Maps
LOCATION:Hatcher Graduate Library - Clark Library (2nd floor)
CONTACT:
END:VEVENT
BEGIN:VEVENT
DTSTAMP:20221128T063039
DTSTART;TZID=America/Detroit:20221113T080000
DTEND;TZID=America/Detroit:20221113T130000
SUMMARY:Careers / Jobs:Raytheon Missiles & Defense Boston/NE Hiring Event 11/13 - 11/15
DESCRIPTION:Join Raytheon Missiles & Defense (RMD) for a Two-Day Hiring Event and Networking opportunity in Boston\, MA. This is an invitation-only event for qualified early career/entry-level candidates interested in positions located in the surrounding Boston\, MA area. This 2-day hiring eventwill be a great opportunity for you to learn more about us – how we’re combining new ways of thinking and leading-edge technologies to solve some of the world’s most complex challenges and toughest threats – and how you can apply your skills and talents to help create a safer future. During this event\, you will have the opportunity to network with RMD hiringmanagers\, RMD Leadership company overview/panel discussion\, and interviews. Qualified applicants\, if selected to attend the event\, will have travel\, lodging\, and meals covered by Raytheon Missiles & Defense and all travel will be booked directly through our travel vendor. \n\n**Please note\, RSVPing \"yes\" does not guarantee your attendance at the event or act as your official invitation to attend. If invited to attend\, a Talent Acquisition Representative will contact you with next steps.\n\n** Positions with Raytheon Missiles & Defense require the eligibility to obtain a security clearance. Non-US citizens may not be eligible to obtain a security clearance. The Defense Industrial Security Clearance Office (DISCO)\, an agency of the Department of Defense\, handles and adjudicates the security clearance process. More information about Security Clearances can be found onthe US Department of State government website here: https://www.state.gov/m/ds/clearances/c10978.htm
UID:100556-21800070@events.umich.edu
URL:https://events.umich.edu/event/100556
CLASS:PUBLIC
STATUS:CONFIRMED
CATEGORIES:
LOCATION:
CONTACT:
END:VEVENT
BEGIN:VEVENT
DTSTAMP:20220930T132239
DTSTART;TZID=America/Detroit:20221113T080000
DTEND;TZID=America/Detroit:20221113T230000
SUMMARY:Class / Instruction:Semester in Detroit Application Open!
DESCRIPTION:Semester in Detroit uses the MCompass system for applications. All applications are accepted on a rolling basis\, which means that the earlier you apply\, the better chance you have of getting in. \n\nApplication Due Dates:\n1/31/23 for the spring 2023 program\n\nProgram Eligibility:\nThe Semester in Detroit spring/summer and fall programs accept undergraduate students from all schools and departments at the University of Michigan-Ann Arbor. All students\, from First years to Seniors or Super Seniors are eligible to apply.\n\nStudents from Grand Valley State University\, UM-Dearborn\, and UM-Flint are eligible to apply for fall programs only. The same application eligibility applies to GVSU\, Dearborn\, and Flint students (all departments\, all class standings). \n\nApplicants should have a strong interest in the city of Detroit and in questioning dominant narratives\; engaging with challenging new perspectives on contemporary issues\; and building community with one another\, SiD faculty and staff\, and community members at internship sites and beyond.\n\nQuestions?\nEmail semesterindetroit@umich.edu.
UID:99614-21798427@events.umich.edu
URL:https://events.umich.edu/event/99614
CLASS:PUBLIC
STATUS:CONFIRMED
CATEGORIES:Activism,Advocacy,civil rights,Community Engagement,Community Organzing,Community-based Learning,detroit,Diversity Equity and Inclusion,Education
LOCATION:
CONTACT:
END:VEVENT
BEGIN:VEVENT
DTSTAMP:20221003T125034
DTSTART;TZID=America/Detroit:20221113T080000
DTEND;TZID=America/Detroit:20221113T190000
SUMMARY:Exhibition:The Dance for Mother Earth Powwow
DESCRIPTION:This exhibit features various aspects of the Native North American powwow. More specifically\, it features the history and culture behind Ann Arbor’s \"Dance for Mother Earth Powwow\,\" which is approaching its much-anticipated 50th celebration.\n\nThe Dance for Mother Earth Powwow is a multi-decade\, intertribal celebration of Indigenous cultures. It grew from its early beginnings as a small gathering in a field just outside of Ann Arbor into one of the largest student-led powwows in North America. The event attracts crowds of thousands — dancers\, singers\, artists\, tribal members from across the country\, and non-Indigenous members of the community.\n\nStop by to learn more about The Dance for Mother Earth Powwow\, modern Indigenous culture\, and resources to connect to today on campus.\n\nThis exhibition was curated by Michigan Library Scholar interns\, Allison Jiang and Andrea Medina. The Michigan Library Scholars internship program provides undergraduate students with the opportunity to research and develop a capstone project under the guidance of experienced library professionals at one of the largest academic research libraries in the world.
UID:96225-21798617@events.umich.edu
URL:https://events.umich.edu/event/96225
CLASS:PUBLIC
STATUS:CONFIRMED
CATEGORIES:Exhibition,Free,Library,Native American
LOCATION:Hatcher Graduate Library - North Lobby
CONTACT:
END:VEVENT
BEGIN:VEVENT
DTSTAMP:20221102T133024
DTSTART;TZID=America/Detroit:20221113T093000
DTEND;TZID=America/Detroit:20221113T140000
SUMMARY:Sporting Event:Wheelchair Basketball: University of Michigan v Edinboro University
DESCRIPTION:On Sunday\, November 13th University of Michigan's wheelchair basketball team is hosting Edinboro University's wheelchair basketball team for a double-header of regular season games. These are big games for our Wolverines as we look to climb the standings. There are 26 teams in Division 2 of the National Wheelchair Basketball Association and only the top 16 at the end of February get invited to the National Championships.\n\nThe games will take place at the UM IM Building located at 606 E Hoover Ave\, Ann Arbor\, MI 48104. Admission is free for students\, staff\, faculty\, and members of the public.\n\nGame times are 9:30AM and 11:45AM.\n\nGames will also be live streamed to our Facebook page.
UID:100969-21800620@events.umich.edu
URL:https://events.umich.edu/event/100969
CLASS:PUBLIC
STATUS:CONFIRMED
CATEGORIES:Athletics,Diversity Equity and Inclusion,Fitness,Game Day,Games,Inclusion,Kinesiology
LOCATION:Intramural Sports Building - Court 4
CONTACT:
END:VEVENT
BEGIN:VEVENT
DTSTAMP:20220818T100608
DTSTART;TZID=America/Detroit:20221113T100000
DTEND;TZID=America/Detroit:20221113T120000
SUMMARY:Ceremony / Service:Sunday Celebration
DESCRIPTION:The school year is about to begin! No matter your background\, join us in kicking off this season with new expectations and hope.\n\nJoin us at 10AM every Sunday to experience church in a fresh way as we worship and seek God together. We meet at the Transformation Center (1001 E. Huron St.) which is located across the street from the Rackham Auditorium and the Power Center.\n\nCurious? Check out our website at https://annarbor.hmcc.net/ to learn more about who we are and what we value.
UID:96832-21793821@events.umich.edu
URL:https://events.umich.edu/event/96832
CLASS:PUBLIC
STATUS:CONFIRMED
CATEGORIES:christian,christianity,church,faith,religious,spiritual,welcome week
LOCATION:Off Campus Location
CONTACT:
END:VEVENT
BEGIN:VEVENT
DTSTAMP:20221011T103536
DTSTART;TZID=America/Detroit:20221113T110000
DTEND;TZID=America/Detroit:20221113T112000
SUMMARY:Presentation:Science Forum Demo
DESCRIPTION:Join us in the Science Forum for a 15-20 minute engaging science demonstration that will help you see the world in a whole new way. Demonstrations are free and appropriate for visitors ages 5 and above. Schedule subject to change.\n\nShedding Light on Magnets\nWhat makes a magnet magnetic? Why do they stick together? Join us as we explore magnetism\, magnetic fields\, and even what that has to do with your cell phone. We will highlight how researchers use light to study the magnetism of new materials. \n\nMade possible by a grant from the National Science Foundation.
UID:95985-21799101@events.umich.edu
URL:https://events.umich.edu/event/95985
CLASS:PUBLIC
STATUS:CONFIRMED
CATEGORIES:Children,Family,Free,Museum,Natural Sciences,Science
LOCATION:Museum of Natural History
CONTACT:
END:VEVENT
BEGIN:VEVENT
DTSTAMP:20221106T203232
DTSTART;TZID=America/Detroit:20221113T120000
DTEND;TZID=America/Detroit:20221113T140000
SUMMARY:Well-being:Self-Care Sunday
DESCRIPTION:Join Wolverine Support Network and If You're Reading This for our collaborative Self-Care Sunday event on Sunday\, November 13 from 12-2 pm in Mason Hall Room 3314. We'll make stress balls\, color\, and write letters. Free & open to the entire U-M community!
UID:101119-21800814@events.umich.edu
URL:https://events.umich.edu/event/101119
CLASS:PUBLIC
STATUS:CONFIRMED
CATEGORIES:Activism,Community Service,Free,Graduate Students,In Person,Inclusion,Mindfulness,Social,Social Impact,Social Justice,Storytelling,Transfer Students,Undergraduate Students,Well-being
LOCATION:Mason Hall - 3314
CONTACT:
END:VEVENT
BEGIN:VEVENT
DTSTAMP:20221109T141417
DTSTART;TZID=America/Detroit:20221113T123000
DTEND;TZID=America/Detroit:20221113T131500
SUMMARY:Presentation:Sky Tonight
DESCRIPTION:A live presentation on what to find in the sky tonight and for the coming few weeks. This presentation includes how to find the cardinal directions on your own by finding the North Star\, current and upcoming constellations\, visible planets\, a few deep sky objects depending on the season\, and other interesting astronomical visualizations. If you want to be able to look up from your own backyard and know what to look for\, this is the show for you.\n\nThe state-of-the-art Planetarium & Dome Theater at the U-M Museum of Natural History transports visitors beyond distant stars and back in time from the comfort of reclining seats. Tickets $8. Tickets are available on the day of the show at the Museum Store.\n\nThe planetarium is operating at half capacity to maximize distancing between viewers.
UID:91230-21799121@events.umich.edu
URL:https://events.umich.edu/event/91230
CLASS:PUBLIC
STATUS:CONFIRMED
CATEGORIES:Astronomy,Natural Sciences,Science
LOCATION:Museum of Natural History - Planetarium &amp; Dome Theater
CONTACT:
END:VEVENT
BEGIN:VEVENT
DTSTAMP:20230309T110228
DTSTART;TZID=America/Detroit:20221113T133000
DTEND;TZID=America/Detroit:20221113T141500
SUMMARY:Presentation:Mars: One Thousand One
DESCRIPTION:Mars: One Thousand One tells a story of what humans might face with the first manned journey to Mars. Reporter Miles O'Brien is reporting live from his Space Headquarters TV Studio in New York while events unfold for the crew on their 1001-day long mission. You will witness firsthand their brave attempts to put human footprints on Mars and return safely to Earth. This journey is made possible by the biggest engineering feat ever and loaded with scientific experiments.\n\nThe state-of-the-art Planetarium & Dome Theater at the U-M Museum of Natural History transports visitors beyond distant stars and back in time from the comfort of reclining seats. Tickets $8. Tickets are available on the day of the show at the Museum Store.\n\nThe planetarium is operating at half capacity to maximize distancing between viewers.
UID:100073-21799162@events.umich.edu
URL:https://events.umich.edu/event/100073
CLASS:PUBLIC
STATUS:CONFIRMED
CATEGORIES:Astronomy,Family,natural history museum,Natural Sciences
LOCATION:Museum of Natural History - Planetarium &amp; Dome Theater
CONTACT:
END:VEVENT
BEGIN:VEVENT
DTSTAMP:20220622T181508
DTSTART;TZID=America/Detroit:20221113T140000
SUMMARY:Performance:Bernarda Alba
DESCRIPTION:music\, book\, & lyrics by John Michael LaChiusa\nLinda Goodrich\, director\nCatherine Walker\, music director\nRon de Jesús\, choregraphy\n\ntickets on sale August 9\, 2022
UID:95739-21790833@events.umich.edu
URL:https://events.umich.edu/event/95739
CLASS:PUBLIC
STATUS:CONFIRMED
CATEGORIES:
LOCATION:Walgreen Drama Center - Arthur Miller Theatre
CONTACT:
END:VEVENT
BEGIN:VEVENT
DTSTAMP:20221102T230300
DTSTART;TZID=America/Detroit:20221113T140000
DTEND;TZID=America/Detroit:20221113T150000
SUMMARY:Well-being:WSN Drop-In Support Group
DESCRIPTION:Give & receive support during this 1-hour peer-led support group. Led by trained peer facilitators\, WSN Drop-In Group gives you the chance to try out a WSN group without commitment. Show up once or every week to receive support for your mental health & day-to-day lives in a community of folks with various identities and experiences. This group is open to all undergraduate and graduate students at U-M.\n\nZOOM LINK: tinyurl.com/wsndropingroup\n\nThe remaining drop-in group times for the Fall 2022 semester are as follows: \n - Friday\, November 4 from 4-5 pm\n - Sunday\, November 13 from 2-3 pm\n - Sunday\, November 20 from 2-3 pm\n - Friday\, December 2 from 4-5 pm\n - Sunday\, December 11 from 2-3 pm\n\nWolverine Support Network (WSN) is a student organization that empowers University of Michigan students to create an inclusive community and support each other’s identity\, mental well-being\, and day-to-day lives through peer support programming & mental health advocacy. If you have any questions about Drop-In Group\, our weekly peer support groups\, or WSN in general\, feel free to browse our website at umichwsn.org or reach out to wsndirectors@umich.edu.
UID:100946-21800584@events.umich.edu
URL:https://events.umich.edu/event/100946
CLASS:PUBLIC
STATUS:CONFIRMED
CATEGORIES:Activism,Free,Graduate,Inclusion,Mindfulness,Social,Social Impact,Social Justice,Student Org,Transfer Students,Undergraduate,Virtual,Welcome to Michigan,Well-being
LOCATION:Off Campus Location
CONTACT:
END:VEVENT
BEGIN:VEVENT
DTSTAMP:20221109T141417
DTSTART;TZID=America/Detroit:20221113T143000
DTEND;TZID=America/Detroit:20221113T151500
SUMMARY:Presentation:Sky Tonight
DESCRIPTION:A live presentation on what to find in the sky tonight and for the coming few weeks. This presentation includes how to find the cardinal directions on your own by finding the North Star\, current and upcoming constellations\, visible planets\, a few deep sky objects depending on the season\, and other interesting astronomical visualizations. If you want to be able to look up from your own backyard and know what to look for\, this is the show for you.\n\nThe state-of-the-art Planetarium & Dome Theater at the U-M Museum of Natural History transports visitors beyond distant stars and back in time from the comfort of reclining seats. Tickets $8. Tickets are available on the day of the show at the Museum Store.\n\nThe planetarium is operating at half capacity to maximize distancing between viewers.
UID:91230-21799125@events.umich.edu
URL:https://events.umich.edu/event/91230
CLASS:PUBLIC
STATUS:CONFIRMED
CATEGORIES:Astronomy,Natural Sciences,Science
LOCATION:Museum of Natural History - Planetarium &amp; Dome Theater
CONTACT:
END:VEVENT
BEGIN:VEVENT
DTSTAMP:20221109T133538
DTSTART;TZID=America/Detroit:20221113T150000
DTEND;TZID=America/Detroit:20221113T152000
SUMMARY:Lecture / Discussion:Science Forum Demos
DESCRIPTION:Take a journey through deep time as we explore a story that has taken millions of years to unfold\, and then examine a brand new discovery! Where did life begin? How did the first four-footed land animals emerge? And why do fossil whales have feet? Participants examine the museum’s fossil whales and related species as they learn about the evolutionary processes responsible for the diversity of life on earth.\n\nJoin us in the Science Forum for this 15-20 minute engaging science demonstration that will help you see the world in a whole new way. Demonstrations are free and appropriate for visitors ages 5 and above. Schedule subject to change.
UID:98531-21799095@events.umich.edu
URL:https://events.umich.edu/event/98531
CLASS:PUBLIC
STATUS:CONFIRMED
CATEGORIES:Free,Museum,Natural Sciences,Science
LOCATION:Museum of Natural History
CONTACT:
END:VEVENT
BEGIN:VEVENT
DTSTAMP:20220805T181514
DTSTART;TZID=America/Detroit:20221113T160000
SUMMARY:Performance:James Kibbie: The Complete Organ Works of J.S. Bach Program 7
DESCRIPTION:4:00 pm\n3:40 pm: Introduction to the program\n\nLivestreamed (real time only)\n\nJames Kibbie performs the 281 extant organ works of Johann Sebastian Bach in 18 concerts. An informal introduction to the music to be performed precedes each program. Additional information is available on the Bach Series website (http://www-personal.umich.edu/~jkibbie/kibbie-bach.html). \n\nDonations may be made to the James Kibbie Endowed Scholarship Fund or at the Donations page https://leadersandbest.umich.edu/find/#!/give/basket/fund/570523.\n\nProgram\nhttp://smtd.umich.edu/wp-content/uploads/2022/08/Program-7.pdf
UID:96554-21792882@events.umich.edu
URL:https://events.umich.edu/event/96554
CLASS:PUBLIC
STATUS:CONFIRMED
CATEGORIES:Free,Music
LOCATION:Earl V. Moore Building - Blanche Anderson Moore Hall
CONTACT:
END:VEVENT
BEGIN:VEVENT
DTSTAMP:20221113T181011
DTSTART;TZID=America/Detroit:20221113T193000
SUMMARY:Performance:Rachael Davis
DESCRIPTION:A linchpin of Michigan’s music community. \nPlease visit https://mutotix.umich.edu/3467/3468 for more detail.
UID:95587-21790358@events.umich.edu
URL:https://events.umich.edu/event/95587
CLASS:PUBLIC
STATUS:CONFIRMED
CATEGORIES:Ark,Music,Mutotix
LOCATION:ARK Reserved
CONTACT:
END:VEVENT
END:VCALENDAR