BEGIN:VCALENDAR
VERSION:2.0
PRODID:-//UM//UM*Events//EN
CALSCALE:GREGORIAN
BEGIN:VTIMEZONE
TZID:America/Detroit
TZURL:http://tzurl.org/zoneinfo/America/Detroit
X-LIC-LOCATION:America/Detroit
BEGIN:DAYLIGHT
TZOFFSETFROM:-0500
TZOFFSETTO:-0400
TZNAME:EDT
DTSTART:20070311T020000
RRULE:FREQ=YEARLY;BYMONTH=3;BYDAY=2SU
END:DAYLIGHT
BEGIN:STANDARD
TZOFFSETFROM:-0400
TZOFFSETTO:-0500
TZNAME:EST
DTSTART:20071104T020000
RRULE:FREQ=YEARLY;BYMONTH=11;BYDAY=1SU
END:STANDARD
END:VTIMEZONE
BEGIN:VEVENT
DTSTAMP:20221113T235541
DTSTART;TZID=America/Detroit:20221122T000000
DTEND;TZID=America/Detroit:20221122T235900
SUMMARY:Other:Community Gift Drive Fundraiser
DESCRIPTION:GradSWE\, SWE\, and Eta Kappa Nu are collecting financial donations for the Community Action Network’s Holiday Gift Drive to sponsor kids’ wants and needs this holiday season. CAN supports under-resourced communities in Washtenaw County in many ways. The gift drive allows families to focus their finances towards necessities like rent\, gas\, etc without the added financial stress of providing gifts for their kids. Donations in any amount would be greatly appreciated to help us support this worthy cause.\n\nAll participants will be invited to the Engineering Community Holiday Celebration on Friday\, December 2nd to thank you for your contribution! The organization that raises the most money will win a pizza party for their organization. Help GradSWE earn the pizza party by donating to the GradSWE Venmo: please add your uniqname and “GradSWE” to the note!\n\nPlease contact Cecelia Kinane at cakinane@umich.edu with any questions!
UID:101329-21801224@events.umich.edu
URL:https://events.umich.edu/event/101329
CLASS:PUBLIC
STATUS:CONFIRMED
CATEGORIES:Graduate Students,Michigan Engineering,Undergraduate Students
LOCATION:
CONTACT:
END:VEVENT
BEGIN:VEVENT
DTSTAMP:20230324T120005
DTSTART;TZID=America/Detroit:20221122T000000
DTEND;TZID=America/Detroit:20221122T235959
SUMMARY:Community Service:Homework Help at The Children's Center
DESCRIPTION:The Homework Help program offers children assistance with their homework assignments. Children are encouraged to bring homework and are paired with a volunteer to assist them. This program is a critical service in helping children thrive. Volunteers give children the tools they need to be successful in school.Virtual and in-person volunteer opportunities are available. If you would like to volunteer\, please start the enrollment process by creating an account on the Children Center's Volunteer Site found HERE. After your account is created\, the Children's Center will reach out to you within 2 business days to answer any questions and discuss the next steps.In accordance with the CMS Vaccine Mandate\, those volunteering in-person at the Children’s Center are required to be fully vaccinated and must provide proof of full vaccination upon request.
UID:93885-21788011@events.umich.edu
URL:https://events.umich.edu/event/93885
CLASS:PUBLIC
STATUS:CONFIRMED
CATEGORIES:
LOCATION:The Children&#039;s Center 
CONTACT:
END:VEVENT
BEGIN:VEVENT
DTSTAMP:20220809T173135
DTSTART;TZID=America/Detroit:20221122T080000
DTEND;TZID=America/Detroit:20221122T190000
SUMMARY:Exhibition:Places & Spaces: Mapping Science and A Brief History of Information Graphics
DESCRIPTION:The Places & Spaces: Mapping Science exhibit introduces science mapping techniques and data visualization to the general public and to experts across diverse disciplines\, and we hope inspires cross-disciplinary discussion on how to best track and communicate scholarly activity and scientific progress on a global scale. The exhibit includes a macroscope which showcases interactive visualizations that demonstrate the impact of different data cleaning\, analysis\, and visualization algorithms.\n\nThe Places & Spaces exhibit is curated by the Cyberinfrastructure for Network Science Center at Indiana University. The complementary exhibit\, A Brief History of Information Graphics\, was created by Clark Library staff to provide an historical context to the Places and Spaces exhibit.
UID:96720-21793204@events.umich.edu
URL:https://events.umich.edu/event/96720
CLASS:PUBLIC
STATUS:CONFIRMED
CATEGORIES:Free,Library,Maps
LOCATION:Hatcher Graduate Library - Clark Library (2nd floor)
CONTACT:
END:VEVENT
BEGIN:VEVENT
DTSTAMP:20221003T125034
DTSTART;TZID=America/Detroit:20221122T080000
DTEND;TZID=America/Detroit:20221122T190000
SUMMARY:Exhibition:The Dance for Mother Earth Powwow
DESCRIPTION:This exhibit features various aspects of the Native North American powwow. More specifically\, it features the history and culture behind Ann Arbor’s \"Dance for Mother Earth Powwow\,\" which is approaching its much-anticipated 50th celebration.\n\nThe Dance for Mother Earth Powwow is a multi-decade\, intertribal celebration of Indigenous cultures. It grew from its early beginnings as a small gathering in a field just outside of Ann Arbor into one of the largest student-led powwows in North America. The event attracts crowds of thousands — dancers\, singers\, artists\, tribal members from across the country\, and non-Indigenous members of the community.\n\nStop by to learn more about The Dance for Mother Earth Powwow\, modern Indigenous culture\, and resources to connect to today on campus.\n\nThis exhibition was curated by Michigan Library Scholar interns\, Allison Jiang and Andrea Medina. The Michigan Library Scholars internship program provides undergraduate students with the opportunity to research and develop a capstone project under the guidance of experienced library professionals at one of the largest academic research libraries in the world.
UID:96225-21798626@events.umich.edu
URL:https://events.umich.edu/event/96225
CLASS:PUBLIC
STATUS:CONFIRMED
CATEGORIES:Exhibition,Free,Library,Native American
LOCATION:Hatcher Graduate Library - North Lobby
CONTACT:
END:VEVENT
BEGIN:VEVENT
DTSTAMP:20221122T144729
DTSTART;TZID=America/Detroit:20221122T090000
DTEND;TZID=America/Detroit:20221122T160000
SUMMARY:Exhibition:\"I have a crisis for you\": Women Artists of Ukraine Respond to War
DESCRIPTION:An exhibit curated by Grace Mahoney and Jessica Zychowicz\nFeaturing work by Kinder Album\, JT Blatty\, Oksana Briukhovetska (MFA\, Stamps School of Art and Design)\, Oksana Kazmina\, Sonya Hukaylo\, Svetlana Lavochkina\, Kateryna Lisovenko\, and Lyuba Yakimchuk.\n\nLane Hall Exhibit Space\n204 South State Street\n\nAbout the exhibit:\nIn February 2022\, the world witnessed the invasion of Ukraine and all-out war of aggression by the Russian Federation. Since this time\, massive casualties\, human rights violations\, and an unprecedented refugee crisis have ensued. Women artists of Ukraine have responded. They paint on found materials in refugee housing\, illustrate in bomb shelters\, photograph their shelled cities wearing press passes and bulletproof jackets. They document\, create\, and share. They post their daily journals and images on social media. They perform at the Grammy Awards. They know their message is powerful\, and the amplification of their voices is critical for victory in a very real battle for survival.\n\nCurated by Grace Mahoney (U-M Slavic Languages and Literatures) and Jessica Zychowicz\, Ph.D. (Fulbright Ukraine and U-M Alumna)\, \"'I have a crisis for you': Women Artists of Ukraine Respond to War\" showcases work created by women artists in response to Russia’s war in Ukraine. The involved artists are painters\, photographers\, filmmakers\, poets\, translators\, and textile artists. Many of the works exhibited demonstrate a continuity of engagement by the artists with the topic of war\, especially since 2014 when the people of Ukraine gathered in a “Revolution of Dignity” against attempts by the Russian Federation to control the country’s independence resulting in Russia’s annexation of the Crimean Peninsula and backing of pro-Russian separatists in Ukraine’s east. \n\nThe featured artists have also been selected because of their prominent interest and exploration of issues relating to gender in their works. The title for this exhibit comes from a poem of the same name by Lyuba Yakimchuk:\n\n“— our love’s gone missing\, I explain to a friend/ it vanished in one of the wars/ we waged in our kitchen/ — change the word ‘war’ to ‘crisis\,’ he suggests/ because a crisis is something everyone has from time to time.”\n\nLike in Yakimchuk’s poem\, many of these artists approach the war with personal perspectives. They intertwine\, juxtapose\, and disrupt experiences of war with the intimacies of personal relationships\, the workings interior lives\, and perceptions of social roles. The featured artworks and documents engage a range of subjects from women volunteering as combatants to the processes of grieving and reflect ongoing discourses in Ukrainian feminist scholarship. \n\nThe exhibit will be accompanied by a companion website which includes an expanded set of informational and aid-related resources. \n\n\"'I have a crisis for you': Women Artists of Ukraine Respond to War\" is hosted by the University of Michigan’s Institute for Research on Women and Gender (IRWG) and the Department of Women’s and Gender Studies with co-sponsorship from the Center for Russian\, East European & Eurasian Studies\, the Department of Slavic Languages and Literatures\, the Museum Studies Program\, the Weiser Center for Europe and Eurasia\, and the Weiser Center for Emerging Democracies.\n\nRelated Events:\n\nOpening Reception with comments by the curators\n4:00-6:00 pm ET\, Thursday\, September 15th\, 2022\nLane Hall\n\nArtists’ Roundtable (Hybrid)\n3:30-5:00pm ET\, Friday\, September 16th\, 2022\nWeiser Hall\, 1010\n\n*U-M classes may schedule visits outside of regular gallery hours by emailing LaneHallExhibits@umich.edu
UID:96538-21792843@events.umich.edu
URL:https://events.umich.edu/event/96538
CLASS:PUBLIC
STATUS:CONFIRMED
CATEGORIES:Art,eastern europe,European,Exhibition,Graduate Students,Museum,Slavic Studies,Ukraine,Ukrainian,Weiser Center For Emerging Democracies,Weiser Center For Europe And Eurasia,Women's Studies
LOCATION:Lane Hall - Exhibit Space
CONTACT:
END:VEVENT
BEGIN:VEVENT
DTSTAMP:20221207T063033
DTSTART;TZID=America/Detroit:20221122T090000
DTEND;TZID=America/Detroit:20221122T100000
SUMMARY:Careers / Jobs:Kick It With Nike\, Inc - Grad & MBA Student Information Session
DESCRIPTION:COME KICK IT WITH NIKE!\n\nAre you a first year MBA or Grad student looking for a dynamic internship next summer?!\n\nJoin us on Tuesday\, November 22nd at 9AM PT to learn more about internship opportunities across NIKE\, Inc.  Hear from the University Relations Recruitment Team to ensure you put your best foot forward in the application process.  Registertoday as space is limited.\n\nThe Nike internship program is a critical talent pipeline for Nike. We continue to invest in providing a world class experience for our summer interns. Our interns work on meaningful projectsthat are part of the business road map\, are exposed to multiple teams\, and are a major part of our community. Our summer programming provides access to leadership and professional growth workshops to gain meaningful career experience.\n\nREGISTER TODAY!
UID:101478-21801393@events.umich.edu
URL:https://events.umich.edu/event/101478
CLASS:PUBLIC
STATUS:CONFIRMED
CATEGORIES:
LOCATION:
CONTACT:
END:VEVENT
BEGIN:VEVENT
DTSTAMP:20221021T133434
DTSTART;TZID=America/Detroit:20221122T090000
DTEND;TZID=America/Detroit:20221122T170000
SUMMARY:Exhibition:La Pelea/The Fight
DESCRIPTION:About the Exhibition\n*La Pelea/The Fight* is a 46-foot panoramic oil-on-canvas. At the center of the “picture” and surrounded by a jeering crowd\, the viewer becomes literally and conceptually involved as the one who is about to fight and defend themself. Depending on where the viewer is standing in the space\, however\, a different perspective can emerge\, suggesting that even a public\, collective experience is highly subjective.\n\nLike much of Diaz’s work\, *La Pelea/The Fight* brings into question the reliability of the narrator and the complexity of stories\, especially as they pertain to the manipulation of facts and suggestions of criminality by the media and those in positions of power. It is timely in an era defined by polarity and politically driven half-truths and fictions\, and a reminder that it is the necessary tension of a myriad of perspectives that bring us closer to some truth\, rather than the singular view from where we are standing. \n\nAbout the Artist\nBorn in 1977 in Mexico\, Diaz considers image and information\, and how the media and individuals represent stories to a different end. His immersive Panoramic paintings allow for the viewer to be witness\, gaining a different perspective or experience depending on the positioning in relation to the work. His work is so original\, fresh and contemporary\, while at the same time harkening back to the traditions of Mexican muralists like Diego Rivera.
UID:97756-21795078@events.umich.edu
URL:https://events.umich.edu/event/97756
CLASS:PUBLIC
STATUS:CONFIRMED
CATEGORIES:Art,Exhibition,Humanities,Latin America,Social Justice,Visual Arts
LOCATION:202 S. Thayer - Institute for the Humanities Gallery
CONTACT:
END:VEVENT
BEGIN:VEVENT
DTSTAMP:20220930T161216
DTSTART;TZID=America/Detroit:20221122T093000
DTEND;TZID=America/Detroit:20221122T110000
SUMMARY:Workshop / Seminar:CoderSpaces: Tuesdays Fall 2022
DESCRIPTION:Are you grappling with a piece of code\, trying to compute on a cluster\, or just getting started with a new method such as machine learning? Then we might have just the right space for you. \n\nAll members of the U-M community are invited to join our weekly virtual CoderSpaces to get research support and connect with others.
UID:99619-21798445@events.umich.edu
URL:https://events.umich.edu/event/99619
CLASS:PUBLIC
STATUS:CONFIRMED
CATEGORIES:Data,Data Science
LOCATION:Off Campus Location
CONTACT:
END:VEVENT
BEGIN:VEVENT
DTSTAMP:20221121T165048
DTSTART;TZID=America/Detroit:20221122T110000
DTEND;TZID=America/Detroit:20221122T120000
SUMMARY:Other:Community Listening Session
DESCRIPTION:Join Spectrum Center for a community dialogue about the tragic shooting at Club Q in Colorado Springs\, CO. Gather together to support one another in this time of loss. This event is open to all U-M students.
UID:101532-21801490@events.umich.edu
URL:https://events.umich.edu/event/101532
CLASS:PUBLIC
STATUS:CONFIRMED
CATEGORIES:lgbt,lgbtq,lgbtq issues,Lgbtq+,lgbtqq,spectrum,spectrum center,spectrumcenter
LOCATION:Michigan Union - Spectrum Center (3020)
CONTACT:
END:VEVENT
BEGIN:VEVENT
DTSTAMP:20221122T181521
DTSTART;TZID=America/Detroit:20221122T113000
DTEND;TZID=America/Detroit:20221122T123000
SUMMARY:Other:From Stereocontrolled Glycosylation to Early-Stage Automation: Adventures in Deoxy Sugar Oligosaccharide Synthesis
DESCRIPTION:Organic\nClay Bennett (Tufts University)
UID:96449-21792543@events.umich.edu
URL:https://events.umich.edu/event/96449
CLASS:PUBLIC
STATUS:CONFIRMED
CATEGORIES:Biosciences,Chemistry,Science
LOCATION:Chemistry Dow Lab - 1706
CONTACT:
END:VEVENT
BEGIN:VEVENT
DTSTAMP:20220926T154118
DTSTART;TZID=America/Detroit:20221122T120000
DTEND;TZID=America/Detroit:20221122T130000
SUMMARY:Workshop / Seminar:NO EEB Tuesday Lunch Seminar
DESCRIPTION:Happy Thanksgiving! Enjoy the break and see you next week.
UID:99316-21797866@events.umich.edu
URL:https://events.umich.edu/event/99316
CLASS:PUBLIC
STATUS:CONFIRMED
CATEGORIES:science
LOCATION:Biological Sciences Building - 1010
CONTACT:
END:VEVENT
BEGIN:VEVENT
DTSTAMP:20221018T105100
DTSTART;TZID=America/Detroit:20221122T130000
DTEND;TZID=America/Detroit:20221122T140000
SUMMARY:Social / Informal Gathering:LSA@Play: I’m Just Here for the Pie
DESCRIPTION:Tell Us You're Coming (So we have enough pie!): https://sessions.studentlife.umich.edu/p/track/8177\n\nJoin the College of LSA for the comforts of the season right here on campus! Featuring sweet pie and hot chocolate – plus\, take home your own savory pot pie.*\n\nLSA@Play is a series of events to welcome and support LSA students. Gatherings and activities offer an opportunity for students to prioritize self-care\, inclusivity\, and community. Plus\, get free food\, LSA swag\, and meet Dean Curzan!\n\nVisit the LSA@Play webpage: https://lsa.umich.edu/lsa/news-events/events/lsa-play.html for more details\, sign-up to receive text/email updates\, and check for additional events being added soon!\n\nIf you have an accessibility need you feel may not be automatically met at this event\, please email lsaatplay@umich.edu. Advance notice is necessary for some accommodations to be fully implemented\, but we will always attempt to remove those barriers.\n\n* While supplies last. Please complete the ResponsiBLUE health questionnaire prior to arriving at all in-person events.
UID:100116-21799228@events.umich.edu
URL:https://events.umich.edu/event/100116
CLASS:PUBLIC
STATUS:CONFIRMED
CATEGORIES:Food,Free,Social
LOCATION:LSA Building - Atrium
CONTACT:
END:VEVENT
BEGIN:VEVENT
DTSTAMP:20221013T181517
DTSTART;TZID=America/Detroit:20221122T133000
DTEND;TZID=America/Detroit:20221122T140000
SUMMARY:Performance:Afternoon Carillon: Carson Landry
DESCRIPTION:A weekly carillon concert performed in the afternoon.
UID:100216-21799355@events.umich.edu
URL:https://events.umich.edu/event/100216
CLASS:PUBLIC
STATUS:CONFIRMED
CATEGORIES:Concert,Free,Music,North Campus,Outdoors
LOCATION:Off Campus Location
CONTACT:
END:VEVENT
BEGIN:VEVENT
DTSTAMP:20221109T142728
DTSTART;TZID=America/Detroit:20221122T140000
DTEND;TZID=America/Detroit:20221122T170000
SUMMARY:Social / Informal Gathering:Chosen Family Feud
DESCRIPTION:Join us for a night of fun and community with chosen family before the break! Enjoy some food and play or watch the classic Family Feud gameshow with a queer twist.\nGeneral registration: bit.ly/reg-famfeud\nTeam registration (up to 4 players\, no fee!): bit.ly/teamreg-famfeud
UID:101229-21801083@events.umich.edu
URL:https://events.umich.edu/event/101229
CLASS:PUBLIC
STATUS:CONFIRMED
CATEGORIES:Family,family event,family friendly,food,Games,gay,holiday,lgbt,lgbtq,lgbtq issues,Lgbtq+,lgbtqq
LOCATION:Michigan League - Vandenberg Room
CONTACT:
END:VEVENT
BEGIN:VEVENT
DTSTAMP:20221207T123030
DTSTART;TZID=America/Detroit:20221122T150000
DTEND;TZID=America/Detroit:20221122T154500
SUMMARY:Careers / Jobs:A Career in Sales - TQL Virtual Information Session
DESCRIPTION:You are more qualified to succeed in a sales role than you maythink. Invest in your future and determine if sales is right for you.\n
UID:101296-21801164@events.umich.edu
URL:https://events.umich.edu/event/101296
CLASS:PUBLIC
STATUS:CONFIRMED
CATEGORIES:
LOCATION:
CONTACT:
END:VEVENT
BEGIN:VEVENT
DTSTAMP:20221117T160332
DTSTART;TZID=America/Detroit:20221122T150000
DTEND;TZID=America/Detroit:20221122T160000
SUMMARY:Lecture / Discussion:PhD Researach Talk: Rohan Ghuge
DESCRIPTION:Combinatorial optimization captures many natural decision-making problems such as matching\, load balancing\, assortment optimization\, network design\, and submodular optimization. In this talk\, I will focus on combinatorial problems under uncertainty\; specifically when we only have partial knowledge about the input. Solutions to such problems are sequential decision processes that make decisions one by one “adaptively” (depending on prior observations). While such adaptive solutions achieve the best objective\, the inherently sequential nature makes them undesirable in many applications. My current research seeks to answer the following: how well can solutions with only a few adaptive rounds approximate fully-adaptive solutions? In this talk\, I will formally define the model\, and discuss techniques used to answer this question for the stochastic submodular cover problem\, which captures problems in domains like sensor placement\, medical diagnosis\, active learning\, and hypothesis testing. I will also state limited adaptivity results that I have obtained for the stochastic score classification and dueling bandits problems. I will conclude the talk with some future work and open problems.\n\nPresenter Bio:\nRohan Ghuge is a Ph.D. candidate in the department of Industrial and Operations Engineering (IOE) at the University of Michigan where he is advised by Dr. Viswanath Nagarajan. His research interests are in optimization under uncertainty\, specifically in stochastic combinatorial optimization. His dissertation research explores the role of adaptivity in stochastic combinatorial optimization. He has also worked on designing algorithms for problems arising in domains like assortment optimization\, network design and online learning.
UID:101458-21801368@events.umich.edu
URL:https://events.umich.edu/event/101458
CLASS:PUBLIC
STATUS:CONFIRMED
CATEGORIES:Graduate,Graduate Students,Industrial And Operations Engineering,Ioephdstudents,Ioephdtalks,Research
LOCATION:Industrial and Operations Engineering Building - 2717
CONTACT:
END:VEVENT
BEGIN:VEVENT
DTSTAMP:20221207T123022
DTSTART;TZID=America/Detroit:20221122T160000
DTEND;TZID=America/Detroit:20221122T164500
SUMMARY:Careers / Jobs: Ask a Recruiter Office Hours: Tech Roles at McKinsey & Company
DESCRIPTION:We look forward to getting to know you better! Please join us for an optional Q&A session to get your questions answered about McKinsey's technical expert roles. We are happy to discuss anything ranging from the interview process and preparation\, to what's new at McKinsey. Please note this is a small group event and there will be other participants on theZoom.\n\nThis is an informal session – We'll briefly discuss commonly asked questions about the campus tech recruiting process\, then open up foran informal Q&A session.
UID:97388-21794503@events.umich.edu
URL:https://events.umich.edu/event/97388
CLASS:PUBLIC
STATUS:CONFIRMED
CATEGORIES:
LOCATION:
CONTACT:
END:VEVENT
BEGIN:VEVENT
DTSTAMP:20220912T122657
DTSTART;TZID=America/Detroit:20221122T160000
DTEND;TZID=America/Detroit:20221122T170000
SUMMARY:Meeting:Futures in Research\, Science\, and Teaching - General meeting
DESCRIPTION:General meetings take place every other Tuesday from September 13 to December 6th. Events include:\n\nSeptember 13th: Pathways in Research (Graduate student/Faculty panel)\nSeptember 27th: Mixer (food provided)\nOctober 11th: Poster design and presentation\nOctober 25th: Applying to graduate school - application components and essay writing advice\nNovember 8th: Finding paid summer and post-baccalaureate research opportunities\nNovember 22nd: Faculty talk\nDecember 6th: Mixer
UID:96044-21791851@events.umich.edu
URL:https://events.umich.edu/event/96044
CLASS:PUBLIC
STATUS:CONFIRMED
CATEGORIES:Basic Science,Biology,Biomedical Engineering,Biosciences,Career,Chemistry,Ecology,Education,Graduate,Graduate School,Research,Science
LOCATION:
CONTACT:
END:VEVENT
BEGIN:VEVENT
DTSTAMP:20221117T142515
DTSTART;TZID=America/Detroit:20221122T160000
DTEND;TZID=America/Detroit:20221122T170000
SUMMARY:Workshop / Seminar:Professor Career Path
DESCRIPTION:This seminar will cover the career path of STEM professors beginning with undergraduate research. Professor Monica Dus of the MCDB department will share her experiences starting in undergrad research\, through earning a PhD\, working as a post-doctoral researcher\, and eventually starting her own research lab at the University of Michigan. Prof. Dus studies nutrigenomics\, which looks at how genes interact with our diet to shape neural plasticity and feeding behavior.\n\nRSVP: https://docs.google.com/forms/d/e/1FAIpQLSeJe8DfFZVUeqqguF_u_tNBzZwlU-nj6il4-TkwjVgRXBEfug/viewform?usp=sf_link
UID:101249-21801109@events.umich.edu
URL:https://events.umich.edu/event/101249
CLASS:PUBLIC
STATUS:CONFIRMED
CATEGORIES:Basic Science,Biology,Biomedical Engineering,Biosciences,Career,Chemistry,Ecology,Education,Graduate,Graduate and Professional Students,Graduate School,Postdoctoral Research Fellows,Pre-Health,Research,Science,Structural Biology,Undergraduate
LOCATION:Biological Sciences Building - 1010
CONTACT:
END:VEVENT
BEGIN:VEVENT
DTSTAMP:20221012T165645
DTSTART;TZID=America/Detroit:20221122T161500
DTEND;TZID=America/Detroit:20221122T171500
SUMMARY:Presentation:Guided Tour of the Clements Library
DESCRIPTION:The Clements Library welcomes you to join us to learn more about the Clements’ early American history collections. Highlights include an exhibit on collecting “19th-Century Cuba”\, Benjamin West’s iconic painting “Death of General Wolfe\,” a Revolutionary War-era trunk that once housed General Gage’s papers\, and more!\n\nOpen Hours are offered on Wednesday and Friday from 12:00 - 4:30 PM.\n\nPlease register at: http://myumi.ch/Aw9Zb\n\nVISITOR INFO\n\nThe University of Michigan requires that our visitors wear masks and complete the ResponsiBLUE health screening on the day of the event in order to participate.\n\nPlease plan to arrive a few minutes early at our North Entrance (glass vestibule) that faces the Hatcher Graduate Library tower to check-in for your tour.
UID:95141-21795207@events.umich.edu
URL:https://events.umich.edu/event/95141
CLASS:PUBLIC
STATUS:CONFIRMED
CATEGORIES:Alumni,american culture,american history,architecture,art,Books,cartography,Culture,Education,Exhibition,Family,Free,history,libraries,Library,Tour
LOCATION:William Clements Library
CONTACT:
END:VEVENT
BEGIN:VEVENT
DTSTAMP:20221114T094737
DTSTART;TZID=America/Detroit:20221122T170000
DTEND;TZID=America/Detroit:20221122T180000
SUMMARY:Careers / Jobs:Resume Lab
DESCRIPTION:*RSVP through Handshake is required to attend. Not in Handshake? Click \"Join Event\" here: https://app.joinhandshake.com/edu/events/1156596/\n\nJust getting started building a resume? Have a draft but not sure how to make it better? Want to learn about resources available to revise your resume? Wherever you’re at Resume Lab is a great next step for you.\n\nGet real-time\, personalized support in a small group setting by checking out the Resume Lab. \n\nWe will discuss and educate you on…\n- Design and format\n- Writing a great bullet point\n- Targeting your resume for specific internships/jobs\n\nIf you're a Graduate Student\, please make a 1:1 appointment instead of attending the Lab because this event is designed for undergraduates.\n\nRecent Grads: If you are an alumnus\, you will not be able to access the link due the University’s policy of discontinuing alumni Zoom accounts 30 days after graduation. Please contact careercenter@umich.edu with the subject line “Recent Grad Help” to receive a recording or to be set up with a 1:1. Include the name of the workshop/event inyour email.
UID:100284-21799561@events.umich.edu
URL:https://events.umich.edu/event/100284
CLASS:PUBLIC
STATUS:CONFIRMED
CATEGORIES:
LOCATION:1027 E. Huron Building
CONTACT:
END:VEVENT
BEGIN:VEVENT
DTSTAMP:20220828T225914
DTSTART;TZID=America/Detroit:20221122T170000
DTEND;TZID=America/Detroit:20221122T180000
SUMMARY:Social / Informal Gathering:Spanish Conversation Hour
DESCRIPTION:Spanish Conversation Hour takes place every Monday and Tuesday at 5-6pm in the Michigan League Basement. It's a wonderful opportunity for students to gain proficiency in conversational Spanish while meeting other Spanish language learners.\n\nAll students are welcome to join\, regardless of their level of Spanish!\n\nContact spanishclubeboard@umich.edu if you have any questions or if you'd like to join our email listserv.
UID:97561-21794751@events.umich.edu
URL:https://events.umich.edu/event/97561
CLASS:PUBLIC
STATUS:CONFIRMED
CATEGORIES:Language,Social,Spanish Studies
LOCATION:Michigan League - Basement
CONTACT:
END:VEVENT
BEGIN:VEVENT
DTSTAMP:20221101T145626
DTSTART;TZID=America/Detroit:20221122T180000
DTEND;TZID=America/Detroit:20221122T190000
SUMMARY:Social / Informal Gathering:German Convo on the Go
DESCRIPTION:Meets on Tuesdays at 6 p.m. sharp at Burton Tower for a 1-hour walk and talk with Mary Gell (magell@umich.edu). This event happens 'rain (or snow) or shine'.
UID:100936-21800557@events.umich.edu
URL:https://events.umich.edu/event/100936
CLASS:PUBLIC
STATUS:CONFIRMED
CATEGORIES:German,Germanic Languages And Literatures
LOCATION:Burton Memorial Tower
CONTACT:
END:VEVENT
BEGIN:VEVENT
DTSTAMP:20220920T091150
DTSTART;TZID=America/Detroit:20221122T183000
DTEND;TZID=America/Detroit:20221122T193000
SUMMARY:Well-being:Music Meditation
DESCRIPTION:Join us for a musical evening of sacred sound meditation. In addition to this musical experience\, we offer discussion about relevant topics related to yoga lifestyle\, mental resilience\, mantra meditation\, and many more!\n\nWe have so many exciting insights and events to share! We also have vegetarian snacks!\n\nWe meet every Tuesday 6:30-7:30 PM at East Quad Room 1507\n\nWe are open to the student populous and public! Hope to see you there!
UID:99072-21797534@events.umich.edu
URL:https://events.umich.edu/event/99072
CLASS:PUBLIC
STATUS:CONFIRMED
CATEGORIES:Concert,Discussion,In Person,Meal,Music,Student Org,Well-being
LOCATION:East Quadrangle - 1507
CONTACT:
END:VEVENT
END:VCALENDAR