BEGIN:VCALENDAR
VERSION:2.0
PRODID:-//UM//UM*Events//EN
CALSCALE:GREGORIAN
BEGIN:VTIMEZONE
TZID:America/Detroit
TZURL:http://tzurl.org/zoneinfo/America/Detroit
X-LIC-LOCATION:America/Detroit
BEGIN:DAYLIGHT
TZOFFSETFROM:-0500
TZOFFSETTO:-0400
TZNAME:EDT
DTSTART:20070311T020000
RRULE:FREQ=YEARLY;BYMONTH=3;BYDAY=2SU
END:DAYLIGHT
BEGIN:STANDARD
TZOFFSETFROM:-0400
TZOFFSETTO:-0500
TZNAME:EST
DTSTART:20071104T020000
RRULE:FREQ=YEARLY;BYMONTH=11;BYDAY=1SU
END:STANDARD
END:VTIMEZONE
BEGIN:VEVENT
DTSTAMP:20221113T235541
DTSTART;TZID=America/Detroit:20221123T000000
DTEND;TZID=America/Detroit:20221123T235900
SUMMARY:Other:Community Gift Drive Fundraiser
DESCRIPTION:GradSWE\, SWE\, and Eta Kappa Nu are collecting financial donations for the Community Action Network’s Holiday Gift Drive to sponsor kids’ wants and needs this holiday season. CAN supports under-resourced communities in Washtenaw County in many ways. The gift drive allows families to focus their finances towards necessities like rent\, gas\, etc without the added financial stress of providing gifts for their kids. Donations in any amount would be greatly appreciated to help us support this worthy cause.\n\nAll participants will be invited to the Engineering Community Holiday Celebration on Friday\, December 2nd to thank you for your contribution! The organization that raises the most money will win a pizza party for their organization. Help GradSWE earn the pizza party by donating to the GradSWE Venmo: please add your uniqname and “GradSWE” to the note!\n\nPlease contact Cecelia Kinane at cakinane@umich.edu with any questions!
UID:101329-21801225@events.umich.edu
URL:https://events.umich.edu/event/101329
CLASS:PUBLIC
STATUS:CONFIRMED
CATEGORIES:Graduate Students,Michigan Engineering,Undergraduate Students
LOCATION:
CONTACT:
END:VEVENT
BEGIN:VEVENT
DTSTAMP:20230324T120005
DTSTART;TZID=America/Detroit:20221123T000000
DTEND;TZID=America/Detroit:20221123T235959
SUMMARY:Community Service:Homework Help at The Children's Center
DESCRIPTION:The Homework Help program offers children assistance with their homework assignments. Children are encouraged to bring homework and are paired with a volunteer to assist them. This program is a critical service in helping children thrive. Volunteers give children the tools they need to be successful in school.Virtual and in-person volunteer opportunities are available. If you would like to volunteer\, please start the enrollment process by creating an account on the Children Center's Volunteer Site found HERE. After your account is created\, the Children's Center will reach out to you within 2 business days to answer any questions and discuss the next steps.In accordance with the CMS Vaccine Mandate\, those volunteering in-person at the Children’s Center are required to be fully vaccinated and must provide proof of full vaccination upon request.
UID:93885-21788012@events.umich.edu
URL:https://events.umich.edu/event/93885
CLASS:PUBLIC
STATUS:CONFIRMED
CATEGORIES:
LOCATION:The Children&#039;s Center 
CONTACT:
END:VEVENT
BEGIN:VEVENT
DTSTAMP:20220809T173135
DTSTART;TZID=America/Detroit:20221123T080000
DTEND;TZID=America/Detroit:20221123T190000
SUMMARY:Exhibition:Places & Spaces: Mapping Science and A Brief History of Information Graphics
DESCRIPTION:The Places & Spaces: Mapping Science exhibit introduces science mapping techniques and data visualization to the general public and to experts across diverse disciplines\, and we hope inspires cross-disciplinary discussion on how to best track and communicate scholarly activity and scientific progress on a global scale. The exhibit includes a macroscope which showcases interactive visualizations that demonstrate the impact of different data cleaning\, analysis\, and visualization algorithms.\n\nThe Places & Spaces exhibit is curated by the Cyberinfrastructure for Network Science Center at Indiana University. The complementary exhibit\, A Brief History of Information Graphics\, was created by Clark Library staff to provide an historical context to the Places and Spaces exhibit.
UID:96720-21793205@events.umich.edu
URL:https://events.umich.edu/event/96720
CLASS:PUBLIC
STATUS:CONFIRMED
CATEGORIES:Free,Library,Maps
LOCATION:Hatcher Graduate Library - Clark Library (2nd floor)
CONTACT:
END:VEVENT
BEGIN:VEVENT
DTSTAMP:20221003T125034
DTSTART;TZID=America/Detroit:20221123T080000
DTEND;TZID=America/Detroit:20221123T190000
SUMMARY:Exhibition:The Dance for Mother Earth Powwow
DESCRIPTION:This exhibit features various aspects of the Native North American powwow. More specifically\, it features the history and culture behind Ann Arbor’s \"Dance for Mother Earth Powwow\,\" which is approaching its much-anticipated 50th celebration.\n\nThe Dance for Mother Earth Powwow is a multi-decade\, intertribal celebration of Indigenous cultures. It grew from its early beginnings as a small gathering in a field just outside of Ann Arbor into one of the largest student-led powwows in North America. The event attracts crowds of thousands — dancers\, singers\, artists\, tribal members from across the country\, and non-Indigenous members of the community.\n\nStop by to learn more about The Dance for Mother Earth Powwow\, modern Indigenous culture\, and resources to connect to today on campus.\n\nThis exhibition was curated by Michigan Library Scholar interns\, Allison Jiang and Andrea Medina. The Michigan Library Scholars internship program provides undergraduate students with the opportunity to research and develop a capstone project under the guidance of experienced library professionals at one of the largest academic research libraries in the world.
UID:96225-21798627@events.umich.edu
URL:https://events.umich.edu/event/96225
CLASS:PUBLIC
STATUS:CONFIRMED
CATEGORIES:Exhibition,Free,Library,Native American
LOCATION:Hatcher Graduate Library - North Lobby
CONTACT:
END:VEVENT
BEGIN:VEVENT
DTSTAMP:20221021T133434
DTSTART;TZID=America/Detroit:20221123T090000
DTEND;TZID=America/Detroit:20221123T170000
SUMMARY:Exhibition:La Pelea/The Fight
DESCRIPTION:About the Exhibition\n*La Pelea/The Fight* is a 46-foot panoramic oil-on-canvas. At the center of the “picture” and surrounded by a jeering crowd\, the viewer becomes literally and conceptually involved as the one who is about to fight and defend themself. Depending on where the viewer is standing in the space\, however\, a different perspective can emerge\, suggesting that even a public\, collective experience is highly subjective.\n\nLike much of Diaz’s work\, *La Pelea/The Fight* brings into question the reliability of the narrator and the complexity of stories\, especially as they pertain to the manipulation of facts and suggestions of criminality by the media and those in positions of power. It is timely in an era defined by polarity and politically driven half-truths and fictions\, and a reminder that it is the necessary tension of a myriad of perspectives that bring us closer to some truth\, rather than the singular view from where we are standing. \n\nAbout the Artist\nBorn in 1977 in Mexico\, Diaz considers image and information\, and how the media and individuals represent stories to a different end. His immersive Panoramic paintings allow for the viewer to be witness\, gaining a different perspective or experience depending on the positioning in relation to the work. His work is so original\, fresh and contemporary\, while at the same time harkening back to the traditions of Mexican muralists like Diego Rivera.
UID:97756-21795079@events.umich.edu
URL:https://events.umich.edu/event/97756
CLASS:PUBLIC
STATUS:CONFIRMED
CATEGORIES:Art,Exhibition,Humanities,Latin America,Social Justice,Visual Arts
LOCATION:202 S. Thayer - Institute for the Humanities Gallery
CONTACT:
END:VEVENT
BEGIN:VEVENT
DTSTAMP:20221219T181506
DTSTART;TZID=America/Detroit:20221123T110000
DTEND;TZID=America/Detroit:20221123T170000
SUMMARY:Exhibition:LaToya Ruby Frazier: Flint Is Family In Three Acts
DESCRIPTION:Organized by Stamps Gallery in partnership with the Eli and Edythe Broad Art Museum\, Michigan State University\, and the Flint Institute of Arts.\n“No matter how dark a situation may be\, a camera can extract the light and turn a negative into a positive. In creating Flint Is Family In Three Acts\, I see the role of photographs as empowering and enacting visible change: in Act I\, the photographs bear witness and reclaim history\; in Act II\, the photographs reveal a hidden narrative\; in Act III\, the photographs are a catalyst for obtaining resources.”\n—LaToya Ruby Frazier \nFlint Is Family In Three Acts is a multi-part exhibition by renowned artist LaToya Ruby Frazier. For five years\, Frazier researched and collaborated with two poets\, activists\, mothers and residents of Flint\, Michigan\, Shea Cobb and Amber Hasan\, as they endured one of the most devastating ecological crises in U.S. history. Resulting in a monumental oeuvre of photographs\, video\, and texts Frazier developed Flint Is Family In Three Acts (2016-2021) to advocate for access to clean and safe drinking water for all regardless of race\, religion and economic status. The series records stories of surviving and thriving\, especially within racialized and marginalized neighborhoods in Flint\, to ensure that they remained visible in national debates concerning environmental justice. Drawing inspiration from the urgency in Frazier’s work\, which also sheds light on building equitable and inclusive futures\, Stamps Gallery\, part of the Penny W. Stamps School of Art &amp\; Design at the University of Michigan\, initiated a partnership with the Flint Institute of Arts and the Eli and Edythe Broad Art Museum at Michigan State University to bring this important exhibition together for the first time in Michigan. As co-presenters of this landmark exhibition\, our goal is to offer a creative pedagogical platform that reaches broader audiences across Michigan and beyond - Flint is Family: Act I (2016-2017) will take place at the Flint Institute of Arts\, Act II (2017-2019) at the Eli and Edythe Broad Art Museum\, and Act III (2019) at Stamps Gallery. The exhibition served as a catalyst to bring three disparate institutions together to deepen our understanding of individual and institutional agency in advocating for equity\, transparency and environmental justice in our respective communities\, while also highlighting the role of the artist as an agent for enacting positive social change.\n\nCurated by Srimoyee Mitra\, Tracee Glab\, and Steven L. Bridges with the assistance of Jennifer Junkermeier-Khan\, Rachel Winter\, and Rachael Holstege.
UID:95590-21790411@events.umich.edu
URL:https://events.umich.edu/event/95590
CLASS:PUBLIC
STATUS:CONFIRMED
CATEGORIES:Art
LOCATION:Off Campus Location
CONTACT:
END:VEVENT
BEGIN:VEVENT
DTSTAMP:20220901T181526
DTSTART;TZID=America/Detroit:20221123T110000
DTEND;TZID=America/Detroit:20221123T170000
SUMMARY:Exhibition:Respond/ Resist/ Rethink 2022
DESCRIPTION:Water is the lifeblood of civilizations\, the center of cities\, the foundation of creation stories and the connective tissue of culture. Water is a life force\, without it humanity will cease to exist. Fresh water is necessary for the survival of all living organisms on Earth. The human body is made up of over 60% water and humanity cannot survive without it. Water is a vital life source that holds (and generates) power. It is nourishing\, quenching\, and refreshing but has also been commodified\, polluted\, and politicized. From the Standing Rock\, Leech Lake and Fond du Lac reservations\, to the straits of Mackinac where oil pipelines threaten important waterways\, to the polluted Mississippi River and drying Colorado River Basin\, to water shutoffs in Detroit\, PFAs in Ann Arbor\, and the Flint Water crisis (to name just a few)\, ensuring access to clean water (and the sustainable ecologies it supports) is an ongoing struggle that requires intersectional\, intergenerational\, and collective knowledge sharing\, discussion and action to protect. \nCall for Work\nStamps Gallery invites the undergraduate and graduate students of Penny W. Stamps School of Art &amp\; Design to participate in a poster and video exhibition that responds to the prompt: The care\, sustainability\, and access to free and clean water is arguably one of the most urgent and challenging issues of our time “What can you do to spread awareness of water issues and conservation measures?”\nEligible students: submit your work using our online form by Friday\, August 19\, 2022 →\nEligibility\nMust be a currently enrolled undergraduate or graduate major in the Penny W. Stamps School of Art &amp\; Design.Eligible students may submit one work (poster or video).Time-based work must be submitted as a YouTube/Vimeo link.Timeline\nThe deadline for submitting work is Friday\, August 19\, 2022\, 5pm\, EST. A selection committee composed of students\, faculty\, and Stamps Gallery staff will review submitted work in the weeks following the deadline.Students whose works are selected will be notified by September 2\, 2022. The exhibition will take place from September 15\, 2022 - January 14\, 2023.Why posters &amp\; videos? \nPosters can function as catalysts for change. For generations\, posters have served as an effective tool to circulate ideas and messages to the public. Visually striking\, and designed to draw attention from passersby\, posters can be conversation starters\, invite people to pause\, reflect\, spread the word\, get involved. They have been a powerful medium for many conceptual artists and graphic designers to create powerful images and messages that could respond to immediate issues and be distributed widely. Similarly\, video art was another exciting immediate medium for conceptual artists in the 1960s and 1970s as the technology became more accessible to the masses. Video art provided an alternative to the dominant broadcasting corporations. Artists made experimental films\, recorded performances\, and first-person narratives that were then exhibited and screened at galleries\, museums\, and events. Posters and videos continue to be salient features in the 21st Century to respond to urgent issues and questions facing the present moment. \nContext\nStamps Gallery is an incubator and lab for contemporary artists and designers to explore ideas and projects that catalyze positive social change. As the pandemic grips our nation it has exposed the social\, political\, and economic disparities that have disproportionately impacted Black\, Indigenous\, and People of Color. The world witnessed in horror and sadness the meaningless loss of African American lives with George Floyd\, Breonna Taylor\, Ahmaud Arbery\, among many others that we will never know. National and international outcries brought people together from multiple races\, genders\, and generations - on social media and in the streets - to publicly demand an end to police brutality\, structural racism\, and emphasizing that Black Lives Matter. What is the role of a university gallery in this time of crisis? How can we foster an inclusive platform for the students in our community to voice their ideas and foster a community based on equality\, belonging\, respect? We launched Respond/ Resist/ Rethink in the fall 2020 to kick off the fall semester with student work paired with the work of leading artists exhibiting at the Gallery.
UID:96386-21792418@events.umich.edu
URL:https://events.umich.edu/event/96386
CLASS:PUBLIC
STATUS:CONFIRMED
CATEGORIES:Art
LOCATION:Off Campus Location
CONTACT:
END:VEVENT
BEGIN:VEVENT
DTSTAMP:20220926T121518
DTSTART;TZID=America/Detroit:20221123T120000
DTEND;TZID=America/Detroit:20221123T124500
SUMMARY:Livestream / Virtual:Online Yoga with Catherine Matuza
DESCRIPTION:Instructor: Catherine Matuza\, SMTD Lecturer\, 500 RYT\n\n\nThe SMTD Wellness Initiative is offering online yoga sessions to anyone needing a few moments of peace!\n\nIn this class\, postures are practiced to align\, strengthen and promote flexibility in the body\, in a fun and safe manner. This is a perfect class for anyone looking to bring more balance\, energy and ease into their daily life. \n\nOpen to SMTD students\, faculty\, staff\, and the general public. Yoga classes are held remotely on Zoom.\n\n\nhttps://forms.gle/XnNS8nayrHXoM4gK9
UID:99291-21797828@events.umich.edu
URL:https://events.umich.edu/event/99291
CLASS:PUBLIC
STATUS:CONFIRMED
CATEGORIES:Fitness,Free
LOCATION:Off Campus Location
CONTACT:
END:VEVENT
BEGIN:VEVENT
DTSTAMP:20221215T162044
DTSTART;TZID=America/Detroit:20221123T121500
DTEND;TZID=America/Detroit:20221123T124500
SUMMARY:Well-being:VIRTUAL | CEW+INSPIRE MIDWEEK MINDFULNESS GUIDED SITS
DESCRIPTION:RSVP here: https://umich.zoom.us/meeting/register/tJAqceGoqDosHN15uxUlzCWWN6qwjNjSQpj_ \n\nJoin us in community to practice mindfulness meditation\, a life-enhancing skill that can be learned with consistent practice. This formal\, largely-guided\, practice utilizes evidence-based cognitive training that bolsters one's ability to handle stress\, poor mood\, and threat.  This weekly mindfulness practice encourages present moment\, non-judgemental\, awareness – noticing where your focus and attention are and continually inviting attention to current mind and body sensations in a kind and compassionate way.\n\nMindfulness meditation opens the possibility to pause\, gain perspective\, attend to the present\, and respond accordingly. In our ever-changing\, complex\, and challenging world\, mindfulness can provide grounding. As one form of contemplative practice\, mindfulness meditation can offer a framework to support a more skillful approach to navigating the demands of being human and support practitioners to build resilience and take compassionate action.\n\nWhether you are new to mindfulness meditation or are an experienced practitioner\, each session is designed to offer guidance and support to assist you. All are welcome to attend weekly or drop-in as their schedule allows.
UID:96537-21797235@events.umich.edu
URL:https://events.umich.edu/event/96537
CLASS:PUBLIC
STATUS:CONFIRMED
CATEGORIES:Mindfulness,Virtual,Well-being,Wellness,women's health,Work-life Balance,Zoom
LOCATION:Off Campus Location
CONTACT:
END:VEVENT
BEGIN:VEVENT
DTSTAMP:20220930T155359
DTSTART;TZID=America/Detroit:20221123T140000
DTEND;TZID=America/Detroit:20221123T153000
SUMMARY:Workshop / Seminar:CoderSpaces: Wednesdays Fall 2022
DESCRIPTION:Are you grappling with a piece of code\, trying to compute on a cluster\, or just getting started with a new method such as machine learning? Then we might have just the right space for you. \n\nAll members of the U-M community are invited to join our weekly virtual CoderSpaces to get research support and connect with others.
UID:99621-21798456@events.umich.edu
URL:https://events.umich.edu/event/99621
CLASS:PUBLIC
STATUS:CONFIRMED
CATEGORIES:Data,Data Science
LOCATION:Off Campus Location
CONTACT:
END:VEVENT
BEGIN:VEVENT
DTSTAMP:20220806T001556
DTSTART;TZID=America/Detroit:20221123T140000
DTEND;TZID=America/Detroit:20221123T150000
SUMMARY:Livestream / Virtual:Rackham Resolution Office: Virtual Office Hours
DESCRIPTION:If you have a quick question or have a time sensitive matter\, attend the Rackham’s Resolution Office’s open office hours weekly on Monday and Wednesday from 2:00 to 3:00 p.m. via Zoom. In the interest of providing students as much privacy as possible\, you may spend a brief time in a waiting room if the resolution officer is engaged with another student. They will be with you as quickly as possible.\nJoin Zoom Meeting\nhttps://umich.zoom.us/j/96728733675\nMeeting ID: 967 2873 3675\nOne tap mobile\n+13126266799\,\,96728733675# US (Chicago)\n+16468769923\,\,96728733675# US (New York)\nDial by your location\n+1 312 626 6799 US (Chicago)\n+1 646 876 9923 US (New York)\n+1 646 931 3860 US\n+1 301 715 8592 US (Washington DC)\n+1 564 217 2000 US\n+1 669 444 9171 US\n+1 669 900 6833 US (San Jose)\n+1 253 215 8782 US (Tacoma)\n+1 346 248 7799 US (Houston)\n+1 386 347 5053 US\n+1 204 272 7920 Canada\n+1 438 809 7799 Canada\n+1 587 328 1099 Canada\n+1 647 374 4685 Canada\n+1 647 558 0588 Canada\n+1 778 907 2071 Canada\n+1 780 666 0144 Canada\nMeeting ID: 967 2873 3675\nFind your local number: https://umich.zoom.us/u/adu3aHINf\nJoin by SIP\n96728733675@zoomcrc.com\nJoin by H.323\n162.255.37.11 (US West)\n162.255.36.11 (US East)\n115.114.131.7 (India Mumbai)\n115.114.115.7 (India Hyderabad)\n213.19.144.110 (Amsterdam Netherlands)\n213.244.140.110 (Germany)\n103.122.166.55 (Australia Sydney)\n103.122.167.55 (Australia Melbourne)\n149.137.40.110 (Singapore)\n64.211.144.160 (Brazil)\n149.137.68.253 (Mexico)\n69.174.57.160 (Canada Toronto)\n65.39.152.160 (Canada Vancouver)\n207.226.132.110 (Japan Tokyo)\n149.137.24.110 (Japan Osaka)\nMeeting ID: 967 2873 3675
UID:96587-21792913@events.umich.edu
URL:https://events.umich.edu/event/96587
CLASS:PUBLIC
STATUS:CONFIRMED
CATEGORIES:
LOCATION:Off Campus Location
CONTACT:
END:VEVENT
BEGIN:VEVENT
DTSTAMP:20220810T131604
DTSTART;TZID=America/Detroit:20221123T150000
DTEND;TZID=America/Detroit:20221123T160000
SUMMARY:Meeting:INFORMS+HFES Weekly Coffee Chats
DESCRIPTION:INFORMS and HFES will be starting their weekly coffee chats on Wednesday\, August 31 from 3-4 p.m. EST in the IOE Commons. This event will be held every Wednesday of the fall semester at this time and location. Please swing by to catch up with friends/colleagues and grab a coffee/tea/snack!
UID:96754-21793260@events.umich.edu
URL:https://events.umich.edu/event/96754
CLASS:PUBLIC
STATUS:CONFIRMED
CATEGORIES:Industrial And Operations Engineering,Ioe 836
LOCATION:Industrial and Operations Engineering Building - IOE commons
CONTACT:
END:VEVENT
BEGIN:VEVENT
DTSTAMP:20221101T151348
DTSTART;TZID=America/Detroit:20221123T180000
DTEND;TZID=America/Detroit:20221123T190000
SUMMARY:Social / Informal Gathering:Deutschtisch
DESCRIPTION:Meets Wednesdays\, 6-7 p.m.\, in the Dining Hall of North Quad. Visitors should look for a table with German/Swiss/Austrian flags and a bunch of students speaking German.\n\nGerman students at all levels (101 and up) are welcome at all Max Kade events.\n\nIf you have any questions\, please ask Vera (veremeev@umich.edu.)
UID:100939-21800569@events.umich.edu
URL:https://events.umich.edu/event/100939
CLASS:PUBLIC
STATUS:CONFIRMED
CATEGORIES:German,Germanic Languages And Literatures
LOCATION:North Quad - Dining Hall
CONTACT:
END:VEVENT
BEGIN:VEVENT
DTSTAMP:20221123T181628
DTSTART;TZID=America/Detroit:20221123T203000
SUMMARY:Sporting Event:Men's Basketball vs Jackson State
DESCRIPTION:Men's Basketball vs Jackson State
UID:100574-21800088@events.umich.edu
URL:https://events.umich.edu/event/100574
CLASS:PUBLIC
STATUS:CONFIRMED
CATEGORIES:Athletics,Athletics - Men's Basketball
LOCATION:Crisler Arena
CONTACT:
END:VEVENT
END:VCALENDAR