BEGIN:VCALENDAR
VERSION:2.0
PRODID:-//UM//UM*Events//EN
CALSCALE:GREGORIAN
BEGIN:VTIMEZONE
TZID:America/Detroit
TZURL:http://tzurl.org/zoneinfo/America/Detroit
X-LIC-LOCATION:America/Detroit
BEGIN:DAYLIGHT
TZOFFSETFROM:-0500
TZOFFSETTO:-0400
TZNAME:EDT
DTSTART:20070311T020000
RRULE:FREQ=YEARLY;BYMONTH=3;BYDAY=2SU
END:DAYLIGHT
BEGIN:STANDARD
TZOFFSETFROM:-0400
TZOFFSETTO:-0500
TZNAME:EST
DTSTART:20071104T020000
RRULE:FREQ=YEARLY;BYMONTH=11;BYDAY=1SU
END:STANDARD
END:VTIMEZONE
BEGIN:VEVENT
DTSTAMP:20230324T120005
DTSTART;TZID=America/Detroit:20221125T000000
DTEND;TZID=America/Detroit:20221125T235959
SUMMARY:Community Service:Homework Help at The Children's Center
DESCRIPTION:The Homework Help program offers children assistance with their homework assignments. Children are encouraged to bring homework and are paired with a volunteer to assist them. This program is a critical service in helping children thrive. Volunteers give children the tools they need to be successful in school.Virtual and in-person volunteer opportunities are available. If you would like to volunteer\, please start the enrollment process by creating an account on the Children Center's Volunteer Site found HERE. After your account is created\, the Children's Center will reach out to you within 2 business days to answer any questions and discuss the next steps.In accordance with the CMS Vaccine Mandate\, those volunteering in-person at the Children’s Center are required to be fully vaccinated and must provide proof of full vaccination upon request.
UID:93885-21788014@events.umich.edu
URL:https://events.umich.edu/event/93885
CLASS:PUBLIC
STATUS:CONFIRMED
CATEGORIES:
LOCATION:The Children&#039;s Center 
CONTACT:
END:VEVENT
BEGIN:VEVENT
DTSTAMP:20221021T133434
DTSTART;TZID=America/Detroit:20221125T090000
DTEND;TZID=America/Detroit:20221125T170000
SUMMARY:Exhibition:La Pelea/The Fight
DESCRIPTION:About the Exhibition\n*La Pelea/The Fight* is a 46-foot panoramic oil-on-canvas. At the center of the “picture” and surrounded by a jeering crowd\, the viewer becomes literally and conceptually involved as the one who is about to fight and defend themself. Depending on where the viewer is standing in the space\, however\, a different perspective can emerge\, suggesting that even a public\, collective experience is highly subjective.\n\nLike much of Diaz’s work\, *La Pelea/The Fight* brings into question the reliability of the narrator and the complexity of stories\, especially as they pertain to the manipulation of facts and suggestions of criminality by the media and those in positions of power. It is timely in an era defined by polarity and politically driven half-truths and fictions\, and a reminder that it is the necessary tension of a myriad of perspectives that bring us closer to some truth\, rather than the singular view from where we are standing. \n\nAbout the Artist\nBorn in 1977 in Mexico\, Diaz considers image and information\, and how the media and individuals represent stories to a different end. His immersive Panoramic paintings allow for the viewer to be witness\, gaining a different perspective or experience depending on the positioning in relation to the work. His work is so original\, fresh and contemporary\, while at the same time harkening back to the traditions of Mexican muralists like Diego Rivera.
UID:97756-21795081@events.umich.edu
URL:https://events.umich.edu/event/97756
CLASS:PUBLIC
STATUS:CONFIRMED
CATEGORIES:Humanities,Latin America,Social Justice,Visual Arts,Art,Exhibition
LOCATION:202 S. Thayer - Institute for the Humanities Gallery
CONTACT:
END:VEVENT
BEGIN:VEVENT
DTSTAMP:20221219T181506
DTSTART;TZID=America/Detroit:20221125T110000
DTEND;TZID=America/Detroit:20221125T170000
SUMMARY:Exhibition:LaToya Ruby Frazier: Flint Is Family In Three Acts
DESCRIPTION:Organized by Stamps Gallery in partnership with the Eli and Edythe Broad Art Museum\, Michigan State University\, and the Flint Institute of Arts.\n“No matter how dark a situation may be\, a camera can extract the light and turn a negative into a positive. In creating Flint Is Family In Three Acts\, I see the role of photographs as empowering and enacting visible change: in Act I\, the photographs bear witness and reclaim history\; in Act II\, the photographs reveal a hidden narrative\; in Act III\, the photographs are a catalyst for obtaining resources.”\n—LaToya Ruby Frazier \nFlint Is Family In Three Acts is a multi-part exhibition by renowned artist LaToya Ruby Frazier. For five years\, Frazier researched and collaborated with two poets\, activists\, mothers and residents of Flint\, Michigan\, Shea Cobb and Amber Hasan\, as they endured one of the most devastating ecological crises in U.S. history. Resulting in a monumental oeuvre of photographs\, video\, and texts Frazier developed Flint Is Family In Three Acts (2016-2021) to advocate for access to clean and safe drinking water for all regardless of race\, religion and economic status. The series records stories of surviving and thriving\, especially within racialized and marginalized neighborhoods in Flint\, to ensure that they remained visible in national debates concerning environmental justice. Drawing inspiration from the urgency in Frazier’s work\, which also sheds light on building equitable and inclusive futures\, Stamps Gallery\, part of the Penny W. Stamps School of Art &amp\; Design at the University of Michigan\, initiated a partnership with the Flint Institute of Arts and the Eli and Edythe Broad Art Museum at Michigan State University to bring this important exhibition together for the first time in Michigan. As co-presenters of this landmark exhibition\, our goal is to offer a creative pedagogical platform that reaches broader audiences across Michigan and beyond - Flint is Family: Act I (2016-2017) will take place at the Flint Institute of Arts\, Act II (2017-2019) at the Eli and Edythe Broad Art Museum\, and Act III (2019) at Stamps Gallery. The exhibition served as a catalyst to bring three disparate institutions together to deepen our understanding of individual and institutional agency in advocating for equity\, transparency and environmental justice in our respective communities\, while also highlighting the role of the artist as an agent for enacting positive social change.\n\nCurated by Srimoyee Mitra\, Tracee Glab\, and Steven L. Bridges with the assistance of Jennifer Junkermeier-Khan\, Rachel Winter\, and Rachael Holstege.
UID:95590-21790413@events.umich.edu
URL:https://events.umich.edu/event/95590
CLASS:PUBLIC
STATUS:CONFIRMED
CATEGORIES:Art
LOCATION:Off Campus Location
CONTACT:
END:VEVENT
BEGIN:VEVENT
DTSTAMP:20220901T181526
DTSTART;TZID=America/Detroit:20221125T110000
DTEND;TZID=America/Detroit:20221125T170000
SUMMARY:Exhibition:Respond/ Resist/ Rethink 2022
DESCRIPTION:Water is the lifeblood of civilizations\, the center of cities\, the foundation of creation stories and the connective tissue of culture. Water is a life force\, without it humanity will cease to exist. Fresh water is necessary for the survival of all living organisms on Earth. The human body is made up of over 60% water and humanity cannot survive without it. Water is a vital life source that holds (and generates) power. It is nourishing\, quenching\, and refreshing but has also been commodified\, polluted\, and politicized. From the Standing Rock\, Leech Lake and Fond du Lac reservations\, to the straits of Mackinac where oil pipelines threaten important waterways\, to the polluted Mississippi River and drying Colorado River Basin\, to water shutoffs in Detroit\, PFAs in Ann Arbor\, and the Flint Water crisis (to name just a few)\, ensuring access to clean water (and the sustainable ecologies it supports) is an ongoing struggle that requires intersectional\, intergenerational\, and collective knowledge sharing\, discussion and action to protect. \nCall for Work\nStamps Gallery invites the undergraduate and graduate students of Penny W. Stamps School of Art &amp\; Design to participate in a poster and video exhibition that responds to the prompt: The care\, sustainability\, and access to free and clean water is arguably one of the most urgent and challenging issues of our time “What can you do to spread awareness of water issues and conservation measures?”\nEligible students: submit your work using our online form by Friday\, August 19\, 2022 →\nEligibility\nMust be a currently enrolled undergraduate or graduate major in the Penny W. Stamps School of Art &amp\; Design.Eligible students may submit one work (poster or video).Time-based work must be submitted as a YouTube/Vimeo link.Timeline\nThe deadline for submitting work is Friday\, August 19\, 2022\, 5pm\, EST. A selection committee composed of students\, faculty\, and Stamps Gallery staff will review submitted work in the weeks following the deadline.Students whose works are selected will be notified by September 2\, 2022. The exhibition will take place from September 15\, 2022 - January 14\, 2023.Why posters &amp\; videos? \nPosters can function as catalysts for change. For generations\, posters have served as an effective tool to circulate ideas and messages to the public. Visually striking\, and designed to draw attention from passersby\, posters can be conversation starters\, invite people to pause\, reflect\, spread the word\, get involved. They have been a powerful medium for many conceptual artists and graphic designers to create powerful images and messages that could respond to immediate issues and be distributed widely. Similarly\, video art was another exciting immediate medium for conceptual artists in the 1960s and 1970s as the technology became more accessible to the masses. Video art provided an alternative to the dominant broadcasting corporations. Artists made experimental films\, recorded performances\, and first-person narratives that were then exhibited and screened at galleries\, museums\, and events. Posters and videos continue to be salient features in the 21st Century to respond to urgent issues and questions facing the present moment. \nContext\nStamps Gallery is an incubator and lab for contemporary artists and designers to explore ideas and projects that catalyze positive social change. As the pandemic grips our nation it has exposed the social\, political\, and economic disparities that have disproportionately impacted Black\, Indigenous\, and People of Color. The world witnessed in horror and sadness the meaningless loss of African American lives with George Floyd\, Breonna Taylor\, Ahmaud Arbery\, among many others that we will never know. National and international outcries brought people together from multiple races\, genders\, and generations - on social media and in the streets - to publicly demand an end to police brutality\, structural racism\, and emphasizing that Black Lives Matter. What is the role of a university gallery in this time of crisis? How can we foster an inclusive platform for the students in our community to voice their ideas and foster a community based on equality\, belonging\, respect? We launched Respond/ Resist/ Rethink in the fall 2020 to kick off the fall semester with student work paired with the work of leading artists exhibiting at the Gallery.
UID:96386-21792420@events.umich.edu
URL:https://events.umich.edu/event/96386
CLASS:PUBLIC
STATUS:CONFIRMED
CATEGORIES:Art
LOCATION:Off Campus Location
CONTACT:
END:VEVENT
BEGIN:VEVENT
DTSTAMP:20260112T144046
DTSTART;TZID=America/Detroit:20221125T120000
DTEND;TZID=America/Detroit:20221125T123000
SUMMARY:Well-being:Heartfulness Guided Meditation
DESCRIPTION:Heartfulness Guided Meditation is a weekly\, drop-in program designed to help you Mental well-being. \n\nAll U-M students\, faculty\, and staff are welcome to participate in guided meditation practice with a trainer every Friday at noon over Zoom (details to join are provided below). No prior experience with meditation is required. \n\n*What will you learn?*\n\nThe guided meditation practice involves three simple steps: relaxation\, rejuvenation\, and meditation.\n\nRelaxation brings your body to a calm\, steady posture creating a stillness at the physical level\, and prepares the mind for meditation. We follow this with a rejuvenation method to detox the mind to let go of stress and complex emotions\, and will leave you feeling light and refreshed. Lastly\, learning to meditate by being mindful of your heart will connect you with yourself by listening to your heart’s voice. \n\n*Why Meditate?*\n\nWhile physical fitness keeps our bodies in shape\, meditation is an exercise for the mind and mental wellness. In addition to the measurable benefits mentally and physically\, many people benefit from an unquantifiable inner poise and harmony. \n\n*Please take Learn to Meditate session if you are new to the practice. These sessions are offered Monthly.* https://events.umich.edu/event/128708\n\n*Event Details*\n\nHeartfulness Guided Meditation \nFridays from 12-12:30 p.m. ET (except during university season days / holidays)\nJoin Via Zoom Meeting\nRegister to receive Passcode (see “Related links”\n\n\nThis wellness program is coordinated by ITS Teaching & Learning and provided at no cost by heartfulness.org.
UID:88544-21791406@events.umich.edu
URL:https://events.umich.edu/event/88544
CLASS:PUBLIC
STATUS:CONFIRMED
CATEGORIES:Free,Well-being,Health & Wellness
LOCATION:Off Campus Location
CONTACT:
END:VEVENT
BEGIN:VEVENT
DTSTAMP:20221109T141417
DTSTART;TZID=America/Detroit:20221125T123000
DTEND;TZID=America/Detroit:20221125T131500
SUMMARY:Presentation:Sky Tonight
DESCRIPTION:A live presentation on what to find in the sky tonight and for the coming few weeks. This presentation includes how to find the cardinal directions on your own by finding the North Star\, current and upcoming constellations\, visible planets\, a few deep sky objects depending on the season\, and other interesting astronomical visualizations. If you want to be able to look up from your own backyard and know what to look for\, this is the show for you.\n\nThe state-of-the-art Planetarium & Dome Theater at the U-M Museum of Natural History transports visitors beyond distant stars and back in time from the comfort of reclining seats. Tickets $8. Tickets are available on the day of the show at the Museum Store.\n\nThe planetarium is operating at half capacity to maximize distancing between viewers.
UID:91230-21799107@events.umich.edu
URL:https://events.umich.edu/event/91230
CLASS:PUBLIC
STATUS:CONFIRMED
CATEGORIES:Science,Natural Sciences,Astronomy
LOCATION:Museum of Natural History - Planetarium &amp; Dome Theater
CONTACT:
END:VEVENT
BEGIN:VEVENT
DTSTAMP:20221118T141131
DTSTART;TZID=America/Detroit:20221125T130000
DTEND;TZID=America/Detroit:20221125T143000
SUMMARY:Workshop / Seminar:Interdisciplinary Workshop in Comparative Politics (IWCP)
DESCRIPTION:The Interdisciplinary Workshop in Comparative Politics (IWCP) is a Rackham Interdisciplinary Workshop that provides a platform for sharing and improving research projects that use a comparative approach to study the causes and effects of political and economic processes.
UID:97339-21794338@events.umich.edu
URL:https://events.umich.edu/event/97339
CLASS:PUBLIC
STATUS:CONFIRMED
CATEGORIES:Research
LOCATION:
CONTACT:
END:VEVENT
BEGIN:VEVENT
DTSTAMP:20230309T110228
DTSTART;TZID=America/Detroit:20221125T133000
DTEND;TZID=America/Detroit:20221125T141500
SUMMARY:Presentation:Mars: One Thousand One
DESCRIPTION:Mars: One Thousand One tells a story of what humans might face with the first manned journey to Mars. Reporter Miles O'Brien is reporting live from his Space Headquarters TV Studio in New York while events unfold for the crew on their 1001-day long mission. You will witness firsthand their brave attempts to put human footprints on Mars and return safely to Earth. This journey is made possible by the biggest engineering feat ever and loaded with scientific experiments.\n\nThe state-of-the-art Planetarium & Dome Theater at the U-M Museum of Natural History transports visitors beyond distant stars and back in time from the comfort of reclining seats. Tickets $8. Tickets are available on the day of the show at the Museum Store.\n\nThe planetarium is operating at half capacity to maximize distancing between viewers.
UID:100073-21799144@events.umich.edu
URL:https://events.umich.edu/event/100073
CLASS:PUBLIC
STATUS:CONFIRMED
CATEGORIES:Natural Sciences,Astronomy,Family,natural history museum
LOCATION:Museum of Natural History - Planetarium &amp; Dome Theater
CONTACT:
END:VEVENT
BEGIN:VEVENT
DTSTAMP:20221109T141417
DTSTART;TZID=America/Detroit:20221125T143000
DTEND;TZID=America/Detroit:20221125T151500
SUMMARY:Presentation:Sky Tonight
DESCRIPTION:A live presentation on what to find in the sky tonight and for the coming few weeks. This presentation includes how to find the cardinal directions on your own by finding the North Star\, current and upcoming constellations\, visible planets\, a few deep sky objects depending on the season\, and other interesting astronomical visualizations. If you want to be able to look up from your own backyard and know what to look for\, this is the show for you.\n\nThe state-of-the-art Planetarium & Dome Theater at the U-M Museum of Natural History transports visitors beyond distant stars and back in time from the comfort of reclining seats. Tickets $8. Tickets are available on the day of the show at the Museum Store.\n\nThe planetarium is operating at half capacity to maximize distancing between viewers.
UID:91230-21799111@events.umich.edu
URL:https://events.umich.edu/event/91230
CLASS:PUBLIC
STATUS:CONFIRMED
CATEGORIES:Science,Natural Sciences,Astronomy
LOCATION:Museum of Natural History - Planetarium &amp; Dome Theater
CONTACT:
END:VEVENT
BEGIN:VEVENT
DTSTAMP:20221125T181658
DTSTART;TZID=America/Detroit:20221125T190000
SUMMARY:Sporting Event:Ice Hockey vs Harvard 
DESCRIPTION:Ice Hockey vs Harvard 
UID:100580-21800096@events.umich.edu
URL:https://events.umich.edu/event/100580
CLASS:PUBLIC
STATUS:CONFIRMED
CATEGORIES:Athletics - Ice Hockey,Athletics
LOCATION:Off Campus Location
CONTACT:
END:VEVENT
BEGIN:VEVENT
DTSTAMP:20221125T181659
DTSTART;TZID=America/Detroit:20221125T190000
SUMMARY:Sporting Event:Volleyball vs Rutgers
DESCRIPTION:Volleyball vs Rutgers
UID:100581-21800097@events.umich.edu
URL:https://events.umich.edu/event/100581
CLASS:PUBLIC
STATUS:CONFIRMED
CATEGORIES:Athletics,Athletics - Volleyball
LOCATION:Off Campus Location
CONTACT:
END:VEVENT
BEGIN:VEVENT
DTSTAMP:20220629T061558
DTSTART;TZID=America/Detroit:20221125T190000
SUMMARY:Sporting Event:Volleyball vs Rutgers
DESCRIPTION:Volleyball vs Rutgers
UID:95600-21790452@events.umich.edu
URL:https://events.umich.edu/event/95600
CLASS:PUBLIC
STATUS:CONFIRMED
CATEGORIES:Athletics,Athletics - Volleyball
LOCATION:Off Campus Location
CONTACT:
END:VEVENT
BEGIN:VEVENT
DTSTAMP:20221125T181012
DTSTART;TZID=America/Detroit:20221125T200000
SUMMARY:Performance:Matt Watroba
DESCRIPTION:A Michigan folk music tradition. \nPlease visit https://mutotix.umich.edu/3511/3512 for more detail.
UID:96442-21792539@events.umich.edu
URL:https://events.umich.edu/event/96442
CLASS:PUBLIC
STATUS:CONFIRMED
CATEGORIES:Ark,Music,Mutotix
LOCATION:ARK Reserved
CONTACT:
END:VEVENT
END:VCALENDAR