BEGIN:VCALENDAR
VERSION:2.0
PRODID:-//UM//UM*Events//EN
CALSCALE:GREGORIAN
BEGIN:VTIMEZONE
TZID:America/Detroit
TZURL:http://tzurl.org/zoneinfo/America/Detroit
X-LIC-LOCATION:America/Detroit
BEGIN:DAYLIGHT
TZOFFSETFROM:-0500
TZOFFSETTO:-0400
TZNAME:EDT
DTSTART:20070311T020000
RRULE:FREQ=YEARLY;BYMONTH=3;BYDAY=2SU
END:DAYLIGHT
BEGIN:STANDARD
TZOFFSETFROM:-0400
TZOFFSETTO:-0500
TZNAME:EST
DTSTART:20071104T020000
RRULE:FREQ=YEARLY;BYMONTH=11;BYDAY=1SU
END:STANDARD
END:VTIMEZONE
BEGIN:VEVENT
DTSTAMP:20221207T120006
DTSTART;TZID=America/Detroit:20221204T000000
DTEND;TZID=America/Detroit:20221204T235959
SUMMARY:Workshop / Seminar:Academy of Adventist Scholars
DESCRIPTION:Academy of Adventist ScholarsFollowing the legacy of university scholars throughout Christian history\, we as Seventh-day Adventist university students join in the pursuit of an intelligent faith and depth of understanding of the Word of God to bring the same purpose and excellence to our faith as we bring to our academic careers. This 1-hour weekly “lunch and learn” will focus in-depth on scripture questions and doctrines. Led by church leaders and knowledgeable Bible students\, this midday study is perfect for the lunch hour\, beginning promptly at 12p and ending at 12:50p. Bring your own lunch\, journal\, and Bible. 
UID:99694-21798549@events.umich.edu
URL:https://events.umich.edu/event/99694
CLASS:PUBLIC
STATUS:CONFIRMED
CATEGORIES:
LOCATION:Palmer Commons
CONTACT:
END:VEVENT
BEGIN:VEVENT
DTSTAMP:20221203T180034
DTSTART;TZID=America/Detroit:20221204T000000
DTEND;TZID=America/Detroit:20221204T230000
SUMMARY:Other:Away Games Vs. DePaul 12/2-12/3
DESCRIPTION:Away Games Vs. DePaul University from 12/2-12/3
UID:101630-21801616@events.umich.edu
URL:https://events.umich.edu/event/101630
CLASS:PUBLIC
STATUS:CONFIRMED
CATEGORIES:
LOCATION:Johnny&#039;s Ice House-West
CONTACT:
END:VEVENT
BEGIN:VEVENT
DTSTAMP:20230324T120005
DTSTART;TZID=America/Detroit:20221204T000000
DTEND;TZID=America/Detroit:20221204T235959
SUMMARY:Community Service:Homework Help at The Children's Center
DESCRIPTION:The Homework Help program offers children assistance with their homework assignments. Children are encouraged to bring homework and are paired with a volunteer to assist them. This program is a critical service in helping children thrive. Volunteers give children the tools they need to be successful in school.Virtual and in-person volunteer opportunities are available. If you would like to volunteer\, please start the enrollment process by creating an account on the Children Center's Volunteer Site found HERE. After your account is created\, the Children's Center will reach out to you within 2 business days to answer any questions and discuss the next steps.In accordance with the CMS Vaccine Mandate\, those volunteering in-person at the Children’s Center are required to be fully vaccinated and must provide proof of full vaccination upon request.
UID:93885-21788023@events.umich.edu
URL:https://events.umich.edu/event/93885
CLASS:PUBLIC
STATUS:CONFIRMED
CATEGORIES:
LOCATION:The Children&#039;s Center 
CONTACT:
END:VEVENT
BEGIN:VEVENT
DTSTAMP:20221204T120020
DTSTART;TZID=America/Detroit:20221204T000000
DTEND;TZID=America/Detroit:20221204T235959
SUMMARY:Other:Porter Classic 2022
DESCRIPTION:2nd competition for UMSST - hosted by Ann Arbor Hockettes at the Ann Arbor Ice Cube
UID:98692-21797079@events.umich.edu
URL:https://events.umich.edu/event/98692
CLASS:PUBLIC
STATUS:CONFIRMED
CATEGORIES:
LOCATION:Ann Arbor Ice Cube
CONTACT:
END:VEVENT
BEGIN:VEVENT
DTSTAMP:20221204T120019
DTSTART;TZID=America/Detroit:20221204T000000
DTEND;TZID=America/Detroit:20221204T235959
SUMMARY:Performance:Spring Awakening Performances!
DESCRIPTION:Come see In the Round perform Spring Awakening at the Arthur Miller Theater! Tickets for Friday Evening: https://mutotix.umich.edu/3682/3683Tickets for Saturday Matinee: https://mutotix.umich.edu/3682/3684Tickets for Saturday Evening: https://mutotix.umich.edu/3682/3685Tickets for Sunday Matinee: https://mutotix.umich.edu/3682/3686
UID:96361-21792353@events.umich.edu
URL:https://events.umich.edu/event/96361
CLASS:PUBLIC
STATUS:CONFIRMED
CATEGORIES:
LOCATION:Arthur Miller Theater
CONTACT:
END:VEVENT
BEGIN:VEVENT
DTSTAMP:20221130T114848
DTSTART;TZID=America/Detroit:20221204T000000
DTEND;TZID=America/Detroit:20221204T235900
SUMMARY:Other:Trade Show | Outdoors for All
DESCRIPTION:University of Michigan’s Art & Design\, Business\, Engineering\, and School of Information students are gearing up for the Integrated Product Development (IPD) Trade Show! Members of our community will gather to view and make purchase decisions from the “best of the best” of their work over the past semester in this interdisciplinary course.\n\nIPD is an experiential\, cross-disciplinary course that puts teams of students from Art & Design\, Business\, Engineering\, and Information in a competitive product development environment. This innovative course has been featured on CNN and written in the New York Times\, Wall Street Journal\, and Businessweek. The course is hosted by the Tauber Institute for Global Operations and is taught jointly by faculty members Eric Svaan of the Stephen M. Ross School of Business and Stephanie Tharp from the Penny W. Stamps School of Art & Design.\n\nThe Problem Statement: to design and produce a tangible product that lowers barriers to participation in outdoor activities by persons who have lost functional use of one or more limbs. \n\nCatch the competitive buzz!\n\nView the products online. Then cast your vote!\n\nVOTE ONLINE:\nhttps://myumi.ch/Z6WdZ
UID:101705-21802271@events.umich.edu
URL:https://events.umich.edu/event/101705
CLASS:PUBLIC
STATUS:CONFIRMED
CATEGORIES:Art,ArtsEngine,Business,Engineering,Industrial and Operations Engineering,Information and Technology,Medicine,Michigan Engineering,Multidisciplinary Design,Pre Med,Pre-Health,Public Health
LOCATION:Off Campus Location - VOTE HERE!
CONTACT:
END:VEVENT
BEGIN:VEVENT
DTSTAMP:20220809T173135
DTSTART;TZID=America/Detroit:20221204T080000
DTEND;TZID=America/Detroit:20221204T190000
SUMMARY:Exhibition:Places & Spaces: Mapping Science and A Brief History of Information Graphics
DESCRIPTION:The Places & Spaces: Mapping Science exhibit introduces science mapping techniques and data visualization to the general public and to experts across diverse disciplines\, and we hope inspires cross-disciplinary discussion on how to best track and communicate scholarly activity and scientific progress on a global scale. The exhibit includes a macroscope which showcases interactive visualizations that demonstrate the impact of different data cleaning\, analysis\, and visualization algorithms.\n\nThe Places & Spaces exhibit is curated by the Cyberinfrastructure for Network Science Center at Indiana University. The complementary exhibit\, A Brief History of Information Graphics\, was created by Clark Library staff to provide an historical context to the Places and Spaces exhibit.
UID:96720-21800832@events.umich.edu
URL:https://events.umich.edu/event/96720
CLASS:PUBLIC
STATUS:CONFIRMED
CATEGORIES:Free,Library,Maps
LOCATION:Hatcher Graduate Library - Clark Library, 2nd Floor
CONTACT:
END:VEVENT
BEGIN:VEVENT
DTSTAMP:20220930T132239
DTSTART;TZID=America/Detroit:20221204T080000
DTEND;TZID=America/Detroit:20221204T230000
SUMMARY:Class / Instruction:Semester in Detroit Application Open!
DESCRIPTION:Semester in Detroit uses the MCompass system for applications. All applications are accepted on a rolling basis\, which means that the earlier you apply\, the better chance you have of getting in. \n\nApplication Due Dates:\n1/31/23 for the spring 2023 program\n\nProgram Eligibility:\nThe Semester in Detroit spring/summer and fall programs accept undergraduate students from all schools and departments at the University of Michigan-Ann Arbor. All students\, from First years to Seniors or Super Seniors are eligible to apply.\n\nStudents from Grand Valley State University\, UM-Dearborn\, and UM-Flint are eligible to apply for fall programs only. The same application eligibility applies to GVSU\, Dearborn\, and Flint students (all departments\, all class standings). \n\nApplicants should have a strong interest in the city of Detroit and in questioning dominant narratives\; engaging with challenging new perspectives on contemporary issues\; and building community with one another\, SiD faculty and staff\, and community members at internship sites and beyond.\n\nQuestions?\nEmail semesterindetroit@umich.edu.
UID:99614-21798430@events.umich.edu
URL:https://events.umich.edu/event/99614
CLASS:PUBLIC
STATUS:CONFIRMED
CATEGORIES:Activism,Advocacy,civil rights,Community Engagement,Community Organzing,Community-based Learning,detroit,Diversity Equity and Inclusion,Education
LOCATION:
CONTACT:
END:VEVENT
BEGIN:VEVENT
DTSTAMP:20220818T100608
DTSTART;TZID=America/Detroit:20221204T100000
DTEND;TZID=America/Detroit:20221204T120000
SUMMARY:Ceremony / Service:Sunday Celebration
DESCRIPTION:The school year is about to begin! No matter your background\, join us in kicking off this season with new expectations and hope.\n\nJoin us at 10AM every Sunday to experience church in a fresh way as we worship and seek God together. We meet at the Transformation Center (1001 E. Huron St.) which is located across the street from the Rackham Auditorium and the Power Center.\n\nCurious? Check out our website at https://annarbor.hmcc.net/ to learn more about who we are and what we value.
UID:96832-21793824@events.umich.edu
URL:https://events.umich.edu/event/96832
CLASS:PUBLIC
STATUS:CONFIRMED
CATEGORIES:christian,christianity,church,faith,religious,spiritual,welcome week
LOCATION:Off Campus Location
CONTACT:
END:VEVENT
BEGIN:VEVENT
DTSTAMP:20221204T183114
DTSTART;TZID=America/Detroit:20221204T110000
DTEND;TZID=America/Detroit:20221204T170000
SUMMARY:Other:Member Discount Days at the UMMA Shop
DESCRIPTION:.\n \nThe UMMA Shop will host its Discount Days for all UMMA Members on Friday\, December 2 THROUGH Sunday\, December 4 to show our appreciation for our Member community. Shop the amazing selection of books\, stationary\, art supplies\, jewelry and more. Get your membership exclusive discount and gift at checkout!\n \nVisit the shop online! https://umma.umich.edu/shop\n\n
UID:101618-21801587@events.umich.edu
URL:https://events.umich.edu/event/101618
CLASS:PUBLIC
STATUS:CONFIRMED
CATEGORIES:Art,Books,Museum,UMMA
LOCATION:Museum of Art - UMMA Store / University of Michigan Museum of Art 
CONTACT:
END:VEVENT
BEGIN:VEVENT
DTSTAMP:20230908T085618
DTSTART;TZID=America/Detroit:20221204T110000
DTEND;TZID=America/Detroit:20221204T111500
SUMMARY:Presentation:Science Forum Discovery Demos
DESCRIPTION:Join us in the Science Forum for 15-20 minute engaging science demonstrations that will help you see the world in a whole new way. Demonstrations are free and appropriate for visitors ages 5 and above. Schedule subject to change.\n\nNo demos on October 14th or 15th.\n\nHave you ever wondered how we see? To take a closer look at the organ that helps us see the world\, join UMMNH staff in dissecting a cow’s eye. How is it similar to and different from our eyes\, and those of other animals? Learn the parts of the eye and how they work together. While exploring the lens\, we’ll also talk about why some of us need glasses and how we can keep our eyes and our vision healthy.
UID:101225-21801003@events.umich.edu
URL:https://events.umich.edu/event/101225
CLASS:PUBLIC
STATUS:CONFIRMED
CATEGORIES:Biosciences,Children,Free,Museum,Natural Sciences
LOCATION:Museum of Natural History
CONTACT:
END:VEVENT
BEGIN:VEVENT
DTSTAMP:20221204T120022
DTSTART;TZID=America/Detroit:20221204T120000
DTEND;TZID=America/Detroit:20221204T130000
SUMMARY:Meeting:Star Wars Book Club
DESCRIPTION:Come join some fellow Star Wars fanS and Read some of the amazing star wars books and novels!
UID:100791-21800358@events.umich.edu
URL:https://events.umich.edu/event/100791
CLASS:PUBLIC
STATUS:CONFIRMED
CATEGORIES:
LOCATION:Mason Hall
CONTACT:
END:VEVENT
BEGIN:VEVENT
DTSTAMP:20221109T141417
DTSTART;TZID=America/Detroit:20221204T123000
DTEND;TZID=America/Detroit:20221204T131500
SUMMARY:Presentation:Sky Tonight
DESCRIPTION:A live presentation on what to find in the sky tonight and for the coming few weeks. This presentation includes how to find the cardinal directions on your own by finding the North Star\, current and upcoming constellations\, visible planets\, a few deep sky objects depending on the season\, and other interesting astronomical visualizations. If you want to be able to look up from your own backyard and know what to look for\, this is the show for you.\n\nThe state-of-the-art Planetarium & Dome Theater at the U-M Museum of Natural History transports visitors beyond distant stars and back in time from the comfort of reclining seats. Tickets $8. Tickets are available on the day of the show at the Museum Store.\n\nThe planetarium is operating at half capacity to maximize distancing between viewers.
UID:91230-21801070@events.umich.edu
URL:https://events.umich.edu/event/91230
CLASS:PUBLIC
STATUS:CONFIRMED
CATEGORIES:Astronomy,Natural Sciences,Science
LOCATION:Museum of Natural History - Planetarium &amp; Dome Theater
CONTACT:
END:VEVENT
BEGIN:VEVENT
DTSTAMP:20221116T150054
DTSTART;TZID=America/Detroit:20221204T130000
DTEND;TZID=America/Detroit:20221204T150000
SUMMARY:Workshop / Seminar:The Premodern Colloquium. Visual Itineraries in Seventeenth-Century Natural History: Juan Eusebio Nieremberg’s Historia naturae (1635)
DESCRIPTION:In this paper I will present some aspects of my current research on an intriguing set of early modern natural historical images: the woodcut illustrations featured in the treatise Historia naturae\, maxime peregrinae by the Spanish Jesuit scholar Juan Eusebio Nieremberg\, published in Antwerp in 1635. In particular\, I will explore the “visual itineraries” created by some of these images as they were appropriated by other scholars and artists and began to circulate via different media.
UID:97920-21795319@events.umich.edu
URL:https://events.umich.edu/event/97920
CLASS:PUBLIC
STATUS:CONFIRMED
CATEGORIES:Art History,Europe,Natural Sciences
LOCATION:Off Campus Location
CONTACT:
END:VEVENT
BEGIN:VEVENT
DTSTAMP:20230309T110228
DTSTART;TZID=America/Detroit:20221204T133000
DTEND;TZID=America/Detroit:20221204T141500
SUMMARY:Presentation:Mars: One Thousand One
DESCRIPTION:Mars: One Thousand One tells a story of what humans might face with the first manned journey to Mars. Reporter Miles O'Brien is reporting live from his Space Headquarters TV Studio in New York while events unfold for the crew on their 1001-day long mission. You will witness firsthand their brave attempts to put human footprints on Mars and return safely to Earth. This journey is made possible by the biggest engineering feat ever and loaded with scientific experiments.\n\nThe state-of-the-art Planetarium & Dome Theater at the U-M Museum of Natural History transports visitors beyond distant stars and back in time from the comfort of reclining seats. Tickets $8. Tickets are available on the day of the show at the Museum Store.\n\nThe planetarium is operating at half capacity to maximize distancing between viewers.
UID:100073-21801030@events.umich.edu
URL:https://events.umich.edu/event/100073
CLASS:PUBLIC
STATUS:CONFIRMED
CATEGORIES:Astronomy,Family,natural history museum,Natural Sciences
LOCATION:Museum of Natural History - Planetarium &amp; Dome Theater
CONTACT:
END:VEVENT
BEGIN:VEVENT
DTSTAMP:20221109T135722
DTSTART;TZID=America/Detroit:20221204T140000
SUMMARY:Performance:Spring Awakening
DESCRIPTION:Join us for In the Round’s inaugural production of SPRING AWAKENING in the Arthur Miller from December 2-4! Enjoy as we tell this beautiful story\, focusing through the lens of themes related to LGBTQIA+ culture! We can’t wait to see you there! With Love\, The Prod!\n\nIn the Round Productions at UM is a student organization\, sponsored by the Department of Women’s and Gender Studies that exists with the purpose of inclusion and voicing. We give our members a chance to utilize their voices to share their unique perspectives on queer culture. We give our audiences an opportunity to discuss and combat struggles in queer culture. All are welcome and encouraged to join!
UID:101211-21800943@events.umich.edu
URL:https://events.umich.edu/event/101211
CLASS:PUBLIC
STATUS:CONFIRMED
CATEGORIES:Art,Music,Mutotix,Theater
LOCATION:Off Campus Location
CONTACT:
END:VEVENT
BEGIN:VEVENT
DTSTAMP:20221204T120019
DTSTART;TZID=America/Detroit:20221204T140000
DTEND;TZID=America/Detroit:20221204T160000
SUMMARY:Other:University of Michigan Women’s Ice Hockey at Concordia
DESCRIPTION:Away
UID:97693-21794965@events.umich.edu
URL:https://events.umich.edu/event/97693
CLASS:PUBLIC
STATUS:CONFIRMED
CATEGORIES:
LOCATION:Arctic Coliseum (Chelsea)
CONTACT:
END:VEVENT
BEGIN:VEVENT
DTSTAMP:20221204T123404
DTSTART;TZID=America/Detroit:20221204T140000
SUMMARY:Sporting Event:Women's Basketball vs Northwestern
DESCRIPTION:Women's Basketball vs Northwestern
UID:100646-21800188@events.umich.edu
URL:https://events.umich.edu/event/100646
CLASS:PUBLIC
STATUS:CONFIRMED
CATEGORIES:Athletics,Athletics - Women's Basketball
LOCATION:Crisler Arena
CONTACT:
END:VEVENT
BEGIN:VEVENT
DTSTAMP:20221204T120026
DTSTART;TZID=America/Detroit:20221204T140000
DTEND;TZID=America/Detroit:20221204T160000
SUMMARY:Other:Women's XVs National Championship - Division I
DESCRIPTION:The University of Michigan Women's Rugby team will be competing in the finals against Notre Dame College in Houston\, TX for the National Championship title.
UID:101522-21801474@events.umich.edu
URL:https://events.umich.edu/event/101522
CLASS:PUBLIC
STATUS:CONFIRMED
CATEGORIES:
LOCATION:AVEVA Stadium
CONTACT:
END:VEVENT
BEGIN:VEVENT
DTSTAMP:20221109T141417
DTSTART;TZID=America/Detroit:20221204T143000
DTEND;TZID=America/Detroit:20221204T151500
SUMMARY:Presentation:Sky Tonight
DESCRIPTION:A live presentation on what to find in the sky tonight and for the coming few weeks. This presentation includes how to find the cardinal directions on your own by finding the North Star\, current and upcoming constellations\, visible planets\, a few deep sky objects depending on the season\, and other interesting astronomical visualizations. If you want to be able to look up from your own backyard and know what to look for\, this is the show for you.\n\nThe state-of-the-art Planetarium & Dome Theater at the U-M Museum of Natural History transports visitors beyond distant stars and back in time from the comfort of reclining seats. Tickets $8. Tickets are available on the day of the show at the Museum Store.\n\nThe planetarium is operating at half capacity to maximize distancing between viewers.
UID:91230-21801073@events.umich.edu
URL:https://events.umich.edu/event/91230
CLASS:PUBLIC
STATUS:CONFIRMED
CATEGORIES:Astronomy,Natural Sciences,Science
LOCATION:Museum of Natural History - Planetarium &amp; Dome Theater
CONTACT:
END:VEVENT
BEGIN:VEVENT
DTSTAMP:20221207T100222
DTSTART;TZID=America/Detroit:20221204T150000
DTEND;TZID=America/Detroit:20221204T170000
SUMMARY:Well-being:December De-Stress Week
DESCRIPTION:Take a break and relax before finals! Come out to the Michigan Union IdeaHub during the last week of classes for yoga\, meditation\, therapy dogs\, and more\, free for members of student orgs!\n\nSunday\, December 4th\, 3PM to 5PM - \"Therapaws\" therapy dogs\nMonday\, December 5th\, 3PM to 4:00PM - Relaxing Yoga\nTuesday\, December 6th\, 3PM to 4:00PM - Guided Meditation\nThursday\, December 8th\, 4PM to 5:00PM - Guided Meditation
UID:101669-21802203@events.umich.edu
URL:https://events.umich.edu/event/101669
CLASS:PUBLIC
STATUS:CONFIRMED
CATEGORIES:Well-being,yoga
LOCATION:Michigan Union - IdeaHub
CONTACT:
END:VEVENT
BEGIN:VEVENT
DTSTAMP:20221109T133538
DTSTART;TZID=America/Detroit:20221204T150000
DTEND;TZID=America/Detroit:20221204T151500
SUMMARY:Lecture / Discussion:Science Forum Demos
DESCRIPTION:Take a journey through deep time as we explore a story that has taken millions of years to unfold\, and then examine a brand new discovery! Where did life begin? How did the first four-footed land animals emerge? And why do fossil whales have feet? Participants examine the museum’s fossil whales and related species as they learn about the evolutionary processes responsible for the diversity of life on earth.\n\nJoin us in the Science Forum for this 15-20 minute engaging science demonstration that will help you see the world in a whole new way. Demonstrations are free and appropriate for visitors ages 5 and above. Schedule subject to change.
UID:98531-21800999@events.umich.edu
URL:https://events.umich.edu/event/98531
CLASS:PUBLIC
STATUS:CONFIRMED
CATEGORIES:Free,Museum,Natural Sciences,Science
LOCATION:Museum of Natural History
CONTACT:
END:VEVENT
BEGIN:VEVENT
DTSTAMP:20220805T181514
DTSTART;TZID=America/Detroit:20221204T160000
SUMMARY:Performance:James Kibbie: The Complete Organ Works of J.S. Bach Program 9
DESCRIPTION:4:00 pm\n3:40 pm: Introduction to the program\n\nLivestreamed (real time only)\n\nJames Kibbie performs the 281 extant organ works of Johann Sebastian Bach in 18 concerts. An informal introduction to the music to be performed precedes each program. Additional information is available on the Bach Series website (http://www-personal.umich.edu/~jkibbie/kibbie-bach.html). \n\nDonations may be made to the James Kibbie Endowed Scholarship Fund or at the Donations page https://leadersandbest.umich.edu/find/#!/give/basket/fund/570523.\n\nProgram\nhttp://smtd.umich.edu/wp-content/uploads/2022/08/Program-9.pdf
UID:96581-21792907@events.umich.edu
URL:https://events.umich.edu/event/96581
CLASS:PUBLIC
STATUS:CONFIRMED
CATEGORIES:Free,Music
LOCATION:Earl V. Moore Building - Blanche Anderson Moore Hall
CONTACT:
END:VEVENT
BEGIN:VEVENT
DTSTAMP:20221117T141735
DTSTART;TZID=America/Detroit:20221204T180000
DTEND;TZID=America/Detroit:20221204T190000
SUMMARY:Well-being:WSN Yoga Self-Care Sunday
DESCRIPTION:Join WSN for a free Vin Yin yoga class on Sunday\, December 4 from 6-7 pm in the Michigan Union Room 2210 ABC! Please bring your own mat/towel and water bottle. Open to all U-M community members.\n\n*RSVP at bit.ly/wsnyoga is required to maintain room capacity limits.*
UID:101461-21801370@events.umich.edu
URL:https://events.umich.edu/event/101461
CLASS:PUBLIC
STATUS:CONFIRMED
CATEGORIES:Free,In Person,Inclusion,Mindfulness,Social,Social Impact,Social Justice,Student Org,Well-being
LOCATION:Michigan Union - 2210 ABC
CONTACT:
END:VEVENT
BEGIN:VEVENT
DTSTAMP:20220923T070744
DTSTART;TZID=America/Detroit:20221204T193000
SUMMARY:Performance:Chris Pureka
DESCRIPTION:It’s rare for an artist to bridge the divide between critical acclaim and dedicated fan engagement. Chris Pureka is a Portland-based singer-songwriter whose body of work has resonated deeply with these seemingly disparate milieus. Her music has straddled the folk\, Americana and indie rock genres over the course of her 20 year career\, and over that time\, her bold vulnerability in processing the intimacies of life in song has struck a chord with those listeners who crave authenticity and depth.\n\nChris’s elegant emotionality as a vocalist and her flair as a lyricist have garnered her favorable comparisons to Chan Marshall\, Bruce Springsteen\, and Patty Griffin. Over many years of touring on both sides of the Atlantic\, she has shared the stage with such diverse and esteemed artists as The Lumineers\, Gregory Alan Isakov\, The Cowboy Junkies\, Haley Heynderickx\, and Ani DiFranco. She has had her songs featured on such television shows as Brothers and Sisters\, Covert Affairs and Shameless\, as well as a song featured in the Sundance featured indie film\, The Royal Road. Along the way\, Chris has remained truly independent\, selling nearly 50\,000 albums through her own label\, Sad Rabbit Records.
UID:99112-21797586@events.umich.edu
URL:https://events.umich.edu/event/99112
CLASS:PUBLIC
STATUS:CONFIRMED
CATEGORIES:Ark,Concert,Music,Mutotix
LOCATION:Off Campus Location
CONTACT:
END:VEVENT
END:VCALENDAR