BEGIN:VCALENDAR
VERSION:2.0
PRODID:-//UM//UM*Events//EN
CALSCALE:GREGORIAN
BEGIN:VTIMEZONE
TZID:America/Detroit
TZURL:http://tzurl.org/zoneinfo/America/Detroit
X-LIC-LOCATION:America/Detroit
BEGIN:DAYLIGHT
TZOFFSETFROM:-0500
TZOFFSETTO:-0400
TZNAME:EDT
DTSTART:20070311T020000
RRULE:FREQ=YEARLY;BYMONTH=3;BYDAY=2SU
END:DAYLIGHT
BEGIN:STANDARD
TZOFFSETFROM:-0400
TZOFFSETTO:-0500
TZNAME:EST
DTSTART:20071104T020000
RRULE:FREQ=YEARLY;BYMONTH=11;BYDAY=1SU
END:STANDARD
END:VTIMEZONE
BEGIN:VEVENT
DTSTAMP:20230324T120005
DTSTART;TZID=America/Detroit:20221211T000000
DTEND;TZID=America/Detroit:20221211T235959
SUMMARY:Community Service:Homework Help at The Children's Center
DESCRIPTION:The Homework Help program offers children assistance with their homework assignments. Children are encouraged to bring homework and are paired with a volunteer to assist them. This program is a critical service in helping children thrive. Volunteers give children the tools they need to be successful in school.Virtual and in-person volunteer opportunities are available. If you would like to volunteer\, please start the enrollment process by creating an account on the Children Center's Volunteer Site found HERE. After your account is created\, the Children's Center will reach out to you within 2 business days to answer any questions and discuss the next steps.In accordance with the CMS Vaccine Mandate\, those volunteering in-person at the Children’s Center are required to be fully vaccinated and must provide proof of full vaccination upon request.
UID:93885-21788030@events.umich.edu
URL:https://events.umich.edu/event/93885
CLASS:PUBLIC
STATUS:CONFIRMED
CATEGORIES:
LOCATION:The Children&#039;s Center 
CONTACT:
END:VEVENT
BEGIN:VEVENT
DTSTAMP:20220809T173135
DTSTART;TZID=America/Detroit:20221211T080000
DTEND;TZID=America/Detroit:20221211T190000
SUMMARY:Exhibition:Places & Spaces: Mapping Science and A Brief History of Information Graphics
DESCRIPTION:The Places & Spaces: Mapping Science exhibit introduces science mapping techniques and data visualization to the general public and to experts across diverse disciplines\, and we hope inspires cross-disciplinary discussion on how to best track and communicate scholarly activity and scientific progress on a global scale. The exhibit includes a macroscope which showcases interactive visualizations that demonstrate the impact of different data cleaning\, analysis\, and visualization algorithms.\n\nThe Places & Spaces exhibit is curated by the Cyberinfrastructure for Network Science Center at Indiana University. The complementary exhibit\, A Brief History of Information Graphics\, was created by Clark Library staff to provide an historical context to the Places and Spaces exhibit.
UID:96720-21800839@events.umich.edu
URL:https://events.umich.edu/event/96720
CLASS:PUBLIC
STATUS:CONFIRMED
CATEGORIES:Free,Library,Maps
LOCATION:Hatcher Graduate Library - Clark Library, 2nd Floor
CONTACT:
END:VEVENT
BEGIN:VEVENT
DTSTAMP:20220930T132239
DTSTART;TZID=America/Detroit:20221211T080000
DTEND;TZID=America/Detroit:20221211T230000
SUMMARY:Class / Instruction:Semester in Detroit Application Open!
DESCRIPTION:Semester in Detroit uses the MCompass system for applications. All applications are accepted on a rolling basis\, which means that the earlier you apply\, the better chance you have of getting in. \n\nApplication Due Dates:\n1/31/23 for the spring 2023 program\n\nProgram Eligibility:\nThe Semester in Detroit spring/summer and fall programs accept undergraduate students from all schools and departments at the University of Michigan-Ann Arbor. All students\, from First years to Seniors or Super Seniors are eligible to apply.\n\nStudents from Grand Valley State University\, UM-Dearborn\, and UM-Flint are eligible to apply for fall programs only. The same application eligibility applies to GVSU\, Dearborn\, and Flint students (all departments\, all class standings). \n\nApplicants should have a strong interest in the city of Detroit and in questioning dominant narratives\; engaging with challenging new perspectives on contemporary issues\; and building community with one another\, SiD faculty and staff\, and community members at internship sites and beyond.\n\nQuestions?\nEmail semesterindetroit@umich.edu.
UID:99614-21798431@events.umich.edu
URL:https://events.umich.edu/event/99614
CLASS:PUBLIC
STATUS:CONFIRMED
CATEGORIES:Activism,Advocacy,civil rights,Community Engagement,Community Organzing,Community-based Learning,detroit,Diversity Equity and Inclusion,Education
LOCATION:
CONTACT:
END:VEVENT
BEGIN:VEVENT
DTSTAMP:20221201T115900
DTSTART;TZID=America/Detroit:20221211T100000
DTEND;TZID=America/Detroit:20221211T160000
SUMMARY:Social / Informal Gathering:CEW+ Sunday Study Day & Family Movie Matinee
DESCRIPTION:RSVP here: http://www.cew.umich.edu/events/cew-sunday-study-day-family-movie-matinee\n\nJoin CEW+  and MCaSP as we open up the Center for special study hours on Sunday\, December 11. The CEW+ Study Space will be open between 10 am - 4 pm with free coffee and snacks available throughout the day. \n\n10 AM - 11:30 AM - Study space available\n11 AM - 12 PM - Visit from Therapaws\n11:30 AM - 1 PM - Free lunch for all attendees\n1 - 3 PM - Family-friendly movie screened in the CEW+ Library\n3 - 4 PM - Study space available\n\nParenting students are welcome to come with kids of all ages at any point in the day\, with the movie matinee starting at 1 pm. Kid-friendly crafts\, puzzles and games will be available throughout. Note: Per U-M policy\, a parent must supervise their child(ren) while on campus.\n\nJoin us in the morning for a quieter study experience\, de-stress with a visit from a Therapaws pup at 11 am\, stop by in the afternoon to study in community with other student caregivers\, or stay with us all day! Come and make use of our sunlit library\, shared study room\, or 2 small group meeting rooms.\n\nThank you to our event co-sponsor\, Michigan Caregivers and Student Parents!
UID:101528-21801486@events.umich.edu
URL:https://events.umich.edu/event/101528
CLASS:PUBLIC
STATUS:CONFIRMED
CATEGORIES:Caregiver,Caregivers,center for the education of women,first-generation,Food,Free,Health & Wellness,Mental Health,Nontraditional Students,Parents,Self-care,Social,Student Caregivers,Student Parent,Student Parents,Students With Children,Study Day,Support,transfer students,Work-life Balance
LOCATION:Center for the Education of Women
CONTACT:
END:VEVENT
BEGIN:VEVENT
DTSTAMP:20221201T114625
DTSTART;TZID=America/Detroit:20221211T100000
DTEND;TZID=America/Detroit:20221211T130000
SUMMARY:Social / Informal Gathering:Finals Survival Breakfast
DESCRIPTION:FSB on North and FSB are both events that are meant to provide students with food and stress-relieving activities while they study for finals! Come out for massages\, fun activities\, and a breakfast buffet. FSB on North will also have a grab-and-go style bar with bagels\, muffins\, and more to fuel up while studying!
UID:101573-21801530@events.umich.edu
URL:https://events.umich.edu/event/101573
CLASS:PUBLIC
STATUS:CONFIRMED
CATEGORIES:finals stress,food
LOCATION:Pierpont Commons
CONTACT:
END:VEVENT
BEGIN:VEVENT
DTSTAMP:20220818T100608
DTSTART;TZID=America/Detroit:20221211T100000
DTEND;TZID=America/Detroit:20221211T120000
SUMMARY:Ceremony / Service:Sunday Celebration
DESCRIPTION:The school year is about to begin! No matter your background\, join us in kicking off this season with new expectations and hope.\n\nJoin us at 10AM every Sunday to experience church in a fresh way as we worship and seek God together. We meet at the Transformation Center (1001 E. Huron St.) which is located across the street from the Rackham Auditorium and the Power Center.\n\nCurious? Check out our website at https://annarbor.hmcc.net/ to learn more about who we are and what we value.
UID:96832-21793825@events.umich.edu
URL:https://events.umich.edu/event/96832
CLASS:PUBLIC
STATUS:CONFIRMED
CATEGORIES:christian,christianity,church,faith,religious,spiritual,welcome week
LOCATION:Off Campus Location
CONTACT:
END:VEVENT
BEGIN:VEVENT
DTSTAMP:20230908T085618
DTSTART;TZID=America/Detroit:20221211T110000
DTEND;TZID=America/Detroit:20221211T111500
SUMMARY:Presentation:Science Forum Discovery Demos
DESCRIPTION:Join us in the Science Forum for 15-20 minute engaging science demonstrations that will help you see the world in a whole new way. Demonstrations are free and appropriate for visitors ages 5 and above. Schedule subject to change.\n\nNo demos on October 14th or 15th.\n\nHave you ever wondered how we see? To take a closer look at the organ that helps us see the world\, join UMMNH staff in dissecting a cow’s eye. How is it similar to and different from our eyes\, and those of other animals? Learn the parts of the eye and how they work together. While exploring the lens\, we’ll also talk about why some of us need glasses and how we can keep our eyes and our vision healthy.
UID:101225-21801004@events.umich.edu
URL:https://events.umich.edu/event/101225
CLASS:PUBLIC
STATUS:CONFIRMED
CATEGORIES:Biosciences,Children,Free,Museum,Natural Sciences
LOCATION:Museum of Natural History
CONTACT:
END:VEVENT
BEGIN:VEVENT
DTSTAMP:20221212T001553
DTSTART;TZID=America/Detroit:20221211T120000
DTEND;TZID=America/Detroit:20221211T200000
SUMMARY:Other:Study Days @ UMMA
DESCRIPTION:.\n \nPop in to UMMA for four days of studying and stress relief!\n \nBring your laptop\, bring your books\, bring your notes\, and set up shop at one of the many tables or couches we’ll have stationed throughout the museum and our galleries. \n \nStudy Days is free\, open to the public\, and no registration is required. Drop by at any time!\n \nDaytime events starting each day at 12PM: Thursday: Book swap\, art making\, and snacks! Friday: Book swap\, art making\, and performances from SMTD students! Saturday: Therapy dogs\, book swap\, art making\, free snacks\, and performances from SMTD students! Sunday: Book swap\, art making\, and performances from SMTD students!  \n \nNight Caps each night starting at 7 PM: Celebrate the end of a long day of successful studying (YOU DID IT!) with concert performances by U-M students from the School of Music Theater & Dance and nightly special guests! Co–organized in partnership with SMTD.\n\n
UID:101895-21802631@events.umich.edu
URL:https://events.umich.edu/event/101895
CLASS:PUBLIC
STATUS:CONFIRMED
CATEGORIES:Art,Books,Concert,Dance,Free,Museum,Music,Theater,UMMA
LOCATION:Museum of Art - Commons / University of Michigan Museum of Art 
CONTACT:
END:VEVENT
BEGIN:VEVENT
DTSTAMP:20221109T141417
DTSTART;TZID=America/Detroit:20221211T123000
DTEND;TZID=America/Detroit:20221211T131500
SUMMARY:Presentation:Sky Tonight
DESCRIPTION:A live presentation on what to find in the sky tonight and for the coming few weeks. This presentation includes how to find the cardinal directions on your own by finding the North Star\, current and upcoming constellations\, visible planets\, a few deep sky objects depending on the season\, and other interesting astronomical visualizations. If you want to be able to look up from your own backyard and know what to look for\, this is the show for you.\n\nThe state-of-the-art Planetarium & Dome Theater at the U-M Museum of Natural History transports visitors beyond distant stars and back in time from the comfort of reclining seats. Tickets $8. Tickets are available on the day of the show at the Museum Store.\n\nThe planetarium is operating at half capacity to maximize distancing between viewers.
UID:91230-21801071@events.umich.edu
URL:https://events.umich.edu/event/91230
CLASS:PUBLIC
STATUS:CONFIRMED
CATEGORIES:Astronomy,Natural Sciences,Science
LOCATION:Museum of Natural History - Planetarium &amp; Dome Theater
CONTACT:
END:VEVENT
BEGIN:VEVENT
DTSTAMP:20230309T110228
DTSTART;TZID=America/Detroit:20221211T133000
DTEND;TZID=America/Detroit:20221211T141500
SUMMARY:Presentation:Mars: One Thousand One
DESCRIPTION:Mars: One Thousand One tells a story of what humans might face with the first manned journey to Mars. Reporter Miles O'Brien is reporting live from his Space Headquarters TV Studio in New York while events unfold for the crew on their 1001-day long mission. You will witness firsthand their brave attempts to put human footprints on Mars and return safely to Earth. This journey is made possible by the biggest engineering feat ever and loaded with scientific experiments.\n\nThe state-of-the-art Planetarium & Dome Theater at the U-M Museum of Natural History transports visitors beyond distant stars and back in time from the comfort of reclining seats. Tickets $8. Tickets are available on the day of the show at the Museum Store.\n\nThe planetarium is operating at half capacity to maximize distancing between viewers.
UID:100073-21801031@events.umich.edu
URL:https://events.umich.edu/event/100073
CLASS:PUBLIC
STATUS:CONFIRMED
CATEGORIES:Astronomy,Family,natural history museum,Natural Sciences
LOCATION:Museum of Natural History - Planetarium &amp; Dome Theater
CONTACT:
END:VEVENT
BEGIN:VEVENT
DTSTAMP:20221123T195041
DTSTART;TZID=America/Detroit:20221211T140000
SUMMARY:Performance:Indecent
DESCRIPTION:Indecent is a one-act play recounting the controversy surrounding the play \"The God of Vengeance\" and following it from its productions in Europe to its 1923 Broadway production\, during which the cast was arrested on charges of indecency because of the lesbian love story depicted in the show. Indecent is a story of Jewishness\, queerness\, love\, artistic freedom\, homophobia\, the dying Yiddish language and culture\, the stories we've lost\, and the need to create theatre and beauty even in the worst of times.
UID:101537-21801495@events.umich.edu
URL:https://events.umich.edu/event/101537
CLASS:PUBLIC
STATUS:CONFIRMED
CATEGORIES:Art,Mutotix,Theater
LOCATION:Off Campus Location
CONTACT:
END:VEVENT
BEGIN:VEVENT
DTSTAMP:20221211T120010
DTSTART;TZID=America/Detroit:20221211T140000
DTEND;TZID=America/Detroit:20221211T160000
SUMMARY:Performance:Pirates of Penzance
DESCRIPTION:As part of our 75th anniversary celebration\, UMGASS is proud to present fan-favorite show The Pirates of Penzance\, directed by David Andrews\, with music direction by Jordan McKay and choreography by Beth Ballbach and Phillip Rhodes. The Pirates of Penzance features some of the most well-known songs across all of Gilbert and Sullivan's works\, including \"I Am the Very Model of a Modern Major General\" and \"Poor Wand'ring One\,\" as well as memorable characters and plenty of humor. Join us at the Lydia Mendelssohn Theatre for an exciting production featuring passion\, paleontologists\, poorly worded contracts\, and\, of course\, pirates.Tickets available at https://mutotix.umich.edu/3609/3615
UID:101468-21801379@events.umich.edu
URL:https://events.umich.edu/event/101468
CLASS:PUBLIC
STATUS:CONFIRMED
CATEGORIES:
LOCATION:Lydia Mendelssohn Theatre
CONTACT:
END:VEVENT
BEGIN:VEVENT
DTSTAMP:20221121T121509
DTSTART;TZID=America/Detroit:20221211T140000
SUMMARY:Performance:The Heart of Robin Hood
DESCRIPTION:A female-forward retelling of the legendary hero's tale\, featuring all of the swashbuckling and romance you could ask for. Written by David Farr and directed by Geoff Packard.
UID:95740-21790837@events.umich.edu
URL:https://events.umich.edu/event/95740
CLASS:PUBLIC
STATUS:CONFIRMED
CATEGORIES:Theater
LOCATION:Power Center for the Performing Arts
CONTACT:
END:VEVENT
BEGIN:VEVENT
DTSTAMP:20221017T110157
DTSTART;TZID=America/Detroit:20221211T140000
SUMMARY:Performance:The Pirates of Penzance
DESCRIPTION:This Fall\, in honor of our 75th anniversary\, UMGASS will produce fan favorite\, The Pirates of Penzance.\n\nThis production will be directed by David Andrews\, who has directed nine productions for UMGASS\, including a previous ‘Pirates’ in 2013\, and who also played the role of Major-General Stanley in 2009. Music Director for this production will be University of Michigan graduate Jordan McKay\, who served as Music Director for UMGASS’s well-received production of HMS Pinafore in December 2021\, and Assistant Music Director for the 2019 Ann Arbor in Concert production of Beauty and the Beast. The Co-Choreographers will be Beth Ballbach\, who has choreographed more than a dozen UMGASS productions\, and Phillip Rhodes\, who has twice portrayed the Pirate King for UMGASS\, in addition to choreographing for many other shows.
UID:100214-21799595@events.umich.edu
URL:https://events.umich.edu/event/100214
CLASS:PUBLIC
STATUS:CONFIRMED
CATEGORIES:Mutotix,Theater
LOCATION:Lydia Mendelssohn Theatre
CONTACT:
END:VEVENT
BEGIN:VEVENT
DTSTAMP:20221102T230300
DTSTART;TZID=America/Detroit:20221211T140000
DTEND;TZID=America/Detroit:20221211T150000
SUMMARY:Well-being:WSN Drop-In Support Group
DESCRIPTION:Give & receive support during this 1-hour peer-led support group. Led by trained peer facilitators\, WSN Drop-In Group gives you the chance to try out a WSN group without commitment. Show up once or every week to receive support for your mental health & day-to-day lives in a community of folks with various identities and experiences. This group is open to all undergraduate and graduate students at U-M.\n\nZOOM LINK: tinyurl.com/wsndropingroup\n\nThe remaining drop-in group times for the Fall 2022 semester are as follows: \n - Friday\, November 4 from 4-5 pm\n - Sunday\, November 13 from 2-3 pm\n - Sunday\, November 20 from 2-3 pm\n - Friday\, December 2 from 4-5 pm\n - Sunday\, December 11 from 2-3 pm\n\nWolverine Support Network (WSN) is a student organization that empowers University of Michigan students to create an inclusive community and support each other’s identity\, mental well-being\, and day-to-day lives through peer support programming & mental health advocacy. If you have any questions about Drop-In Group\, our weekly peer support groups\, or WSN in general\, feel free to browse our website at umichwsn.org or reach out to wsndirectors@umich.edu.
UID:100946-21800587@events.umich.edu
URL:https://events.umich.edu/event/100946
CLASS:PUBLIC
STATUS:CONFIRMED
CATEGORIES:Activism,Free,Graduate,Inclusion,Mindfulness,Social,Social Impact,Social Justice,Student Org,Transfer Students,Undergraduate,Virtual,Welcome to Michigan,Well-being
LOCATION:Off Campus Location
CONTACT:
END:VEVENT
BEGIN:VEVENT
DTSTAMP:20221109T141417
DTSTART;TZID=America/Detroit:20221211T143000
DTEND;TZID=America/Detroit:20221211T151500
SUMMARY:Presentation:Sky Tonight
DESCRIPTION:A live presentation on what to find in the sky tonight and for the coming few weeks. This presentation includes how to find the cardinal directions on your own by finding the North Star\, current and upcoming constellations\, visible planets\, a few deep sky objects depending on the season\, and other interesting astronomical visualizations. If you want to be able to look up from your own backyard and know what to look for\, this is the show for you.\n\nThe state-of-the-art Planetarium & Dome Theater at the U-M Museum of Natural History transports visitors beyond distant stars and back in time from the comfort of reclining seats. Tickets $8. Tickets are available on the day of the show at the Museum Store.\n\nThe planetarium is operating at half capacity to maximize distancing between viewers.
UID:91230-21801074@events.umich.edu
URL:https://events.umich.edu/event/91230
CLASS:PUBLIC
STATUS:CONFIRMED
CATEGORIES:Astronomy,Natural Sciences,Science
LOCATION:Museum of Natural History - Planetarium &amp; Dome Theater
CONTACT:
END:VEVENT
BEGIN:VEVENT
DTSTAMP:20221109T133538
DTSTART;TZID=America/Detroit:20221211T150000
DTEND;TZID=America/Detroit:20221211T151500
SUMMARY:Lecture / Discussion:Science Forum Demos
DESCRIPTION:Take a journey through deep time as we explore a story that has taken millions of years to unfold\, and then examine a brand new discovery! Where did life begin? How did the first four-footed land animals emerge? And why do fossil whales have feet? Participants examine the museum’s fossil whales and related species as they learn about the evolutionary processes responsible for the diversity of life on earth.\n\nJoin us in the Science Forum for this 15-20 minute engaging science demonstration that will help you see the world in a whole new way. Demonstrations are free and appropriate for visitors ages 5 and above. Schedule subject to change.
UID:98531-21801000@events.umich.edu
URL:https://events.umich.edu/event/98531
CLASS:PUBLIC
STATUS:CONFIRMED
CATEGORIES:Free,Museum,Natural Sciences,Science
LOCATION:Museum of Natural History
CONTACT:
END:VEVENT
BEGIN:VEVENT
DTSTAMP:20220802T102755
DTSTART;TZID=America/Detroit:20221211T193000
SUMMARY:Performance:Holiday Swingin'! A Kat Edmonson Christmas
DESCRIPTION:Kat Edmonson is an award-winning songwriter and singer \"with an equal foothold in jazz\, cabaret and vintage cosmopolitanism pop\" (The New York Times). She has been featured on Austin City Limits\, Tiny Desk Concerts\, A Prairie Home Companion\, and The Late Show with David Letterman. The New York Times describes her music as \"fresh as a spring bouquet\" while NPR says\, \"Hearing Edmonson makes it virtually impossible to do anything but stop and listen.\" Kat Edmonson will perform swingin' Yule-tide favorites such as \"Jingle Bell Rock\"\, \"O Christmas Tree\"\, and \"Let It Snow\" as part of her festive show\, Holiday Swingin'! A Kat Edmonson Christmas.
UID:95586-21790357@events.umich.edu
URL:https://events.umich.edu/event/95586
CLASS:PUBLIC
STATUS:CONFIRMED
CATEGORIES:Ark,Mutotix
LOCATION:ARK Reserved
CONTACT:
END:VEVENT
BEGIN:VEVENT
DTSTAMP:20221201T114625
DTSTART;TZID=America/Detroit:20221211T220000
DTEND;TZID=America/Detroit:20221212T010000
SUMMARY:Social / Informal Gathering:Finals Survival Breakfast
DESCRIPTION:FSB on North and FSB are both events that are meant to provide students with food and stress-relieving activities while they study for finals! Come out for massages\, fun activities\, and a breakfast buffet. FSB on North will also have a grab-and-go style bar with bagels\, muffins\, and more to fuel up while studying!
UID:101573-21801531@events.umich.edu
URL:https://events.umich.edu/event/101573
CLASS:PUBLIC
STATUS:CONFIRMED
CATEGORIES:finals stress,food
LOCATION:Michigan Union
CONTACT:
END:VEVENT
END:VCALENDAR