BEGIN:VCALENDAR
VERSION:2.0
PRODID:-//UM//UM*Events//EN
CALSCALE:GREGORIAN
BEGIN:VTIMEZONE
TZID:America/Detroit
TZURL:http://tzurl.org/zoneinfo/America/Detroit
X-LIC-LOCATION:America/Detroit
BEGIN:DAYLIGHT
TZOFFSETFROM:-0500
TZOFFSETTO:-0400
TZNAME:EDT
DTSTART:20070311T020000
RRULE:FREQ=YEARLY;BYMONTH=3;BYDAY=2SU
END:DAYLIGHT
BEGIN:STANDARD
TZOFFSETFROM:-0400
TZOFFSETTO:-0500
TZNAME:EST
DTSTART:20071104T020000
RRULE:FREQ=YEARLY;BYMONTH=11;BYDAY=1SU
END:STANDARD
END:VTIMEZONE
BEGIN:VEVENT
DTSTAMP:20221201T114625
DTSTART;TZID=America/Detroit:20221211T220000
DTEND;TZID=America/Detroit:20221212T010000
SUMMARY:Social / Informal Gathering:Finals Survival Breakfast
DESCRIPTION:FSB on North and FSB are both events that are meant to provide students with food and stress-relieving activities while they study for finals! Come out for massages\, fun activities\, and a breakfast buffet. FSB on North will also have a grab-and-go style bar with bagels\, muffins\, and more to fuel up while studying!
UID:101573-21801531@events.umich.edu
URL:https://events.umich.edu/event/101573
CLASS:PUBLIC
STATUS:CONFIRMED
CATEGORIES:finals stress,food
LOCATION:Michigan Union
CONTACT:
END:VEVENT
BEGIN:VEVENT
DTSTAMP:20230324T120005
DTSTART;TZID=America/Detroit:20221212T000000
DTEND;TZID=America/Detroit:20221212T235959
SUMMARY:Community Service:Homework Help at The Children's Center
DESCRIPTION:The Homework Help program offers children assistance with their homework assignments. Children are encouraged to bring homework and are paired with a volunteer to assist them. This program is a critical service in helping children thrive. Volunteers give children the tools they need to be successful in school.Virtual and in-person volunteer opportunities are available. If you would like to volunteer\, please start the enrollment process by creating an account on the Children Center's Volunteer Site found HERE. After your account is created\, the Children's Center will reach out to you within 2 business days to answer any questions and discuss the next steps.In accordance with the CMS Vaccine Mandate\, those volunteering in-person at the Children’s Center are required to be fully vaccinated and must provide proof of full vaccination upon request.
UID:93885-21788031@events.umich.edu
URL:https://events.umich.edu/event/93885
CLASS:PUBLIC
STATUS:CONFIRMED
CATEGORIES:
LOCATION:The Children&#039;s Center 
CONTACT:
END:VEVENT
BEGIN:VEVENT
DTSTAMP:20220809T173135
DTSTART;TZID=America/Detroit:20221212T080000
DTEND;TZID=America/Detroit:20221212T190000
SUMMARY:Exhibition:Places & Spaces: Mapping Science and A Brief History of Information Graphics
DESCRIPTION:The Places & Spaces: Mapping Science exhibit introduces science mapping techniques and data visualization to the general public and to experts across diverse disciplines\, and we hope inspires cross-disciplinary discussion on how to best track and communicate scholarly activity and scientific progress on a global scale. The exhibit includes a macroscope which showcases interactive visualizations that demonstrate the impact of different data cleaning\, analysis\, and visualization algorithms.\n\nThe Places & Spaces exhibit is curated by the Cyberinfrastructure for Network Science Center at Indiana University. The complementary exhibit\, A Brief History of Information Graphics\, was created by Clark Library staff to provide an historical context to the Places and Spaces exhibit.
UID:96720-21800840@events.umich.edu
URL:https://events.umich.edu/event/96720
CLASS:PUBLIC
STATUS:CONFIRMED
CATEGORIES:Free,Library,Maps
LOCATION:Hatcher Graduate Library - Clark Library, 2nd Floor
CONTACT:
END:VEVENT
BEGIN:VEVENT
DTSTAMP:20221122T144729
DTSTART;TZID=America/Detroit:20221212T090000
DTEND;TZID=America/Detroit:20221212T160000
SUMMARY:Exhibition:\"I have a crisis for you\": Women Artists of Ukraine Respond to War
DESCRIPTION:An exhibit curated by Grace Mahoney and Jessica Zychowicz\nFeaturing work by Kinder Album\, JT Blatty\, Oksana Briukhovetska (MFA\, Stamps School of Art and Design)\, Oksana Kazmina\, Sonya Hukaylo\, Svetlana Lavochkina\, Kateryna Lisovenko\, and Lyuba Yakimchuk.\n\nLane Hall Exhibit Space\n204 South State Street\n\nAbout the exhibit:\nIn February 2022\, the world witnessed the invasion of Ukraine and all-out war of aggression by the Russian Federation. Since this time\, massive casualties\, human rights violations\, and an unprecedented refugee crisis have ensued. Women artists of Ukraine have responded. They paint on found materials in refugee housing\, illustrate in bomb shelters\, photograph their shelled cities wearing press passes and bulletproof jackets. They document\, create\, and share. They post their daily journals and images on social media. They perform at the Grammy Awards. They know their message is powerful\, and the amplification of their voices is critical for victory in a very real battle for survival.\n\nCurated by Grace Mahoney (U-M Slavic Languages and Literatures) and Jessica Zychowicz\, Ph.D. (Fulbright Ukraine and U-M Alumna)\, \"'I have a crisis for you': Women Artists of Ukraine Respond to War\" showcases work created by women artists in response to Russia’s war in Ukraine. The involved artists are painters\, photographers\, filmmakers\, poets\, translators\, and textile artists. Many of the works exhibited demonstrate a continuity of engagement by the artists with the topic of war\, especially since 2014 when the people of Ukraine gathered in a “Revolution of Dignity” against attempts by the Russian Federation to control the country’s independence resulting in Russia’s annexation of the Crimean Peninsula and backing of pro-Russian separatists in Ukraine’s east. \n\nThe featured artists have also been selected because of their prominent interest and exploration of issues relating to gender in their works. The title for this exhibit comes from a poem of the same name by Lyuba Yakimchuk:\n\n“— our love’s gone missing\, I explain to a friend/ it vanished in one of the wars/ we waged in our kitchen/ — change the word ‘war’ to ‘crisis\,’ he suggests/ because a crisis is something everyone has from time to time.”\n\nLike in Yakimchuk’s poem\, many of these artists approach the war with personal perspectives. They intertwine\, juxtapose\, and disrupt experiences of war with the intimacies of personal relationships\, the workings interior lives\, and perceptions of social roles. The featured artworks and documents engage a range of subjects from women volunteering as combatants to the processes of grieving and reflect ongoing discourses in Ukrainian feminist scholarship. \n\nThe exhibit will be accompanied by a companion website which includes an expanded set of informational and aid-related resources. \n\n\"'I have a crisis for you': Women Artists of Ukraine Respond to War\" is hosted by the University of Michigan’s Institute for Research on Women and Gender (IRWG) and the Department of Women’s and Gender Studies with co-sponsorship from the Center for Russian\, East European & Eurasian Studies\, the Department of Slavic Languages and Literatures\, the Museum Studies Program\, the Weiser Center for Europe and Eurasia\, and the Weiser Center for Emerging Democracies.\n\nRelated Events:\n\nOpening Reception with comments by the curators\n4:00-6:00 pm ET\, Thursday\, September 15th\, 2022\nLane Hall\n\nArtists’ Roundtable (Hybrid)\n3:30-5:00pm ET\, Friday\, September 16th\, 2022\nWeiser Hall\, 1010\n\n*U-M classes may schedule visits outside of regular gallery hours by emailing LaneHallExhibits@umich.edu
UID:96538-21792863@events.umich.edu
URL:https://events.umich.edu/event/96538
CLASS:PUBLIC
STATUS:CONFIRMED
CATEGORIES:Art,eastern europe,European,Exhibition,Graduate Students,Museum,Slavic Studies,Ukraine,Ukrainian,Weiser Center For Emerging Democracies,Weiser Center For Europe And Eurasia,Women's Studies
LOCATION:Lane Hall - Exhibit Space
CONTACT:
END:VEVENT
BEGIN:VEVENT
DTSTAMP:20221129T134812
DTSTART;TZID=America/Detroit:20221212T120000
DTEND;TZID=America/Detroit:20221212T130000
SUMMARY:Presentation:International Institute Student Fellowships (IISF) December (Virtual) Info Session
DESCRIPTION:The International Institute Student Fellowships (IISF) are designed to support University of Michigan students\, regardless of citizenship\, who are enrolled in a degree program and wish to participate in internships or conduct research abroad.\n\nThe II Student Fellowships Application is the common application for several fellowships\, including some from II centers. The IISF Application must be used to apply for any of the following awards:\n\nRackham International Research Award\nGlobal Individual Grant (formerly II Individual Fellowship)\nAfrican Studies Center Funding for Research or Internship Support in Africa\nCenter for Armenian Studies Summer Research Grants\nCenter for Latin American & Caribbean Studies Tinker Field Research Grants for Graduate Students\nWeiser Center for Europe & Eurasia Summer Grants for Research and Internships in Europe & Eurasia\n\nAdvisers will present details about available awards and opportunities\, review eligibility criteria\, and provide tips on completing an II Student Fellowships (IISF) application.\n\nPlease use the RSVP form to register for the in-person (December 8) or virtual session (December 12): https://myumi.ch/qAJpM\n\nIf there is anything we can do to make this event accessible to you\, please contact us at iifellowships@umich.edu. Please be aware that advance notice is necessary as some accommodations may require more time for the university to arrange.
UID:101675-21802213@events.umich.edu
URL:https://events.umich.edu/event/101675
CLASS:PUBLIC
STATUS:CONFIRMED
CATEGORIES:Fellowships,Fellowships & Grants,Funding
LOCATION:Off Campus Location
CONTACT:
END:VEVENT
BEGIN:VEVENT
DTSTAMP:20221121T123328
DTSTART;TZID=America/Detroit:20221212T120000
DTEND;TZID=America/Detroit:20221212T130000
SUMMARY:Workshop / Seminar:MCDB Seminar> Synthetic Protein Condensates and Molecular Optogenetics for Visualizing and Controlling Cell Signaling in Living Cells and Animals
DESCRIPTION:Hosts: Ann Miller\, MCDB and Sarah Veatch\, Biophysics
UID:100961-21800606@events.umich.edu
URL:https://events.umich.edu/event/100961
CLASS:PUBLIC
STATUS:CONFIRMED
CATEGORIES:Basic Science,Biology,Biosciences,Bsbsigns,Natural Sciences,Research
LOCATION:Biological Sciences Building - 1010
CONTACT:
END:VEVENT
BEGIN:VEVENT
DTSTAMP:20221212T181543
DTSTART;TZID=America/Detroit:20221212T120000
DTEND;TZID=America/Detroit:20221212T130000
SUMMARY:Workshop / Seminar:Quantitative Biology Seminar | Starling Flocks Seen From Statistical Physics
DESCRIPTION:Many animal species move together in groups (schools\, herds\, flocks) without leaders but displaying complex collective behavior\, sometimes visually very striking.  This behavior is the emergent of individual interactions\, so that the phenomenon can be fruitfully approached from statistical physics.  In this talk we shall summarize experimental results on flocks of starlings (Sturnus vulgaris) in the field\, and show that it is possible to develop a sensible statistical theory of their collective movement\, despite the difficulties related to out-of-equilibrium effects and relatively small system size.  We shall discuss in particular the presence of scale-free correlations in speed and velocity fluctuations and their relation to symmetry breaking and speed control mechanisms.\n
UID:101308-21801176@events.umich.edu
URL:https://events.umich.edu/event/101308
CLASS:PUBLIC
STATUS:CONFIRMED
CATEGORIES:Physics,Science
LOCATION:West Hall - 335 
CONTACT:
END:VEVENT
BEGIN:VEVENT
DTSTAMP:20221128T084949
DTSTART;TZID=America/Detroit:20221212T144500
DTEND;TZID=America/Detroit:20221212T151500
SUMMARY:Well-being:Wellness Everyday: Mindful Mondays
DESCRIPTION:Every Monday we offer a variety of guided sessions that will help you find calmness and community. In these sessions\, we will introduce different forms of meditation\, we will practice them\, and then give you some materials that will help you carry on the practice throughout the week.\n\nAt WISE we know that the different dimensions of wellness are something that we should focus on every day not only in times of stress. We have created the Wellness Everyday Series to aid the WISE community’s exposure to different aspects of their wellness and develop a practice of wellness every day. We look forward to having you join us in the WISE Office in room 3236 of the Undergraduate Science Building. When you are well it helps the community to become well.\n\n*These events are drop-in. No registration required.*
UID:97804-21795181@events.umich.edu
URL:https://events.umich.edu/event/97804
CLASS:PUBLIC
STATUS:CONFIRMED
CATEGORIES:Graduate and Professional Students,Undergraduate,Women In Engineering,Women In Science,Women In Science And Engineering
LOCATION:Undergraduate Science Building - 3236
CONTACT:
END:VEVENT
BEGIN:VEVENT
DTSTAMP:20221212T130735
DTSTART;TZID=America/Detroit:20221212T150000
DTEND;TZID=America/Detroit:20221212T160000
SUMMARY:Lecture / Discussion:CAS Lecture | Race\, Environment\, and the Modern Middle East: A Historical Microanalysis
DESCRIPTION:This hybrid event will be held in person and via zoom on Monday\, December 12th at 3:00 PM.\n\nOn Campus Location: Weiser Hall 555\n\nZoom Alternative: https://myumi.ch/5W7Pr\n\nMeeting ID: 912 9148 8313\nPasscode: 649856\n\nThis talk explores the role that the late imperial Ottoman and early republican Turkish state elites attributed to environmental factors in their racialization of the Kizilbash (Alevi) Kurdish inhabitants of the Dersim region in Eastern Anatolia as being “Muslim sons of Muslims”in 1890s to becoming “Turkish sons of Turks” by 1930s. State elites developed a double-sided racialization process from the late nineteenth century onwards. In their internal writings\, they never doubted the Kurdishness of the Dersimis\, even after the state actors came to believe that they had successfully Turkified them. Publicly\, however\, they argued that Dersim Kurds were indeed the purest Turks\; that their Kizilbash belief system\, which the state elite had until then perceived as deviant and threatening\, reflected primordial Turkish shamanism\; and that Dersim’s inaccessible geography had preserved ancient Turkish characteristics in Dersim’s Alevis. First appearing in official reports and later spreading to private publications and media\, by the 1940s\, the “Turkishness” of Dersim Kurds was so established that government officials considered calling them Kurds in public tantamount to a curse. Using the historical developments in Dersim as a case in point\, the talk elucidates the racialization of ethnic and religious communities in the Middle East in the course of transition from indirect imperial to centralized nation-state rule during the late nineteenth and early twentieth centuries. It sheds light on the historical backgrounds of some of the contemporary dynamics of structural racism in the region.\n\nCevat Dargın specializes in the modern history of the Middle East\, with a focus on the transformation from indirect imperial to centralized nation-state rule through the lenses of environmental history across regimes changes and revolutions from the late eighteenth-century onwards\, thereby challenging official narratives and conventional historiographies that treat such historical junctures as radical ruptures with the past. With a background in political science and Middle Eastern studies\, Dr. Dargın integrates theoretical approaches from multiple disciplines and applies them to the study of race\, religion\, ethnicity\, gender\, and environment through the histories of understudied and marginalized peoples and places in the peripheries and borderlands. He is currently working on a book manuscript tentatively titled Mountains and the Modern State: An Environmental History of State-Making in the Middle East. The book explores the role of environmental factors in shaping the transition to modernity in state-making in the Middle East through the case of Dersim\, a region in Eastern Anatolia with a rich and diverse natural environment and a predominantly Alevi Kurdish population. The project covers the period from the Russo-Turkish War of 1877–78 to the Turkish state’s violent transformation of the region in 1937–38. Dr. Dargın received his PhD from Princeton University’s Department of Near Eastern Studies in 2021.\n\nIf there is anything we can do to make this event accessible to you\, please contact us at armenianstudies@umich.edu. Please be aware that advance notice is necessary as some accommodations may require more time for the university to arrange.
UID:101971-21803006@events.umich.edu
URL:https://events.umich.edu/event/101971
CLASS:PUBLIC
STATUS:CONFIRMED
CATEGORIES:armenia,history
LOCATION:Weiser Hall - Room 555
CONTACT:
END:VEVENT
BEGIN:VEVENT
DTSTAMP:20221227T123039
DTSTART;TZID=America/Detroit:20221212T150000
DTEND;TZID=America/Detroit:20221212T160000
SUMMARY:Careers / Jobs:Government Performance Lab Info Session - Fellow Positions (2023 Cohort)
DESCRIPTION:Join the Government Performance Lab (GPL) for a virtual info session to learn about upcoming job opportunities with the GPL through paidfull-time fellowships. We will also discuss how the GPL is working with state and local governments to solve social problems such as criminal justice reform\, child wellbeing\, economic mobility in historically marginalized communities\, among many others.\n\nYou will hear from our leadership team as well as current GPL Fellows. There will be time at the end for a Q&A.\n\nFor more information\, please visit our website: https://govlab.hks.harvard.edu/working-at-gpl
UID:101968-21803002@events.umich.edu
URL:https://events.umich.edu/event/101968
CLASS:PUBLIC
STATUS:CONFIRMED
CATEGORIES:
LOCATION:
CONTACT:
END:VEVENT
BEGIN:VEVENT
DTSTAMP:20221227T123030
DTSTART;TZID=America/Detroit:20221212T150000
DTEND;TZID=America/Detroit:20221212T180000
SUMMARY:Careers / Jobs:Sentara Heathcare RN Match Day\; Sentara Northern Virginia MedicalCenter
DESCRIPTION:The leadership at Sentara Northern Virginia Medical Center in Woodbridge\, Virginia are excited to invite RN students who plan to graduate between December 2022 and December 2023 to Sentara’s RN Match Day\, Monday\, December 12\, 3-6pm\, Health Education Center\, 2300 Opitz Blvd.\,Woodbridge\, VA. \n \nLearn about all Sentara has to offer you as you prepare to start your career and hear from our educators about our Nurse Residency Program.  \n\nHiring managers for Sentara Northern Virginia Medical Center will be present\, conducting interviews\, and extending job offers BEFORE you graduate.  \n\nAn early hire bonus is available for students accepting job offers during this event.\n\nBe sure to apply in advance so job offers may be extended at www.sentaracareers.com\, keyword JR-13390.\n
UID:99501-21798268@events.umich.edu
URL:https://events.umich.edu/event/99501
CLASS:PUBLIC
STATUS:CONFIRMED
CATEGORIES:
LOCATION:Woodbridge, Virginia, United States
CONTACT:
END:VEVENT
BEGIN:VEVENT
DTSTAMP:20221107T151046
DTSTART;TZID=America/Detroit:20221212T150000
DTEND;TZID=America/Detroit:20221212T160000
SUMMARY:Social / Informal Gathering:Spanish Bible Study
DESCRIPTION:We are open to all students\, whether you are a native speaker or if it's your first time deciding to learn Spanish\, come join us to practice Spanish and worship the Lord together!\nFor more info text:\nAngeli: (269) 816-3243\nRachel: (248) 946-6331
UID:101141-21800867@events.umich.edu
URL:https://events.umich.edu/event/101141
CLASS:PUBLIC
STATUS:CONFIRMED
CATEGORIES:International,Multicultural,Religious,Spanish Studies,Student Org
LOCATION:South Quad - Basement
CONTACT:
END:VEVENT
BEGIN:VEVENT
DTSTAMP:20221209T094158
DTSTART;TZID=America/Detroit:20221212T170000
DTEND;TZID=America/Detroit:20221212T210000
SUMMARY:Other:Study @ the Clements
DESCRIPTION:U-M students are invited to enjoy studying in the Clements Library's Avenir Foundation Room. No reservations are needed. Enter through the north doors (facing Hatcher) to sign in. Students can also take a break from studying to #ColorOurCollections and view our current exhibit \"Family Secrets: Uncovering Identity in 19th-Century America\".\nPlease note space is limited.
UID:101822-21802385@events.umich.edu
URL:https://events.umich.edu/event/101822
CLASS:PUBLIC
STATUS:CONFIRMED
CATEGORIES:Free,In Person,Library,Undergraduate,Undergraduate Students
LOCATION:William Clements Library
CONTACT:
END:VEVENT
BEGIN:VEVENT
DTSTAMP:20221227T123038
DTSTART;TZID=America/Detroit:20221212T180000
DTEND;TZID=America/Detroit:20221212T190000
SUMMARY:Careers / Jobs:Defense Intelligence Agency - Analysis Career Field Info Session
DESCRIPTION:The Defense Intelligence Agency (DIA) Analysis Career Field (ACF) is now hiring! You’re invited to join us for this virtual info session to hear from Career Development Officers\, including our lead STEM Career Development Officer\, to learn more about the agency. This is a great opportunity to learn tips for successfully applying before our latest vacancy announcements close on December 16th!\n\nThe two vacancy announcements we’re currently hiring for are:\nANALYSIS (ACF) MARCH 2023 ENTRY-LEVEL VIRTUAL HIRING EVENT - 122001\nANALYSIS (ACF) MARCH 2023 ENTRY-LEVEL VIRTUAL HIRING EVENT - STEM - 122002\nFor full details and to apply\, visit diajobs.dia.mil.\n\nDIA has 16\,000+ employees worldwide. As one of the few all-source intelligence agencies\, our global mission requires a diverse workforce with unique skills and expertise. We're hiring for a wide range of positions and are looking for candidates from all backgrounds - both STEM and non-STEM. Don't miss this opportunity to learn how you can turn your degree into a career with DIA!\n\nThis info session is open to all studentsand recent graduates! Join us to learn how you can turn your degree into a rewarding career at DIA!\n\nUse this link to join the event: bit.ly/dia-info
UID:101908-21802912@events.umich.edu
URL:https://events.umich.edu/event/101908
CLASS:PUBLIC
STATUS:CONFIRMED
CATEGORIES:
LOCATION:
CONTACT:
END:VEVENT
BEGIN:VEVENT
DTSTAMP:20221227T183047
DTSTART;TZID=America/Detroit:20221212T190000
DTEND;TZID=America/Detroit:20221212T200000
SUMMARY:Careers / Jobs:Postbacc Webinar - Georgetown SMP
DESCRIPTION:Univ of Michigan Pre-Health Students\,\n\nThe Special Master'sProgram in Physiology (The SMP)\, is a one year masters program tailored to college graduates who wish to strengthen their academic record to medical school. SMP students take medical classes with the 1st year medical students at Georgetown SOM. Alumni attend medical schools around the country.\n\nThe Georgetown SMP will be hosting monthly webinars to discuss the different types of post bacc programs that exist\, and what programs Georgetown has to offer.\n\nMonday\, December 12\, 2022 - 7-8pm EST\nMonday\, January 30\, 2023 - 7-8pm EST\nMonday\, February 27\, 2023 - 7-8pm EST\nMonday\, March 20\, 2023 - 7-8pm EST\nMonday\, April 17\, 2023 - 7-8pm EST\nMonday\, May 8\, 2023 - 7-8pm EST\nMonday\, June 5\, 2023 - 7-8pm EST\nMonday\, July 26\, 2023 - 7-8pm EST\n\nhttps://smp.georgetown.edu/how-to-apply/prospective-student-events/#postbacc-informational-webinars\n\nHope to see you there.\nAmy Richards\nSMP Assistant Director\n
UID:101909-21802913@events.umich.edu
URL:https://events.umich.edu/event/101909
CLASS:PUBLIC
STATUS:CONFIRMED
CATEGORIES:
LOCATION:
CONTACT:
END:VEVENT
END:VCALENDAR