BEGIN:VCALENDAR
VERSION:2.0
PRODID:-//UM//UM*Events//EN
CALSCALE:GREGORIAN
BEGIN:VTIMEZONE
TZID:America/Detroit
TZURL:http://tzurl.org/zoneinfo/America/Detroit
X-LIC-LOCATION:America/Detroit
BEGIN:DAYLIGHT
TZOFFSETFROM:-0500
TZOFFSETTO:-0400
TZNAME:EDT
DTSTART:20070311T020000
RRULE:FREQ=YEARLY;BYMONTH=3;BYDAY=2SU
END:DAYLIGHT
BEGIN:STANDARD
TZOFFSETFROM:-0400
TZOFFSETTO:-0500
TZNAME:EST
DTSTART:20071104T020000
RRULE:FREQ=YEARLY;BYMONTH=11;BYDAY=1SU
END:STANDARD
END:VTIMEZONE
BEGIN:VEVENT
DTSTAMP:20230324T120005
DTSTART;TZID=America/Detroit:20221215T000000
DTEND;TZID=America/Detroit:20221215T235959
SUMMARY:Community Service:Homework Help at The Children's Center
DESCRIPTION:The Homework Help program offers children assistance with their homework assignments. Children are encouraged to bring homework and are paired with a volunteer to assist them. This program is a critical service in helping children thrive. Volunteers give children the tools they need to be successful in school.Virtual and in-person volunteer opportunities are available. If you would like to volunteer\, please start the enrollment process by creating an account on the Children Center's Volunteer Site found HERE. After your account is created\, the Children's Center will reach out to you within 2 business days to answer any questions and discuss the next steps.In accordance with the CMS Vaccine Mandate\, those volunteering in-person at the Children’s Center are required to be fully vaccinated and must provide proof of full vaccination upon request.
UID:93885-21788034@events.umich.edu
URL:https://events.umich.edu/event/93885
CLASS:PUBLIC
STATUS:CONFIRMED
CATEGORIES:
LOCATION:The Children&#039;s Center 
CONTACT:
END:VEVENT
BEGIN:VEVENT
DTSTAMP:20220809T173135
DTSTART;TZID=America/Detroit:20221215T080000
DTEND;TZID=America/Detroit:20221215T190000
SUMMARY:Exhibition:Places & Spaces: Mapping Science and A Brief History of Information Graphics
DESCRIPTION:The Places & Spaces: Mapping Science exhibit introduces science mapping techniques and data visualization to the general public and to experts across diverse disciplines\, and we hope inspires cross-disciplinary discussion on how to best track and communicate scholarly activity and scientific progress on a global scale. The exhibit includes a macroscope which showcases interactive visualizations that demonstrate the impact of different data cleaning\, analysis\, and visualization algorithms.\n\nThe Places & Spaces exhibit is curated by the Cyberinfrastructure for Network Science Center at Indiana University. The complementary exhibit\, A Brief History of Information Graphics\, was created by Clark Library staff to provide an historical context to the Places and Spaces exhibit.
UID:96720-21800843@events.umich.edu
URL:https://events.umich.edu/event/96720
CLASS:PUBLIC
STATUS:CONFIRMED
CATEGORIES:Free,Library,Maps
LOCATION:Hatcher Graduate Library - Clark Library, 2nd Floor
CONTACT:
END:VEVENT
BEGIN:VEVENT
DTSTAMP:20221122T144729
DTSTART;TZID=America/Detroit:20221215T090000
DTEND;TZID=America/Detroit:20221215T160000
SUMMARY:Exhibition:\"I have a crisis for you\": Women Artists of Ukraine Respond to War
DESCRIPTION:An exhibit curated by Grace Mahoney and Jessica Zychowicz\nFeaturing work by Kinder Album\, JT Blatty\, Oksana Briukhovetska (MFA\, Stamps School of Art and Design)\, Oksana Kazmina\, Sonya Hukaylo\, Svetlana Lavochkina\, Kateryna Lisovenko\, and Lyuba Yakimchuk.\n\nLane Hall Exhibit Space\n204 South State Street\n\nAbout the exhibit:\nIn February 2022\, the world witnessed the invasion of Ukraine and all-out war of aggression by the Russian Federation. Since this time\, massive casualties\, human rights violations\, and an unprecedented refugee crisis have ensued. Women artists of Ukraine have responded. They paint on found materials in refugee housing\, illustrate in bomb shelters\, photograph their shelled cities wearing press passes and bulletproof jackets. They document\, create\, and share. They post their daily journals and images on social media. They perform at the Grammy Awards. They know their message is powerful\, and the amplification of their voices is critical for victory in a very real battle for survival.\n\nCurated by Grace Mahoney (U-M Slavic Languages and Literatures) and Jessica Zychowicz\, Ph.D. (Fulbright Ukraine and U-M Alumna)\, \"'I have a crisis for you': Women Artists of Ukraine Respond to War\" showcases work created by women artists in response to Russia’s war in Ukraine. The involved artists are painters\, photographers\, filmmakers\, poets\, translators\, and textile artists. Many of the works exhibited demonstrate a continuity of engagement by the artists with the topic of war\, especially since 2014 when the people of Ukraine gathered in a “Revolution of Dignity” against attempts by the Russian Federation to control the country’s independence resulting in Russia’s annexation of the Crimean Peninsula and backing of pro-Russian separatists in Ukraine’s east. \n\nThe featured artists have also been selected because of their prominent interest and exploration of issues relating to gender in their works. The title for this exhibit comes from a poem of the same name by Lyuba Yakimchuk:\n\n“— our love’s gone missing\, I explain to a friend/ it vanished in one of the wars/ we waged in our kitchen/ — change the word ‘war’ to ‘crisis\,’ he suggests/ because a crisis is something everyone has from time to time.”\n\nLike in Yakimchuk’s poem\, many of these artists approach the war with personal perspectives. They intertwine\, juxtapose\, and disrupt experiences of war with the intimacies of personal relationships\, the workings interior lives\, and perceptions of social roles. The featured artworks and documents engage a range of subjects from women volunteering as combatants to the processes of grieving and reflect ongoing discourses in Ukrainian feminist scholarship. \n\nThe exhibit will be accompanied by a companion website which includes an expanded set of informational and aid-related resources. \n\n\"'I have a crisis for you': Women Artists of Ukraine Respond to War\" is hosted by the University of Michigan’s Institute for Research on Women and Gender (IRWG) and the Department of Women’s and Gender Studies with co-sponsorship from the Center for Russian\, East European & Eurasian Studies\, the Department of Slavic Languages and Literatures\, the Museum Studies Program\, the Weiser Center for Europe and Eurasia\, and the Weiser Center for Emerging Democracies.\n\nRelated Events:\n\nOpening Reception with comments by the curators\n4:00-6:00 pm ET\, Thursday\, September 15th\, 2022\nLane Hall\n\nArtists’ Roundtable (Hybrid)\n3:30-5:00pm ET\, Friday\, September 16th\, 2022\nWeiser Hall\, 1010\n\n*U-M classes may schedule visits outside of regular gallery hours by emailing LaneHallExhibits@umich.edu
UID:96538-21792866@events.umich.edu
URL:https://events.umich.edu/event/96538
CLASS:PUBLIC
STATUS:CONFIRMED
CATEGORIES:Art,eastern europe,European,Exhibition,Graduate Students,Museum,Slavic Studies,Ukraine,Ukrainian,Weiser Center For Emerging Democracies,Weiser Center For Europe And Eurasia,Women's Studies
LOCATION:Lane Hall - Exhibit Space
CONTACT:
END:VEVENT
BEGIN:VEVENT
DTSTAMP:20221215T062011
DTSTART;TZID=America/Detroit:20221215T100000
DTEND;TZID=America/Detroit:20221215T120000
SUMMARY:Workshop / Seminar:ADVANCE Program Holiday Party
DESCRIPTION:Brunch and White Elephant for ADVANCE Program Colleagues and Committee Members
UID:102108-21803472@events.umich.edu
URL:https://events.umich.edu/event/102108
CLASS:PUBLIC
STATUS:CONFIRMED
CATEGORIES:Sessions
LOCATION:Rackham, Assembly Hall (4th Floor)
CONTACT:
END:VEVENT
BEGIN:VEVENT
DTSTAMP:20221230T123027
DTSTART;TZID=America/Detroit:20221215T100000
DTEND;TZID=America/Detroit:20221215T110000
SUMMARY:Careers / Jobs:ServiceNow Open House #8
DESCRIPTION:ServiceNow Open Houses are open to anyone that would like to learn more about ServiceNow\, our culture\, and opportunities. Each open house will consist of an info session about ServiceNow and an opportunity toengage with Recruiters and ServiceNow professionals in breakout rooms. We'll also have a live DJ\, music\, and a prize raffle!
UID:98267-21796429@events.umich.edu
URL:https://events.umich.edu/event/98267
CLASS:PUBLIC
STATUS:CONFIRMED
CATEGORIES:
LOCATION:
CONTACT:
END:VEVENT
BEGIN:VEVENT
DTSTAMP:20221215T062010
DTSTART;TZID=America/Detroit:20221215T100000
DTEND;TZID=America/Detroit:20221215T113000
SUMMARY:Workshop / Seminar:Student Life Professional Development Research Series - Fall 2022
DESCRIPTION:Join Student Life Professional Development for our Research Series! These sessions will help grow knowledge and skillset In participants to drive strategic initiatives around research\, evaluation\, and assessment. All sessions will take place In the Ruthven Administration Building\, room 1140.
UID:102107-21803471@events.umich.edu
URL:https://events.umich.edu/event/102107
CLASS:PUBLIC
STATUS:CONFIRMED
CATEGORIES:Sessions
LOCATION:
CONTACT:
END:VEVENT
BEGIN:VEVENT
DTSTAMP:20221219T181506
DTSTART;TZID=America/Detroit:20221215T110000
DTEND;TZID=America/Detroit:20221215T170000
SUMMARY:Exhibition:LaToya Ruby Frazier: Flint Is Family In Three Acts
DESCRIPTION:Organized by Stamps Gallery in partnership with the Eli and Edythe Broad Art Museum\, Michigan State University\, and the Flint Institute of Arts.\n“No matter how dark a situation may be\, a camera can extract the light and turn a negative into a positive. In creating Flint Is Family In Three Acts\, I see the role of photographs as empowering and enacting visible change: in Act I\, the photographs bear witness and reclaim history\; in Act II\, the photographs reveal a hidden narrative\; in Act III\, the photographs are a catalyst for obtaining resources.”\n—LaToya Ruby Frazier \nFlint Is Family In Three Acts is a multi-part exhibition by renowned artist LaToya Ruby Frazier. For five years\, Frazier researched and collaborated with two poets\, activists\, mothers and residents of Flint\, Michigan\, Shea Cobb and Amber Hasan\, as they endured one of the most devastating ecological crises in U.S. history. Resulting in a monumental oeuvre of photographs\, video\, and texts Frazier developed Flint Is Family In Three Acts (2016-2021) to advocate for access to clean and safe drinking water for all regardless of race\, religion and economic status. The series records stories of surviving and thriving\, especially within racialized and marginalized neighborhoods in Flint\, to ensure that they remained visible in national debates concerning environmental justice. Drawing inspiration from the urgency in Frazier’s work\, which also sheds light on building equitable and inclusive futures\, Stamps Gallery\, part of the Penny W. Stamps School of Art &amp\; Design at the University of Michigan\, initiated a partnership with the Flint Institute of Arts and the Eli and Edythe Broad Art Museum at Michigan State University to bring this important exhibition together for the first time in Michigan. As co-presenters of this landmark exhibition\, our goal is to offer a creative pedagogical platform that reaches broader audiences across Michigan and beyond - Flint is Family: Act I (2016-2017) will take place at the Flint Institute of Arts\, Act II (2017-2019) at the Eli and Edythe Broad Art Museum\, and Act III (2019) at Stamps Gallery. The exhibition served as a catalyst to bring three disparate institutions together to deepen our understanding of individual and institutional agency in advocating for equity\, transparency and environmental justice in our respective communities\, while also highlighting the role of the artist as an agent for enacting positive social change.\n\nCurated by Srimoyee Mitra\, Tracee Glab\, and Steven L. Bridges with the assistance of Jennifer Junkermeier-Khan\, Rachel Winter\, and Rachael Holstege.
UID:95590-21790424@events.umich.edu
URL:https://events.umich.edu/event/95590
CLASS:PUBLIC
STATUS:CONFIRMED
CATEGORIES:Art
LOCATION:Off Campus Location
CONTACT:
END:VEVENT
BEGIN:VEVENT
DTSTAMP:20221215T062011
DTSTART;TZID=America/Detroit:20221215T110000
DTEND;TZID=America/Detroit:20221215T120000
SUMMARY:Workshop / Seminar:OGPS Career & Professional Development  Fall 2022
DESCRIPTION:Career and Professional Development Events Hosted by OGPS during the Fall 2022 semester
UID:102109-21803473@events.umich.edu
URL:https://events.umich.edu/event/102109
CLASS:PUBLIC
STATUS:CONFIRMED
CATEGORIES:Sessions
LOCATION:Taubman Library-2955  (2955 THSL)
CONTACT:
END:VEVENT
BEGIN:VEVENT
DTSTAMP:20220901T181526
DTSTART;TZID=America/Detroit:20221215T110000
DTEND;TZID=America/Detroit:20221215T170000
SUMMARY:Exhibition:Respond/ Resist/ Rethink 2022
DESCRIPTION:Water is the lifeblood of civilizations\, the center of cities\, the foundation of creation stories and the connective tissue of culture. Water is a life force\, without it humanity will cease to exist. Fresh water is necessary for the survival of all living organisms on Earth. The human body is made up of over 60% water and humanity cannot survive without it. Water is a vital life source that holds (and generates) power. It is nourishing\, quenching\, and refreshing but has also been commodified\, polluted\, and politicized. From the Standing Rock\, Leech Lake and Fond du Lac reservations\, to the straits of Mackinac where oil pipelines threaten important waterways\, to the polluted Mississippi River and drying Colorado River Basin\, to water shutoffs in Detroit\, PFAs in Ann Arbor\, and the Flint Water crisis (to name just a few)\, ensuring access to clean water (and the sustainable ecologies it supports) is an ongoing struggle that requires intersectional\, intergenerational\, and collective knowledge sharing\, discussion and action to protect. \nCall for Work\nStamps Gallery invites the undergraduate and graduate students of Penny W. Stamps School of Art &amp\; Design to participate in a poster and video exhibition that responds to the prompt: The care\, sustainability\, and access to free and clean water is arguably one of the most urgent and challenging issues of our time “What can you do to spread awareness of water issues and conservation measures?”\nEligible students: submit your work using our online form by Friday\, August 19\, 2022 →\nEligibility\nMust be a currently enrolled undergraduate or graduate major in the Penny W. Stamps School of Art &amp\; Design.Eligible students may submit one work (poster or video).Time-based work must be submitted as a YouTube/Vimeo link.Timeline\nThe deadline for submitting work is Friday\, August 19\, 2022\, 5pm\, EST. A selection committee composed of students\, faculty\, and Stamps Gallery staff will review submitted work in the weeks following the deadline.Students whose works are selected will be notified by September 2\, 2022. The exhibition will take place from September 15\, 2022 - January 14\, 2023.Why posters &amp\; videos? \nPosters can function as catalysts for change. For generations\, posters have served as an effective tool to circulate ideas and messages to the public. Visually striking\, and designed to draw attention from passersby\, posters can be conversation starters\, invite people to pause\, reflect\, spread the word\, get involved. They have been a powerful medium for many conceptual artists and graphic designers to create powerful images and messages that could respond to immediate issues and be distributed widely. Similarly\, video art was another exciting immediate medium for conceptual artists in the 1960s and 1970s as the technology became more accessible to the masses. Video art provided an alternative to the dominant broadcasting corporations. Artists made experimental films\, recorded performances\, and first-person narratives that were then exhibited and screened at galleries\, museums\, and events. Posters and videos continue to be salient features in the 21st Century to respond to urgent issues and questions facing the present moment. \nContext\nStamps Gallery is an incubator and lab for contemporary artists and designers to explore ideas and projects that catalyze positive social change. As the pandemic grips our nation it has exposed the social\, political\, and economic disparities that have disproportionately impacted Black\, Indigenous\, and People of Color. The world witnessed in horror and sadness the meaningless loss of African American lives with George Floyd\, Breonna Taylor\, Ahmaud Arbery\, among many others that we will never know. National and international outcries brought people together from multiple races\, genders\, and generations - on social media and in the streets - to publicly demand an end to police brutality\, structural racism\, and emphasizing that Black Lives Matter. What is the role of a university gallery in this time of crisis? How can we foster an inclusive platform for the students in our community to voice their ideas and foster a community based on equality\, belonging\, respect? We launched Respond/ Resist/ Rethink in the fall 2020 to kick off the fall semester with student work paired with the work of leading artists exhibiting at the Gallery.
UID:96386-21792431@events.umich.edu
URL:https://events.umich.edu/event/96386
CLASS:PUBLIC
STATUS:CONFIRMED
CATEGORIES:Art
LOCATION:Off Campus Location
CONTACT:
END:VEVENT
BEGIN:VEVENT
DTSTAMP:20221214T123034
DTSTART;TZID=America/Detroit:20221215T120000
DTEND;TZID=America/Detroit:20221215T130000
SUMMARY:Careers / Jobs:Point B: Office Hours  (University of Michigan)
DESCRIPTION:Just like visiting your professor during office hours\, come speak with Point B Recruiters\, Emerging Leaders and Experienced Professionals who are eager to share their insights and connect with you.  This is an open forum\, be sure to bring your questions! \n\n \n\nWhile you register for this session\, be sure to check out other professional development workshops:  \n\n• Consulting 101  \n\n• Resume Workshop  \n\n• Case Study Interview Preparation  \n\n• Point B Information Session \n\n \n\nPlease click the link to register and complete the form.  You will receive a confirmation email right away. One day before the event\, you will receive a reminder email that contains the meeting link to login. Be sure to check your junk/spam folder sometimes the confirmation email is filtered.\n\n \n\nIf you have any questions\, please reach out to campusrecruiting@pointb.com - we look forward to seeing you there! \n\n \n\n \n\nCome speak with Point B Recruiters\, Emerging Leaders and Experienced Professionalsto share their insights and connect with you. Be sure to bring your questions! Click the link to register and complete the form.  You will receive a confirmation email right away. One day before the event\, you will receive a reminder email that contains the meeting link to login. Check your spam folder for the meeting invite. If you have any questions\, reach out to campusrecruiting@pointb.com.
UID:99947-21798921@events.umich.edu
URL:https://events.umich.edu/event/99947
CLASS:PUBLIC
STATUS:CONFIRMED
CATEGORIES:
LOCATION:
CONTACT:
END:VEVENT
BEGIN:VEVENT
DTSTAMP:20221230T063033
DTSTART;TZID=America/Detroit:20221215T120000
DTEND;TZID=America/Detroit:20221215T130000
SUMMARY:Careers / Jobs:Public Health Associates Program (PHAP) Information Session
DESCRIPTION:Please join us for this special session highlighting the CDC'sPublic Health Associates Program. The Public Health Associate Program (PHAP) is a competitive\, two-year\, paid training program with the Centers for Disease Control and Prevention (CDC). PHAP associates are assigned to state\, tribal\, local\, and territorial public health agencies and nongovernmental organizations\, and work alongside other professionals across a variety of public health settings. Throughout the two-year training program\, associates gain hands-on experience that will serve as a foundation fortheir public health careers. After graduating from PHAP\, associates are qualified to convert non-competitively to full time positions in CDC centers\, institutes\, or offices and other HHS operating divisions\, or apply for positions with public health agencies and non-governmental organizations.\n\nHear directly from the program's staff highlighting the applicationcycle\, eligibility requirements\, benefits\, and learn about how to makeyourself a competitive candidate when submitting an application. For any questions or accommodation requests\, please contact recruiter@cdc.gov.
UID:101936-21802958@events.umich.edu
URL:https://events.umich.edu/event/101936
CLASS:PUBLIC
STATUS:CONFIRMED
CATEGORIES:
LOCATION:
CONTACT:
END:VEVENT
BEGIN:VEVENT
DTSTAMP:20220908T120418
DTSTART;TZID=America/Detroit:20221215T130000
DTEND;TZID=America/Detroit:20221215T140000
SUMMARY:Social / Informal Gathering:Fall 2022 Aphasia Social Hours
DESCRIPTION:The free\, virtual social hour is open to people with aphasia and is a low-pressure way to practice communication skills and connect with others. Building confidence and staying social are some of the best things you can do for yourself and loved ones when aphasia is a part of your life!\n\nAphasia social hours will now occur twice a month\, on every First and Third Thursday\, from 1-2 pm (EST)\, via Zoom.\n\n2022 Fall/Winter Dates\n+ Sept. 1 and 15\n+ Oct. 6 and 20\n+ Nov. 3 and 17\n+ Dec. 1 and 15\n\nPLEASE NOTE: While all are welcome\, the intent behind the social hours is to offer a place for people with aphasia to connect and practice their communication skills. While care partners are encouraged to assist the person with aphasia\, we ask that care partners refrain from taking an active role in the conversation so people with aphasia have the time and space to connect.
UID:98314-21796488@events.umich.edu
URL:https://events.umich.edu/event/98314
CLASS:PUBLIC
STATUS:CONFIRMED
CATEGORIES:Aphasia,Discussion,Language,Speech Language Pathology,Virtual
LOCATION:Off Campus Location
CONTACT:
END:VEVENT
BEGIN:VEVENT
DTSTAMP:20221230T123029
DTSTART;TZID=America/Detroit:20221215T130000
DTEND;TZID=America/Detroit:20221215T140000
SUMMARY:Careers / Jobs:Metron Research Scientist Meet and Greet
DESCRIPTION:*US citizenship is required for all roles at Metron.*\n\nJoin us to learn about Metron careers in research. Our Research Scientists are available to discuss projects and how their careers have progressed at Metron. We are actively hiring for Spring 2023 openings and offer highly competitive salaries and benefits package. This Meet and Greet includes general company information about culture and values and Q&A with our Research Scientists.
UID:102211-21803684@events.umich.edu
URL:https://events.umich.edu/event/102211
CLASS:PUBLIC
STATUS:CONFIRMED
CATEGORIES:
LOCATION:
CONTACT:
END:VEVENT
BEGIN:VEVENT
DTSTAMP:20221208T120323
DTSTART;TZID=America/Detroit:20221215T130000
DTEND;TZID=America/Detroit:20221215T140000
SUMMARY:Social / Informal Gathering:Virtual Disabili-TEA & Neurodiversi-TEA Party
DESCRIPTION:Meet other disabled and neurodivergent students and build your community! We'll have games and CART captioning. Please RSVP below\, and contact Sarah Torsch at dsi-studentservices@umich.edu with any questions or concerns
UID:101578-21802340@events.umich.edu
URL:https://events.umich.edu/event/101578
CLASS:PUBLIC
STATUS:CONFIRMED
CATEGORIES:Digital Studies Institute,Disability,Games
LOCATION:
CONTACT:
END:VEVENT
BEGIN:VEVENT
DTSTAMP:20221230T123033
DTSTART;TZID=America/Detroit:20221215T150000
DTEND;TZID=America/Detroit:20221215T160000
SUMMARY:Careers / Jobs:Blue Shield Internship Info Session 12/15/22
DESCRIPTION:Join us for an information session on our 2023 Summer Internship.\n\nIn this session\, we will cover:\n-Blue Shield of CA Overview & Mission\n-Internship Overview \n-Application Process\n\nMore about our Internships:\nThis 10-week program is an opportunity for undergraduate and graduate students to join a mission-driven organization with a commitment to growth and development at all levels.\n\nRequirements:\n-Currently enrolled in an undergraduate or graduate program at an accredited university\nGood academic standing\n-2 years of experience (including jobs\, internships\, volunteer experience)\n\n
UID:101937-21802959@events.umich.edu
URL:https://events.umich.edu/event/101937
CLASS:PUBLIC
STATUS:CONFIRMED
CATEGORIES:
LOCATION:
CONTACT:
END:VEVENT
BEGIN:VEVENT
DTSTAMP:20221215T122011
DTSTART;TZID=America/Detroit:20221215T150000
DTEND;TZID=America/Detroit:20221215T160000
SUMMARY:Workshop / Seminar:DEI 2.0 Staff Idea Generation Sessions (Dining)
DESCRIPTION:As a part of ensuring that the Student Life DEI 2.0 planning process is informed by the knowledge and experiences of our staff\, we are hosting Idea Generations Sessions to inform our staff-facing and organizational priorities. These sessions will bring together staff from across the division to share ideas around themes generated from the most recent Campus Climate Survey results. These ideas will be used in the development of Student Life’s DEI 2.0 strategic plan\, due to the Office of Diversity\, Equity\, and Inclusion in April 2023.
UID:102104-21803460@events.umich.edu
URL:https://events.umich.edu/event/102104
CLASS:PUBLIC
STATUS:CONFIRMED
CATEGORIES:Sessions
LOCATION:Michigan League Kalamazoo Room
CONTACT:
END:VEVENT
BEGIN:VEVENT
DTSTAMP:20221230T123027
DTSTART;TZID=America/Detroit:20221215T150000
DTEND;TZID=America/Detroit:20221215T180000
SUMMARY:Careers / Jobs:Sentara Healthcare RN Match Day\; Sentara Peninsula Locations
DESCRIPTION:The leadership at Sentara Obici Hospital (Suffolk)\, Sentara CarePlex (Hampton)\, and Sentara Williamsburg Regional Medical Center (Williamsburg) are excited to invite RN students who plan to graduate between December 2022 and December 2023 to Sentara’s RN Match Day on Thursday\, December 15\, 3-6pm at Hampton Roads Event Center\, 12373 Hornsby Lane\, Suite A\, Newport News.   \n \nLearn about all Sentara has to offer you as you prepare to start your career and hear from our educators about our Nurse Residency Program.  \n\nHiring managers will be present\, conducting interviews\, and extending job offers BEFORE you graduate.  \n\nAn early hirebonus is available for students accepting job offers during this event.\n\nBe sure to apply in advance so job offers may be extended at www.sentaracareers.com\, keyword JR-13390.\n\n
UID:99507-21798274@events.umich.edu
URL:https://events.umich.edu/event/99507
CLASS:PUBLIC
STATUS:CONFIRMED
CATEGORIES:
LOCATION:Newport News, Virginia, United States
CONTACT:
END:VEVENT
BEGIN:VEVENT
DTSTAMP:20221230T123029
DTSTART;TZID=America/Detroit:20221215T180000
DTEND;TZID=America/Detroit:20221215T190000
SUMMARY:Careers / Jobs:Ignite Fellowship Application Workshop 
DESCRIPTION:Are you passionate about dismantling systems of oppression in our country? Interested in making an immediate impact with elementary or middle school students? Join Teach For America alumni and recruiters to learn more about how you can launch a career accelerating social justice and join the diverse network of leaders working together across sectors to shape the political\, economic\, and social future of our nation. All majors and backgrounds are welcome!\n\nTeach For America's Ignite Fellowship is apaid\, part-time opportunity for current college students across the country to virtually tutor a small group of students in reading or math. This is a unique way to develop transferrable skills\, build relationships withyouth\, and make a positive impact. Join our application workshop to learn more about this fellowship scheduled for the spring semester (late January - April 2023) and our application process before our December 18th\, 2022 deadline. You'll leave this session with specific tips and resources tosubmit the best application possible. All registrants will be able to access a recording of the event if not able to attend live. Learn more about the Ignite Fellowship at https://tfaignite.org/
UID:101437-21801343@events.umich.edu
URL:https://events.umich.edu/event/101437
CLASS:PUBLIC
STATUS:CONFIRMED
CATEGORIES:
LOCATION:
CONTACT:
END:VEVENT
BEGIN:VEVENT
DTSTAMP:20221213T181653
DTSTART;TZID=America/Detroit:20221215T190000
DTEND;TZID=America/Detroit:20221215T210000
SUMMARY:Performance:21st Annual Clown Show
DESCRIPTION:The final presentation of Theatre 371\, aka Physical Theatre\, aka Clown Class\, aka trial by audience.
UID:102069-21803414@events.umich.edu
URL:https://events.umich.edu/event/102069
CLASS:PUBLIC
STATUS:CONFIRMED
CATEGORIES:
LOCATION:Off Campus Location
CONTACT:
END:VEVENT
BEGIN:VEVENT
DTSTAMP:20221010T151110
DTSTART;TZID=America/Detroit:20221215T200000
SUMMARY:Performance:Ocean Quartet
DESCRIPTION:The Ocean Celtic Quartet will transport you to the Yuletide celebrations of yore in a program featuring traditional carols\, foot-stomping Celtic fiddle tunes\, 19th-century broadside songs\, original seasonal compositions\, and even an appearance by Father Christmas of the old mummers’ plays!\n\nWith their soaring vocals and high-energy Celtic instrumentals\, Ocean is known for marrying lighthearted exuberance with great spiritual depth in a program that appeals to all faiths and wisdom traditions. Come in good voice\, as you’ll be invited to sing along!
UID:96760-21793270@events.umich.edu
URL:https://events.umich.edu/event/96760
CLASS:PUBLIC
STATUS:CONFIRMED
CATEGORIES:Ark,Music,Mutotix
LOCATION:Off Campus Location
CONTACT:
END:VEVENT
END:VCALENDAR