BEGIN:VCALENDAR
VERSION:2.0
PRODID:-//UM//UM*Events//EN
CALSCALE:GREGORIAN
BEGIN:VTIMEZONE
TZID:America/Detroit
TZURL:http://tzurl.org/zoneinfo/America/Detroit
X-LIC-LOCATION:America/Detroit
BEGIN:DAYLIGHT
TZOFFSETFROM:-0500
TZOFFSETTO:-0400
TZNAME:EDT
DTSTART:20070311T020000
RRULE:FREQ=YEARLY;BYMONTH=3;BYDAY=2SU
END:DAYLIGHT
BEGIN:STANDARD
TZOFFSETFROM:-0400
TZOFFSETTO:-0500
TZNAME:EST
DTSTART:20071104T020000
RRULE:FREQ=YEARLY;BYMONTH=11;BYDAY=1SU
END:STANDARD
END:VTIMEZONE
BEGIN:VEVENT
DTSTAMP:20230324T120005
DTSTART;TZID=America/Detroit:20221220T000000
DTEND;TZID=America/Detroit:20221220T235959
SUMMARY:Community Service:Homework Help at The Children's Center
DESCRIPTION:The Homework Help program offers children assistance with their homework assignments. Children are encouraged to bring homework and are paired with a volunteer to assist them. This program is a critical service in helping children thrive. Volunteers give children the tools they need to be successful in school.Virtual and in-person volunteer opportunities are available. If you would like to volunteer\, please start the enrollment process by creating an account on the Children Center's Volunteer Site found HERE. After your account is created\, the Children's Center will reach out to you within 2 business days to answer any questions and discuss the next steps.In accordance with the CMS Vaccine Mandate\, those volunteering in-person at the Children’s Center are required to be fully vaccinated and must provide proof of full vaccination upon request.
UID:93885-21788039@events.umich.edu
URL:https://events.umich.edu/event/93885
CLASS:PUBLIC
STATUS:CONFIRMED
CATEGORIES:
LOCATION:The Children&#039;s Center 
CONTACT:
END:VEVENT
BEGIN:VEVENT
DTSTAMP:20220809T173135
DTSTART;TZID=America/Detroit:20221220T080000
DTEND;TZID=America/Detroit:20221220T190000
SUMMARY:Exhibition:Places & Spaces: Mapping Science and A Brief History of Information Graphics
DESCRIPTION:The Places & Spaces: Mapping Science exhibit introduces science mapping techniques and data visualization to the general public and to experts across diverse disciplines\, and we hope inspires cross-disciplinary discussion on how to best track and communicate scholarly activity and scientific progress on a global scale. The exhibit includes a macroscope which showcases interactive visualizations that demonstrate the impact of different data cleaning\, analysis\, and visualization algorithms.\n\nThe Places & Spaces exhibit is curated by the Cyberinfrastructure for Network Science Center at Indiana University. The complementary exhibit\, A Brief History of Information Graphics\, was created by Clark Library staff to provide an historical context to the Places and Spaces exhibit.
UID:96720-21800848@events.umich.edu
URL:https://events.umich.edu/event/96720
CLASS:PUBLIC
STATUS:CONFIRMED
CATEGORIES:Free,Library,Maps
LOCATION:Hatcher Graduate Library - Clark Library, 2nd Floor
CONTACT:
END:VEVENT
BEGIN:VEVENT
DTSTAMP:20230104T123032
DTSTART;TZID=America/Detroit:20221220T150000
DTEND;TZID=America/Detroit:20221220T160000
SUMMARY:Careers / Jobs:2023 Summer Internship Information Session
DESCRIPTION:Coding it Forward's summer fellowship programs\, the Civic Digital Fellowship and Civic Innovation Corps\, empower early-career technologists to innovate at the intersections of technology and public service inlocal\, state\, and federal governments.\n\nFellows work across software engineering\, data\, design\, and product management to deliver policy\, improve systems\, and strengthen products on behalf of the American people.\n\nJoin us at an information session to learn more about how you can useyour skills to make a difference! We'll share more about our programs andapplication process—plus\, you'll have a chance to hear first-hand fromour alumni about their experiences. \n\n***Please register for the event at the following link: https://cif23.com/rsvp. You will not receive an invitation to the Webinar without filling out this form.***
UID:101371-21801279@events.umich.edu
URL:https://events.umich.edu/event/101371
CLASS:PUBLIC
STATUS:CONFIRMED
CATEGORIES:
LOCATION:
CONTACT:
END:VEVENT
BEGIN:VEVENT
DTSTAMP:20230104T123032
DTSTART;TZID=America/Detroit:20221220T150000
DTEND;TZID=America/Detroit:20221220T160000
SUMMARY:Careers / Jobs:Resume Lab
DESCRIPTION:*RSVP through Handshake is required to attend. Not in Handshake? Click \"Join Event\" here: https://app.joinhandshake.com/edu/events/1182559/\n\nJust getting started building a resume? Have a draft but not sure how to make it better? Want to learn about resources available to revise your resume? Wherever you’re at Resume Lab is a great next step for you.\n\nGet real-time\, personalized support in a small group setting by checking out the Resume Lab. \n\nWe will discuss and educate you on…\n- Design and format\n- Writing a great bullet point\n- Targeting your resume for specific internships/jobs\n\nIf you're a Graduate Student\, please make a 1:1 appointment instead of attending the Lab because this event is designed for undergraduates.\n\nRecent Grads: If you are an alumnus\, you will not be able to access the link due the University’s policy of discontinuing alumni Zoom accounts 30 days after graduation. Please contact careercenter@umich.edu with the subject line “Recent Grad Help” to receive a recording or to be set up with a 1:1. Include the name of the workshop/event inyour email.
UID:101413-21801317@events.umich.edu
URL:https://events.umich.edu/event/101413
CLASS:PUBLIC
STATUS:CONFIRMED
CATEGORIES:
LOCATION:https://umich.zoom.us/j/2745640240
CONTACT:
END:VEVENT
BEGIN:VEVENT
DTSTAMP:20220920T091150
DTSTART;TZID=America/Detroit:20221220T183000
DTEND;TZID=America/Detroit:20221220T193000
SUMMARY:Well-being:Music Meditation
DESCRIPTION:Join us for a musical evening of sacred sound meditation. In addition to this musical experience\, we offer discussion about relevant topics related to yoga lifestyle\, mental resilience\, mantra meditation\, and many more!\n\nWe have so many exciting insights and events to share! We also have vegetarian snacks!\n\nWe meet every Tuesday 6:30-7:30 PM at East Quad Room 1507\n\nWe are open to the student populous and public! Hope to see you there!
UID:99072-21797538@events.umich.edu
URL:https://events.umich.edu/event/99072
CLASS:PUBLIC
STATUS:CONFIRMED
CATEGORIES:Concert,Discussion,In Person,Meal,Music,Student Org,Well-being
LOCATION:East Quadrangle - 1507
CONTACT:
END:VEVENT
END:VCALENDAR