BEGIN:VCALENDAR
VERSION:2.0
PRODID:-//UM//UM*Events//EN
CALSCALE:GREGORIAN
BEGIN:VTIMEZONE
TZID:America/Detroit
TZURL:http://tzurl.org/zoneinfo/America/Detroit
X-LIC-LOCATION:America/Detroit
BEGIN:DAYLIGHT
TZOFFSETFROM:-0500
TZOFFSETTO:-0400
TZNAME:EDT
DTSTART:20070311T020000
RRULE:FREQ=YEARLY;BYMONTH=3;BYDAY=2SU
END:DAYLIGHT
BEGIN:STANDARD
TZOFFSETFROM:-0400
TZOFFSETTO:-0500
TZNAME:EST
DTSTART:20071104T020000
RRULE:FREQ=YEARLY;BYMONTH=11;BYDAY=1SU
END:STANDARD
END:VTIMEZONE
BEGIN:VEVENT
DTSTAMP:20230324T120005
DTSTART;TZID=America/Detroit:20221221T000000
DTEND;TZID=America/Detroit:20221221T235959
SUMMARY:Community Service:Homework Help at The Children's Center
DESCRIPTION:The Homework Help program offers children assistance with their homework assignments. Children are encouraged to bring homework and are paired with a volunteer to assist them. This program is a critical service in helping children thrive. Volunteers give children the tools they need to be successful in school.Virtual and in-person volunteer opportunities are available. If you would like to volunteer\, please start the enrollment process by creating an account on the Children Center's Volunteer Site found HERE. After your account is created\, the Children's Center will reach out to you within 2 business days to answer any questions and discuss the next steps.In accordance with the CMS Vaccine Mandate\, those volunteering in-person at the Children’s Center are required to be fully vaccinated and must provide proof of full vaccination upon request.
UID:93885-21788040@events.umich.edu
URL:https://events.umich.edu/event/93885
CLASS:PUBLIC
STATUS:CONFIRMED
CATEGORIES:
LOCATION:The Children&#039;s Center 
CONTACT:
END:VEVENT
BEGIN:VEVENT
DTSTAMP:20220809T173135
DTSTART;TZID=America/Detroit:20221221T080000
DTEND;TZID=America/Detroit:20221221T190000
SUMMARY:Exhibition:Places & Spaces: Mapping Science and A Brief History of Information Graphics
DESCRIPTION:The Places & Spaces: Mapping Science exhibit introduces science mapping techniques and data visualization to the general public and to experts across diverse disciplines\, and we hope inspires cross-disciplinary discussion on how to best track and communicate scholarly activity and scientific progress on a global scale. The exhibit includes a macroscope which showcases interactive visualizations that demonstrate the impact of different data cleaning\, analysis\, and visualization algorithms.\n\nThe Places & Spaces exhibit is curated by the Cyberinfrastructure for Network Science Center at Indiana University. The complementary exhibit\, A Brief History of Information Graphics\, was created by Clark Library staff to provide an historical context to the Places and Spaces exhibit.
UID:96720-21800849@events.umich.edu
URL:https://events.umich.edu/event/96720
CLASS:PUBLIC
STATUS:CONFIRMED
CATEGORIES:Maps,Library,Free
LOCATION:Hatcher Graduate Library - Clark Library, 2nd Floor
CONTACT:
END:VEVENT
BEGIN:VEVENT
DTSTAMP:20221219T181506
DTSTART;TZID=America/Detroit:20221221T110000
DTEND;TZID=America/Detroit:20221221T170000
SUMMARY:Exhibition:LaToya Ruby Frazier: Flint Is Family In Three Acts
DESCRIPTION:Organized by Stamps Gallery in partnership with the Eli and Edythe Broad Art Museum\, Michigan State University\, and the Flint Institute of Arts.\n“No matter how dark a situation may be\, a camera can extract the light and turn a negative into a positive. In creating Flint Is Family In Three Acts\, I see the role of photographs as empowering and enacting visible change: in Act I\, the photographs bear witness and reclaim history\; in Act II\, the photographs reveal a hidden narrative\; in Act III\, the photographs are a catalyst for obtaining resources.”\n—LaToya Ruby Frazier \nFlint Is Family In Three Acts is a multi-part exhibition by renowned artist LaToya Ruby Frazier. For five years\, Frazier researched and collaborated with two poets\, activists\, mothers and residents of Flint\, Michigan\, Shea Cobb and Amber Hasan\, as they endured one of the most devastating ecological crises in U.S. history. Resulting in a monumental oeuvre of photographs\, video\, and texts Frazier developed Flint Is Family In Three Acts (2016-2021) to advocate for access to clean and safe drinking water for all regardless of race\, religion and economic status. The series records stories of surviving and thriving\, especially within racialized and marginalized neighborhoods in Flint\, to ensure that they remained visible in national debates concerning environmental justice. Drawing inspiration from the urgency in Frazier’s work\, which also sheds light on building equitable and inclusive futures\, Stamps Gallery\, part of the Penny W. Stamps School of Art &amp\; Design at the University of Michigan\, initiated a partnership with the Flint Institute of Arts and the Eli and Edythe Broad Art Museum at Michigan State University to bring this important exhibition together for the first time in Michigan. As co-presenters of this landmark exhibition\, our goal is to offer a creative pedagogical platform that reaches broader audiences across Michigan and beyond - Flint is Family: Act I (2016-2017) will take place at the Flint Institute of Arts\, Act II (2017-2019) at the Eli and Edythe Broad Art Museum\, and Act III (2019) at Stamps Gallery. The exhibition served as a catalyst to bring three disparate institutions together to deepen our understanding of individual and institutional agency in advocating for equity\, transparency and environmental justice in our respective communities\, while also highlighting the role of the artist as an agent for enacting positive social change.\n\nCurated by Srimoyee Mitra\, Tracee Glab\, and Steven L. Bridges with the assistance of Jennifer Junkermeier-Khan\, Rachel Winter\, and Rachael Holstege.
UID:95590-21790427@events.umich.edu
URL:https://events.umich.edu/event/95590
CLASS:PUBLIC
STATUS:CONFIRMED
CATEGORIES:Art
LOCATION:Off Campus Location
CONTACT:
END:VEVENT
BEGIN:VEVENT
DTSTAMP:20220901T181526
DTSTART;TZID=America/Detroit:20221221T110000
DTEND;TZID=America/Detroit:20221221T170000
SUMMARY:Exhibition:Respond/ Resist/ Rethink 2022
DESCRIPTION:Water is the lifeblood of civilizations\, the center of cities\, the foundation of creation stories and the connective tissue of culture. Water is a life force\, without it humanity will cease to exist. Fresh water is necessary for the survival of all living organisms on Earth. The human body is made up of over 60% water and humanity cannot survive without it. Water is a vital life source that holds (and generates) power. It is nourishing\, quenching\, and refreshing but has also been commodified\, polluted\, and politicized. From the Standing Rock\, Leech Lake and Fond du Lac reservations\, to the straits of Mackinac where oil pipelines threaten important waterways\, to the polluted Mississippi River and drying Colorado River Basin\, to water shutoffs in Detroit\, PFAs in Ann Arbor\, and the Flint Water crisis (to name just a few)\, ensuring access to clean water (and the sustainable ecologies it supports) is an ongoing struggle that requires intersectional\, intergenerational\, and collective knowledge sharing\, discussion and action to protect. \nCall for Work\nStamps Gallery invites the undergraduate and graduate students of Penny W. Stamps School of Art &amp\; Design to participate in a poster and video exhibition that responds to the prompt: The care\, sustainability\, and access to free and clean water is arguably one of the most urgent and challenging issues of our time “What can you do to spread awareness of water issues and conservation measures?”\nEligible students: submit your work using our online form by Friday\, August 19\, 2022 →\nEligibility\nMust be a currently enrolled undergraduate or graduate major in the Penny W. Stamps School of Art &amp\; Design.Eligible students may submit one work (poster or video).Time-based work must be submitted as a YouTube/Vimeo link.Timeline\nThe deadline for submitting work is Friday\, August 19\, 2022\, 5pm\, EST. A selection committee composed of students\, faculty\, and Stamps Gallery staff will review submitted work in the weeks following the deadline.Students whose works are selected will be notified by September 2\, 2022. The exhibition will take place from September 15\, 2022 - January 14\, 2023.Why posters &amp\; videos? \nPosters can function as catalysts for change. For generations\, posters have served as an effective tool to circulate ideas and messages to the public. Visually striking\, and designed to draw attention from passersby\, posters can be conversation starters\, invite people to pause\, reflect\, spread the word\, get involved. They have been a powerful medium for many conceptual artists and graphic designers to create powerful images and messages that could respond to immediate issues and be distributed widely. Similarly\, video art was another exciting immediate medium for conceptual artists in the 1960s and 1970s as the technology became more accessible to the masses. Video art provided an alternative to the dominant broadcasting corporations. Artists made experimental films\, recorded performances\, and first-person narratives that were then exhibited and screened at galleries\, museums\, and events. Posters and videos continue to be salient features in the 21st Century to respond to urgent issues and questions facing the present moment. \nContext\nStamps Gallery is an incubator and lab for contemporary artists and designers to explore ideas and projects that catalyze positive social change. As the pandemic grips our nation it has exposed the social\, political\, and economic disparities that have disproportionately impacted Black\, Indigenous\, and People of Color. The world witnessed in horror and sadness the meaningless loss of African American lives with George Floyd\, Breonna Taylor\, Ahmaud Arbery\, among many others that we will never know. National and international outcries brought people together from multiple races\, genders\, and generations - on social media and in the streets - to publicly demand an end to police brutality\, structural racism\, and emphasizing that Black Lives Matter. What is the role of a university gallery in this time of crisis? How can we foster an inclusive platform for the students in our community to voice their ideas and foster a community based on equality\, belonging\, respect? We launched Respond/ Resist/ Rethink in the fall 2020 to kick off the fall semester with student work paired with the work of leading artists exhibiting at the Gallery.
UID:96386-21792434@events.umich.edu
URL:https://events.umich.edu/event/96386
CLASS:PUBLIC
STATUS:CONFIRMED
CATEGORIES:Art
LOCATION:Off Campus Location
CONTACT:
END:VEVENT
BEGIN:VEVENT
DTSTAMP:20230105T063034
DTSTART;TZID=America/Detroit:20221221T120000
DTEND;TZID=America/Detroit:20221221T130000
SUMMARY:Careers / Jobs:Human Rights Are Non-negotiable!
DESCRIPTION:Human Rights Are Non-negotiable!\n\nAdvance your education andthe lives of others with Binghamton University's Master of Science in Human Rights!\n\nJoin us for a virtual information session and turn your passions into a career!\nRSVP today: https://www.binghamton.edu/ccpa/prospective-student-hub/mshr.html\n\nThe Master of Science in Human Rights (MSHR) is the first of its kind in the State University of New York (SUNY) system and helps students develop competencies in community organizing and socialjustice leadership.\n\nhttps://www.binghamton.edu/human-development/human-rights/\n\nWith a human rights degree from Binghamton\, you'll be able tocollaborate with community members and professionals at the local\, regional\, national and international level to promote social change.\n\nAre you ready to make a difference in your community? Applications for fall are still open! No GRE required.\n\nI’m here to help.\nSuzy Lee\,\nMaster ofScience in Human Rights\nAssistant Professor and Founding Director\n(607)777-9222\nsuzylee@binghamton.edu
UID:101797-21802361@events.umich.edu
URL:https://events.umich.edu/event/101797
CLASS:PUBLIC
STATUS:CONFIRMED
CATEGORIES:
LOCATION:
CONTACT:
END:VEVENT
BEGIN:VEVENT
DTSTAMP:20240116T141648
DTSTART;TZID=America/Detroit:20221221T120000
DTEND;TZID=America/Detroit:20221221T123000
SUMMARY:Well-being:North Campus Mindfulness Meditation Drop-In (Online)
DESCRIPTION:Take a moment to create some space to breathe and invite a sense of calm into your day. This is a guided mindfulness meditation drop-in session. No experience necessary. Free and open to all. \n\nEmail dmitryb@umich.edu to sign up for the mailing list. You will receive a weekly reminder with the zoom link. Also\, you can add the sessions to your Google Calendar: https://tinyurl.com/y3kbkwd6
UID:40967-21807356@events.umich.edu
URL:https://events.umich.edu/event/40967
CLASS:PUBLIC
STATUS:CONFIRMED
CATEGORIES:Well-being,Virtual,Stress Reduction,North campus,Mindfulness\, Meditation,Mindfulness,Meditation,Health & Wellness
LOCATION:Off Campus Location
CONTACT:
END:VEVENT
BEGIN:VEVENT
DTSTAMP:20221215T162044
DTSTART;TZID=America/Detroit:20221221T121500
DTEND;TZID=America/Detroit:20221221T124500
SUMMARY:Well-being:VIRTUAL | CEW+INSPIRE MIDWEEK MINDFULNESS GUIDED SITS
DESCRIPTION:RSVP here: https://umich.zoom.us/meeting/register/tJAqceGoqDosHN15uxUlzCWWN6qwjNjSQpj_ \n\nJoin us in community to practice mindfulness meditation\, a life-enhancing skill that can be learned with consistent practice. This formal\, largely-guided\, practice utilizes evidence-based cognitive training that bolsters one's ability to handle stress\, poor mood\, and threat.  This weekly mindfulness practice encourages present moment\, non-judgemental\, awareness – noticing where your focus and attention are and continually inviting attention to current mind and body sensations in a kind and compassionate way.\n\nMindfulness meditation opens the possibility to pause\, gain perspective\, attend to the present\, and respond accordingly. In our ever-changing\, complex\, and challenging world\, mindfulness can provide grounding. As one form of contemplative practice\, mindfulness meditation can offer a framework to support a more skillful approach to navigating the demands of being human and support practitioners to build resilience and take compassionate action.\n\nWhether you are new to mindfulness meditation or are an experienced practitioner\, each session is designed to offer guidance and support to assist you. All are welcome to attend weekly or drop-in as their schedule allows.
UID:96537-21797239@events.umich.edu
URL:https://events.umich.edu/event/96537
CLASS:PUBLIC
STATUS:CONFIRMED
CATEGORIES:Work-life Balance,Mindfulness,Virtual,Well-being,Wellness,Zoom,women's health
LOCATION:Off Campus Location
CONTACT:
END:VEVENT
BEGIN:VEVENT
DTSTAMP:20231115T093502
DTSTART;TZID=America/Detroit:20221221T123000
DTEND;TZID=America/Detroit:20221221T130000
SUMMARY:Tours:Coral Reef Tank Visit
DESCRIPTION:Wednesdays and Fridays at 12:30 p.m.\nNo tours December 27 or 29\n\nJoin Professor Jim Bardwell for a peek behind the scenes at his large coral reef tank featuring many species of coral\, anemone\, and fish. Explore reef ecology and\, if you're lucky\, get a glimpse of a reclusive octopus!  30 minutes\, limit 12 people. This program takes place in the research area of the Biological Sciences Building and is appropriate for ages 6 and up.\n\nSpace is available first come\, first served. Sign up and meet at the Welcome desk.
UID:101987-21803141@events.umich.edu
URL:https://events.umich.edu/event/101987
CLASS:PUBLIC
STATUS:CONFIRMED
CATEGORIES:Family,Free,Museum,Natural Sciences,Ecology
LOCATION:Museum of Natural History
CONTACT:
END:VEVENT
BEGIN:VEVENT
DTSTAMP:20230105T123105
DTSTART;TZID=America/Detroit:20221221T131500
DTEND;TZID=America/Detroit:20221221T140000
SUMMARY:Careers / Jobs:Early Career Office Hours - Takeover Series!
DESCRIPTION:The intent of early career office hours is that any student can informally engage with Trane Technologies to ask questions about career opportunities.\n\nWe’re introducing a Takeover series and inviting all of our past\, current and future interns to connect with YOU!\n\nDuring December\, our past\, current and future interns will share stories about their experiences\, and their personal career path with Trane Technologies\, please come prepared with any questions.\n\n\nWe hope to see you on Wednesday\, December 21st @ 1:15pm EST!
UID:102325-21803854@events.umich.edu
URL:https://events.umich.edu/event/102325
CLASS:PUBLIC
STATUS:CONFIRMED
CATEGORIES:
LOCATION:
CONTACT:
END:VEVENT
BEGIN:VEVENT
DTSTAMP:20230105T123050
DTSTART;TZID=America/Detroit:20221221T140000
DTEND;TZID=America/Detroit:20221221T150000
SUMMARY:Careers / Jobs: Internship Lab
DESCRIPTION:*RSVP for this program by clicking \"Join Event\". Viewing this event outside of Handshake? Click here: \nhttps://app.joinhandshake.com/edu/events/1189934/\n\nAre you ready to start searching for a great internship? Do you have a few ideas\, but you’re not sure where to get started? Let's talk about search strategy!!\n\nGet real-time\, personalized supportby checking out the virtual Internship Lab. You’ll be guided by one of our Career Coaches who has designed this experience to provide you strategies\, tools\, and motivation to get on the right track with searching for internships.\n\nChat with folks from the University Career Center to explore Handshake\, the University Career Alumni Network (UCAN) and to learn about other tools you can use to build a great job/internship search strategy.\n\n**If you're not sure what you're interested in\, consider making an \"Exploring Major/Career Option\" appointment to get started clarifying yourinterests with a career coach in a 1-on-1 setting.\n\nRecent Grads: If you are an alumni\, you will not be able to access the link due the University’s policy of discontinuing alumni Zoom accounts 30 days after graduation. Please contact careercenter@umich.edu with the subject line “Recent Grad Help” to receive either a recording of the session or to be set up with a 1:1. Include the name of the workshop/event in your email.
UID:101730-21802294@events.umich.edu
URL:https://events.umich.edu/event/101730
CLASS:PUBLIC
STATUS:CONFIRMED
CATEGORIES:
LOCATION:
CONTACT:
END:VEVENT
END:VCALENDAR