BEGIN:VCALENDAR
VERSION:2.0
PRODID:-//UM//UM*Events//EN
CALSCALE:GREGORIAN
BEGIN:VTIMEZONE
TZID:America/Detroit
TZURL:http://tzurl.org/zoneinfo/America/Detroit
X-LIC-LOCATION:America/Detroit
BEGIN:DAYLIGHT
TZOFFSETFROM:-0500
TZOFFSETTO:-0400
TZNAME:EDT
DTSTART:20070311T020000
RRULE:FREQ=YEARLY;BYMONTH=3;BYDAY=2SU
END:DAYLIGHT
BEGIN:STANDARD
TZOFFSETFROM:-0400
TZOFFSETTO:-0500
TZNAME:EST
DTSTART:20071104T020000
RRULE:FREQ=YEARLY;BYMONTH=11;BYDAY=1SU
END:STANDARD
END:VTIMEZONE
BEGIN:VEVENT
DTSTAMP:20230324T120005
DTSTART;TZID=America/Detroit:20230103T000000
DTEND;TZID=America/Detroit:20230103T235959
SUMMARY:Community Service:Homework Help at The Children's Center
DESCRIPTION:The Homework Help program offers children assistance with their homework assignments. Children are encouraged to bring homework and are paired with a volunteer to assist them. This program is a critical service in helping children thrive. Volunteers give children the tools they need to be successful in school.Virtual and in-person volunteer opportunities are available. If you would like to volunteer\, please start the enrollment process by creating an account on the Children Center's Volunteer Site found HERE. After your account is created\, the Children's Center will reach out to you within 2 business days to answer any questions and discuss the next steps.In accordance with the CMS Vaccine Mandate\, those volunteering in-person at the Children’s Center are required to be fully vaccinated and must provide proof of full vaccination upon request.
UID:93885-21788053@events.umich.edu
URL:https://events.umich.edu/event/93885
CLASS:PUBLIC
STATUS:CONFIRMED
CATEGORIES:
LOCATION:The Children&#039;s Center 
CONTACT:
END:VEVENT
BEGIN:VEVENT
DTSTAMP:20221208T153427
DTSTART;TZID=America/Detroit:20230103T080000
DTEND;TZID=America/Detroit:20230103T170000
SUMMARY:Exhibition:\"I have a crisis for you\": Women Artists of Ukraine Respond to War
DESCRIPTION:An exhibit curated by Grace Mahoney and Jessica Zychowicz\nFeaturing work by Kinder Album\, JT Blatty\, Oksana Briukhovetska (MFA\, Stamps School of Art and Design)\, Oksana Kazmina\, Sonya Hukaylo\, Svetlana Lavochkina\, Kateryna Lisovenko\, and Lyuba Yakimchuk.\n   \nIn February 2022\, the world witnessed the invasion of Ukraine and all-out war of aggression by the Russian Federation. Since this time\, massive casualties\, human rights violations\, and an unprecedented refugee crisis have ensued. Women artists of Ukraine have responded. They paint on found materials in refugee housing\, illustrate in bomb shelters\, photograph their shelled cities wearing press passes and bulletproof jackets. They document\, create\, and share. They post their daily journals and images on social media. They perform at the Grammy Awards. They know their message is powerful\, and the amplification of their voices is critical for victory in a very real battle for survival.\n   \nCurated by Grace Mahoney (U-M Slavic Languages and Literatures) and Jessica Zychowicz\, Ph.D. (Fulbright Ukraine and U-M Alumna)\, \"'I have a crisis for you': Women Artists of Ukraine Respond to War\" showcases work created by women artists in response to Russia’s war in Ukraine. The involved artists are painters\, photographers\, filmmakers\, poets\, translators\, and textile artists. Many of the works exhibited demonstrate a continuity of engagement by the artists with the topic of war\, especially since 2014 when the people of Ukraine gathered in a “Revolution of Dignity” against attempts by the Russian Federation to control the country’s independence resulting in Russia’s annexation of the Crimean Peninsula and backing of pro-Russian separatists in Ukraine’s east.\n   \nThe featured artists have also been selected because of their prominent interest and exploration of issues relating to gender in their works. The title for this exhibit comes from a poem of the same name by Lyuba Yakimchuk:\n“— our love’s gone missing\, I explain to a friend/ it vanished in one of the wars/ we waged in our kitchen/ — change the word ‘war’ to ‘crisis\,’ he suggests/ because a crisis is something everyone has from time to time.”\n   \nLike in Yakimchuk’s poem\, many of these artists approach the war with personal perspectives. They intertwine\, juxtapose\, and disrupt experiences of war with the intimacies of personal relationships\, the workings interior lives\, and perceptions of social roles. The featured artworks and documents engage a range of subjects from women volunteering as combatants to the processes of grieving and reflect ongoing discourses in Ukrainian feminist scholarship.
UID:101972-21803007@events.umich.edu
URL:https://events.umich.edu/event/101972
CLASS:PUBLIC
STATUS:CONFIRMED
CATEGORIES:Visual Arts,Art,International,European
LOCATION:Weiser Hall - International Institute Gallery, 547 Weiser Hall
CONTACT:
END:VEVENT
BEGIN:VEVENT
DTSTAMP:20230102T204934
DTSTART;TZID=America/Detroit:20230103T080000
DTEND;TZID=America/Detroit:20230103T180000
SUMMARY:Social / Informal Gathering:Stop by the TSC for snacks and swag!
DESCRIPTION:Drop in to the Transfer Student Center anytime during the day to meet the Ambassadors\, get your questions answered\, and grab some snacks\, coffee\, hot chocolate and amazing Transfer Student Center swag.
UID:102677-21804971@events.umich.edu
URL:https://events.umich.edu/event/102677
CLASS:PUBLIC
STATUS:CONFIRMED
CATEGORIES:Transfer Students
LOCATION:LSA Building - 1180
CONTACT:
END:VEVENT
BEGIN:VEVENT
DTSTAMP:20230118T063139
DTSTART;TZID=America/Detroit:20230103T090000
DTEND;TZID=America/Detroit:20230103T140000
SUMMARY:Careers / Jobs:Walk in Career Fair
DESCRIPTION:We understand that the application and hiring process for federal jobs can be lengthy. However\, thanks to the Direct-Hire Authority\, this process can be expedited! If you are interested in jumpstarting your federal career with the Federal Bureau of Prisons as a Correctional Officer\, we recommend you apply in person at USP Thomson upcoming Direct Hire Event!\n\nUSP Thomson is hiring\n\n$11\,000 HIRING BONUS for new officers!\n\n25% Retention Incentive (after one year)\n\nCorrectional Officer Accelerated Promotion\n\nBenefits Include:\n\n•Competitive Pay\n\n•Federal Law Enforcement Retirement Pension\n\n•Matching 401k\n\n•Full Health Benefits\n\n•Vacation and Sick Leave
UID:102539-21804208@events.umich.edu
URL:https://events.umich.edu/event/102539
CLASS:PUBLIC
STATUS:CONFIRMED
CATEGORIES:
LOCATION:1 One Mile Road, Thomson, Illinois 61285, United States
CONTACT:
END:VEVENT
BEGIN:VEVENT
DTSTAMP:20230330T195723
DTSTART;TZID=America/Detroit:20230103T100000
DTEND;TZID=America/Detroit:20230103T110000
SUMMARY:Workshop / Seminar:NERS Winter 2023 Colloquia Series
DESCRIPTION:For more details\, follow the \"NERS Colloquia\" link to the right. **\n\nFriday\, January 6\, 2023\nCANCELED \n\nFriday\, January 13\, 2023\nElectron Accelerators\nSpeaker: Bruce Carlsten\, Los Alamos National Laboratory\n\nFriday\, January 20\, 2023\nFacility for Rare Isotope Beams and Applications of Nuclear Engineering\nSpeaker: Takuji Kanemura\, Michigan State University\n\nFriday\, January 27\, 2023\nTopic TBA\nSpeaker: Ling Jian Meng\, University of Illinois Urbana-Champaign\n\nFriday\, February 3\, 2023\nWhy and How Lightbridge is Developing Advanced Nuclear Fuel\nSpeaker: Seth Grae\, Lightbridge Corporation\n\nFriday\, February 10\, 2023\nModern Multiscale Kinetic Algorithms for High-Fidelity ICF Capsule and Hohlraum Simulations\nSpeaker: Luis Chacon\, Los Alamos National Laboratory\n\nFriday\, February 17\, 2023\nHigh-temperature Gas-cooled Reactor Status and Challenges\nSpeaker: Gerhard Strydom\, Idaho National Laboratory\n\nFriday\, March 10\, 2023\n2022 COP Conference Panel\nSpeaker: Anil Bansal\, University of Michigan\nPanel Discussion—The November 2022 COP (UN Climate Change) Conference\n\nFriday\, March 17\, 2023\nSpeaker: Peter Hotvedt\, UM\, NERS\nPanel Discussion—Student Social Media Presence at the 2022 IAEA Nuclear Power Ministerial Panel\n\nFriday\, March 24\, 2023\nFuel Design and Developments from a Vendor’s Perspective\nSpeaker: Jacki Stevens\, Framatome\n\nFriday\, March 31\, 2023\nDevelopment of Understandable Artificial Intelligence (UAI) Methods in Physical Sciences\nSpeaker: Professor Y Z\, NERS\, U-M\n\nFriday\, April 7\, 2023\nRichard K. Osborn Lecture\nSpeaker: Kathryn Huff\, US Assistant Secretary for Nuclear Energy\n\nFriday\, April 14\, 2023\nEthical Applications of AI in International Safeguards\nSpeaker: Chantell Murphy\, Y-12 National Security Complex
UID:100707-21804976@events.umich.edu
URL:https://events.umich.edu/event/100707
CLASS:PUBLIC
STATUS:CONFIRMED
CATEGORIES:Sustainability,Science,Nuclear Engineering and Radiological Sciences,Nuclear,Michigan Engineering,Mechanical Engineering,Environment,Engineering,Energy,Electrical Engineering and Computer Science
LOCATION:
CONTACT:
END:VEVENT
BEGIN:VEVENT
DTSTAMP:20221130T121113
DTSTART;TZID=America/Detroit:20230103T120000
DTEND;TZID=America/Detroit:20230103T133000
SUMMARY:Workshop / Seminar:Getting Started with Canvas
DESCRIPTION:ABOUT THIS WORKSHOP\nThis workshop provides a general overview for instructors who are new to Canvas. Participants will be provided with demos on how to begin setting up a Canvas course. There will also be an hands-on opportunity to set up a test course\, create a page\, make an assignment\, set up modules\, and publish the course.\n\nJanuary 3\, 2023 (Tuesday) 12:00pm\n\n-Course navigation menu\n-Modules/Pages/Files/Home Page\n-Canvas syllabus\n-Assignments intro\n-Publishing Content\n-Combining sections\n-Course templates\n-Canvas help guides\n\nLevel: Beginner\nTrainer: Angela Marocco
UID:101716-21802279@events.umich.edu
URL:https://events.umich.edu/event/101716
CLASS:PUBLIC
STATUS:CONFIRMED
CATEGORIES:Canvas,Faculty,information and technology,software,workshop,Training,technology,Teaching And Learning
LOCATION:1027 E. Huron Building
CONTACT:
END:VEVENT
BEGIN:VEVENT
DTSTAMP:20230103T122018
DTSTART;TZID=America/Detroit:20230103T130000
DTEND;TZID=America/Detroit:20230103T160000
SUMMARY:Workshop / Seminar:In-person Arabic Placement test_Jan 3\, 2023 (1pm-4pm)
DESCRIPTION:Welcome to the Arabic Placement TestAbout the testThe test is approximately two hours and a half in length\, and it is composed of three portions:a. The writing portion is completed on paper and it is worth a total of 100 points.b. The reading portion is completed on Canvas site\, and it is worth a total of 48 points.c. Right after finishing with the reading portion\, each student will have a follow-up interview with a proctor. The interviews last approximately 15 minutes and it is worth a total of 20 points.Important: The interview portion will be weighted most heavily as it will be used to validate performance on the other portions. The final result/score/rating will thus be based on the student’s performance on the interview above all. Rating of performance on the writing or reading portions is secondary.Students who receive 60% or above will be placed in Arabic 401 and thus placed out of the language requirement.\nWhere can I view my results?Placement results are posted within 7 business days after the test.You will not be notified of your score automatically. You may view your placements via: Wolverine Access > Student Business > Academic Records > View Placement Exam Results.\nImportant information about the test* Placements are valid for only one year. If you fail to register in the course that you are placed in\, you will be required to retake the test.* Retaking the placement test is only permitted after the placement results expire.* The test assesses students’ proficiency in Modern Standard Arabic (MSA)\, NOT colloquial Arabic.* If you speak an Arabic dialect but you do not know how to read or write or have little knowledge\, feel free to register in Arabic 101.* Students who know some Arabic because they came from an Arabic-speaking household or have studied Arabic before\, must take the Arabic proficiency test in order to determine their placement.* Students who have taken Arabic at other institutions and wish to continue their Arabic study at UM must take the placement test to determine their level. Credits for Arabic study undertaken at another institution prior to joining UM or in a summer program while attending UM\, transfer in as generic departmental credits and students must take the placement test to determine credit equivalencies to UM courses.* If you place in or beyond the 401 level\, you will have satisfied the LSA language requirement. * Students are encouraged to take a placement test as early as possible in their studies in order to determine the level they should enroll in\, or if they test out of the language requirement. This is extremely important to avoid delays in graduation and complications with placement.* Arabic 101\, 201\, 401\, 501 are offered ONLY in the Fall semester\, and Arabic 102\, 202\, 402\, 504 are ONLY offered in the Winter semester.* The Summer Language Institute (June & July) offers intensive Arabic 103 (the equivalent of Arabic 101 &102\, combined)\, Arabic 203 (the equivalent of Arabic 201 & 202\, combined)\, and Arabic 401 & 402.About the UM Arabic programUM’s Arabic curriculum is a dual register curriculum in which students learn to speak and understand either the Egyptian dialect or the Levantine dialect (the dialect of Jordan\, Syria\, Palestine and Lebanon) in addition to learning to read and write and understand formal Arabic (fuSHa). Students starting to learn Arabic\, if they have no background in Arabic\, can choose to take either dialect or can switch their dialect focus from one semester to the next. The dialect focus of each class section is indicated in the schedule of classes.\n\nIf you have questions regarding the placement test\, please contact the program director at\, mesarabicprogram@umich.edu.
UID:102624-21804861@events.umich.edu
URL:https://events.umich.edu/event/102624
CLASS:PUBLIC
STATUS:CONFIRMED
CATEGORIES:Sessions
LOCATION:MODERN LANGUAGES BUILDING (MLB) 2001 LSA Technology Services. Central Campus. 812 East Washington (Second Floor)
CONTACT:
END:VEVENT
BEGIN:VEVENT
DTSTAMP:20230103T121556
DTSTART;TZID=America/Detroit:20230103T130000
SUMMARY:Sporting Event:Women's Basketball vs Penn State
DESCRIPTION:Women's Basketball vs Penn State
UID:100853-21800437@events.umich.edu
URL:https://events.umich.edu/event/100853
CLASS:PUBLIC
STATUS:CONFIRMED
CATEGORIES:Athletics,Athletics - Women's Basketball
LOCATION:Crisler Arena
CONTACT:
END:VEVENT
BEGIN:VEVENT
DTSTAMP:20221130T121439
DTSTART;TZID=America/Detroit:20230103T150000
DTEND;TZID=America/Detroit:20230103T163000
SUMMARY:Workshop / Seminar:Setting Up Your Canvas Gradebook
DESCRIPTION:ABOUT THIS WORKSHOP\nThis workshop will guide participants on how to manage their Canvas Gradebook and Speedgrader throughout the term. This workshop will also cover how to finalize a Gradebook at the end of the term.\n\nJanuary 3\, 2023 (Tuesday) 3:00pm\n\n-Finalizing your gradebook\n-mporting grades into Wolverine Access\n-Using Speedgrader\n-Rubrics\n-Using the New Speedgrader’s Comment Library\n-New Submissions Reassignment Feature\n-Hiding Scores While Grading in New Quizzes\n\nLevel: Beginner\nTrainer: Nargas Oskui
UID:101718-21802281@events.umich.edu
URL:https://events.umich.edu/event/101718
CLASS:PUBLIC
STATUS:CONFIRMED
CATEGORIES:Canvas,Faculty,information and technology,Teaching And Learning,technology,Training,workshop
LOCATION:Off Campus Location
CONTACT:
END:VEVENT
BEGIN:VEVENT
DTSTAMP:20230118T183109
DTSTART;TZID=America/Detroit:20230103T160000
DTEND;TZID=America/Detroit:20230103T163000
SUMMARY:Careers / Jobs:Kick-Off ⚽ Q&A with University Recruiting
DESCRIPTION:Applications are now open for a 2023 adidas Summer Internship!! \n\nIf you have joined the Early Career Talent Acquisition Team over the past couple months\, then You Know The Score 🥅 to successfully navigate our application process 🥇 If you still have questions though\, get off the sidelines and join our Kick-Off ⚽ Q&A with University Recruitingsession\, where a recruiter will be available to answer questions. No appointment necessary\, just drop in. 
UID:102378-21803938@events.umich.edu
URL:https://events.umich.edu/event/102378
CLASS:PUBLIC
STATUS:CONFIRMED
CATEGORIES:
LOCATION:
CONTACT:
END:VEVENT
BEGIN:VEVENT
DTSTAMP:20221202T233341
DTSTART;TZID=America/Detroit:20230103T200000
SUMMARY:Performance:50 First Jokes
DESCRIPTION:The tradition that started more than a decade ago at the Bell House in Brooklyn\, and now is a much-anticipated event also in Los Angeles and other cities\, is coming back to Ann Arbor! Fifty of the area's up-and-coming and veteran comics come together to tell the first jokes they've written for the new year\, kicking off the 2023 comedy scene in the most righteous way possible! It's fast\, it's fresh\, and above all it's funny. It's also not going to break the bank\, so why not check out some Michigan comic voices you may not have known about?
UID:101692-21802230@events.umich.edu
URL:https://events.umich.edu/event/101692
CLASS:PUBLIC
STATUS:CONFIRMED
CATEGORIES:Mutotix,Comedy,Ark
LOCATION:Off Campus Location
CONTACT:
END:VEVENT
BEGIN:VEVENT
DTSTAMP:20230103T182022
DTSTART;TZID=America/Detroit:20230103T200000
DTEND;TZID=America/Detroit:20230103T210000
SUMMARY:Workshop / Seminar:FSL - Panhel Recruitment Meeting with Chapters + Advisors
DESCRIPTION:recruitment meeting
UID:102118-21803499@events.umich.edu
URL:https://events.umich.edu/event/102118
CLASS:PUBLIC
STATUS:CONFIRMED
CATEGORIES:Sessions
LOCATION:
CONTACT:
END:VEVENT
END:VCALENDAR