BEGIN:VCALENDAR
VERSION:2.0
PRODID:-//UM//UM*Events//EN
CALSCALE:GREGORIAN
BEGIN:VTIMEZONE
TZID:America/Detroit
TZURL:http://tzurl.org/zoneinfo/America/Detroit
X-LIC-LOCATION:America/Detroit
BEGIN:DAYLIGHT
TZOFFSETFROM:-0500
TZOFFSETTO:-0400
TZNAME:EDT
DTSTART:20070311T020000
RRULE:FREQ=YEARLY;BYMONTH=3;BYDAY=2SU
END:DAYLIGHT
BEGIN:STANDARD
TZOFFSETFROM:-0400
TZOFFSETTO:-0500
TZNAME:EST
DTSTART:20071104T020000
RRULE:FREQ=YEARLY;BYMONTH=11;BYDAY=1SU
END:STANDARD
END:VTIMEZONE
BEGIN:VEVENT
DTSTAMP:20230106T182030
DTSTART;TZID=America/Detroit:20230106T210000
DTEND;TZID=America/Detroit:20230107T000000
SUMMARY:Workshop / Seminar:UMix 1/6/2023
DESCRIPTION:Join us for our first UMix of the semester
UID:102975-21805635@events.umich.edu
URL:https://events.umich.edu/event/102975
CLASS:PUBLIC
STATUS:CONFIRMED
CATEGORIES:Sessions
LOCATION:Michigan Union
CONTACT:
END:VEVENT
BEGIN:VEVENT
DTSTAMP:20230107T180019
DTSTART;TZID=America/Detroit:20230107T000000
DTEND;TZID=America/Detroit:20230107T235959
SUMMARY:Other:1/6-1/8: Away Games Vs. University of Louisville
DESCRIPTION:Away Games Vs. Louisville from 1/6 to 1/8
UID:102720-21805035@events.umich.edu
URL:https://events.umich.edu/event/102720
CLASS:PUBLIC
STATUS:CONFIRMED
CATEGORIES:
LOCATION:Iceland Sports Complex
CONTACT:
END:VEVENT
BEGIN:VEVENT
DTSTAMP:20230324T120005
DTSTART;TZID=America/Detroit:20230107T000000
DTEND;TZID=America/Detroit:20230107T235959
SUMMARY:Community Service:Homework Help at The Children's Center
DESCRIPTION:The Homework Help program offers children assistance with their homework assignments. Children are encouraged to bring homework and are paired with a volunteer to assist them. This program is a critical service in helping children thrive. Volunteers give children the tools they need to be successful in school.Virtual and in-person volunteer opportunities are available. If you would like to volunteer\, please start the enrollment process by creating an account on the Children Center's Volunteer Site found HERE. After your account is created\, the Children's Center will reach out to you within 2 business days to answer any questions and discuss the next steps.In accordance with the CMS Vaccine Mandate\, those volunteering in-person at the Children’s Center are required to be fully vaccinated and must provide proof of full vaccination upon request.
UID:93885-21788057@events.umich.edu
URL:https://events.umich.edu/event/93885
CLASS:PUBLIC
STATUS:CONFIRMED
CATEGORIES:
LOCATION:The Children&#039;s Center 
CONTACT:
END:VEVENT
BEGIN:VEVENT
DTSTAMP:20230122T063115
DTSTART;TZID=America/Detroit:20230107T090000
DTEND;TZID=America/Detroit:20230107T140000
SUMMARY:Careers / Jobs:FCI Sandstone Hiring Event - National Recruitment Day
DESCRIPTION:The Federal Correctional Institution in Sandstone\, Minnesota is hosting a hiring event for National Recruitment Day on Saturday\, January 7\, 2023! Stop by the institution and speak with recruiters and HR staff about all of the amazing federal law enforcement opportunities available! \n\nPlease bring your resume for HR to review! \n\nFCI Sandstone Training Center\n2300 County Road 29\nSandstone\, MN 55072
UID:102675-21804969@events.umich.edu
URL:https://events.umich.edu/event/102675
CLASS:PUBLIC
STATUS:CONFIRMED
CATEGORIES:
LOCATION:Sandstone, Minnesota, United States
CONTACT:
END:VEVENT
BEGIN:VEVENT
DTSTAMP:20230122T063121
DTSTART;TZID=America/Detroit:20230107T090000
DTEND;TZID=America/Detroit:20230107T140000
SUMMARY:Careers / Jobs:FMC Carswell\, Federal Bureau of Prison Hiring Event
DESCRIPTION:The Federal Bureau of Prison is HIRING!!!! Saturday\, January 7\, 2023\, from 9:00am to 2:00pm FMC Carswell will be hosting a hiring event at 3250 Desert Storm Rd\, Fort Woth\, TX 76127.  Staff will be there toassist with any questions and assist with applying for the Federal Bureauof Prison. Open job vacancies can be found on WWW.USAJOBS.GOV.  for more information you can contact \nCRW-HumanResources-S@bop.gov.
UID:102831-21805206@events.umich.edu
URL:https://events.umich.edu/event/102831
CLASS:PUBLIC
STATUS:CONFIRMED
CATEGORIES:
LOCATION:3250 Desert Storm Rd, Fort Worth, Texas 76127, United States
CONTACT:
END:VEVENT
BEGIN:VEVENT
DTSTAMP:20230122T063056
DTSTART;TZID=America/Detroit:20230107T090000
DTEND;TZID=America/Detroit:20230107T120000
SUMMARY:Careers / Jobs:In-Person Teacher Job Fair
DESCRIPTION:We encourage you to come join us on 1/7 and learn how you can join our dynamic team! We are hosting an in-person hiring event for recentand anticipating graduates for job opportunities within the 22-23 & 23-24school years. If you are a licensed teacher\, eligible to obtain a license\, or a recent/upcoming graduate\, we want to meet you! Join us to speak with our recruiters\, learn about our opportunities\, and interview for any roles you may be interested in.\n\nRegister for an interview slot via this registration link: https://forms.gle/L2jDkECnvNMUEgFK8\n\nHow to prepare: Bring your resume and dress in business casual attire. Plan to spend 30minutes to 1 hour at the job fair. \n\nAbout us: Stafford County Public Schools is a dynamic\, goal-oriented learning community committed to preparing our students for success in further education\, work\, and life. Our mission is to inspire and empower all learners to thrive - and our teachersmake this mission possible! We offer our teachers a student loan repayment program\, a travel reimbursement\, as well as a plethora of mentorship and professional development opportunities.\n
UID:102342-21803896@events.umich.edu
URL:https://events.umich.edu/event/102342
CLASS:PUBLIC
STATUS:CONFIRMED
CATEGORIES:
LOCATION:100 Panther Drive, Fredericksburg, Virginia 22406, United States
CONTACT:
END:VEVENT
BEGIN:VEVENT
DTSTAMP:20230122T063111
DTSTART;TZID=America/Detroit:20230107T090000
DTEND;TZID=America/Detroit:20230107T140000
SUMMARY:Careers / Jobs:National Recruitment Day Informational Event - FCC Beaumont
DESCRIPTION:Come and see what exciting opportunities await you with a career at the Federal Bureau of Prisons! Human Resource staff and Recruiters will be on-site to answer questions and available to assist with the application process!\n\nWe are offering a 10% Recruitment and 25% Retention Bonus for had to fill positions to newly hired employees!  \n\nIf you cannot attend\, please send a copy of your resume to BMA-Recruiting-S@bop.gov.\n\nBenefits:\nLAW ENFORCEMENT RETIREMENT: • At age 50 with 20 years of service (or any age with 25 years of service)\, the formula is 1.7 % of the worker’s average “high three” salaries multiplied by 20 years of covered service.\n\nTHRIFT SAVINGS PLAN (TSP): • The first 3% of pay that youcontribute will be matched dollar-for-dollar\; the next 2% will be matched at 50 cents on the dollar.\n\nLIFE INSURANCE: • The Federal Governmentestablished the Federal Employees' Group Life Insurance (FEGLI)\, is the largest group life insurance program in the world\, covering over 4 million Federal employees and retirees\, as well as many of their family members.\n\nHEALTH INSURANCE: • One of the best things about being a current orretired fed is the Federal Employee Health Benefits Program. The government pays more than 70% of the total premium. Nobody can be turned down because of pre-existing conditions.\n\nOTHER BENEFITS: 13 days of Earned Sick Leave/yr\; 13-26 days Earned Annual Leave/yr\;  11 days Paid Federal Holidays\; and Subsidized Vanpool/Transit.\n
UID:102534-21804203@events.umich.edu
URL:https://events.umich.edu/event/102534
CLASS:PUBLIC
STATUS:CONFIRMED
CATEGORIES:
LOCATION:
CONTACT:
END:VEVENT
BEGIN:VEVENT
DTSTAMP:20230107T121606
DTSTART;TZID=America/Detroit:20230107T100000
SUMMARY:Sporting Event:Men's Track & Field vs Wolverine Invitational 
DESCRIPTION:Men's Track & Field vs Wolverine Invitational 
UID:102735-21805065@events.umich.edu
URL:https://events.umich.edu/event/102735
CLASS:PUBLIC
STATUS:CONFIRMED
CATEGORIES:Athletics
LOCATION:Off Campus Location
CONTACT:
END:VEVENT
BEGIN:VEVENT
DTSTAMP:20230107T121606
DTSTART;TZID=America/Detroit:20230107T100000
SUMMARY:Sporting Event:Women's Track & Field vs Wolverine Invitational
DESCRIPTION:Women's Track & Field vs Wolverine Invitational
UID:102734-21805064@events.umich.edu
URL:https://events.umich.edu/event/102734
CLASS:PUBLIC
STATUS:CONFIRMED
CATEGORIES:Athletics
LOCATION:Off Campus Location
CONTACT:
END:VEVENT
BEGIN:VEVENT
DTSTAMP:20221219T181506
DTSTART;TZID=America/Detroit:20230107T110000
DTEND;TZID=America/Detroit:20230107T170000
SUMMARY:Exhibition:LaToya Ruby Frazier: Flint Is Family In Three Acts
DESCRIPTION:Organized by Stamps Gallery in partnership with the Eli and Edythe Broad Art Museum\, Michigan State University\, and the Flint Institute of Arts.\n“No matter how dark a situation may be\, a camera can extract the light and turn a negative into a positive. In creating Flint Is Family In Three Acts\, I see the role of photographs as empowering and enacting visible change: in Act I\, the photographs bear witness and reclaim history\; in Act II\, the photographs reveal a hidden narrative\; in Act III\, the photographs are a catalyst for obtaining resources.”\n—LaToya Ruby Frazier \nFlint Is Family In Three Acts is a multi-part exhibition by renowned artist LaToya Ruby Frazier. For five years\, Frazier researched and collaborated with two poets\, activists\, mothers and residents of Flint\, Michigan\, Shea Cobb and Amber Hasan\, as they endured one of the most devastating ecological crises in U.S. history. Resulting in a monumental oeuvre of photographs\, video\, and texts Frazier developed Flint Is Family In Three Acts (2016-2021) to advocate for access to clean and safe drinking water for all regardless of race\, religion and economic status. The series records stories of surviving and thriving\, especially within racialized and marginalized neighborhoods in Flint\, to ensure that they remained visible in national debates concerning environmental justice. Drawing inspiration from the urgency in Frazier’s work\, which also sheds light on building equitable and inclusive futures\, Stamps Gallery\, part of the Penny W. Stamps School of Art &amp\; Design at the University of Michigan\, initiated a partnership with the Flint Institute of Arts and the Eli and Edythe Broad Art Museum at Michigan State University to bring this important exhibition together for the first time in Michigan. As co-presenters of this landmark exhibition\, our goal is to offer a creative pedagogical platform that reaches broader audiences across Michigan and beyond - Flint is Family: Act I (2016-2017) will take place at the Flint Institute of Arts\, Act II (2017-2019) at the Eli and Edythe Broad Art Museum\, and Act III (2019) at Stamps Gallery. The exhibition served as a catalyst to bring three disparate institutions together to deepen our understanding of individual and institutional agency in advocating for equity\, transparency and environmental justice in our respective communities\, while also highlighting the role of the artist as an agent for enacting positive social change.\n\nCurated by Srimoyee Mitra\, Tracee Glab\, and Steven L. Bridges with the assistance of Jennifer Junkermeier-Khan\, Rachel Winter\, and Rachael Holstege.
UID:95590-21790438@events.umich.edu
URL:https://events.umich.edu/event/95590
CLASS:PUBLIC
STATUS:CONFIRMED
CATEGORIES:Art
LOCATION:Off Campus Location
CONTACT:
END:VEVENT
BEGIN:VEVENT
DTSTAMP:20220901T181526
DTSTART;TZID=America/Detroit:20230107T110000
DTEND;TZID=America/Detroit:20230107T170000
SUMMARY:Exhibition:Respond/ Resist/ Rethink 2022
DESCRIPTION:Water is the lifeblood of civilizations\, the center of cities\, the foundation of creation stories and the connective tissue of culture. Water is a life force\, without it humanity will cease to exist. Fresh water is necessary for the survival of all living organisms on Earth. The human body is made up of over 60% water and humanity cannot survive without it. Water is a vital life source that holds (and generates) power. It is nourishing\, quenching\, and refreshing but has also been commodified\, polluted\, and politicized. From the Standing Rock\, Leech Lake and Fond du Lac reservations\, to the straits of Mackinac where oil pipelines threaten important waterways\, to the polluted Mississippi River and drying Colorado River Basin\, to water shutoffs in Detroit\, PFAs in Ann Arbor\, and the Flint Water crisis (to name just a few)\, ensuring access to clean water (and the sustainable ecologies it supports) is an ongoing struggle that requires intersectional\, intergenerational\, and collective knowledge sharing\, discussion and action to protect. \nCall for Work\nStamps Gallery invites the undergraduate and graduate students of Penny W. Stamps School of Art &amp\; Design to participate in a poster and video exhibition that responds to the prompt: The care\, sustainability\, and access to free and clean water is arguably one of the most urgent and challenging issues of our time “What can you do to spread awareness of water issues and conservation measures?”\nEligible students: submit your work using our online form by Friday\, August 19\, 2022 →\nEligibility\nMust be a currently enrolled undergraduate or graduate major in the Penny W. Stamps School of Art &amp\; Design.Eligible students may submit one work (poster or video).Time-based work must be submitted as a YouTube/Vimeo link.Timeline\nThe deadline for submitting work is Friday\, August 19\, 2022\, 5pm\, EST. A selection committee composed of students\, faculty\, and Stamps Gallery staff will review submitted work in the weeks following the deadline.Students whose works are selected will be notified by September 2\, 2022. The exhibition will take place from September 15\, 2022 - January 14\, 2023.Why posters &amp\; videos? \nPosters can function as catalysts for change. For generations\, posters have served as an effective tool to circulate ideas and messages to the public. Visually striking\, and designed to draw attention from passersby\, posters can be conversation starters\, invite people to pause\, reflect\, spread the word\, get involved. They have been a powerful medium for many conceptual artists and graphic designers to create powerful images and messages that could respond to immediate issues and be distributed widely. Similarly\, video art was another exciting immediate medium for conceptual artists in the 1960s and 1970s as the technology became more accessible to the masses. Video art provided an alternative to the dominant broadcasting corporations. Artists made experimental films\, recorded performances\, and first-person narratives that were then exhibited and screened at galleries\, museums\, and events. Posters and videos continue to be salient features in the 21st Century to respond to urgent issues and questions facing the present moment. \nContext\nStamps Gallery is an incubator and lab for contemporary artists and designers to explore ideas and projects that catalyze positive social change. As the pandemic grips our nation it has exposed the social\, political\, and economic disparities that have disproportionately impacted Black\, Indigenous\, and People of Color. The world witnessed in horror and sadness the meaningless loss of African American lives with George Floyd\, Breonna Taylor\, Ahmaud Arbery\, among many others that we will never know. National and international outcries brought people together from multiple races\, genders\, and generations - on social media and in the streets - to publicly demand an end to police brutality\, structural racism\, and emphasizing that Black Lives Matter. What is the role of a university gallery in this time of crisis? How can we foster an inclusive platform for the students in our community to voice their ideas and foster a community based on equality\, belonging\, respect? We launched Respond/ Resist/ Rethink in the fall 2020 to kick off the fall semester with student work paired with the work of leading artists exhibiting at the Gallery.
UID:96386-21792445@events.umich.edu
URL:https://events.umich.edu/event/96386
CLASS:PUBLIC
STATUS:CONFIRMED
CATEGORIES:Art
LOCATION:Off Campus Location
CONTACT:
END:VEVENT
BEGIN:VEVENT
DTSTAMP:20230301T090303
DTSTART;TZID=America/Detroit:20230107T110000
DTEND;TZID=America/Detroit:20230107T112000
SUMMARY:Presentation:Science Forum Demos
DESCRIPTION:Join us in the Science Forum for a 15-20 minute engaging science demonstration that will help you see the world in a whole new way. Demonstrations are free and appropriate for visitors ages 5 and above. Schedule subject to change.\n\nCow Eye Dissection\nHave you ever wondered how we see? To take a closer look at the organ that helps us see the world\, join UMMNH staff in dissecting a cow’s eye. How is it similar to and different from our eyes\, and those of other animals? Learn the parts of the eye and how they work together. While exploring the lens\, we’ll also talk about why some of us need glasses and how we can keep our eyes and our vision healthy.
UID:102009-21803226@events.umich.edu
URL:https://events.umich.edu/event/102009
CLASS:PUBLIC
STATUS:CONFIRMED
CATEGORIES:Science,Natural Sciences,Museum,Free,Family,Children
LOCATION:Museum of Natural History
CONTACT:
END:VEVENT
BEGIN:VEVENT
DTSTAMP:20240111T092357
DTSTART;TZID=America/Detroit:20230107T113000
DTEND;TZID=America/Detroit:20230107T121500
SUMMARY:Presentation:Sea Monsters
DESCRIPTION:The film follows a curious and adventurous Dolichorhynchops – familiarly known as a ‘dolly’ – as she travels through the most dangerous oceans in history. Along the way\, she encounters long-necked plesiosaurs\, giant turtles\, enormous fish\, fierce sharks\, and the most dangerous sea monster of all\, the mosasaur.\n\nThe state-of-the-art Planetarium & Dome Theater at the U-M Museum of Natural History transports visitors beyond distant stars and back in time from the comfort of reclining seats. Tickets $8. Tickets are available on the day of the show at the Museum Store.\n\nThe planetarium is operating at half capacity to maximize distancing between viewers.
UID:93123-21803244@events.umich.edu
URL:https://events.umich.edu/event/93123
CLASS:PUBLIC
STATUS:CONFIRMED
CATEGORIES:natural history museum,Natural Sciences,Science
LOCATION:Museum of Natural History
CONTACT:
END:VEVENT
BEGIN:VEVENT
DTSTAMP:20230109T090307
DTSTART;TZID=America/Detroit:20230107T120000
DTEND;TZID=America/Detroit:20230107T190000
SUMMARY:Other:2023 Leadership Crisis Challenge Registration
DESCRIPTION:Registration for the 2023 Leadership Crisis Challenge (LCC) opens on Wednesday\, January 4 at 12 PM!\n\nLCC is a premier action-based learning experience that immerses participants in a simulated business and media crisis\, powered by the Sanger Leadership Center at Michigan Ross. Students play the part of executives responding to the issues as they unfold\, while leveraging the expertise of communication coaches\, faculty\, and a board of directors made up of esteemed U-M alumni\, to prepare for a press conference attended by real members of the media.\n\nThis year's LCC will be held on January 26-27 and is open to ALL U-M students. There will be two levels of competition—graduate and undergraduate. Two undergraduate teams and two graduate teams will receive a scholarship\, split among participants. In addition to the competition\, there will be educational workshops\, a networking session\, and access to the Big House field.\n\nDon't miss out on this amazing\, one-of-a-kind opportunity! Apply by January 22.
UID:101901-21802892@events.umich.edu
URL:https://events.umich.edu/event/101901
CLASS:PUBLIC
STATUS:CONFIRMED
CATEGORIES:Career,Food,Free,Graduate,Graduate Students,Leadership,Networking,Undergraduate,Undergraduate Students,Business
LOCATION:Off Campus Location
CONTACT:
END:VEVENT
BEGIN:VEVENT
DTSTAMP:20230122T063115
DTSTART;TZID=America/Detroit:20230107T120000
DTEND;TZID=America/Detroit:20230107T133000
SUMMARY:Careers / Jobs:Virtual National Recruitment Day
DESCRIPTION:Come join the Federal Bureau of Prisons to discover how you can make a difference in the hearts and minds of those in our care. We offera variety of occupations ranging from Custody to Medical Professionals\, Teachers\, Social Workers\, Cosmetologists\, and much more. Discover how you can make a difference at one of our 121 locations\, nationwide.
UID:102676-21804970@events.umich.edu
URL:https://events.umich.edu/event/102676
CLASS:PUBLIC
STATUS:CONFIRMED
CATEGORIES:
LOCATION:
CONTACT:
END:VEVENT
BEGIN:VEVENT
DTSTAMP:20230107T121607
DTSTART;TZID=America/Detroit:20230107T130000
SUMMARY:Sporting Event:Men's Gymnastics vs #14 Greenville\, #15 Simpson
DESCRIPTION:Men's Gymnastics vs #14 Greenville\, #15 Simpson
UID:100873-21800462@events.umich.edu
URL:https://events.umich.edu/event/100873
CLASS:PUBLIC
STATUS:CONFIRMED
CATEGORIES:Athletics,Athletics - Men's Gymnastics
LOCATION:Off Campus Location
CONTACT:
END:VEVENT
BEGIN:VEVENT
DTSTAMP:20221216T141513
DTSTART;TZID=America/Detroit:20230107T130000
DTEND;TZID=America/Detroit:20230107T170000
SUMMARY:Exhibition:Taubman College of Architecture and Urban Planning Liberty Research Annex and Gallery
DESCRIPTION:Students and faculty collaborate on architecture research in the 19\,000-square-foot Liberty Research Annex. Located in the heart of downtown Ann Arbor\, Michigan\, this open-plan facility provides space for students and faculty to collaboratively take on full-scale material assemblies\, installations\, and group projects. Students and faculty engage in architectural research through the process of researching and making. Additionally\, the facility contains a 3\,000-square-foot exhibition gallery\, which is open to the public and contributes to the vibrant downtown Ann Arbor arts scene. Public visitors are encouraged to interact with exhibits and learn about the latest in architectural research at Taubman College. U-M's Taubman College of Architecture and Urban Planning Liberty Research Annex and Gallery is located at 305 W. Liberty Rd.\, Ann Arbor\, MI\, 48103.
UID:102331-21803862@events.umich.edu
URL:https://events.umich.edu/event/102331
CLASS:PUBLIC
STATUS:CONFIRMED
CATEGORIES:Community,buildings,art and design,art,Architecture\, Urban Planning,architecture,Community Engagement,design,Visual Arts,Taubmancollege,taubman college,research through making,Research,Exhibition,exhibit opening
LOCATION:305 W Liberty - Liberty Research Annex and Gallery
CONTACT:
END:VEVENT
BEGIN:VEVENT
DTSTAMP:20230309T110228
DTSTART;TZID=America/Detroit:20230107T133000
DTEND;TZID=America/Detroit:20230107T141500
SUMMARY:Presentation:Mars: One Thousand One
DESCRIPTION:Mars: One Thousand One tells a story of what humans might face with the first manned journey to Mars. Reporter Miles O'Brien is reporting live from his Space Headquarters TV Studio in New York while events unfold for the crew on their 1001-day long mission. You will witness firsthand their brave attempts to put human footprints on Mars and return safely to Earth. This journey is made possible by the biggest engineering feat ever and loaded with scientific experiments.\n\nThe state-of-the-art Planetarium & Dome Theater at the U-M Museum of Natural History transports visitors beyond distant stars and back in time from the comfort of reclining seats. Tickets $8. Tickets are available on the day of the show at the Museum Store.\n\nThe planetarium is operating at half capacity to maximize distancing between viewers.
UID:100073-21803284@events.umich.edu
URL:https://events.umich.edu/event/100073
CLASS:PUBLIC
STATUS:CONFIRMED
CATEGORIES:Family,natural history museum,Natural Sciences,Astronomy
LOCATION:Museum of Natural History
CONTACT:
END:VEVENT
BEGIN:VEVENT
DTSTAMP:20221212T110315
DTSTART;TZID=America/Detroit:20230107T140000
DTEND;TZID=America/Detroit:20230107T150000
SUMMARY:Other:Read and Look | One Minute Greek Myths
DESCRIPTION:In this special program just for our younger visitors we’ll read a kid-friendly book and explore a related part of the exhibit. This is a great way to discover the ancient world and connect our daily lives to the lives of families in the past. The program is a great first trip to the museum! The Book this month will be “One Minute Greek Myths.” Best for ages 4-7.\n\nMasks are optional inside the Kelsey. For more information about our COVID procedures and how to prepare for your visit\, please visit our website\, https://myumi.ch/9PG1P.\n\nThis event is free and open to all visitors. If you are a person with a disability who requires an accommodation to attend\, please contact the education office (734-647-4167) at least two weeks in advance. We ask for advance notice as some accommodations may require more time for the university to arrange.
UID:102013-21803298@events.umich.edu
URL:https://events.umich.edu/event/102013
CLASS:PUBLIC
STATUS:CONFIRMED
CATEGORIES:Free,Storytelling,Museum,Children,Archaeology
LOCATION:Kelsey Museum of Archaeology
CONTACT:
END:VEVENT
BEGIN:VEVENT
DTSTAMP:20230503T125746
DTSTART;TZID=America/Detroit:20230107T150000
DTEND;TZID=America/Detroit:20230107T152000
SUMMARY:Presentation:Science Forum Discovery Demos
DESCRIPTION:Join us in the Science Forum for a 15-20 minute engaging science demonstration that will help you see the world in a whole new way. Demonstrations are free and appropriate for visitors ages 5 and above. Schedule subject to change.\n\nOut of the Water and Back Again: A Whale’s Tale\n\nTake a journey through deep time as we explore a story that has taken millions of years to unfold\, and then examine a brand new discovery! Where did life begin? How did the first four-footed land animals emerge? And why do fossil whales have feet? Participants examine the museum’s fossil whales and related species as they learn about the evolutionary processes responsible for the diversity of life on Earth.
UID:102010-21803236@events.umich.edu
URL:https://events.umich.edu/event/102010
CLASS:PUBLIC
STATUS:CONFIRMED
CATEGORIES:Family,Science,Natural Sciences,Museum,Free,Children
LOCATION:Museum of Natural History
CONTACT:
END:VEVENT
BEGIN:VEVENT
DTSTAMP:20230122T123113
DTSTART;TZID=America/Detroit:20230107T160000
DTEND;TZID=America/Detroit:20230107T173000
SUMMARY:Careers / Jobs:WIFLE-HSI Career Fair
DESCRIPTION:Women in Federal Law Enforcement (WIFLE)-HSI Career Fair\nU.S.Immigration and Customs Enforcement\nHomeland Security Investigator\n\nHSI Criminal Investigator\nSaturday\, January 7\, 2023\nStarting at 4:00 PM EST\nEntry level announcement for the HSI Criminal Investigator\, GS-1811-5/7\, will open January 10.\n\nBE PREPARED!\n\nJoin this information session on Saturday\, January 7.
UID:102559-21804240@events.umich.edu
URL:https://events.umich.edu/event/102559
CLASS:PUBLIC
STATUS:CONFIRMED
CATEGORIES:
LOCATION:
CONTACT:
END:VEVENT
BEGIN:VEVENT
DTSTAMP:20230107T181549
DTSTART;TZID=America/Detroit:20230107T163000
SUMMARY:Sporting Event:Women's Basketball vs Iowa
DESCRIPTION:Women's Basketball vs Iowa
UID:101082-21800778@events.umich.edu
URL:https://events.umich.edu/event/101082
CLASS:PUBLIC
STATUS:CONFIRMED
CATEGORIES:Athletics,Athletics - Women's Basketball
LOCATION:Crisler Arena
CONTACT:
END:VEVENT
BEGIN:VEVENT
DTSTAMP:20221216T061630
DTSTART;TZID=America/Detroit:20230107T190000
DTEND;TZID=America/Detroit:20230107T220000
SUMMARY:Other:Colleen Beucher\, voice
DESCRIPTION:Voice student Colleen Beucher performs. 
UID:102076-21803421@events.umich.edu
URL:https://events.umich.edu/event/102076
CLASS:PUBLIC
STATUS:CONFIRMED
CATEGORIES:
LOCATION:Off Campus Location
CONTACT:
END:VEVENT
BEGIN:VEVENT
DTSTAMP:20230103T121558
DTSTART;TZID=America/Detroit:20230107T190000
SUMMARY:Sporting Event:Men's Track & Field vs Wolverine Invitational 
DESCRIPTION:Men's Track & Field vs Wolverine Invitational 
UID:102382-21803942@events.umich.edu
URL:https://events.umich.edu/event/102382
CLASS:PUBLIC
STATUS:CONFIRMED
CATEGORIES:Athletics
LOCATION:Off Campus Location
CONTACT:
END:VEVENT
BEGIN:VEVENT
DTSTAMP:20230103T121557
DTSTART;TZID=America/Detroit:20230107T190000
SUMMARY:Sporting Event:Women's Track & Field vs Wolverine Invitational
DESCRIPTION:Women's Track & Field vs Wolverine Invitational
UID:101865-21802576@events.umich.edu
URL:https://events.umich.edu/event/101865
CLASS:PUBLIC
STATUS:CONFIRMED
CATEGORIES:Athletics
LOCATION:Off Campus Location
CONTACT:
END:VEVENT
BEGIN:VEVENT
DTSTAMP:20221216T061630
DTSTART;TZID=America/Detroit:20230107T200000
DTEND;TZID=America/Detroit:20230107T213000
SUMMARY:Other:Christopher Sies\, percussion
DESCRIPTION:Percussion student Christopher Sies performs. 
UID:102067-21803412@events.umich.edu
URL:https://events.umich.edu/event/102067
CLASS:PUBLIC
STATUS:CONFIRMED
CATEGORIES:
LOCATION:Off Campus Location
CONTACT:
END:VEVENT
BEGIN:VEVENT
DTSTAMP:20221027T210125
DTSTART;TZID=America/Detroit:20230107T200000
SUMMARY:Performance:Yellow Room Gang
DESCRIPTION:The Yellow Room is the \"brilliantly yellow\" living room of Tamulevich's house on Ann Arbor's Old West Side\, where gang members meet monthly for musical brainstorming and mutual critique. Tonight’s show features six Michigan songwriters: contemporary country-folk road warrior Annie Capps\, Irish-American chanteuse Kitty Donohoe\, four-time Detroit Music Award winner Jan Krist\, Michael Hough and David Tamulevich of the \"Music to Cure What Ails You\" duo Mustard's Retreat\, and southeastern Michigan folk veteran Matt Watroba. Come and be a fly on the wall as the exchange of creative ideas flows freely! \"To have any one of these songwriters perform at Trinity House is a real treat\,\" says promoter Bill Keith. \"To have them perform together is unbelievable.\" The Yellow Room Gang has been around for 15 years now\, with all the members coming up with new music all the while.
UID:100686-21800237@events.umich.edu
URL:https://events.umich.edu/event/100686
CLASS:PUBLIC
STATUS:CONFIRMED
CATEGORIES:Music,Mutotix,Concert,Ark
LOCATION:Off Campus Location
CONTACT:
END:VEVENT
END:VCALENDAR