BEGIN:VCALENDAR
VERSION:2.0
PRODID:-//UM//UM*Events//EN
CALSCALE:GREGORIAN
BEGIN:VTIMEZONE
TZID:America/Detroit
TZURL:http://tzurl.org/zoneinfo/America/Detroit
X-LIC-LOCATION:America/Detroit
BEGIN:DAYLIGHT
TZOFFSETFROM:-0500
TZOFFSETTO:-0400
TZNAME:EDT
DTSTART:20070311T020000
RRULE:FREQ=YEARLY;BYMONTH=3;BYDAY=2SU
END:DAYLIGHT
BEGIN:STANDARD
TZOFFSETFROM:-0400
TZOFFSETTO:-0500
TZNAME:EST
DTSTART:20071104T020000
RRULE:FREQ=YEARLY;BYMONTH=11;BYDAY=1SU
END:STANDARD
END:VTIMEZONE
BEGIN:VEVENT
DTSTAMP:20230107T180019
DTSTART;TZID=America/Detroit:20230108T000000
DTEND;TZID=America/Detroit:20230108T000000
SUMMARY:Other:1/6-1/8: Away Games Vs. University of Louisville
DESCRIPTION:Away Games Vs. Louisville from 1/6 to 1/8
UID:102720-21805036@events.umich.edu
URL:https://events.umich.edu/event/102720
CLASS:PUBLIC
STATUS:CONFIRMED
CATEGORIES:
LOCATION:Iceland Sports Complex
CONTACT:
END:VEVENT
BEGIN:VEVENT
DTSTAMP:20230324T120005
DTSTART;TZID=America/Detroit:20230108T000000
DTEND;TZID=America/Detroit:20230108T235959
SUMMARY:Community Service:Homework Help at The Children's Center
DESCRIPTION:The Homework Help program offers children assistance with their homework assignments. Children are encouraged to bring homework and are paired with a volunteer to assist them. This program is a critical service in helping children thrive. Volunteers give children the tools they need to be successful in school.Virtual and in-person volunteer opportunities are available. If you would like to volunteer\, please start the enrollment process by creating an account on the Children Center's Volunteer Site found HERE. After your account is created\, the Children's Center will reach out to you within 2 business days to answer any questions and discuss the next steps.In accordance with the CMS Vaccine Mandate\, those volunteering in-person at the Children’s Center are required to be fully vaccinated and must provide proof of full vaccination upon request.
UID:93885-21788058@events.umich.edu
URL:https://events.umich.edu/event/93885
CLASS:PUBLIC
STATUS:CONFIRMED
CATEGORIES:
LOCATION:The Children&#039;s Center 
CONTACT:
END:VEVENT
BEGIN:VEVENT
DTSTAMP:20220930T132239
DTSTART;TZID=America/Detroit:20230108T080000
DTEND;TZID=America/Detroit:20230108T230000
SUMMARY:Class / Instruction:Semester in Detroit Application Open!
DESCRIPTION:Semester in Detroit uses the MCompass system for applications. All applications are accepted on a rolling basis\, which means that the earlier you apply\, the better chance you have of getting in. \n\nApplication Due Dates:\n1/31/23 for the spring 2023 program\n\nProgram Eligibility:\nThe Semester in Detroit spring/summer and fall programs accept undergraduate students from all schools and departments at the University of Michigan-Ann Arbor. All students\, from First years to Seniors or Super Seniors are eligible to apply.\n\nStudents from Grand Valley State University\, UM-Dearborn\, and UM-Flint are eligible to apply for fall programs only. The same application eligibility applies to GVSU\, Dearborn\, and Flint students (all departments\, all class standings). \n\nApplicants should have a strong interest in the city of Detroit and in questioning dominant narratives\; engaging with challenging new perspectives on contemporary issues\; and building community with one another\, SiD faculty and staff\, and community members at internship sites and beyond.\n\nQuestions?\nEmail semesterindetroit@umich.edu.
UID:99614-21798435@events.umich.edu
URL:https://events.umich.edu/event/99614
CLASS:PUBLIC
STATUS:CONFIRMED
CATEGORIES:Activism,Advocacy,civil rights,Community Engagement,Community Organzing,Community-based Learning,detroit,Diversity Equity and Inclusion,Education
LOCATION:
CONTACT:
END:VEVENT
BEGIN:VEVENT
DTSTAMP:20220818T100608
DTSTART;TZID=America/Detroit:20230108T100000
DTEND;TZID=America/Detroit:20230108T120000
SUMMARY:Ceremony / Service:Sunday Celebration
DESCRIPTION:The school year is about to begin! No matter your background\, join us in kicking off this season with new expectations and hope.\n\nJoin us at 10AM every Sunday to experience church in a fresh way as we worship and seek God together. We meet at the Transformation Center (1001 E. Huron St.) which is located across the street from the Rackham Auditorium and the Power Center.\n\nCurious? Check out our website at https://annarbor.hmcc.net/ to learn more about who we are and what we value.
UID:96832-21793829@events.umich.edu
URL:https://events.umich.edu/event/96832
CLASS:PUBLIC
STATUS:CONFIRMED
CATEGORIES:christian,christianity,church,faith,religious,spiritual,welcome week
LOCATION:Off Campus Location
CONTACT:
END:VEVENT
BEGIN:VEVENT
DTSTAMP:20230301T090303
DTSTART;TZID=America/Detroit:20230108T110000
DTEND;TZID=America/Detroit:20230108T112000
SUMMARY:Presentation:Science Forum Demos
DESCRIPTION:Join us in the Science Forum for a 15-20 minute engaging science demonstration that will help you see the world in a whole new way. Demonstrations are free and appropriate for visitors ages 5 and above. Schedule subject to change.\n\nCow Eye Dissection\nHave you ever wondered how we see? To take a closer look at the organ that helps us see the world\, join UMMNH staff in dissecting a cow’s eye. How is it similar to and different from our eyes\, and those of other animals? Learn the parts of the eye and how they work together. While exploring the lens\, we’ll also talk about why some of us need glasses and how we can keep our eyes and our vision healthy.
UID:102009-21803222@events.umich.edu
URL:https://events.umich.edu/event/102009
CLASS:PUBLIC
STATUS:CONFIRMED
CATEGORIES:Children,Family,Free,Museum,Natural Sciences,Science
LOCATION:Museum of Natural History
CONTACT:
END:VEVENT
BEGIN:VEVENT
DTSTAMP:20240111T092357
DTSTART;TZID=America/Detroit:20230108T113000
DTEND;TZID=America/Detroit:20230108T121500
SUMMARY:Presentation:Sea Monsters
DESCRIPTION:The film follows a curious and adventurous Dolichorhynchops – familiarly known as a ‘dolly’ – as she travels through the most dangerous oceans in history. Along the way\, she encounters long-necked plesiosaurs\, giant turtles\, enormous fish\, fierce sharks\, and the most dangerous sea monster of all\, the mosasaur.\n\nThe state-of-the-art Planetarium & Dome Theater at the U-M Museum of Natural History transports visitors beyond distant stars and back in time from the comfort of reclining seats. Tickets $8. Tickets are available on the day of the show at the Museum Store.\n\nThe planetarium is operating at half capacity to maximize distancing between viewers.
UID:93123-21803248@events.umich.edu
URL:https://events.umich.edu/event/93123
CLASS:PUBLIC
STATUS:CONFIRMED
CATEGORIES:natural history museum,Natural Sciences,Science
LOCATION:Museum of Natural History
CONTACT:
END:VEVENT
BEGIN:VEVENT
DTSTAMP:20230109T090307
DTSTART;TZID=America/Detroit:20230108T120000
DTEND;TZID=America/Detroit:20230108T190000
SUMMARY:Other:2023 Leadership Crisis Challenge Registration
DESCRIPTION:Registration for the 2023 Leadership Crisis Challenge (LCC) opens on Wednesday\, January 4 at 12 PM!\n\nLCC is a premier action-based learning experience that immerses participants in a simulated business and media crisis\, powered by the Sanger Leadership Center at Michigan Ross. Students play the part of executives responding to the issues as they unfold\, while leveraging the expertise of communication coaches\, faculty\, and a board of directors made up of esteemed U-M alumni\, to prepare for a press conference attended by real members of the media.\n\nThis year's LCC will be held on January 26-27 and is open to ALL U-M students. There will be two levels of competition—graduate and undergraduate. Two undergraduate teams and two graduate teams will receive a scholarship\, split among participants. In addition to the competition\, there will be educational workshops\, a networking session\, and access to the Big House field.\n\nDon't miss out on this amazing\, one-of-a-kind opportunity! Apply by January 22.
UID:101901-21802893@events.umich.edu
URL:https://events.umich.edu/event/101901
CLASS:PUBLIC
STATUS:CONFIRMED
CATEGORIES:Business,Career,Food,Free,Graduate,Graduate Students,Leadership,Networking,Undergraduate,Undergraduate Students
LOCATION:Off Campus Location
CONTACT:
END:VEVENT
BEGIN:VEVENT
DTSTAMP:20230108T120014
DTSTART;TZID=America/Detroit:20230108T130000
DTEND;TZID=America/Detroit:20230108T150000
SUMMARY:Social / Informal Gathering:Star Wars Lore Talks: Book Club
DESCRIPTION:Come join some fellow Star Wars fans and dive into the lore and stories from some of the amazing Star Wars books and novels. Reading books beforehand is not necessary!
UID:102630-21804867@events.umich.edu
URL:https://events.umich.edu/event/102630
CLASS:PUBLIC
STATUS:CONFIRMED
CATEGORIES:
LOCATION:Mason Hall
CONTACT:
END:VEVENT
BEGIN:VEVENT
DTSTAMP:20230309T110228
DTSTART;TZID=America/Detroit:20230108T133000
DTEND;TZID=America/Detroit:20230108T141500
SUMMARY:Presentation:Mars: One Thousand One
DESCRIPTION:Mars: One Thousand One tells a story of what humans might face with the first manned journey to Mars. Reporter Miles O'Brien is reporting live from his Space Headquarters TV Studio in New York while events unfold for the crew on their 1001-day long mission. You will witness firsthand their brave attempts to put human footprints on Mars and return safely to Earth. This journey is made possible by the biggest engineering feat ever and loaded with scientific experiments.\n\nThe state-of-the-art Planetarium & Dome Theater at the U-M Museum of Natural History transports visitors beyond distant stars and back in time from the comfort of reclining seats. Tickets $8. Tickets are available on the day of the show at the Museum Store.\n\nThe planetarium is operating at half capacity to maximize distancing between viewers.
UID:100073-21803288@events.umich.edu
URL:https://events.umich.edu/event/100073
CLASS:PUBLIC
STATUS:CONFIRMED
CATEGORIES:Astronomy,Family,natural history museum,Natural Sciences
LOCATION:Museum of Natural History
CONTACT:
END:VEVENT
BEGIN:VEVENT
DTSTAMP:20230503T125746
DTSTART;TZID=America/Detroit:20230108T150000
DTEND;TZID=America/Detroit:20230108T152000
SUMMARY:Presentation:Science Forum Discovery Demos
DESCRIPTION:Join us in the Science Forum for a 15-20 minute engaging science demonstration that will help you see the world in a whole new way. Demonstrations are free and appropriate for visitors ages 5 and above. Schedule subject to change.\n\nOut of the Water and Back Again: A Whale’s Tale\n\nTake a journey through deep time as we explore a story that has taken millions of years to unfold\, and then examine a brand new discovery! Where did life begin? How did the first four-footed land animals emerge? And why do fossil whales have feet? Participants examine the museum’s fossil whales and related species as they learn about the evolutionary processes responsible for the diversity of life on Earth.
UID:102010-21803232@events.umich.edu
URL:https://events.umich.edu/event/102010
CLASS:PUBLIC
STATUS:CONFIRMED
CATEGORIES:Children,Family,Free,Museum,Natural Sciences,Science
LOCATION:Museum of Natural History
CONTACT:
END:VEVENT
BEGIN:VEVENT
DTSTAMP:20220805T181515
DTSTART;TZID=America/Detroit:20230108T160000
SUMMARY:Performance:James Kibbie: The Complete Organ Works of J.S. Bach Program 10
DESCRIPTION:4:00 pm\n3:40 pm: Introduction to the program\n\nLivestreamed (real time only)\n\nJames Kibbie performs the 281 extant organ works of Johann Sebastian Bach in 18 concerts. An informal introduction to the music to be performed precedes each program. Additional information is available on the Bach Series website (http://www-personal.umich.edu/~jkibbie/kibbie-bach.html). \n\nDonations may be made to the James Kibbie Endowed Scholarship Fund or at the Donations page https://leadersandbest.umich.edu/find/#!/give/basket/fund/570523.\n\nProgram\nhttp://smtd.umich.edu/wp-content/uploads/2022/08/Program-10.pdf
UID:96582-21792908@events.umich.edu
URL:https://events.umich.edu/event/96582
CLASS:PUBLIC
STATUS:CONFIRMED
CATEGORIES:Free,Music
LOCATION:Earl V. Moore Building - Blanche Anderson Moore Hall
CONTACT:
END:VEVENT
BEGIN:VEVENT
DTSTAMP:20221216T061630
DTSTART;TZID=America/Detroit:20230108T160000
DTEND;TZID=America/Detroit:20230108T173000
SUMMARY:Other:James Kibbie: The Complete Organ Works of J.S. Bach Program 10
DESCRIPTION:3:40 pm: Introduction to the program\nLivestreamed (real time only)\nJames Kibbie performs the 281 extant organ works of Johann Sebastian Bach in 18 concerts. An informal introduction to the music to be performed precedes each program. Additional information is available on the Bach Series website. \nDonations may be made to the James Kibbie Endowed Scholarship Fund or at the Donations page.
UID:102068-21803413@events.umich.edu
URL:https://events.umich.edu/event/102068
CLASS:PUBLIC
STATUS:CONFIRMED
CATEGORIES:
LOCATION:Off Campus Location
CONTACT:
END:VEVENT
BEGIN:VEVENT
DTSTAMP:20230108T120015
DTSTART;TZID=America/Detroit:20230108T160000
DTEND;TZID=America/Detroit:20230108T180000
SUMMARY:Other:University of Michigan Women’s Ice Hockey at Belle Tire Senior Women
DESCRIPTION:Away at Dearborn Ice Skating Center
UID:102652-21804905@events.umich.edu
URL:https://events.umich.edu/event/102652
CLASS:PUBLIC
STATUS:CONFIRMED
CATEGORIES:
LOCATION:Dearborn Ice Skating Center
CONTACT:
END:VEVENT
BEGIN:VEVENT
DTSTAMP:20230103T105924
DTSTART;TZID=America/Detroit:20230108T170000
DTEND;TZID=America/Detroit:20230108T190000
SUMMARY:Social / Informal Gathering:Soul Food Sunday
DESCRIPTION:Come hang out with the Trotter Multicultural Center staff this coming Sunday for some good food\, good music\, and good vibes!
UID:102680-21804975@events.umich.edu
URL:https://events.umich.edu/event/102680
CLASS:PUBLIC
STATUS:CONFIRMED
CATEGORIES:Culture,Dance,Food,Meal,Multicultural,Music,Social,Transfer Students,Trotter Multicultural Center,Undergraduate
LOCATION:Trotter Multicultural Center - Sankofa Lounge
CONTACT:
END:VEVENT
BEGIN:VEVENT
DTSTAMP:20230123T183059
DTSTART;TZID=America/Detroit:20230108T203000
DTEND;TZID=America/Detroit:20230108T213000
SUMMARY:Careers / Jobs:2023 Summer Internship Information Session
DESCRIPTION:Coding it Forward's summer fellowship programs\, the Civic Digital Fellowship and Civic Innovation Corps\, empower early-career technologists to innovate at the intersections of technology and public service inlocal\, state\, and federal governments.\n\nFellows work across software engineering\, data\, design\, and product management to deliver policy\, improve systems\, and strengthen products on behalf of the American people.\n\nJoin us at an information session to learn more about how you can use your skills to make a difference! We'll share more about our programs and application process—plus\, you'll have a chance to hear first-hand from our alumni about their experiences.\n\n***Please register using the following link: https://cif23.com/rsvp. You will not receive the webinar link without filling out this form.***
UID:101721-21802285@events.umich.edu
URL:https://events.umich.edu/event/101721
CLASS:PUBLIC
STATUS:CONFIRMED
CATEGORIES:
LOCATION:
CONTACT:
END:VEVENT
END:VCALENDAR