BEGIN:VCALENDAR
VERSION:2.0
PRODID:-//UM//UM*Events//EN
CALSCALE:GREGORIAN
BEGIN:VTIMEZONE
TZID:America/Detroit
TZURL:http://tzurl.org/zoneinfo/America/Detroit
X-LIC-LOCATION:America/Detroit
BEGIN:DAYLIGHT
TZOFFSETFROM:-0500
TZOFFSETTO:-0400
TZNAME:EDT
DTSTART:20070311T020000
RRULE:FREQ=YEARLY;BYMONTH=3;BYDAY=2SU
END:DAYLIGHT
BEGIN:STANDARD
TZOFFSETFROM:-0400
TZOFFSETTO:-0500
TZNAME:EST
DTSTART:20071104T020000
RRULE:FREQ=YEARLY;BYMONTH=11;BYDAY=1SU
END:STANDARD
END:VTIMEZONE
BEGIN:VEVENT
DTSTAMP:20230412T120004
DTSTART;TZID=America/Detroit:20230115T000000
DTEND;TZID=America/Detroit:20230115T235959
SUMMARY:Workshop / Seminar:Academy of Adventist Scholars Bible Study
DESCRIPTION:Academy of Adventist ScholarsFollowing the legacy of university scholars throughout Christian history\, we as Seventh-day Adventist university students join in the pursuit of an intelligent faith and depth of understanding of the Word of God to bring the same purpose and excellence to our faith as we bring to our academic careers. This 1-hour weekly “lunch and learn” will focus in-depth on scripture questions and doctrines. Led by church leaders and knowledgeable Bible students\, this midday study is perfect for the lunch hour\, beginning promptly at 12p and ending at 12:50p. Bring your own lunch\, journal\, and Bible. 
UID:99696-21805377@events.umich.edu
URL:https://events.umich.edu/event/99696
CLASS:PUBLIC
STATUS:CONFIRMED
CATEGORIES:
LOCATION:Palmer Commons
CONTACT:
END:VEVENT
BEGIN:VEVENT
DTSTAMP:20230412T120005
DTSTART;TZID=America/Detroit:20230115T000000
DTEND;TZID=America/Detroit:20230115T235959
SUMMARY:Workshop / Seminar:Academy of Adventist Scholars Bible Study
DESCRIPTION:Academy of Adventist ScholarsFollowing the legacy of university scholars throughout Christian history\, we as Seventh-day Adventist university students join in the pursuit of an intelligent faith and depth of understanding of the Word of God to bring the same purpose and excellence to our faith as we bring to our academic careers. This 1-hour weekly “lunch and learn” will focus in-depth on scripture questions and doctrines. Led by church leaders and knowledgeable Bible students\, this midday study is perfect for the lunch hour\, beginning promptly at 12p and ending at 12:50p. Bring your own lunch\, journal\, and Bible. 
UID:102927-21805470@events.umich.edu
URL:https://events.umich.edu/event/102927
CLASS:PUBLIC
STATUS:CONFIRMED
CATEGORIES:
LOCATION:Palmer Commons
CONTACT:
END:VEVENT
BEGIN:VEVENT
DTSTAMP:20230116T180023
DTSTART;TZID=America/Detroit:20230115T000000
DTEND;TZID=America/Detroit:20230115T235959
SUMMARY:Other:Away Games Vs. Loyola Marymount University 1/12-1/16
DESCRIPTION:Away Games VS. Loyola Marymount University 1/12-1/16
UID:103030-21805730@events.umich.edu
URL:https://events.umich.edu/event/103030
CLASS:PUBLIC
STATUS:CONFIRMED
CATEGORIES:
LOCATION:The Skating Edge Ice Arena
CONTACT:
END:VEVENT
BEGIN:VEVENT
DTSTAMP:20230324T120005
DTSTART;TZID=America/Detroit:20230115T000000
DTEND;TZID=America/Detroit:20230115T235959
SUMMARY:Community Service:Homework Help at The Children's Center
DESCRIPTION:The Homework Help program offers children assistance with their homework assignments. Children are encouraged to bring homework and are paired with a volunteer to assist them. This program is a critical service in helping children thrive. Volunteers give children the tools they need to be successful in school.Virtual and in-person volunteer opportunities are available. If you would like to volunteer\, please start the enrollment process by creating an account on the Children Center's Volunteer Site found HERE. After your account is created\, the Children's Center will reach out to you within 2 business days to answer any questions and discuss the next steps.In accordance with the CMS Vaccine Mandate\, those volunteering in-person at the Children’s Center are required to be fully vaccinated and must provide proof of full vaccination upon request.
UID:93885-21788065@events.umich.edu
URL:https://events.umich.edu/event/93885
CLASS:PUBLIC
STATUS:CONFIRMED
CATEGORIES:
LOCATION:The Children&#039;s Center 
CONTACT:
END:VEVENT
BEGIN:VEVENT
DTSTAMP:20230115T120023
DTSTART;TZID=America/Detroit:20230115T000000
DTEND;TZID=America/Detroit:20230115T235959
SUMMARY:Other:Wolverine classic
DESCRIPTION:Water Polo Tournament
UID:103061-21805825@events.umich.edu
URL:https://events.umich.edu/event/103061
CLASS:PUBLIC
STATUS:CONFIRMED
CATEGORIES:
LOCATION:skyline high school
CONTACT:
END:VEVENT
BEGIN:VEVENT
DTSTAMP:20220930T132239
DTSTART;TZID=America/Detroit:20230115T080000
DTEND;TZID=America/Detroit:20230115T230000
SUMMARY:Class / Instruction:Semester in Detroit Application Open!
DESCRIPTION:Semester in Detroit uses the MCompass system for applications. All applications are accepted on a rolling basis\, which means that the earlier you apply\, the better chance you have of getting in. \n\nApplication Due Dates:\n1/31/23 for the spring 2023 program\n\nProgram Eligibility:\nThe Semester in Detroit spring/summer and fall programs accept undergraduate students from all schools and departments at the University of Michigan-Ann Arbor. All students\, from First years to Seniors or Super Seniors are eligible to apply.\n\nStudents from Grand Valley State University\, UM-Dearborn\, and UM-Flint are eligible to apply for fall programs only. The same application eligibility applies to GVSU\, Dearborn\, and Flint students (all departments\, all class standings). \n\nApplicants should have a strong interest in the city of Detroit and in questioning dominant narratives\; engaging with challenging new perspectives on contemporary issues\; and building community with one another\, SiD faculty and staff\, and community members at internship sites and beyond.\n\nQuestions?\nEmail semesterindetroit@umich.edu.
UID:99614-21798436@events.umich.edu
URL:https://events.umich.edu/event/99614
CLASS:PUBLIC
STATUS:CONFIRMED
CATEGORIES:Activism,Advocacy,civil rights,Community Engagement,Community Organzing,Community-based Learning,detroit,Diversity Equity and Inclusion,Education
LOCATION:
CONTACT:
END:VEVENT
BEGIN:VEVENT
DTSTAMP:20230111T121558
DTSTART;TZID=America/Detroit:20230115T090000
SUMMARY:Sporting Event:Women's Tennis vs Michigan Invitational
DESCRIPTION:Women's Tennis vs Michigan Invitational
UID:102738-21805068@events.umich.edu
URL:https://events.umich.edu/event/102738
CLASS:PUBLIC
STATUS:CONFIRMED
CATEGORIES:Athletics,Athletics - Women's Tennis
LOCATION:Varsity Tennis Bldg
CONTACT:
END:VEVENT
BEGIN:VEVENT
DTSTAMP:20220818T100608
DTSTART;TZID=America/Detroit:20230115T100000
DTEND;TZID=America/Detroit:20230115T120000
SUMMARY:Ceremony / Service:Sunday Celebration
DESCRIPTION:The school year is about to begin! No matter your background\, join us in kicking off this season with new expectations and hope.\n\nJoin us at 10AM every Sunday to experience church in a fresh way as we worship and seek God together. We meet at the Transformation Center (1001 E. Huron St.) which is located across the street from the Rackham Auditorium and the Power Center.\n\nCurious? Check out our website at https://annarbor.hmcc.net/ to learn more about who we are and what we value.
UID:96832-21793830@events.umich.edu
URL:https://events.umich.edu/event/96832
CLASS:PUBLIC
STATUS:CONFIRMED
CATEGORIES:christian,christianity,church,faith,religious,spiritual,welcome week
LOCATION:Off Campus Location
CONTACT:
END:VEVENT
BEGIN:VEVENT
DTSTAMP:20230301T090303
DTSTART;TZID=America/Detroit:20230115T110000
DTEND;TZID=America/Detroit:20230115T112000
SUMMARY:Presentation:Science Forum Demos
DESCRIPTION:Join us in the Science Forum for a 15-20 minute engaging science demonstration that will help you see the world in a whole new way. Demonstrations are free and appropriate for visitors ages 5 and above. Schedule subject to change.\n\nCow Eye Dissection\nHave you ever wondered how we see? To take a closer look at the organ that helps us see the world\, join UMMNH staff in dissecting a cow’s eye. How is it similar to and different from our eyes\, and those of other animals? Learn the parts of the eye and how they work together. While exploring the lens\, we’ll also talk about why some of us need glasses and how we can keep our eyes and our vision healthy.
UID:102009-21803223@events.umich.edu
URL:https://events.umich.edu/event/102009
CLASS:PUBLIC
STATUS:CONFIRMED
CATEGORIES:Children,Family,Free,Museum,Natural Sciences,Science
LOCATION:Museum of Natural History
CONTACT:
END:VEVENT
BEGIN:VEVENT
DTSTAMP:20240111T092357
DTSTART;TZID=America/Detroit:20230115T113000
DTEND;TZID=America/Detroit:20230115T121500
SUMMARY:Presentation:Sea Monsters
DESCRIPTION:The film follows a curious and adventurous Dolichorhynchops – familiarly known as a ‘dolly’ – as she travels through the most dangerous oceans in history. Along the way\, she encounters long-necked plesiosaurs\, giant turtles\, enormous fish\, fierce sharks\, and the most dangerous sea monster of all\, the mosasaur.\n\nThe state-of-the-art Planetarium & Dome Theater at the U-M Museum of Natural History transports visitors beyond distant stars and back in time from the comfort of reclining seats. Tickets $8. Tickets are available on the day of the show at the Museum Store.\n\nThe planetarium is operating at half capacity to maximize distancing between viewers.
UID:93123-21803249@events.umich.edu
URL:https://events.umich.edu/event/93123
CLASS:PUBLIC
STATUS:CONFIRMED
CATEGORIES:natural history museum,Natural Sciences,Science
LOCATION:Museum of Natural History
CONTACT:
END:VEVENT
BEGIN:VEVENT
DTSTAMP:20230109T090307
DTSTART;TZID=America/Detroit:20230115T120000
DTEND;TZID=America/Detroit:20230115T190000
SUMMARY:Other:2023 Leadership Crisis Challenge Registration
DESCRIPTION:Registration for the 2023 Leadership Crisis Challenge (LCC) opens on Wednesday\, January 4 at 12 PM!\n\nLCC is a premier action-based learning experience that immerses participants in a simulated business and media crisis\, powered by the Sanger Leadership Center at Michigan Ross. Students play the part of executives responding to the issues as they unfold\, while leveraging the expertise of communication coaches\, faculty\, and a board of directors made up of esteemed U-M alumni\, to prepare for a press conference attended by real members of the media.\n\nThis year's LCC will be held on January 26-27 and is open to ALL U-M students. There will be two levels of competition—graduate and undergraduate. Two undergraduate teams and two graduate teams will receive a scholarship\, split among participants. In addition to the competition\, there will be educational workshops\, a networking session\, and access to the Big House field.\n\nDon't miss out on this amazing\, one-of-a-kind opportunity! Apply by January 22.
UID:101901-21802900@events.umich.edu
URL:https://events.umich.edu/event/101901
CLASS:PUBLIC
STATUS:CONFIRMED
CATEGORIES:Business,Career,Food,Free,Graduate,Graduate Students,Leadership,Networking,Undergraduate,Undergraduate Students
LOCATION:Off Campus Location
CONTACT:
END:VEVENT
BEGIN:VEVENT
DTSTAMP:20230115T121549
DTSTART;TZID=America/Detroit:20230115T120000
SUMMARY:Sporting Event:Men's Basketball vs Northwestern
DESCRIPTION:Men's Basketball vs Northwestern
UID:103063-21805828@events.umich.edu
URL:https://events.umich.edu/event/103063
CLASS:PUBLIC
STATUS:CONFIRMED
CATEGORIES:Athletics,Athletics - Men's Basketball
LOCATION:Crisler Arena
CONTACT:
END:VEVENT
BEGIN:VEVENT
DTSTAMP:20230115T120024
DTSTART;TZID=America/Detroit:20230115T120000
DTEND;TZID=America/Detroit:20230115T140000
SUMMARY:Other:Star Wars Padawan Training
DESCRIPTION:Join us to learn some lightsaber choreography\, play fight\, and practice your saber swings at the Union. Bring a lightsaber if you have one\, if not we have extra to borrow!!
UID:103366-21807101@events.umich.edu
URL:https://events.umich.edu/event/103366
CLASS:PUBLIC
STATUS:CONFIRMED
CATEGORIES:
LOCATION:Kuenzel Room -- Union 1st Floor 
CONTACT:
END:VEVENT
BEGIN:VEVENT
DTSTAMP:20230115T121549
DTSTART;TZID=America/Detroit:20230115T120000
SUMMARY:Sporting Event:Women's Tennis vs Michigan Invitational
DESCRIPTION:Women's Tennis vs Michigan Invitational
UID:103273-21806722@events.umich.edu
URL:https://events.umich.edu/event/103273
CLASS:PUBLIC
STATUS:CONFIRMED
CATEGORIES:Athletics,Athletics - Women's Tennis
LOCATION:Varsity Tennis Bldg
CONTACT:
END:VEVENT
BEGIN:VEVENT
DTSTAMP:20230309T110228
DTSTART;TZID=America/Detroit:20230115T133000
DTEND;TZID=America/Detroit:20230115T141500
SUMMARY:Presentation:Mars: One Thousand One
DESCRIPTION:Mars: One Thousand One tells a story of what humans might face with the first manned journey to Mars. Reporter Miles O'Brien is reporting live from his Space Headquarters TV Studio in New York while events unfold for the crew on their 1001-day long mission. You will witness firsthand their brave attempts to put human footprints on Mars and return safely to Earth. This journey is made possible by the biggest engineering feat ever and loaded with scientific experiments.\n\nThe state-of-the-art Planetarium & Dome Theater at the U-M Museum of Natural History transports visitors beyond distant stars and back in time from the comfort of reclining seats. Tickets $8. Tickets are available on the day of the show at the Museum Store.\n\nThe planetarium is operating at half capacity to maximize distancing between viewers.
UID:100073-21803289@events.umich.edu
URL:https://events.umich.edu/event/100073
CLASS:PUBLIC
STATUS:CONFIRMED
CATEGORIES:Astronomy,Family,natural history museum,Natural Sciences
LOCATION:Museum of Natural History
CONTACT:
END:VEVENT
BEGIN:VEVENT
DTSTAMP:20230114T162017
DTSTART;TZID=America/Detroit:20230115T140000
DTEND;TZID=America/Detroit:20230115T150000
SUMMARY:Well-being:WSN Drop-In Support Group
DESCRIPTION:Join a few WSN leaders for a one-hour drop-in group session. No registration required. Any University of Michigan student is welcome to attend.
UID:103442-21807190@events.umich.edu
URL:https://events.umich.edu/event/103442
CLASS:PUBLIC
STATUS:CONFIRMED
CATEGORIES:Discussion,Free,Graduate Students,Health & Wellness,In Person,Inclusion,Mindfulness,Social,Social Impact,Student Affairs,Student Org,Transfer Students,Undergraduate,Undergraduate Students,Welcome to Michigan,Well-being,Wellbeing
LOCATION:Michigan Union - IdeaHub McCarty-Bishop Room (2nd Floor)
CONTACT:
END:VEVENT
BEGIN:VEVENT
DTSTAMP:20230503T125746
DTSTART;TZID=America/Detroit:20230115T150000
DTEND;TZID=America/Detroit:20230115T152000
SUMMARY:Presentation:Science Forum Discovery Demos
DESCRIPTION:Join us in the Science Forum for a 15-20 minute engaging science demonstration that will help you see the world in a whole new way. Demonstrations are free and appropriate for visitors ages 5 and above. Schedule subject to change.\n\nOut of the Water and Back Again: A Whale’s Tale\n\nTake a journey through deep time as we explore a story that has taken millions of years to unfold\, and then examine a brand new discovery! Where did life begin? How did the first four-footed land animals emerge? And why do fossil whales have feet? Participants examine the museum’s fossil whales and related species as they learn about the evolutionary processes responsible for the diversity of life on Earth.
UID:102010-21803233@events.umich.edu
URL:https://events.umich.edu/event/102010
CLASS:PUBLIC
STATUS:CONFIRMED
CATEGORIES:Children,Family,Free,Museum,Natural Sciences,Science
LOCATION:Museum of Natural History
CONTACT:
END:VEVENT
BEGIN:VEVENT
DTSTAMP:20220805T181515
DTSTART;TZID=America/Detroit:20230115T160000
SUMMARY:Performance:James Kibbie: The Complete Organ Works of J.S. Bach Program 11
DESCRIPTION:4:00 pm\n3:40 pm: Introduction to the program\n\nLivestreamed (real time only)\n\nJames Kibbie performs the 281 extant organ works of Johann Sebastian Bach in 18 concerts. An informal introduction to the music to be performed precedes each program. Additional information is available on the Bach Series website (http://www-personal.umich.edu/~jkibbie/kibbie-bach.html). \n\nDonations may be made to the James Kibbie Endowed Scholarship Fund or at the Donations page https://leadersandbest.umich.edu/find/#!/give/basket/fund/570523.\n\nProgram\nhttp://smtd.umich.edu/wp-content/uploads/2022/08/Program-11.pdf
UID:96556-21792884@events.umich.edu
URL:https://events.umich.edu/event/96556
CLASS:PUBLIC
STATUS:CONFIRMED
CATEGORIES:Free,Music
LOCATION:Earl V. Moore Building - Blanche Anderson Moore Hall
CONTACT:
END:VEVENT
BEGIN:VEVENT
DTSTAMP:20221216T061633
DTSTART;TZID=America/Detroit:20230115T160000
DTEND;TZID=America/Detroit:20230115T173000
SUMMARY:Other:James Kibbie: The Complete Organ Works of J.S. Bach Program 11
DESCRIPTION:James Kibbie performs the 281 extant organ works of Johann Sebastian Bach in 18 concerts. An informal introduction to the music to be performed precedes each program.\nAdditional information is available on the Bach Series website.\nDonations may be made to the James Kibbie Endowed Scholarship Fund.
UID:102095-21803440@events.umich.edu
URL:https://events.umich.edu/event/102095
CLASS:PUBLIC
STATUS:CONFIRMED
CATEGORIES:
LOCATION:Off Campus Location
CONTACT:
END:VEVENT
BEGIN:VEVENT
DTSTAMP:20221216T061633
DTSTART;TZID=America/Detroit:20230115T163000
DTEND;TZID=America/Detroit:20230115T173000
SUMMARY:Other:Jingjing Wan\, piano
DESCRIPTION:Piano student Jingjing Wan performs. 
UID:102096-21803441@events.umich.edu
URL:https://events.umich.edu/event/102096
CLASS:PUBLIC
STATUS:CONFIRMED
CATEGORIES:
LOCATION:Off Campus Location
CONTACT:
END:VEVENT
BEGIN:VEVENT
DTSTAMP:20230115T181550
DTSTART;TZID=America/Detroit:20230115T170000
SUMMARY:Sporting Event:Men's Tennis vs Boston University
DESCRIPTION:Men's Tennis vs Boston University
UID:101112-21800808@events.umich.edu
URL:https://events.umich.edu/event/101112
CLASS:PUBLIC
STATUS:CONFIRMED
CATEGORIES:Athletics,Athletics - Men's Tennis
LOCATION:Varsity Tennis Bldg
CONTACT:
END:VEVENT
BEGIN:VEVENT
DTSTAMP:20230115T181550
DTSTART;TZID=America/Detroit:20230115T170000
SUMMARY:Sporting Event:Wrestling vs Wisconsin
DESCRIPTION:Wrestling vs Wisconsin
UID:101111-21800807@events.umich.edu
URL:https://events.umich.edu/event/101111
CLASS:PUBLIC
STATUS:CONFIRMED
CATEGORIES:Athletics,Athletics - Wrestling
LOCATION:Cliff Keen Arena
CONTACT:
END:VEVENT
BEGIN:VEVENT
DTSTAMP:20230115T180006
DTSTART;TZID=America/Detroit:20230115T183000
DTEND;TZID=America/Detroit:20230115T203000
SUMMARY:Other:University of Michigan Women’s Ice Hockey at ASU
DESCRIPTION:Arizona Showcase
UID:101011-21800668@events.umich.edu
URL:https://events.umich.edu/event/101011
CLASS:PUBLIC
STATUS:CONFIRMED
CATEGORIES:
LOCATION:Oceanside Ice Arena
CONTACT:
END:VEVENT
BEGIN:VEVENT
DTSTAMP:20230109T061553
DTSTART;TZID=America/Detroit:20230115T190000
SUMMARY:Sporting Event:Men's Basketball vs Northwestern
DESCRIPTION:Men's Basketball vs Northwestern
UID:101108-21800804@events.umich.edu
URL:https://events.umich.edu/event/101108
CLASS:PUBLIC
STATUS:CONFIRMED
CATEGORIES:Athletics,Athletics - Men's Basketball
LOCATION:Crisler Arena
CONTACT:
END:VEVENT
BEGIN:VEVENT
DTSTAMP:20230103T121601
DTSTART;TZID=America/Detroit:20230115T190000
SUMMARY:Sporting Event:Women's Tennis vs Michigan Invitational
DESCRIPTION:Women's Tennis vs Michigan Invitational
UID:101107-21800803@events.umich.edu
URL:https://events.umich.edu/event/101107
CLASS:PUBLIC
STATUS:CONFIRMED
CATEGORIES:Athletics,Athletics - Women's Tennis
LOCATION:Varsity Tennis Bldg
CONTACT:
END:VEVENT
BEGIN:VEVENT
DTSTAMP:20221103T122815
DTSTART;TZID=America/Detroit:20230115T193000
SUMMARY:Performance:The Brother Brothers
DESCRIPTION:The Brother Brothers\, twins\, are Brooklyn's Adam and Davis Moss. They offer rich harmonies and thoughtful songs accompanied by guitar\, cello\, violin\, and banjo in a coherent way that only musicians from the same family can achieve.  Already established players and composers in a wide spectrum of genres around New York and beyond\, they have teamed up to bring their individual experiences together. Among their fans is Sarah Jarosz\, who raves: \"They approach their poignant and often charming songs with an almost startling sense of ease\, and the tight harmonies are enough to send shivers down anyone's spine. Their ability to pull the listener into their quietly energetic musical journey is a joy to behold.\" The Brother Brothers come to Michigan with a new album\, “Cover to Cover.”
UID:101019-21800676@events.umich.edu
URL:https://events.umich.edu/event/101019
CLASS:PUBLIC
STATUS:CONFIRMED
CATEGORIES:Ark,Concert,Music,Mutotix
LOCATION:Off Campus Location
CONTACT:
END:VEVENT
END:VCALENDAR