BEGIN:VCALENDAR
VERSION:2.0
PRODID:-//UM//UM*Events//EN
CALSCALE:GREGORIAN
BEGIN:VTIMEZONE
TZID:America/Detroit
TZURL:http://tzurl.org/zoneinfo/America/Detroit
X-LIC-LOCATION:America/Detroit
BEGIN:DAYLIGHT
TZOFFSETFROM:-0500
TZOFFSETTO:-0400
TZNAME:EDT
DTSTART:20070311T020000
RRULE:FREQ=YEARLY;BYMONTH=3;BYDAY=2SU
END:DAYLIGHT
BEGIN:STANDARD
TZOFFSETFROM:-0400
TZOFFSETTO:-0500
TZNAME:EST
DTSTART:20071104T020000
RRULE:FREQ=YEARLY;BYMONTH=11;BYDAY=1SU
END:STANDARD
END:VTIMEZONE
BEGIN:VEVENT
DTSTAMP:20230412T120004
DTSTART;TZID=America/Detroit:20230122T000000
DTEND;TZID=America/Detroit:20230122T235959
SUMMARY:Workshop / Seminar:Academy of Adventist Scholars Bible Study
DESCRIPTION:Academy of Adventist ScholarsFollowing the legacy of university scholars throughout Christian history\, we as Seventh-day Adventist university students join in the pursuit of an intelligent faith and depth of understanding of the Word of God to bring the same purpose and excellence to our faith as we bring to our academic careers. This 1-hour weekly “lunch and learn” will focus in-depth on scripture questions and doctrines. Led by church leaders and knowledgeable Bible students\, this midday study is perfect for the lunch hour\, beginning promptly at 12p and ending at 12:50p. Bring your own lunch\, journal\, and Bible. 
UID:99696-21805384@events.umich.edu
URL:https://events.umich.edu/event/99696
CLASS:PUBLIC
STATUS:CONFIRMED
CATEGORIES:
LOCATION:Palmer Commons
CONTACT:
END:VEVENT
BEGIN:VEVENT
DTSTAMP:20230412T120005
DTSTART;TZID=America/Detroit:20230122T000000
DTEND;TZID=America/Detroit:20230122T235959
SUMMARY:Workshop / Seminar:Academy of Adventist Scholars Bible Study
DESCRIPTION:Academy of Adventist ScholarsFollowing the legacy of university scholars throughout Christian history\, we as Seventh-day Adventist university students join in the pursuit of an intelligent faith and depth of understanding of the Word of God to bring the same purpose and excellence to our faith as we bring to our academic careers. This 1-hour weekly “lunch and learn” will focus in-depth on scripture questions and doctrines. Led by church leaders and knowledgeable Bible students\, this midday study is perfect for the lunch hour\, beginning promptly at 12p and ending at 12:50p. Bring your own lunch\, journal\, and Bible. 
UID:102927-21805477@events.umich.edu
URL:https://events.umich.edu/event/102927
CLASS:PUBLIC
STATUS:CONFIRMED
CATEGORIES:
LOCATION:Palmer Commons
CONTACT:
END:VEVENT
BEGIN:VEVENT
DTSTAMP:20230121T180020
DTSTART;TZID=America/Detroit:20230122T000000
DTEND;TZID=America/Detroit:20230122T234500
SUMMARY:Other:Away Games Vs. Indiana University 1/20-1/21
DESCRIPTION:Away Games Vs. Indiana University 1/20-1/21
UID:103031-21805735@events.umich.edu
URL:https://events.umich.edu/event/103031
CLASS:PUBLIC
STATUS:CONFIRMED
CATEGORIES:
LOCATION:Frank Southern Ice Arena
CONTACT:
END:VEVENT
BEGIN:VEVENT
DTSTAMP:20230122T120025
DTSTART;TZID=America/Detroit:20230122T000000
DTEND;TZID=America/Detroit:20230122T120000
SUMMARY:Auditions:BOYS IN THE BAND AUDITIONS!
DESCRIPTION:Send in an audition for BOYS IN THE BAND at In the Round Prod! Audition forms and videos are due by next Sunday\, January 29! Callbacks will be held the following week. Our performances will be March 31- April 2 in the Lydia Mendelssohn Theatre!\n\nFor more information\, check out our LinkTree!
UID:103808-21807896@events.umich.edu
URL:https://events.umich.edu/event/103808
CLASS:PUBLIC
STATUS:CONFIRMED
CATEGORIES:Activism,Art,Comedy,Culture,Dance,Discussion,Diversity,Diversity Equity and Inclusion,Graduate,Graduate and Professional Students,Graduate School,Graduate Students,History,Humanities,Inclusion,LGBT,LGBTQ Graduate Student,Literature,Media,Multidisciplinary Design,Music,North Campus,Prospective Graduate Students,Prospective Undergraduate Students,Rackham,Social,Social Impact,Social Justice,Storytelling,Student Org,Theater,Undergraduate,Undergraduate Students,Visual Arts,Writing
LOCATION:Off Campus Location
CONTACT:
END:VEVENT
BEGIN:VEVENT
DTSTAMP:20230324T120005
DTSTART;TZID=America/Detroit:20230122T000000
DTEND;TZID=America/Detroit:20230122T235959
SUMMARY:Community Service:Homework Help at The Children's Center
DESCRIPTION:The Homework Help program offers children assistance with their homework assignments. Children are encouraged to bring homework and are paired with a volunteer to assist them. This program is a critical service in helping children thrive. Volunteers give children the tools they need to be successful in school.Virtual and in-person volunteer opportunities are available. If you would like to volunteer\, please start the enrollment process by creating an account on the Children Center's Volunteer Site found HERE. After your account is created\, the Children's Center will reach out to you within 2 business days to answer any questions and discuss the next steps.In accordance with the CMS Vaccine Mandate\, those volunteering in-person at the Children’s Center are required to be fully vaccinated and must provide proof of full vaccination upon request.
UID:93885-21788072@events.umich.edu
URL:https://events.umich.edu/event/93885
CLASS:PUBLIC
STATUS:CONFIRMED
CATEGORIES:
LOCATION:The Children&#039;s Center 
CONTACT:
END:VEVENT
BEGIN:VEVENT
DTSTAMP:20230119T104246
DTSTART;TZID=America/Detroit:20230122T000000
DTEND;TZID=America/Detroit:20230122T230000
SUMMARY:Auditions:Michigan's Got Talent *AUDITIONS*
DESCRIPTION:Do you have a talent you want to share? Do you want to see Michigan students perform in front of guest judges?\n\nMUSIC Matters presents our annual talent show Michigan’s Got Talent! Participants have the chance to share their talents with the U-M community\, and hundreds of dollars in prizes are up for grabs!\n\nSubmission deadline has been extended to January 22\, 2022 at 11:59 pm. Select acts will be chosen to participate in the live\, in-person talent show at the Lydia Mendelssohn Theatre on February 1\, 2022 at 7:00 pm.\n\nClick here to learn more and audition!\n*www.umichmusicmatters.com/michigans-got-talent*
UID:103661-21807616@events.umich.edu
URL:https://events.umich.edu/event/103661
CLASS:PUBLIC
STATUS:CONFIRMED
CATEGORIES:Art,Arts,Comedy,community gathering,Concert,dance,Exhibition,Free,music,Music Matters,Poetry,Storytelling,student org,Theater,Virtual,Visual Arts
LOCATION:Off Campus Location - Google Form Submission
CONTACT:
END:VEVENT
BEGIN:VEVENT
DTSTAMP:20230101T180016
DTSTART;TZID=America/Detroit:20230122T000000
DTEND;TZID=America/Detroit:20230122T235959
SUMMARY:Other:Nittany Lion Invitational 2023
DESCRIPTION:Nittany Lion Invitation at Penn State University. First club gym meet of the year!! Please fill out the google sheet first: https://docs.google.com/forms/d/e/1FAIpQLSdbuRW5TbAO7p4pF9_9HiczsU3gaCKpsP0fzLMwIIl03fNGeg/viewform?usp=sf_link 
UID:102553-21804224@events.umich.edu
URL:https://events.umich.edu/event/102553
CLASS:PUBLIC
STATUS:CONFIRMED
CATEGORIES:
LOCATION:Penn State University 
CONTACT:
END:VEVENT
BEGIN:VEVENT
DTSTAMP:20230120T181608
DTSTART;TZID=America/Detroit:20230122T000000
DTEND;TZID=America/Detroit:20230122T235900
SUMMARY:Other:Sarah Thune\, piano (rescheduled)
DESCRIPTION:This performance has been rescheduled and will not take place on January 22. 
UID:102190-21803663@events.umich.edu
URL:https://events.umich.edu/event/102190
CLASS:PUBLIC
STATUS:CONFIRMED
CATEGORIES:
LOCATION:Off Campus Location
CONTACT:
END:VEVENT
BEGIN:VEVENT
DTSTAMP:20230123T180027
DTSTART;TZID=America/Detroit:20230122T000000
DTEND;TZID=America/Detroit:20230122T235959
SUMMARY:Other:Zouk Dance Lessons (Beginner + Intermediate)
DESCRIPTION:No experience is needed in order to join and you do not have to bring a partner.Two left feet welcome!\n\n6:00pm - Beginner Lesson\n7:00pm - Intermediate Lesson\n8:00pm - Practica\n\nWe will typically meet at the Michigan Union\, 1st floor\, Anderson Room!We hope you can join us!
UID:103873-21808034@events.umich.edu
URL:https://events.umich.edu/event/103873
CLASS:PUBLIC
STATUS:CONFIRMED
CATEGORIES:
LOCATION:Michigan Union, Anderson Room
CONTACT:
END:VEVENT
BEGIN:VEVENT
DTSTAMP:20220930T132239
DTSTART;TZID=America/Detroit:20230122T080000
DTEND;TZID=America/Detroit:20230122T230000
SUMMARY:Class / Instruction:Semester in Detroit Application Open!
DESCRIPTION:Semester in Detroit uses the MCompass system for applications. All applications are accepted on a rolling basis\, which means that the earlier you apply\, the better chance you have of getting in. \n\nApplication Due Dates:\n1/31/23 for the spring 2023 program\n\nProgram Eligibility:\nThe Semester in Detroit spring/summer and fall programs accept undergraduate students from all schools and departments at the University of Michigan-Ann Arbor. All students\, from First years to Seniors or Super Seniors are eligible to apply.\n\nStudents from Grand Valley State University\, UM-Dearborn\, and UM-Flint are eligible to apply for fall programs only. The same application eligibility applies to GVSU\, Dearborn\, and Flint students (all departments\, all class standings). \n\nApplicants should have a strong interest in the city of Detroit and in questioning dominant narratives\; engaging with challenging new perspectives on contemporary issues\; and building community with one another\, SiD faculty and staff\, and community members at internship sites and beyond.\n\nQuestions?\nEmail semesterindetroit@umich.edu.
UID:99614-21798437@events.umich.edu
URL:https://events.umich.edu/event/99614
CLASS:PUBLIC
STATUS:CONFIRMED
CATEGORIES:Activism,Advocacy,civil rights,Community Engagement,Community Organzing,Community-based Learning,detroit,Diversity Equity and Inclusion,Education
LOCATION:
CONTACT:
END:VEVENT
BEGIN:VEVENT
DTSTAMP:20230122T120021
DTSTART;TZID=America/Detroit:20230122T090000
DTEND;TZID=America/Detroit:20230122T150000
SUMMARY:Other:CMU Dual
DESCRIPTION:Possible dual against CMU
UID:103476-21807316@events.umich.edu
URL:https://events.umich.edu/event/103476
CLASS:PUBLIC
STATUS:CONFIRMED
CATEGORIES:
LOCATION:CMU
CONTACT:
END:VEVENT
BEGIN:VEVENT
DTSTAMP:20220818T100608
DTSTART;TZID=America/Detroit:20230122T100000
DTEND;TZID=America/Detroit:20230122T120000
SUMMARY:Ceremony / Service:Sunday Celebration
DESCRIPTION:The school year is about to begin! No matter your background\, join us in kicking off this season with new expectations and hope.\n\nJoin us at 10AM every Sunday to experience church in a fresh way as we worship and seek God together. We meet at the Transformation Center (1001 E. Huron St.) which is located across the street from the Rackham Auditorium and the Power Center.\n\nCurious? Check out our website at https://annarbor.hmcc.net/ to learn more about who we are and what we value.
UID:96832-21793831@events.umich.edu
URL:https://events.umich.edu/event/96832
CLASS:PUBLIC
STATUS:CONFIRMED
CATEGORIES:christian,christianity,church,faith,religious,spiritual,welcome week
LOCATION:Off Campus Location
CONTACT:
END:VEVENT
BEGIN:VEVENT
DTSTAMP:20230122T120025
DTSTART;TZID=America/Detroit:20230122T110000
DTEND;TZID=America/Detroit:20230122T120000
SUMMARY:Auditions:BOYS IN THE BAND AUDITIONS!
DESCRIPTION:Send in an audition for BOYS IN THE BAND at In the Round Prod! Audition forms and videos are due by next Sunday\, January 29! Callbacks will be held the following week. Our performances will be March 31- April 2 in the Lydia Mendelssohn Theatre!\n\nFor more information\, check out our LinkTree!
UID:103808-21807895@events.umich.edu
URL:https://events.umich.edu/event/103808
CLASS:PUBLIC
STATUS:CONFIRMED
CATEGORIES:Activism,Art,Comedy,Culture,Dance,Discussion,Diversity,Diversity Equity and Inclusion,Graduate,Graduate and Professional Students,Graduate School,Graduate Students,History,Humanities,Inclusion,LGBT,LGBTQ Graduate Student,Literature,Media,Multidisciplinary Design,Music,North Campus,Prospective Graduate Students,Prospective Undergraduate Students,Rackham,Social,Social Impact,Social Justice,Storytelling,Student Org,Theater,Undergraduate,Undergraduate Students,Visual Arts,Writing
LOCATION:
CONTACT:
END:VEVENT
BEGIN:VEVENT
DTSTAMP:20230301T090303
DTSTART;TZID=America/Detroit:20230122T110000
DTEND;TZID=America/Detroit:20230122T112000
SUMMARY:Presentation:Science Forum Demos
DESCRIPTION:Join us in the Science Forum for a 15-20 minute engaging science demonstration that will help you see the world in a whole new way. Demonstrations are free and appropriate for visitors ages 5 and above. Schedule subject to change.\n\nCow Eye Dissection\nHave you ever wondered how we see? To take a closer look at the organ that helps us see the world\, join UMMNH staff in dissecting a cow’s eye. How is it similar to and different from our eyes\, and those of other animals? Learn the parts of the eye and how they work together. While exploring the lens\, we’ll also talk about why some of us need glasses and how we can keep our eyes and our vision healthy.
UID:102009-21803224@events.umich.edu
URL:https://events.umich.edu/event/102009
CLASS:PUBLIC
STATUS:CONFIRMED
CATEGORIES:Children,Family,Free,Museum,Natural Sciences,Science
LOCATION:Museum of Natural History
CONTACT:
END:VEVENT
BEGIN:VEVENT
DTSTAMP:20240111T092357
DTSTART;TZID=America/Detroit:20230122T113000
DTEND;TZID=America/Detroit:20230122T121500
SUMMARY:Presentation:Sea Monsters
DESCRIPTION:The film follows a curious and adventurous Dolichorhynchops – familiarly known as a ‘dolly’ – as she travels through the most dangerous oceans in history. Along the way\, she encounters long-necked plesiosaurs\, giant turtles\, enormous fish\, fierce sharks\, and the most dangerous sea monster of all\, the mosasaur.\n\nThe state-of-the-art Planetarium & Dome Theater at the U-M Museum of Natural History transports visitors beyond distant stars and back in time from the comfort of reclining seats. Tickets $8. Tickets are available on the day of the show at the Museum Store.\n\nThe planetarium is operating at half capacity to maximize distancing between viewers.
UID:93123-21803250@events.umich.edu
URL:https://events.umich.edu/event/93123
CLASS:PUBLIC
STATUS:CONFIRMED
CATEGORIES:natural history museum,Natural Sciences,Science
LOCATION:Museum of Natural History
CONTACT:
END:VEVENT
BEGIN:VEVENT
DTSTAMP:20230109T090307
DTSTART;TZID=America/Detroit:20230122T120000
DTEND;TZID=America/Detroit:20230122T190000
SUMMARY:Other:2023 Leadership Crisis Challenge Registration
DESCRIPTION:Registration for the 2023 Leadership Crisis Challenge (LCC) opens on Wednesday\, January 4 at 12 PM!\n\nLCC is a premier action-based learning experience that immerses participants in a simulated business and media crisis\, powered by the Sanger Leadership Center at Michigan Ross. Students play the part of executives responding to the issues as they unfold\, while leveraging the expertise of communication coaches\, faculty\, and a board of directors made up of esteemed U-M alumni\, to prepare for a press conference attended by real members of the media.\n\nThis year's LCC will be held on January 26-27 and is open to ALL U-M students. There will be two levels of competition—graduate and undergraduate. Two undergraduate teams and two graduate teams will receive a scholarship\, split among participants. In addition to the competition\, there will be educational workshops\, a networking session\, and access to the Big House field.\n\nDon't miss out on this amazing\, one-of-a-kind opportunity! Apply by January 22.
UID:101901-21802907@events.umich.edu
URL:https://events.umich.edu/event/101901
CLASS:PUBLIC
STATUS:CONFIRMED
CATEGORIES:Business,Career,Food,Free,Graduate,Graduate Students,Leadership,Networking,Undergraduate,Undergraduate Students
LOCATION:Off Campus Location
CONTACT:
END:VEVENT
BEGIN:VEVENT
DTSTAMP:20230122T121545
DTSTART;TZID=America/Detroit:20230122T120000
SUMMARY:Sporting Event:Men's Tennis vs Brown
DESCRIPTION:Men's Tennis vs Brown
UID:101292-21801160@events.umich.edu
URL:https://events.umich.edu/event/101292
CLASS:PUBLIC
STATUS:CONFIRMED
CATEGORIES:Athletics,Athletics - Men's Tennis
LOCATION:Varsity Tennis Bldg
CONTACT:
END:VEVENT
BEGIN:VEVENT
DTSTAMP:20230122T120013
DTSTART;TZID=America/Detroit:20230122T120000
DTEND;TZID=America/Detroit:20230122T130000
SUMMARY:Social / Informal Gathering:Star Wars Lore Talks: Book Club
DESCRIPTION:Come join some fellow Star Wars fans and dive into the lore and stories from some of the amazing Star Wars books and novels. Reading books beforehand is not necessary!
UID:103365-21807100@events.umich.edu
URL:https://events.umich.edu/event/103365
CLASS:PUBLIC
STATUS:CONFIRMED
CATEGORIES:
LOCATION:Mason Room Room # 3315
CONTACT:
END:VEVENT
BEGIN:VEVENT
DTSTAMP:20230122T121545
DTSTART;TZID=America/Detroit:20230122T130000
SUMMARY:Sporting Event:Men's Basketball vs Minnesota
DESCRIPTION:Men's Basketball vs Minnesota
UID:103479-21807318@events.umich.edu
URL:https://events.umich.edu/event/103479
CLASS:PUBLIC
STATUS:CONFIRMED
CATEGORIES:Athletics,Athletics - Men's Basketball
LOCATION:Crisler Arena
CONTACT:
END:VEVENT
BEGIN:VEVENT
DTSTAMP:20230309T110228
DTSTART;TZID=America/Detroit:20230122T133000
DTEND;TZID=America/Detroit:20230122T141500
SUMMARY:Presentation:Mars: One Thousand One
DESCRIPTION:Mars: One Thousand One tells a story of what humans might face with the first manned journey to Mars. Reporter Miles O'Brien is reporting live from his Space Headquarters TV Studio in New York while events unfold for the crew on their 1001-day long mission. You will witness firsthand their brave attempts to put human footprints on Mars and return safely to Earth. This journey is made possible by the biggest engineering feat ever and loaded with scientific experiments.\n\nThe state-of-the-art Planetarium & Dome Theater at the U-M Museum of Natural History transports visitors beyond distant stars and back in time from the comfort of reclining seats. Tickets $8. Tickets are available on the day of the show at the Museum Store.\n\nThe planetarium is operating at half capacity to maximize distancing between viewers.
UID:100073-21803290@events.umich.edu
URL:https://events.umich.edu/event/100073
CLASS:PUBLIC
STATUS:CONFIRMED
CATEGORIES:Astronomy,Family,natural history museum,Natural Sciences
LOCATION:Museum of Natural History
CONTACT:
END:VEVENT
BEGIN:VEVENT
DTSTAMP:20230111T200314
DTSTART;TZID=America/Detroit:20230122T140000
DTEND;TZID=America/Detroit:20230122T160000
SUMMARY:Performance:Melancholy Play
DESCRIPTION:Cam Robinson directs Sarah Ruhl's \"Melancholy Play\,\" a contemporary farce that premiered in 2002. \"Tilly’s melancholy is of an exquisite quality. She turns her melancholy into a sexy thing\, and every stranger she meets falls in love with her. One day\, inexplicably\, Tilly becomes happy\, and wreaks havoc on the lives of her paramours.\"
UID:103292-21806752@events.umich.edu
URL:https://events.umich.edu/event/103292
CLASS:PUBLIC
STATUS:CONFIRMED
CATEGORIES:Residential College,Theater
LOCATION:East Quadrangle - Keene Theater
CONTACT:
END:VEVENT
BEGIN:VEVENT
DTSTAMP:20230503T125746
DTSTART;TZID=America/Detroit:20230122T150000
DTEND;TZID=America/Detroit:20230122T152000
SUMMARY:Presentation:Science Forum Discovery Demos
DESCRIPTION:Join us in the Science Forum for a 15-20 minute engaging science demonstration that will help you see the world in a whole new way. Demonstrations are free and appropriate for visitors ages 5 and above. Schedule subject to change.\n\nOut of the Water and Back Again: A Whale’s Tale\n\nTake a journey through deep time as we explore a story that has taken millions of years to unfold\, and then examine a brand new discovery! Where did life begin? How did the first four-footed land animals emerge? And why do fossil whales have feet? Participants examine the museum’s fossil whales and related species as they learn about the evolutionary processes responsible for the diversity of life on Earth.
UID:102010-21803234@events.umich.edu
URL:https://events.umich.edu/event/102010
CLASS:PUBLIC
STATUS:CONFIRMED
CATEGORIES:Children,Family,Free,Museum,Natural Sciences,Science
LOCATION:Museum of Natural History
CONTACT:
END:VEVENT
BEGIN:VEVENT
DTSTAMP:20230122T120006
DTSTART;TZID=America/Detroit:20230122T153000
DTEND;TZID=America/Detroit:20230122T173000
SUMMARY:Other:University of Michigan Women’s Ice Hockey vs PSU
DESCRIPTION:Home
UID:101013-21800670@events.umich.edu
URL:https://events.umich.edu/event/101013
CLASS:PUBLIC
STATUS:CONFIRMED
CATEGORIES:
LOCATION:Yost Ice Arena
CONTACT:
END:VEVENT
BEGIN:VEVENT
DTSTAMP:20230106T114124
DTSTART;TZID=America/Detroit:20230122T160000
DTEND;TZID=America/Detroit:20230122T180000
SUMMARY:Recreational / Games:PBSL Eco-Craft Night
DESCRIPTION:Join us as we made eco-relating crafts including crochet and dryer ball needle felting! All are welcome at no cost\, and no experience is necessary!
UID:102814-21805179@events.umich.edu
URL:https://events.umich.edu/event/102814
CLASS:PUBLIC
STATUS:CONFIRMED
CATEGORIES:Environment,Food,Free
LOCATION:Michigan Union - 2210 AB
CONTACT:
END:VEVENT
BEGIN:VEVENT
DTSTAMP:20230119T181613
DTSTART;TZID=America/Detroit:20230122T163000
DTEND;TZID=America/Detroit:20230122T190000
SUMMARY:Other:Mary Garza\, horn
DESCRIPTION:Horn student Mary Garza performs.
UID:102077-21803422@events.umich.edu
URL:https://events.umich.edu/event/102077
CLASS:PUBLIC
STATUS:CONFIRMED
CATEGORIES:
LOCATION:Off Campus Location
CONTACT:
END:VEVENT
BEGIN:VEVENT
DTSTAMP:20230122T181546
DTSTART;TZID=America/Detroit:20230122T170000
SUMMARY:Sporting Event:Men's Tennis vs Cleveland State
DESCRIPTION:Men's Tennis vs Cleveland State
UID:101293-21801161@events.umich.edu
URL:https://events.umich.edu/event/101293
CLASS:PUBLIC
STATUS:CONFIRMED
CATEGORIES:Athletics,Athletics - Men's Tennis
LOCATION:Varsity Tennis Bldg
CONTACT:
END:VEVENT
BEGIN:VEVENT
DTSTAMP:20230116T113138
DTSTART;TZID=America/Detroit:20230122T180000
DTEND;TZID=America/Detroit:20230122T190000
SUMMARY:Performance:The Plastic Bag Store
DESCRIPTION:This custom-built public art installation and immersive film experience uses humor\, craft\, and a critical lens to question our culture of consumption and convenience — specifically\, the enduring effects of our single-use plastics.\n\nShelves are stocked with thousands of original grocery items meticulously sculpted by hand\, all made from discarded single-use plastics organically harvested from streets and garbage dumps. Several times a day\, the store transforms into an immersive\, dynamic stage for a film in which inventive puppetry\, shadow play\, and intricate handmade sets tell the darkly comedic and sometimes tender story of how the overabundance of plastic waste we leave behind might be misinterpreted by future generations — and how what we value least may become our most lasting cultural legacy.
UID:103461-21807263@events.umich.edu
URL:https://events.umich.edu/event/103461
CLASS:PUBLIC
STATUS:CONFIRMED
CATEGORIES:Activism,american culture,art,art and design,artists,artists and curators,Climate Change,Comedy,Community Engagement,Culture,Digital,Digital Culture,Digital Media,Discussion,environment,environmental,environmental justice,environmental policy,Ethics,Family,Multidisciplinary Design,performance,Social Impact,Storytelling,Sustainability,UMMA,UMS,Visual Arts
LOCATION:Off Campus Location - First floor of the 777 building!
CONTACT:
END:VEVENT
BEGIN:VEVENT
DTSTAMP:20230119T181614
DTSTART;TZID=America/Detroit:20230122T183000
DTEND;TZID=America/Detroit:20230122T200000
SUMMARY:Other:Violin Department Recital
DESCRIPTION:The violin department hosts its recital.\nProgram:\n\nNaki Kripfgans\, piano\n\nAndrew Calabrese-Day\nJ.S. Bach\nViolin Sonata No.1 in G minor\, BWV 1001\n        I. Adagio\nJordan Bartel\nJ.S. Bach\nViolin Sonata I in G minor\, BWV 1001\nII. Fuga\n\nEric Yun\nEugène Ysaÿe\nSonata No. 3\n\nNoah Ghosh\nAntonín Dvorak\nSongs My Mother Taught Me (arr. Kreisler)\n\nGloria Hsieh\nCésar Franck \nSonata for Violin and Piano in A Major\nIV. Allegretto poco mosso\n\nYuki Kanazawa\nAmy Beach\nRomance for Violin and Piano Op. 23\n\nAlbert Li\nAntonín Dvorak\nRomance in F minor\, Op. 11\n\nJane Mockus\nJean Sibelius\nHumoresque No. 5 in E-Flat Major\, Op. 89 No. 3\n\nMaya Rai\nSamuel Barber\nViolin Concerto Op. 14\nII. Andante\n\nEvan Schuman\nDmitri Shostakovich\nViolin Concerto No. 1 in A Minor\, Op. 77\nII. Scherzo: Allegro\n\nMatt Xu\nPytor Ilyich Tchaikkosky\nSouvenir d’un lieu cher\n3. Mélodie \n\nKarl Falb\nEugène Ysaÿe\nSonata No. 5\nI. L’Aurore\n\nBlythe Allers\nBéla Bartók \nSonata for Solo Violin\, Sz. 117\nII. Fuga. Risoluto\, non troppo vivo\n\nMatthew Adams\nEugène Ysaÿe \nSonata No. 6 \n\nBright Johnson\nAleksey Igudesman\nApplemania \n\nKisa Uradomo (with pianist Hyerim Lee)\nWilliam Bolcom\nGraceful Ghost Rag
UID:102191-21803664@events.umich.edu
URL:https://events.umich.edu/event/102191
CLASS:PUBLIC
STATUS:CONFIRMED
CATEGORIES:
LOCATION:Off Campus Location
CONTACT:
END:VEVENT
BEGIN:VEVENT
DTSTAMP:20230116T061549
DTSTART;TZID=America/Detroit:20230122T190000
SUMMARY:Sporting Event:Men's Basketball vs Minnesota
DESCRIPTION:Men's Basketball vs Minnesota
UID:101291-21801159@events.umich.edu
URL:https://events.umich.edu/event/101291
CLASS:PUBLIC
STATUS:CONFIRMED
CATEGORIES:Athletics,Athletics - Men's Basketball
LOCATION:Crisler Arena
CONTACT:
END:VEVENT
BEGIN:VEVENT
DTSTAMP:20230116T113138
DTSTART;TZID=America/Detroit:20230122T200000
DTEND;TZID=America/Detroit:20230122T210000
SUMMARY:Performance:The Plastic Bag Store
DESCRIPTION:This custom-built public art installation and immersive film experience uses humor\, craft\, and a critical lens to question our culture of consumption and convenience — specifically\, the enduring effects of our single-use plastics.\n\nShelves are stocked with thousands of original grocery items meticulously sculpted by hand\, all made from discarded single-use plastics organically harvested from streets and garbage dumps. Several times a day\, the store transforms into an immersive\, dynamic stage for a film in which inventive puppetry\, shadow play\, and intricate handmade sets tell the darkly comedic and sometimes tender story of how the overabundance of plastic waste we leave behind might be misinterpreted by future generations — and how what we value least may become our most lasting cultural legacy.
UID:103461-21807282@events.umich.edu
URL:https://events.umich.edu/event/103461
CLASS:PUBLIC
STATUS:CONFIRMED
CATEGORIES:Activism,american culture,art,art and design,artists,artists and curators,Climate Change,Comedy,Community Engagement,Culture,Digital,Digital Culture,Digital Media,Discussion,environment,environmental,environmental justice,environmental policy,Ethics,Family,Multidisciplinary Design,performance,Social Impact,Storytelling,Sustainability,UMMA,UMS,Visual Arts
LOCATION:Off Campus Location - First floor of the 777 building!
CONTACT:
END:VEVENT
END:VCALENDAR