BEGIN:VCALENDAR
VERSION:2.0
PRODID:-//UM//UM*Events//EN
CALSCALE:GREGORIAN
BEGIN:VTIMEZONE
TZID:America/Detroit
TZURL:http://tzurl.org/zoneinfo/America/Detroit
X-LIC-LOCATION:America/Detroit
BEGIN:DAYLIGHT
TZOFFSETFROM:-0500
TZOFFSETTO:-0400
TZNAME:EDT
DTSTART:20070311T020000
RRULE:FREQ=YEARLY;BYMONTH=3;BYDAY=2SU
END:DAYLIGHT
BEGIN:STANDARD
TZOFFSETFROM:-0400
TZOFFSETTO:-0500
TZNAME:EST
DTSTART:20071104T020000
RRULE:FREQ=YEARLY;BYMONTH=11;BYDAY=1SU
END:STANDARD
END:VTIMEZONE
BEGIN:VEVENT
DTSTAMP:20230412T120004
DTSTART;TZID=America/Detroit:20230205T000000
DTEND;TZID=America/Detroit:20230205T235959
SUMMARY:Workshop / Seminar:Academy of Adventist Scholars Bible Study
DESCRIPTION:Academy of Adventist ScholarsFollowing the legacy of university scholars throughout Christian history\, we as Seventh-day Adventist university students join in the pursuit of an intelligent faith and depth of understanding of the Word of God to bring the same purpose and excellence to our faith as we bring to our academic careers. This 1-hour weekly “lunch and learn” will focus in-depth on scripture questions and doctrines. Led by church leaders and knowledgeable Bible students\, this midday study is perfect for the lunch hour\, beginning promptly at 12p and ending at 12:50p. Bring your own lunch\, journal\, and Bible. 
UID:99696-21805398@events.umich.edu
URL:https://events.umich.edu/event/99696
CLASS:PUBLIC
STATUS:CONFIRMED
CATEGORIES:
LOCATION:Palmer Commons
CONTACT:
END:VEVENT
BEGIN:VEVENT
DTSTAMP:20230412T120005
DTSTART;TZID=America/Detroit:20230205T000000
DTEND;TZID=America/Detroit:20230205T235959
SUMMARY:Workshop / Seminar:Academy of Adventist Scholars Bible Study
DESCRIPTION:Academy of Adventist ScholarsFollowing the legacy of university scholars throughout Christian history\, we as Seventh-day Adventist university students join in the pursuit of an intelligent faith and depth of understanding of the Word of God to bring the same purpose and excellence to our faith as we bring to our academic careers. This 1-hour weekly “lunch and learn” will focus in-depth on scripture questions and doctrines. Led by church leaders and knowledgeable Bible students\, this midday study is perfect for the lunch hour\, beginning promptly at 12p and ending at 12:50p. Bring your own lunch\, journal\, and Bible. 
UID:102927-21805491@events.umich.edu
URL:https://events.umich.edu/event/102927
CLASS:PUBLIC
STATUS:CONFIRMED
CATEGORIES:
LOCATION:Palmer Commons
CONTACT:
END:VEVENT
BEGIN:VEVENT
DTSTAMP:20230205T120012
DTSTART;TZID=America/Detroit:20230205T000000
DTEND;TZID=America/Detroit:20230205T235959
SUMMARY:Other:BTMVA Round Robin Days #1 and #2 (A Team)
DESCRIPTION:First Conference Tournament for A Team
UID:102722-21805041@events.umich.edu
URL:https://events.umich.edu/event/102722
CLASS:PUBLIC
STATUS:CONFIRMED
CATEGORIES:
LOCATION:France A. Córdova Recreational Sports Center
CONTACT:
END:VEVENT
BEGIN:VEVENT
DTSTAMP:20230206T060011
DTSTART;TZID=America/Detroit:20230205T000000
DTEND;TZID=America/Detroit:20230205T235959
SUMMARY:Other:Florida Warm Up
DESCRIPTION:Florida Warm Up is a large early-season college tournament that draws teams from across the country.
UID:102776-21805128@events.umich.edu
URL:https://events.umich.edu/event/102776
CLASS:PUBLIC
STATUS:CONFIRMED
CATEGORIES:
LOCATION:University of South Florida
CONTACT:
END:VEVENT
BEGIN:VEVENT
DTSTAMP:20230324T120005
DTSTART;TZID=America/Detroit:20230205T000000
DTEND;TZID=America/Detroit:20230205T235959
SUMMARY:Community Service:Homework Help at The Children's Center
DESCRIPTION:The Homework Help program offers children assistance with their homework assignments. Children are encouraged to bring homework and are paired with a volunteer to assist them. This program is a critical service in helping children thrive. Volunteers give children the tools they need to be successful in school.Virtual and in-person volunteer opportunities are available. If you would like to volunteer\, please start the enrollment process by creating an account on the Children Center's Volunteer Site found HERE. After your account is created\, the Children's Center will reach out to you within 2 business days to answer any questions and discuss the next steps.In accordance with the CMS Vaccine Mandate\, those volunteering in-person at the Children’s Center are required to be fully vaccinated and must provide proof of full vaccination upon request.
UID:93885-21788086@events.umich.edu
URL:https://events.umich.edu/event/93885
CLASS:PUBLIC
STATUS:CONFIRMED
CATEGORIES:
LOCATION:The Children&#039;s Center 
CONTACT:
END:VEVENT
BEGIN:VEVENT
DTSTAMP:20230222T120027
DTSTART;TZID=America/Detroit:20230205T000000
DTEND;TZID=America/Detroit:20230205T235959
SUMMARY:Exercise / Fitness:Judo Training Session
DESCRIPTION:Wednesdays: Beginners 7-8 pm\, intermediate and advanced 8-9 pmSaturdays: Beginners 2-3 pm\, intermediate and advanced 3-4 pm Follow us on Instagramhttps://www.youtube.com/watch?v=IBva1YWaVK8&ab_channel=JudoHighlights
UID:103821-21807935@events.umich.edu
URL:https://events.umich.edu/event/103821
CLASS:PUBLIC
STATUS:CONFIRMED
CATEGORIES:
LOCATION:Ann Arbor/ Ypsilanti
CONTACT:
END:VEVENT
BEGIN:VEVENT
DTSTAMP:20230205T120019
DTSTART;TZID=America/Detroit:20230205T000000
DTEND;TZID=America/Detroit:20230205T235959
SUMMARY:Other:OSU Indoor Triathlon
DESCRIPTION:OSU Indoor Triathlon
UID:103588-21808665@events.umich.edu
URL:https://events.umich.edu/event/103588
CLASS:PUBLIC
STATUS:CONFIRMED
CATEGORIES:
LOCATION:Colombus, Ohio
CONTACT:
END:VEVENT
BEGIN:VEVENT
DTSTAMP:20220818T100608
DTSTART;TZID=America/Detroit:20230205T100000
DTEND;TZID=America/Detroit:20230205T120000
SUMMARY:Ceremony / Service:Sunday Celebration
DESCRIPTION:The school year is about to begin! No matter your background\, join us in kicking off this season with new expectations and hope.\n\nJoin us at 10AM every Sunday to experience church in a fresh way as we worship and seek God together. We meet at the Transformation Center (1001 E. Huron St.) which is located across the street from the Rackham Auditorium and the Power Center.\n\nCurious? Check out our website at https://annarbor.hmcc.net/ to learn more about who we are and what we value.
UID:96832-21793833@events.umich.edu
URL:https://events.umich.edu/event/96832
CLASS:PUBLIC
STATUS:CONFIRMED
CATEGORIES:christian,christianity,church,faith,religious,spiritual,welcome week
LOCATION:Off Campus Location
CONTACT:
END:VEVENT
BEGIN:VEVENT
DTSTAMP:20230111T091657
DTSTART;TZID=America/Detroit:20230205T110000
DTEND;TZID=America/Detroit:20230205T150000
SUMMARY:Other:A Splash of Microbe Science
DESCRIPTION:Tuesdays–Sundays\n11:00 a.m.–3:00 p.m.\nAges: 5 and up\n\nMicroorganisms\, or microscopic organisms\, live where no other life can live- like at the bottom of the ocean\, in geysers\, and in the Dead Sea.  But did you know your local ponds are also teeming with microbial life?  Roll up your sleeves and prepare to look at these pond water microbes using a microscope.  What types of microbes live in ponds\, and what purpose do they serve?  Get ready to draw\, color\, and identify microbes in this hands-on activity.
UID:103225-21806415@events.umich.edu
URL:https://events.umich.edu/event/103225
CLASS:PUBLIC
STATUS:CONFIRMED
CATEGORIES:Children,Family,Free,Museum,Natural Sciences
LOCATION:Museum of Natural History - Micro Worlds Lab
CONTACT:
END:VEVENT
BEGIN:VEVENT
DTSTAMP:20240111T092357
DTSTART;TZID=America/Detroit:20230205T113000
DTEND;TZID=America/Detroit:20230205T121500
SUMMARY:Presentation:Sea Monsters
DESCRIPTION:The film follows a curious and adventurous Dolichorhynchops – familiarly known as a ‘dolly’ – as she travels through the most dangerous oceans in history. Along the way\, she encounters long-necked plesiosaurs\, giant turtles\, enormous fish\, fierce sharks\, and the most dangerous sea monster of all\, the mosasaur.\n\nThe state-of-the-art Planetarium & Dome Theater at the U-M Museum of Natural History transports visitors beyond distant stars and back in time from the comfort of reclining seats. Tickets $8. Tickets are available on the day of the show at the Museum Store.\n\nThe planetarium is operating at half capacity to maximize distancing between viewers.
UID:93123-21806461@events.umich.edu
URL:https://events.umich.edu/event/93123
CLASS:PUBLIC
STATUS:CONFIRMED
CATEGORIES:natural history museum,Natural Sciences,Science
LOCATION:Museum of Natural History
CONTACT:
END:VEVENT
BEGIN:VEVENT
DTSTAMP:20230111T090445
DTSTART;TZID=America/Detroit:20230205T120000
DTEND;TZID=America/Detroit:20230205T150000
SUMMARY:Other:Family Day: The Buzz on Sweet Foods
DESCRIPTION:Did you miss our last Buzz on Sweet Foods Family Day?! Join museum staff to discover how sugar and the senses affect our brains through a variety of hands-on experiments and activities. Can you tell the difference between real sugar and artificial sweeteners? Can you identify candy flavors with your nose plugged? Play games and learn about cutting-edge research from University of Michigan neuroscientists. Participants will receive the comic book\, Sugar Buzz\, to continue tasty explorations at home!\n\nThe Buzz on Sweet Foods is geared toward children ages 5-12 with their adult caregivers.\n\nThis program is funded in part by the National Science Foundation.
UID:103224-21806368@events.umich.edu
URL:https://events.umich.edu/event/103224
CLASS:PUBLIC
STATUS:CONFIRMED
CATEGORIES:Children,Family,Free,Museum,Natural Sciences
LOCATION:Museum of Natural History
CONTACT:
END:VEVENT
BEGIN:VEVENT
DTSTAMP:20230205T121558
DTSTART;TZID=America/Detroit:20230205T120000
SUMMARY:Sporting Event:Men's Tennis vs Harvard
DESCRIPTION:Men's Tennis vs Harvard
UID:101619-21801588@events.umich.edu
URL:https://events.umich.edu/event/101619
CLASS:PUBLIC
STATUS:CONFIRMED
CATEGORIES:Athletics,Athletics - Men's Tennis
LOCATION:Varsity Tennis Bldg
CONTACT:
END:VEVENT
BEGIN:VEVENT
DTSTAMP:20230127T125136
DTSTART;TZID=America/Detroit:20230205T120000
DTEND;TZID=America/Detroit:20230205T210000
SUMMARY:Social / Informal Gathering:Sunday Study Tables
DESCRIPTION:Join us in The Connector every Sunday during this semester to study and do homework!
UID:104147-21808513@events.umich.edu
URL:https://events.umich.edu/event/104147
CLASS:PUBLIC
STATUS:CONFIRMED
CATEGORIES:Study Night
LOCATION:The Connector
CONTACT:
END:VEVENT
BEGIN:VEVENT
DTSTAMP:20230116T113138
DTSTART;TZID=America/Detroit:20230205T120000
DTEND;TZID=America/Detroit:20230205T130000
SUMMARY:Performance:The Plastic Bag Store
DESCRIPTION:This custom-built public art installation and immersive film experience uses humor\, craft\, and a critical lens to question our culture of consumption and convenience — specifically\, the enduring effects of our single-use plastics.\n\nShelves are stocked with thousands of original grocery items meticulously sculpted by hand\, all made from discarded single-use plastics organically harvested from streets and garbage dumps. Several times a day\, the store transforms into an immersive\, dynamic stage for a film in which inventive puppetry\, shadow play\, and intricate handmade sets tell the darkly comedic and sometimes tender story of how the overabundance of plastic waste we leave behind might be misinterpreted by future generations — and how what we value least may become our most lasting cultural legacy.
UID:103461-21807300@events.umich.edu
URL:https://events.umich.edu/event/103461
CLASS:PUBLIC
STATUS:CONFIRMED
CATEGORIES:Activism,american culture,art,art and design,artists,artists and curators,Climate Change,Comedy,Community Engagement,Culture,Digital,Digital Culture,Digital Media,Discussion,environment,environmental,environmental justice,environmental policy,Ethics,Family,Multidisciplinary Design,performance,Social Impact,Storytelling,Sustainability,UMMA,UMS,Visual Arts
LOCATION:Off Campus Location - First floor of the 777 building!
CONTACT:
END:VEVENT
BEGIN:VEVENT
DTSTAMP:20230205T121558
DTSTART;TZID=America/Detroit:20230205T130000
SUMMARY:Sporting Event:Men's Basketball vs Ohio State
DESCRIPTION:Men's Basketball vs Ohio State
UID:101620-21801589@events.umich.edu
URL:https://events.umich.edu/event/101620
CLASS:PUBLIC
STATUS:CONFIRMED
CATEGORIES:Athletics,Athletics - Men's Basketball
LOCATION:Crisler Arena
CONTACT:
END:VEVENT
BEGIN:VEVENT
DTSTAMP:20230205T120018
DTSTART;TZID=America/Detroit:20230205T130000
DTEND;TZID=America/Detroit:20230205T150000
SUMMARY:Other:Star Wars Lore Talks: Book Club
DESCRIPTION:Come join some fellow Star Wars fans and dive into the lore and stories from some of the amazing Star Wars books and novels. Reading books beforehand is not necessary!
UID:103373-21807108@events.umich.edu
URL:https://events.umich.edu/event/103373
CLASS:PUBLIC
STATUS:CONFIRMED
CATEGORIES:
LOCATION:Mason Hall
CONTACT:
END:VEVENT
BEGIN:VEVENT
DTSTAMP:20230309T110228
DTSTART;TZID=America/Detroit:20230205T133000
DTEND;TZID=America/Detroit:20230205T141500
SUMMARY:Presentation:Mars: One Thousand One
DESCRIPTION:Mars: One Thousand One tells a story of what humans might face with the first manned journey to Mars. Reporter Miles O'Brien is reporting live from his Space Headquarters TV Studio in New York while events unfold for the crew on their 1001-day long mission. You will witness firsthand their brave attempts to put human footprints on Mars and return safely to Earth. This journey is made possible by the biggest engineering feat ever and loaded with scientific experiments.\n\nThe state-of-the-art Planetarium & Dome Theater at the U-M Museum of Natural History transports visitors beyond distant stars and back in time from the comfort of reclining seats. Tickets $8. Tickets are available on the day of the show at the Museum Store.\n\nThe planetarium is operating at half capacity to maximize distancing between viewers.
UID:100073-21806500@events.umich.edu
URL:https://events.umich.edu/event/100073
CLASS:PUBLIC
STATUS:CONFIRMED
CATEGORIES:Astronomy,Family,natural history museum,Natural Sciences
LOCATION:Museum of Natural History
CONTACT:
END:VEVENT
BEGIN:VEVENT
DTSTAMP:20230123T181616
DTSTART;TZID=America/Detroit:20230205T140000
DTEND;TZID=America/Detroit:20230205T170000
SUMMARY:Performance:Sleek Disturbances
DESCRIPTION:Show Order\nFangfei Miao\, Hereafter\nBryn Cohn\, Saying Good-bye Under a Fractured Moon\nSidra Bell\, The Universe is Not Static\nJillian Hopper\, Mirror Ritual: a ballet in three tableaus\n\nSleek Disturbances offers an evening of contemporary dance by four choreographers who source imagery\, disturbances\, and inspiration from the past and future. The idea of place is experienced through a historical lens or as a dream state\, conjuring ideas of future realms. The dancers\, BFA students in the Department of Dance\, inhabit spaces that fluctuate between the real and imaginary\, delivering a virtuosic range of movement ideas from the nuanced to the explosive.\nJillian Hopper and Fangfei Miao are faculty members in the Department of Dance. Bryn Cohn is a Los Angeles based choreographer who works and creates across the commercial and concert dance industries. Sidra Bell is Artistic Director of Sidra Bell Dance New York\, an “internationally recognized boutique brand of prolific movement illustrators”.
UID:102085-21803430@events.umich.edu
URL:https://events.umich.edu/event/102085
CLASS:PUBLIC
STATUS:CONFIRMED
CATEGORIES:
LOCATION:Off Campus Location
CONTACT:
END:VEVENT
BEGIN:VEVENT
DTSTAMP:20230116T113138
DTSTART;TZID=America/Detroit:20230205T140000
DTEND;TZID=America/Detroit:20230205T150000
SUMMARY:Performance:The Plastic Bag Store
DESCRIPTION:This custom-built public art installation and immersive film experience uses humor\, craft\, and a critical lens to question our culture of consumption and convenience — specifically\, the enduring effects of our single-use plastics.\n\nShelves are stocked with thousands of original grocery items meticulously sculpted by hand\, all made from discarded single-use plastics organically harvested from streets and garbage dumps. Several times a day\, the store transforms into an immersive\, dynamic stage for a film in which inventive puppetry\, shadow play\, and intricate handmade sets tell the darkly comedic and sometimes tender story of how the overabundance of plastic waste we leave behind might be misinterpreted by future generations — and how what we value least may become our most lasting cultural legacy.
UID:103461-21807302@events.umich.edu
URL:https://events.umich.edu/event/103461
CLASS:PUBLIC
STATUS:CONFIRMED
CATEGORIES:Activism,american culture,art,art and design,artists,artists and curators,Climate Change,Comedy,Community Engagement,Culture,Digital,Digital Culture,Digital Media,Discussion,environment,environmental,environmental justice,environmental policy,Ethics,Family,Multidisciplinary Design,performance,Social Impact,Storytelling,Sustainability,UMMA,UMS,Visual Arts
LOCATION:Off Campus Location - First floor of the 777 building!
CONTACT:
END:VEVENT
BEGIN:VEVENT
DTSTAMP:20230202T114832
DTSTART;TZID=America/Detroit:20230205T150000
DTEND;TZID=America/Detroit:20230205T170000
SUMMARY:Film Screening:Free Movie Screening John Lewis: Good Trouble
DESCRIPTION:An intimate account of legendary U.S. Representative John Lewis’ life\, legacy\, and more than 60 years of extraordinary activism — from the bold teenager on the front lines of the Civil Rights movement to the legislative powerhouse he was throughout his career. \nAfter Lewis petitioned Dr. Martin Luther King Jr. to help integrate a segregated school in his hometown of Troy\, Alabama\, King sent “the boy from Troy” a round trip bus ticket to meet with him. From that meeting onward\, Lewis became one of King’s closest allies. He organized Freedom Rides that left him bloodied or jailed and stood at the front lines in the historic marches on Washington and Selma. He never lost the spirit of the “boy from Troy” and called on his fellow Americans to get into “good trouble” until his passing on July 17\, 2020.
UID:104415-21809038@events.umich.edu
URL:https://events.umich.edu/event/104415
CLASS:PUBLIC
STATUS:CONFIRMED
CATEGORIES:Black History Month,Diversity Equity and Inclusion
LOCATION:Off Campus Location
CONTACT:
END:VEVENT
BEGIN:VEVENT
DTSTAMP:20230205T120007
DTSTART;TZID=America/Detroit:20230205T153000
DTEND;TZID=America/Detroit:20230205T173000
SUMMARY:Other:University of Michigan Women’s Ice Hockey vs GVSU
DESCRIPTION:Home
UID:101016-21800673@events.umich.edu
URL:https://events.umich.edu/event/101016
CLASS:PUBLIC
STATUS:CONFIRMED
CATEGORIES:
LOCATION:Yost Ice Arena
CONTACT:
END:VEVENT
BEGIN:VEVENT
DTSTAMP:20220805T181516
DTSTART;TZID=America/Detroit:20230205T160000
SUMMARY:Performance:James Kibbie: The Complete Organ Works of J.S. Bach Program 13
DESCRIPTION:4:00 pm\n3:40 pm: Introduction to the program\n\nLivestreamed (real time only)\n\nJames Kibbie performs the 281 extant organ works of Johann Sebastian Bach in 18 concerts. An informal introduction to the music to be performed precedes each program. Additional information is available on the Bach Series website. (http://www-personal.umich.edu/~jkibbie/kibbie-bach.html)\n\nDonations may be made to the James Kibbie Endowed Scholarship Fund or at the Donations page https://leadersandbest.umich.edu/find/#!/give/basket/fund/570523.\n\nProgram\nhttp://smtd.umich.edu/wp-content/uploads/2022/08/Program-13.pdf
UID:96558-21792886@events.umich.edu
URL:https://events.umich.edu/event/96558
CLASS:PUBLIC
STATUS:CONFIRMED
CATEGORIES:Free,Music
LOCATION:Earl V. Moore Building - Blanche Anderson Moore Hall
CONTACT:
END:VEVENT
BEGIN:VEVENT
DTSTAMP:20230123T181620
DTSTART;TZID=America/Detroit:20230205T160000
DTEND;TZID=America/Detroit:20230205T173000
SUMMARY:Other:James Kibbie: The Complete Organ Works of J.S. Bach Program 13
DESCRIPTION:James Kibbie performs the 281 extant organ works of Johann Sebastian Bach in 18 concerts. An informal introduction to the music to be performed precedes each program.\nAdditional information is available on the Bach Series website.\nDonations may be made to the James Kibbie Endowed Scholarship Fund.
UID:102837-21805214@events.umich.edu
URL:https://events.umich.edu/event/102837
CLASS:PUBLIC
STATUS:CONFIRMED
CATEGORIES:
LOCATION:Off Campus Location
CONTACT:
END:VEVENT
BEGIN:VEVENT
DTSTAMP:20230203T075703
DTSTART;TZID=America/Detroit:20230205T170000
DTEND;TZID=America/Detroit:20230205T190000
SUMMARY:Social / Informal Gathering:Soul Food Sunday
DESCRIPTION:Come hang out with the Trotter Multicultural Center staff this coming Sunday for some good food (from Cuppy's Soul Food)\, good music\, and good vibes!
UID:104470-21809111@events.umich.edu
URL:https://events.umich.edu/event/104470
CLASS:PUBLIC
STATUS:CONFIRMED
CATEGORIES:Community,Dance,Dinner,Food,Free,Graduate,In Person,Social,Undergraduate
LOCATION:Trotter Multicultural Center
CONTACT:
END:VEVENT
BEGIN:VEVENT
DTSTAMP:20230116T113138
DTSTART;TZID=America/Detroit:20230205T170000
DTEND;TZID=America/Detroit:20230205T180000
SUMMARY:Performance:The Plastic Bag Store
DESCRIPTION:This custom-built public art installation and immersive film experience uses humor\, craft\, and a critical lens to question our culture of consumption and convenience — specifically\, the enduring effects of our single-use plastics.\n\nShelves are stocked with thousands of original grocery items meticulously sculpted by hand\, all made from discarded single-use plastics organically harvested from streets and garbage dumps. Several times a day\, the store transforms into an immersive\, dynamic stage for a film in which inventive puppetry\, shadow play\, and intricate handmade sets tell the darkly comedic and sometimes tender story of how the overabundance of plastic waste we leave behind might be misinterpreted by future generations — and how what we value least may become our most lasting cultural legacy.
UID:103461-21807277@events.umich.edu
URL:https://events.umich.edu/event/103461
CLASS:PUBLIC
STATUS:CONFIRMED
CATEGORIES:Activism,american culture,art,art and design,artists,artists and curators,Climate Change,Comedy,Community Engagement,Culture,Digital,Digital Culture,Digital Media,Discussion,environment,environmental,environmental justice,environmental policy,Ethics,Family,Multidisciplinary Design,performance,Social Impact,Storytelling,Sustainability,UMMA,UMS,Visual Arts
LOCATION:Off Campus Location - First floor of the 777 building!
CONTACT:
END:VEVENT
BEGIN:VEVENT
DTSTAMP:20230116T113138
DTSTART;TZID=America/Detroit:20230205T190000
DTEND;TZID=America/Detroit:20230205T200000
SUMMARY:Performance:The Plastic Bag Store
DESCRIPTION:This custom-built public art installation and immersive film experience uses humor\, craft\, and a critical lens to question our culture of consumption and convenience — specifically\, the enduring effects of our single-use plastics.\n\nShelves are stocked with thousands of original grocery items meticulously sculpted by hand\, all made from discarded single-use plastics organically harvested from streets and garbage dumps. Several times a day\, the store transforms into an immersive\, dynamic stage for a film in which inventive puppetry\, shadow play\, and intricate handmade sets tell the darkly comedic and sometimes tender story of how the overabundance of plastic waste we leave behind might be misinterpreted by future generations — and how what we value least may become our most lasting cultural legacy.
UID:103461-21807303@events.umich.edu
URL:https://events.umich.edu/event/103461
CLASS:PUBLIC
STATUS:CONFIRMED
CATEGORIES:Activism,american culture,art,art and design,artists,artists and curators,Climate Change,Comedy,Community Engagement,Culture,Digital,Digital Culture,Digital Media,Discussion,environment,environmental,environmental justice,environmental policy,Ethics,Family,Multidisciplinary Design,performance,Social Impact,Storytelling,Sustainability,UMMA,UMS,Visual Arts
LOCATION:Off Campus Location - First floor of the 777 building!
CONTACT:
END:VEVENT
BEGIN:VEVENT
DTSTAMP:20221216T181003
DTSTART;TZID=America/Detroit:20230205T193000
SUMMARY:Performance:Laith Al-Saadi
DESCRIPTION:Laith Al-Saadi began singing at age four and began playing guitar at 13. At 15 he formed his first blues band\, Blue Vinyl. In short order they opened for blues greats like Buddy Guy (to whose work his playing has been compared)\, Luther Allison\, Son Seals\, and Taj Mahal and toured the Netherlands. At the University of Michigan\, Laith was a member of the Johnny Trudell Orchestra and freelanced with Detroit greats like Thornetta Davis\, Jocelyn B\, The Reefermen. Laith is a real road warrior who generally can be found playing at least five nights a week around Michigan and beyond\, and Michigan's secret got out when he made the finals of television's \"The Voice.\" If you haven’t checked out this monster Michigan talent yet\, you really should! Tonight Laith performs a rare solo show.
UID:102043-21803388@events.umich.edu
URL:https://events.umich.edu/event/102043
CLASS:PUBLIC
STATUS:CONFIRMED
CATEGORIES:Ark,Concert,Music,Mutotix
LOCATION:Off Campus Location
CONTACT:
END:VEVENT
END:VCALENDAR